{"text_format":"1","workbook":"xlsx","n_sheets":32,"sheets":["Summary","Sum of Scores","Hacker_Cup_Standings","HC History","Sum of W_T_L","Daviero","Fusco_D","Hobbs","Linton","McLaughlin","Michalski_P","Michalski_S","Mohsinger_B","Mohsinger_T","Nichols","Palmerino","Poston","Reed","Rusnak","Taylor","Templeton","SUBx","Archambault","Daviero_J","Henderson","Kauffman","Kreig","Palmerino_L","Richardson","Riley","Set Up Template","Player_Template"],"not_rendered":{"charts":2,"images":0,"macros":1,"external_links":1,"defined_names":7,"comments":0,"pivot_tables":0},"unopened":[],"bounds":{"document_bytes":16777216,"sheet_cells":100000,"rows_first":2000,"rows_last":500,"rows_between":2000,"halvings":0,"cell_chars":16384,"cell_head_chars":4096},"cells_cut":0,"cells_raw":0,"read":"whole","date_system":"1900"}

{"sheet":"Summary","index":0,"n_rows":141,"n_cols":39,"rows_kept":141,"cut":false,"hidden":false,"merged":[[0,0,0,5],[1,0,1,5],[3,19,3,21],[3,22,3,24]]}
["2024 Hackers Golf League"]
["Standings"]
[]
[null,null,null,null,"Best 10",null,null,null,null,null,null,"Average per round",null,null,null,null,null,null,null,"Best",null,null,"Worst",null,null,"Difference"]
["Position","Name","Matches\nUsed","Matches\nPlayed","Points","Average","Previous",null,"Eagle","Birdie","Par","Bogey","D Bogey","Other","Avg over","Rounded",null,null,null,"Front","Back","Total","Front","Back","Total"]
["T1",{"$f":"INDIRECT(CONCATENATE(S6,\"!A1\"))","v":"Mark Rusnak"},{"$f":"MIN(10,D6)","v":10},{"$f":"IFERROR(INDIRECT(CONCATENATE(S6,\"!e44\")),0)","v":15},{"$f":"IFERROR(INDIRECT(CONCATENATE(S6,\"!D44\")),0)","v":63.5},{"$f":"IFERROR(E6/C6,0)","v":6.35},1,null,{"$f":"IFERROR(INDIRECT(CONCATENATE(S6,\"!C47\"))/D6,0)","v":0},{"$f":"IFERROR(INDIRECT(CONCATENATE(S6,\"!C48\"))/D6,0)","v":0.4},{"$f":"IFERROR(INDIRECT(CONCATENATE(S6,\"!C49\"))/D6,0)","v":3.8666666666666667},{"$f":"IFERROR(INDIRECT(CONCATENATE(S6,\"!C50\"))/D6,0)","v":3.6666666666666665},{"$f":"IFERROR(INDIRECT(CONCATENATE(S6,\"!C51\"))/D6,0)","v":0.8666666666666667},{"$f":"IFERROR(INDIRECT(CONCATENATE(S6,\"!C52\"))/D6,0)","v":0.2},{"$f":"L6+(M6*2)+(N6*3)-J6","v":5.6},{"$f":"ROUND(O6,0)","v":6},{"$f":"B6","v":"Mark Rusnak"},{"$f":"FIND(\" \",Q6)","v":5},"Rusnak",{"$f":"INDIRECT(CONCATENATE(S6,\"!k38\"))","v":33},{"$f":"INDIRECT(CONCATENATE(S6,\"!k49\"))","v":35},{"$f":"SUM(T6:U6)","v":68},{"$f":"INDIRECT(CONCATENATE(S6,\"!l38\"))","v":47},{"$f":"INDIRECT(CONCATENATE(S6,\"!l49\"))","v":54},{"$f":"SUM(W6:X6)","v":101},{"$f":"+Y6-V6","v":33}]
["T1","Andy Linton",10,15,63.5,6.35,2,null,{"$f":"IFERROR(INDIRECT(CONCATENATE(S7,\"!C47\"))/D7,0)","v":0},{"$f":"IFERROR(INDIRECT(CONCATENATE(S7,\"!C48\"))/D7,0)","v":6.6666666666666666E-2},{"$f":"IFERROR(INDIRECT(CONCATENATE(S7,\"!C49\"))/D7,0)","v":3.6666666666666665},{"$f":"IFERROR(INDIRECT(CONCATENATE(S7,\"!C50\"))/D7,0)","v":4},{"$f":"IFERROR(INDIRECT(CONCATENATE(S7,\"!C51\"))/D7,0)","v":1.0666666666666667},{"$f":"IFERROR(INDIRECT(CONCATENATE(S7,\"!C52\"))/D7,0)","v":0.2},6.6666666666666661,7,"Andy Linton",5,"Linton",35,37,72,50,54,104,32]
["T1","Tom Mohsinger",10,13,63.5,6.35,3,null,{"$f":"IFERROR(INDIRECT(CONCATENATE(S8,\"!C47\"))/D8,0)","v":0},{"$f":"IFERROR(INDIRECT(CONCATENATE(S8,\"!C48\"))/D8,0)","v":7.6923076923076927E-2},{"$f":"IFERROR(INDIRECT(CONCATENATE(S8,\"!C49\"))/D8,0)","v":0.23076923076923078},{"$f":"IFERROR(INDIRECT(CONCATENATE(S8,\"!C50\"))/D8,0)","v":3.1538461538461537},{"$f":"IFERROR(INDIRECT(CONCATENATE(S8,\"!C51\"))/D8,0)","v":3.2307692307692308},{"$f":"IFERROR(INDIRECT(CONCATENATE(S8,\"!C52\"))/D8,0)","v":2.3076923076923075},16.46153846153846,16,"Tom Mohsinger",4,"Mohsinger_T",43,44,87,64,64,128,41]
[4,"Dan Fusco",10,15,61.5,6.15,4,null,{"$f":"IFERROR(INDIRECT(CONCATENATE(S9,\"!C47\"))/D9,0)","v":0},{"$f":"IFERROR(INDIRECT(CONCATENATE(S9,\"!C48\"))/D9,0)","v":0.33333333333333331},{"$f":"IFERROR(INDIRECT(CONCATENATE(S9,\"!C49\"))/D9,0)","v":2.6},{"$f":"IFERROR(INDIRECT(CONCATENATE(S9,\"!C50\"))/D9,0)","v":4},{"$f":"IFERROR(INDIRECT(CONCATENATE(S9,\"!C51\"))/D9,0)","v":1.7333333333333334},{"$f":"IFERROR(INDIRECT(CONCATENATE(S9,\"!C52\"))/D9,0)","v":0.33333333333333331},8.1333333333333329,8,"Dan Fusco",4,"Fusco_d",35,37,72,54,56,110,38]
[5,"Marty Reed",10,11,60.5,6.05,"T5",null,{"$f":"IFERROR(INDIRECT(CONCATENATE(S10,\"!C47\"))/D10,0)","v":0},{"$f":"IFERROR(INDIRECT(CONCATENATE(S10,\"!C48\"))/D10,0)","v":0.27272727272727271},{"$f":"IFERROR(INDIRECT(CONCATENATE(S10,\"!C49\"))/D10,0)","v":3.4545454545454546},{"$f":"IFERROR(INDIRECT(CONCATENATE(S10,\"!C50\"))/D10,0)","v":3.8181818181818183},{"$f":"IFERROR(INDIRECT(CONCATENATE(S10,\"!C51\"))/D10,0)","v":1.1818181818181819},{"$f":"IFERROR(INDIRECT(CONCATENATE(S10,\"!C52\"))/D10,0)","v":0.27272727272727271},6.7272727272727275,7,"Marty Reed",6,"Reed",37,33,70,50,54,104,34]
[6,"Tim Hobbs",10,12,55.5,5.55,"T5",null,{"$f":"IFERROR(INDIRECT(CONCATENATE(S11,\"!C47\"))/D11,0)","v":0},{"$f":"IFERROR(INDIRECT(CONCATENATE(S11,\"!C48\"))/D11,0)","v":0},{"$f":"IFERROR(INDIRECT(CONCATENATE(S11,\"!C49\"))/D11,0)","v":1.3333333333333333},{"$f":"IFERROR(INDIRECT(CONCATENATE(S11,\"!C50\"))/D11,0)","v":3.1666666666666665},{"$f":"IFERROR(INDIRECT(CONCATENATE(S11,\"!C51\"))/D11,0)","v":2.8333333333333335},{"$f":"IFERROR(INDIRECT(CONCATENATE(S11,\"!C52\"))/D11,0)","v":1.6666666666666667},13.833333333333334,14,"Tim Hobbs",4,"Hobbs",37,40,77,63,63,126,49]
[7,"Bette Mohsinger",10,12,54.5,5.45,7,null,{"$f":"IFERROR(INDIRECT(CONCATENATE(S12,\"!C47\"))/D12,0)","v":0},{"$f":"IFERROR(INDIRECT(CONCATENATE(S12,\"!C48\"))/D12,0)","v":8.3333333333333329E-2},{"$f":"IFERROR(INDIRECT(CONCATENATE(S12,\"!C49\"))/D12,0)","v":1.1666666666666667},{"$f":"IFERROR(INDIRECT(CONCATENATE(S12,\"!C50\"))/D12,0)","v":2.4166666666666665},{"$f":"IFERROR(INDIRECT(CONCATENATE(S12,\"!C51\"))/D12,0)","v":2.9166666666666665},{"$f":"IFERROR(INDIRECT(CONCATENATE(S12,\"!C52\"))/D12,0)","v":2.4166666666666665},15.416666666666666,15,"Bette Mohsinger",6,"Mohsinger_B",39,46,85,66,64,130,45]
[8,"Dan Palmerino",10,13,57,5.7,8,null,{"$f":"IFERROR(INDIRECT(CONCATENATE(S13,\"!C47\"))/D13,0)","v":0},{"$f":"IFERROR(INDIRECT(CONCATENATE(S13,\"!C48\"))/D13,0)","v":7.6923076923076927E-2},{"$f":"IFERROR(INDIRECT(CONCATENATE(S13,\"!C49\"))/D13,0)","v":1.7692307692307692},{"$f":"IFERROR(INDIRECT(CONCATENATE(S13,\"!C50\"))/D13,0)","v":4.0769230769230766},{"$f":"IFERROR(INDIRECT(CONCATENATE(S13,\"!C51\"))/D13,0)","v":2.5384615384615383},{"$f":"IFERROR(INDIRECT(CONCATENATE(S13,\"!C52\"))/D13,0)","v":0.53846153846153844},10.692307692307692,11,"Dan Palmerino",4,"Palmerino",36,41,77,56,57,113,36]
[9,"Dave Taylor",10,15,56,5.6,9,null,{"$f":"IFERROR(INDIRECT(CONCATENATE(S14,\"!C47\"))/D14,0)","v":0},{"$f":"IFERROR(INDIRECT(CONCATENATE(S14,\"!C48\"))/D14,0)","v":0},{"$f":"IFERROR(INDIRECT(CONCATENATE(S14,\"!C49\"))/D14,0)","v":0.6},{"$f":"IFERROR(INDIRECT(CONCATENATE(S14,\"!C50\"))/D14,0)","v":3.9333333333333331},{"$f":"IFERROR(INDIRECT(CONCATENATE(S14,\"!C51\"))/D14,0)","v":3.0666666666666669},{"$f":"IFERROR(INDIRECT(CONCATENATE(S14,\"!C52\"))/D14,0)","v":1.4},14.266666666666666,14,"Dave Taylor",5,"Taylor",43,41,84,62,66,128,44]
[10,"Jim Daviero",10,12,55,5.5,10,null,{"$f":"IFERROR(INDIRECT(CONCATENATE(S15,\"!C47\"))/D15,0)","v":0},{"$f":"IFERROR(INDIRECT(CONCATENATE(S15,\"!C48\"))/D15,0)","v":8.3333333333333329E-2},{"$f":"IFERROR(INDIRECT(CONCATENATE(S15,\"!C49\"))/D15,0)","v":1.8333333333333333},{"$f":"IFERROR(INDIRECT(CONCATENATE(S15,\"!C50\"))/D15,0)","v":5.083333333333333},{"$f":"IFERROR(INDIRECT(CONCATENATE(S15,\"!C51\"))/D15,0)","v":1.6666666666666667},{"$f":"IFERROR(INDIRECT(CONCATENATE(S15,\"!C52\"))/D15,0)","v":0.33333333333333331},9.3333333333333321,9,"Jim Daviero",4,"Daviero",39,37,76,57,52,109,33]
[11,"Gloria Poston",10,10,52,5.2,"T11",null,{"$f":"IFERROR(INDIRECT(CONCATENATE(S16,\"!C47\"))/D16,0)","v":0},{"$f":"IFERROR(INDIRECT(CONCATENATE(S16,\"!C48\"))/D16,0)","v":0},{"$f":"IFERROR(INDIRECT(CONCATENATE(S16,\"!C49\"))/D16,0)","v":1.5},{"$f":"IFERROR(INDIRECT(CONCATENATE(S16,\"!C50\"))/D16,0)","v":3.9},{"$f":"IFERROR(INDIRECT(CONCATENATE(S16,\"!C51\"))/D16,0)","v":2.2999999999999998},{"$f":"IFERROR(INDIRECT(CONCATENATE(S16,\"!C52\"))/D16,0)","v":1.3},12.4,12,"Gloria Poston",7,"poston",41,39,80,59,61,120,40]
[12,"Brian McLaughlin",10,12,53.5,5.35,"T11",null,{"$f":"IFERROR(INDIRECT(CONCATENATE(S17,\"!C47\"))/D17,0)","v":0},{"$f":"IFERROR(INDIRECT(CONCATENATE(S17,\"!C48\"))/D17,0)","v":0},{"$f":"IFERROR(INDIRECT(CONCATENATE(S17,\"!C49\"))/D17,0)","v":0.25},{"$f":"IFERROR(INDIRECT(CONCATENATE(S17,\"!C50\"))/D17,0)","v":3.8333333333333335},{"$f":"IFERROR(INDIRECT(CONCATENATE(S17,\"!C51\"))/D17,0)","v":3.25},{"$f":"IFERROR(INDIRECT(CONCATENATE(S17,\"!C52\"))/D17,0)","v":1.6666666666666667},15.333333333333334,15,"Brian McLaughlin",6,"McLaughlin",44,43,87,67,61,128,41]
[13,"Bob Templeton",10,14,49,4.9000000000000004,13,null,{"$f":"IFERROR(INDIRECT(CONCATENATE(S18,\"!C47\"))/D18,0)","v":0},{"$f":"IFERROR(INDIRECT(CONCATENATE(S18,\"!C48\"))/D18,0)","v":0},{"$f":"IFERROR(INDIRECT(CONCATENATE(S18,\"!C49\"))/D18,0)","v":0.2857142857142857},{"$f":"IFERROR(INDIRECT(CONCATENATE(S18,\"!C50\"))/D18,0)","v":1.2142857142857142},{"$f":"IFERROR(INDIRECT(CONCATENATE(S18,\"!C51\"))/D18,0)","v":2.7142857142857144},{"$f":"IFERROR(INDIRECT(CONCATENATE(S18,\"!C52\"))/D18,0)","v":4.7857142857142856},21,21,"Bob Templeton",4,"Templeton",46,43,89,76,75,151,62]
[14,"Pete Michalski",10,13,48.5,4.8499999999999996,14,null,{"$f":"IFERROR(INDIRECT(CONCATENATE(S19,\"!C47\"))/D19,0)","v":0},{"$f":"IFERROR(INDIRECT(CONCATENATE(S19,\"!C48\"))/D19,0)","v":0},{"$f":"IFERROR(INDIRECT(CONCATENATE(S19,\"!C49\"))/D19,0)","v":7.6923076923076927E-2},{"$f":"IFERROR(INDIRECT(CONCATENATE(S19,\"!C50\"))/D19,0)","v":1.5384615384615385},{"$f":"IFERROR(INDIRECT(CONCATENATE(S19,\"!C51\"))/D19,0)","v":2.2307692307692308},{"$f":"IFERROR(INDIRECT(CONCATENATE(S19,\"!C52\"))/D19,0)","v":5.1538461538461542},21.461538461538463,21,"Pete Michalski",5,"Michalski_P",46,47,93,75,78,153,60]
[15,"Sue Michalski",10,13,47.5,4.75,15,null,{"$f":"IFERROR(INDIRECT(CONCATENATE(S20,\"!C47\"))/D20,0)","v":0},{"$f":"IFERROR(INDIRECT(CONCATENATE(S20,\"!C48\"))/D20,0)","v":0},{"$f":"IFERROR(INDIRECT(CONCATENATE(S20,\"!C49\"))/D20,0)","v":0.15384615384615385},{"$f":"IFERROR(INDIRECT(CONCATENATE(S20,\"!C50\"))/D20,0)","v":0.53846153846153844},{"$f":"IFERROR(INDIRECT(CONCATENATE(S20,\"!C51\"))/D20,0)","v":2.2307692307692308},{"$f":"IFERROR(INDIRECT(CONCATENATE(S20,\"!C52\"))/D20,0)","v":6.0769230769230766},23.23076923076923,23,"Sue Michalski",4,"Michalski_S",48,54,102,74,77,151,49]
[16,"Matt Nichols",9,9,40.5,4.5,16,null,{"$f":"IFERROR(INDIRECT(CONCATENATE(S21,\"!C47\"))/D21,0)","v":0},{"$f":"IFERROR(INDIRECT(CONCATENATE(S21,\"!C48\"))/D21,0)","v":0},{"$f":"IFERROR(INDIRECT(CONCATENATE(S21,\"!C49\"))/D21,0)","v":1.4444444444444444},{"$f":"IFERROR(INDIRECT(CONCATENATE(S21,\"!C50\"))/D21,0)","v":2.8888888888888888},{"$f":"IFERROR(INDIRECT(CONCATENATE(S21,\"!C51\"))/D21,0)","v":2.4444444444444446},{"$f":"IFERROR(INDIRECT(CONCATENATE(S21,\"!C52\"))/D21,0)","v":2.2222222222222223},14.444444444444446,14,"Matt Nichols",5,"Nichols",39,42,81,69,62,131,50]
[]
[null,null,null,null,null,null,null,null,{"$f":"AVERAGE(I6:I21)","v":0},8.7077505827505813E-2,1.514508755133755,3.2018155455655459,2.2669573482073484,1.9296408452658451,{"$f":"L23+(M23*2)+(N23*3)-J23","v":13.437575271950273},{"$f":"ROUND(O23,0)","v":13}]
[]
[]
[]
[]
[null,null,null,null,{"$f":"SUM(E6:E25)","v":881.5}]
[]
[]
[null,"Good Lists and Bad Lists"]
[null,null,null,null,null,null,null,null,"Eagles"]
[]
[null,null,null,null,null,null,null,null,null,null,null,null,null,null,null,null,null,null,null,"Andy Linton","Bette Mohsinger","Bob Templeton","Brian McLaughlin","Dan Fusco","Dan Palmerino","Dave Taylor","Gloria Poston","Jim Daviero","Mark Rusnak","Marty Reed","Matt Nichols","Pete Michalski","Sue Michalski","Tim Hobbs","Tom Mohsinger",null,null,"Mark Rusnak",89]
[null,null,null,null,null,null,null,null,"Birdies",null,null,null,null,null,null,null,null,null,null,{"$f":"SUM(T36:T141)","v":74},{"$f":"SUM(U36:U141)","v":46},32,26,70,53,31,45,64,89,78,42,30,31,40,36,null,null,"Marty Reed",78]
[null,"Mark Rusnak",null,null,null,null,null,null,0.4,null,null,null,null,null,null,null,null,1,16,{"$f":"IF($B36=T$34,$S36,0)","v":0},{"$f":"IF($B36=U$34,$S36,0)","v":0},{"$f":"IF($B36=V$34,$S36,0)","v":0},0,0,0,0,0,0,16,0,0,0,0,0,0,null,null,"Andy Linton",74]
[null,"Dan Fusco",null,null,null,null,null,null,0.33333333333333331,null,null,null,null,null,null,null,null,{"$f":"_xlfn.IFS(I37=I36,2,I37<>I36,1)","v":1},{"$f":"_xlfn.IFS(I37=0,0,I37=I36,S36,S36-R36,S36-R36)","v":15},{"$f":"IF($B37=T$34,$S37,0)","v":0},0,0,0,15,0,0,0,0,0,0,0,0,0,0,0,null,null,"Dan Fusco",70]
[null,"Marty Reed",null,null,null,null,null,null,0.27272727272727271,null,null,null,null,null,null,null,null,{"$f":"_xlfn.IFS(I38=I37,1+R37,I38<>I37,1)","v":1},{"$f":"_xlfn.IFS(I38=0,0,I38=I37,S37,S37-R37,S37-R37)","v":14},0,0,0,0,0,0,0,0,0,0,14,0,0,0,0,0,null,null,"Jim Daviero",64]
[null,"Bette Mohsinger",null,null,null,null,null,null,8.3333333333333329E-2,null,null,null,null,null,null,null,null,{"$f":"_xlfn.IFS(I39=I38,1+R38,I39<>I38,1)","v":1},{"$f":"_xlfn.IFS(I39=0,0,I39=I38,S38,S38-R38,S38-R38)","v":13},0,13,0,0,0,0,0,0,0,0,0,0,0,0,0,0,null,null,"Dan Palmerino",53]
[null,"Jim Daviero",null,null,null,null,null,null,8.3333333333333329E-2,null,null,null,null,null,null,null,null,{"$f":"_xlfn.IFS(I40=I39,1+R39,I40<>I39,1)","v":2},{"$f":"_xlfn.IFS(I40=0,0,I40=I39,S39,S39-R39,S39-R39)","v":13},0,0,0,0,0,0,0,0,13,0,0,0,0,0,0,0,null,null,"Bette Mohsinger",46]
[null,"Tom Mohsinger",null,null,null,null,null,null,7.6923076923076927E-2,null,null,null,null,null,null,null,null,{"$f":"_xlfn.IFS(I41=I40,1+R40,I41<>I40,1)","v":1},{"$f":"_xlfn.IFS(I41=0,0,I41=I40,S40,S40-R40,S40-R40)","v":11},0,0,0,0,0,0,0,0,0,0,0,0,0,0,0,11,null,null,"Gloria Poston",45]
[null,"Dan Palmerino",null,null,null,null,null,null,7.6923076923076927E-2,null,null,null,null,null,null,null,null,{"$f":"_xlfn.IFS(I42=I41,1+R41,I42<>I41,1)","v":2},{"$f":"_xlfn.IFS(I42=0,0,I42=I41,S41,S41-R41,S41-R41)","v":11},0,0,0,0,0,11,0,0,0,0,0,0,0,0,0,0,null,null,"Matt Nichols",42]
[null,"Andy Linton",null,null,null,null,null,null,6.6666666666666666E-2,null,null,null,null,null,null,null,null,{"$f":"_xlfn.IFS(I43=I42,1+R42,I43<>I42,1)","v":1},{"$f":"_xlfn.IFS(I43=0,0,I43=I42,S42,S42-R42,S42-R42)","v":9},9,0,0,0,0,0,0,0,0,0,0,0,0,0,0,0,null,null,"Tim Hobbs",40]
[null,"Tim Hobbs",null,null,null,null,null,null,0,null,null,null,null,null,null,null,null,{"$f":"_xlfn.IFS(I44=I43,1+R43,I44<>I43,1)","v":1},{"$f":"_xlfn.IFS(I44=0,0,I44=I43,S43,S43-R43,S43-R43)","v":0},0,0,0,0,0,0,0,0,0,0,0,0,0,0,0,0,null,null,"Tom Mohsinger",36]
[null,"Dave Taylor",null,null,null,null,null,null,0,null,null,null,null,null,null,null,null,{"$f":"_xlfn.IFS(I45=I44,1+R44,I45<>I44,1)","v":2},{"$f":"_xlfn.IFS(I45=0,0,I45=I44,S44,S44-R44,S44-R44)","v":0},0,0,0,0,0,0,0,0,0,0,0,0,0,0,0,0,null,null,"Bob Templeton",32]
[null,"Gloria Poston",null,null,null,null,null,null,0,null,null,null,null,null,null,null,null,{"$f":"_xlfn.IFS(I46=I45,1+R45,I46<>I45,1)","v":3},{"$f":"_xlfn.IFS(I46=0,0,I46=I45,S45,S45-R45,S45-R45)","v":0},0,0,0,0,0,0,0,0,0,0,0,0,0,0,0,0,null,null,"Dave Taylor",31]
[null,"Brian McLaughlin",null,null,null,null,null,null,0,null,null,null,null,null,null,null,null,{"$f":"_xlfn.IFS(I47=I46,1+R46,I47<>I46,1)","v":4},{"$f":"_xlfn.IFS(I47=0,0,I47=I46,S46,S46-R46,S46-R46)","v":0},0,0,0,0,0,0,0,0,0,0,0,0,0,0,0,0,null,null,"Sue Michalski",31]
[null,"Bob Templeton",null,null,null,null,null,null,0,null,null,null,null,null,null,null,null,{"$f":"_xlfn.IFS(I48=I47,1+R47,I48<>I47,1)","v":5},{"$f":"_xlfn.IFS(I48=0,0,I48=I47,S47,S47-R47,S47-R47)","v":0},0,0,0,0,0,0,0,0,0,0,0,0,0,0,0,0,null,null,"Pete Michalski",30]
[null,"Pete Michalski",null,null,null,null,null,null,0,null,null,null,null,null,null,null,null,{"$f":"_xlfn.IFS(I49=I48,1+R48,I49<>I48,1)","v":6},{"$f":"_xlfn.IFS(I49=0,0,I49=I48,S48,S48-R48,S48-R48)","v":0},0,0,0,0,0,0,0,0,0,0,0,0,0,0,0,0,null,null,"Brian McLaughlin",26]
[null,"Sue Michalski",null,null,null,null,null,null,0,null,null,null,null,null,null,null,null,{"$f":"_xlfn.IFS(I50=I49,1+R49,I50<>I49,1)","v":7},{"$f":"_xlfn.IFS(I50=0,0,I50=I49,S49,S49-R49,S49-R49)","v":0},0,0,0,0,0,0,0,0,0,0,0,0,0,0,0,0]
[null,"Matt Nichols",null,null,null,null,null,null,0,null,null,null,null,null,null,null,null,{"$f":"_xlfn.IFS(I51=I50,1+R50,I51<>I50,1)","v":8},{"$f":"_xlfn.IFS(I51=0,0,I51=I50,S50,S50-R50,S50-R50)","v":0},0,0,0,0,0,0,0,0,0,0,0,0,0,0,0,0]
[]
[null,null,null,null,null,null,null,null,"Pars"]
[null,"Mark Rusnak",null,null,null,null,null,null,3.8666666666666667,null,null,null,null,null,null,null,null,1,16,{"$f":"IF($B54=T$34,$S54,0)","v":0},{"$f":"IF($B54=U$34,$S54,0)","v":0},{"$f":"IF($B54=V$34,$S54,0)","v":0},0,0,0,0,0,0,16,0,0,0,0,0,0]
[null,"Andy Linton",null,null,null,null,null,null,3.6666666666666665,null,null,null,null,null,null,null,null,{"$f":"_xlfn.IFS(I55=I54,2,I55<>I54,1)","v":1},{"$f":"_xlfn.IFS(I55=0,0,I55=I54,S54,S54-R54,S54-R54)","v":15},{"$f":"IF($B55=T$34,$S55,0)","v":15},0,0,0,0,0,0,0,0,0,0,0,0,0,0,0]
[null,"Marty Reed",null,null,null,null,null,null,3.4545454545454546,null,null,null,null,null,null,null,null,{"$f":"_xlfn.IFS(I56=I55,1+R55,I56<>I55,1)","v":1},{"$f":"_xlfn.IFS(I56=0,0,I56=I55,S55,S55-R55,S55-R55)","v":14},0,0,0,0,0,0,0,0,0,0,14,0,0,0,0,0]
[null,"Dan Fusco",null,null,null,null,null,null,2.6,null,null,null,null,null,null,null,null,{"$f":"_xlfn.IFS(I57=I56,1+R56,I57<>I56,1)","v":1},{"$f":"_xlfn.IFS(I57=0,0,I57=I56,S56,S56-R56,S56-R56)","v":13},0,0,0,0,13,0,0,0,0,0,0,0,0,0,0,0]
[null,"Jim Daviero",null,null,null,null,null,null,1.8333333333333333,null,null,null,null,null,null,null,null,{"$f":"_xlfn.IFS(I58=I57,1+R57,I58<>I57,1)","v":1},{"$f":"_xlfn.IFS(I58=0,0,I58=I57,S57,S57-R57,S57-R57)","v":12},0,0,0,0,0,0,0,0,12,0,0,0,0,0,0,0]
[null,"Dan Palmerino",null,null,null,null,null,null,1.7692307692307692,null,null,null,null,null,null,null,null,{"$f":"_xlfn.IFS(I59=I58,1+R58,I59<>I58,1)","v":1},{"$f":"_xlfn.IFS(I59=0,0,I59=I58,S58,S58-R58,S58-R58)","v":11},0,0,0,0,0,11,0,0,0,0,0,0,0,0,0,0]
[null,"Gloria Poston",null,null,null,null,null,null,1.5,null,null,null,null,null,null,null,null,{"$f":"_xlfn.IFS(I60=I59,1+R59,I60<>I59,1)","v":1},{"$f":"_xlfn.IFS(I60=0,0,I60=I59,S59,S59-R59,S59-R59)","v":10},0,0,0,0,0,0,0,10,0,0,0,0,0,0,0,0]
[null,"Matt Nichols",null,null,null,null,null,null,1.4444444444444444,null,null,null,null,null,null,null,null,{"$f":"_xlfn.IFS(I61=I60,1+R60,I61<>I60,1)","v":1},{"$f":"_xlfn.IFS(I61=0,0,I61=I60,S60,S60-R60,S60-R60)","v":9},0,0,0,0,0,0,0,0,0,0,0,9,0,0,0,0]
[null,"Tim Hobbs",null,null,null,null,null,null,1.3333333333333333,null,null,null,null,null,null,null,null,{"$f":"_xlfn.IFS(I62=I61,1+R61,I62<>I61,1)","v":1},{"$f":"_xlfn.IFS(I62=0,0,I62=I61,S61,S61-R61,S61-R61)","v":8},0,0,0,0,0,0,0,0,0,0,0,0,0,0,8,0]
[null,"Bette Mohsinger",null,null,null,null,null,null,1.1666666666666667,null,null,null,null,null,null,null,null,{"$f":"_xlfn.IFS(I63=I62,1+R62,I63<>I62,1)","v":1},{"$f":"_xlfn.IFS(I63=0,0,I63=I62,S62,S62-R62,S62-R62)","v":7},0,7,0,0,0,0,0,0,0,0,0,0,0,0,0,0]
[null,"Dave Taylor",null,null,null,null,null,null,0.6,null,null,null,null,null,null,null,null,{"$f":"_xlfn.IFS(I64=I63,1+R63,I64<>I63,1)","v":1},{"$f":"_xlfn.IFS(I64=0,0,I64=I63,S63,S63-R63,S63-R63)","v":6},0,0,0,0,0,0,6,0,0,0,0,0,0,0,0,0]
[null,"Bob Templeton",null,null,null,null,null,null,0.2857142857142857,null,null,null,null,null,null,null,null,{"$f":"_xlfn.IFS(I65=I64,1+R64,I65<>I64,1)","v":1},{"$f":"_xlfn.IFS(I65=0,0,I65=I64,S64,S64-R64,S64-R64)","v":5},0,0,5,0,0,0,0,0,0,0,0,0,0,0,0,0]
[null,"Brian McLaughlin",null,null,null,null,null,null,0.25,null,null,null,null,null,null,null,null,{"$f":"_xlfn.IFS(I66=I65,1+R65,I66<>I65,1)","v":1},{"$f":"_xlfn.IFS(I66=0,0,I66=I65,S65,S65-R65,S65-R65)","v":4},0,0,0,4,0,0,0,0,0,0,0,0,0,0,0,0]
[null,"Tom Mohsinger",null,null,null,null,null,null,0.23076923076923078,null,null,null,null,null,null,null,null,{"$f":"_xlfn.IFS(I67=I66,1+R66,I67<>I66,1)","v":1},{"$f":"_xlfn.IFS(I67=0,0,I67=I66,S66,S66-R66,S66-R66)","v":3},0,0,0,0,0,0,0,0,0,0,0,0,0,0,0,3]
[null,"Sue Michalski",null,null,null,null,null,null,0.15384615384615385,null,null,null,null,null,null,null,null,{"$f":"_xlfn.IFS(I68=I67,1+R67,I68<>I67,1)","v":1},{"$f":"_xlfn.IFS(I68=0,0,I68=I67,S67,S67-R67,S67-R67)","v":2},0,0,0,0,0,0,0,0,0,0,0,0,0,2,0,0]
[null,"Pete Michalski",null,null,null,null,null,null,7.6923076923076927E-2,null,null,null,null,null,null,null,null,{"$f":"_xlfn.IFS(I69=I68,1+R68,I69<>I68,1)","v":1},{"$f":"_xlfn.IFS(I69=0,0,I69=I68,S68,S68-R68,S68-R68)","v":1},0,0,0,0,0,0,0,0,0,0,0,0,1,0,0,0]
[]
[null,null,null,null,null,null,null,null,"Bogeys"]
[null,"Sue Michalski",null,null,null,null,null,null,0.53846153846153844,null,null,null,null,null,null,null,null,1,16,{"$f":"IF($B72=T$34,$S72,0)","v":0},{"$f":"IF($B72=U$34,$S72,0)","v":0},{"$f":"IF($B72=V$34,$S72,0)","v":0},0,0,0,0,0,0,0,0,0,0,16,0,0]
[null,"Bob Templeton",null,null,null,null,null,null,1.2142857142857142,null,null,null,null,null,null,null,null,{"$f":"_xlfn.IFS(I73=I72,2,I73<>I72,1)","v":1},{"$f":"_xlfn.IFS(I73=0,0,I73=I72,S72,S72-R72,S72-R72)","v":15},{"$f":"IF($B73=T$34,$S73,0)","v":0},0,15,0,0,0,0,0,0,0,0,0,0,0,0,0]
[null,"Pete Michalski",null,null,null,null,null,null,1.5384615384615385,null,null,null,null,null,null,null,null,{"$f":"_xlfn.IFS(I74=I73,1+R73,I74<>I73,1)","v":1},{"$f":"_xlfn.IFS(I74=0,0,I74=I73,S73,S73-R73,S73-R73)","v":14},0,0,0,0,0,0,0,0,0,0,0,0,14,0,0,0]
[null,"Bette Mohsinger",null,null,null,null,null,null,2.4166666666666665,null,null,null,null,null,null,null,null,{"$f":"_xlfn.IFS(I75=I74,1+R74,I75<>I74,1)","v":1},{"$f":"_xlfn.IFS(I75=0,0,I75=I74,S74,S74-R74,S74-R74)","v":13},0,13,0,0,0,0,0,0,0,0,0,0,0,0,0,0]
[null,"Matt Nichols",null,null,null,null,null,null,2.8888888888888888,null,null,null,null,null,null,null,null,{"$f":"_xlfn.IFS(I76=I75,1+R75,I76<>I75,1)","v":1},{"$f":"_xlfn.IFS(I76=0,0,I76=I75,S75,S75-R75,S75-R75)","v":12},0,0,0,0,0,0,0,0,0,0,0,12,0,0,0,0]
[null,"Tom Mohsinger",null,null,null,null,null,null,3.1538461538461537,null,null,null,null,null,null,null,null,{"$f":"_xlfn.IFS(I77=I76,1+R76,I77<>I76,1)","v":1},{"$f":"_xlfn.IFS(I77=0,0,I77=I76,S76,S76-R76,S76-R76)","v":11},0,0,0,0,0,0,0,0,0,0,0,0,0,0,0,11]
[null,"Tim Hobbs",null,null,null,null,null,null,3.1666666666666665,null,null,null,null,null,null,null,null,{"$f":"_xlfn.IFS(I78=I77,1+R77,I78<>I77,1)","v":1},{"$f":"_xlfn.IFS(I78=0,0,I78=I77,S77,S77-R77,S77-R77)","v":10},0,0,0,0,0,0,0,0,0,0,0,0,0,0,10,0]
[null,"Mark Rusnak",null,null,null,null,null,null,3.6666666666666665,null,null,null,null,null,null,null,null,{"$f":"_xlfn.IFS(I79=I78,1+R78,I79<>I78,1)","v":1},{"$f":"_xlfn.IFS(I79=0,0,I79=I78,S78,S78-R78,S78-R78)","v":9},0,0,0,0,0,0,0,0,0,9,0,0,0,0,0,0]
[null,"Marty Reed",null,null,null,null,null,null,3.8181818181818183,null,null,null,null,null,null,null,null,{"$f":"_xlfn.IFS(I80=I79,1+R79,I80<>I79,1)","v":1},{"$f":"_xlfn.IFS(I80=0,0,I80=I79,S79,S79-R79,S79-R79)","v":8},0,0,0,0,0,0,0,0,0,0,8,0,0,0,0,0]
[null,"Brian McLaughlin",null,null,null,null,null,null,3.8333333333333335,null,null,null,null,null,null,null,null,{"$f":"_xlfn.IFS(I81=I80,1+R80,I81<>I80,1)","v":1},{"$f":"_xlfn.IFS(I81=0,0,I81=I80,S80,S80-R80,S80-R80)","v":7},0,0,0,7,0,0,0,0,0,0,0,0,0,0,0,0]
[null,"Gloria Poston",null,null,null,null,null,null,3.9,null,null,null,null,null,null,null,null,{"$f":"_xlfn.IFS(I82=I81,1+R81,I82<>I81,1)","v":1},{"$f":"_xlfn.IFS(I82=0,0,I82=I81,S81,S81-R81,S81-R81)","v":6},0,0,0,0,0,0,0,6,0,0,0,0,0,0,0,0]
[null,"Dave Taylor",null,null,null,null,null,null,3.9333333333333331,null,null,null,null,null,null,null,null,{"$f":"_xlfn.IFS(I83=I82,1+R82,I83<>I82,1)","v":1},{"$f":"_xlfn.IFS(I83=0,0,I83=I82,S82,S82-R82,S82-R82)","v":5},0,0,0,0,0,0,5,0,0,0,0,0,0,0,0,0]
[null,"Andy Linton",null,null,null,null,null,null,4,null,null,null,null,null,null,null,null,{"$f":"_xlfn.IFS(I84=I83,1+R83,I84<>I83,1)","v":1},{"$f":"_xlfn.IFS(I84=0,0,I84=I83,S83,S83-R83,S83-R83)","v":4},4,0,0,0,0,0,0,0,0,0,0,0,0,0,0,0]
[null,"Dan Fusco",null,null,null,null,null,null,4,null,null,null,null,null,null,null,null,{"$f":"_xlfn.IFS(I85=I84,1+R84,I85<>I84,1)","v":2},{"$f":"_xlfn.IFS(I85=0,0,I85=I84,S84,S84-R84,S84-R84)","v":4},0,0,0,0,4,0,0,0,0,0,0,0,0,0,0,0]
[null,"Dan Palmerino",null,null,null,null,null,null,4.0769230769230766,null,null,null,null,null,null,null,null,{"$f":"_xlfn.IFS(I86=I85,1+R85,I86<>I85,1)","v":1},{"$f":"_xlfn.IFS(I86=0,0,I86=I85,S85,S85-R85,S85-R85)","v":2},0,0,0,0,0,2,0,0,0,0,0,0,0,0,0,0]
[null,"Jim Daviero",null,null,null,null,null,null,5.083333333333333,null,null,null,null,null,null,null,null,{"$f":"_xlfn.IFS(I87=I86,1+R86,I87<>I86,1)","v":1},{"$f":"_xlfn.IFS(I87=0,0,I87=I86,S86,S86-R86,S86-R86)","v":1},0,0,0,0,0,0,0,0,1,0,0,0,0,0,0,0]
[]
[null,null,null,null,null,null,null,null,"Dbl Bogeys"]
[null,"Mark Rusnak",null,null,null,null,null,null,0.8666666666666667,null,null,null,null,null,null,null,null,1,16,{"$f":"IF($B90=T$34,$S90,0)","v":0},0,{"$f":"IF($B90=V$34,$S90,0)","v":0},0,0,0,0,0,0,16,0,0,0,0,0,0]
[null,"Andy Linton",null,null,null,null,null,null,1.0666666666666667,null,null,null,null,null,null,null,null,{"$f":"_xlfn.IFS(I91=I90,2,I91<>I90,1)","v":1},{"$f":"_xlfn.IFS(I91=0,0,I91=I90,S90,S90-R90,S90-R90)","v":15},15,0,0,0,0,0,0,0,0,0,0,0,0,0,0,0]
[null,"Marty Reed",null,null,null,null,null,null,1.1818181818181819,null,null,null,null,null,null,null,null,{"$f":"_xlfn.IFS(I92=I91,1+R91,I92<>I91,1)","v":1},{"$f":"_xlfn.IFS(I92=0,0,I92=I91,S91,S91-R91,S91-R91)","v":14},0,0,0,0,0,0,0,0,0,0,14,0,0,0,0,0]
[null,"Jim Daviero",null,null,null,null,null,null,1.6666666666666667,null,null,null,null,null,null,null,null,{"$f":"_xlfn.IFS(I93=I92,1+R92,I93<>I92,1)","v":1},{"$f":"_xlfn.IFS(I93=0,0,I93=I92,S92,S92-R92,S92-R92)","v":13},0,0,0,0,0,0,0,0,13,0,0,0,0,0,0,0]
[null,"Dan Fusco",null,null,null,null,null,null,1.7333333333333334,null,null,null,null,null,null,null,null,{"$f":"_xlfn.IFS(I94=I93,1+R93,I94<>I93,1)","v":1},{"$f":"_xlfn.IFS(I94=0,0,I94=I93,S93,S93-R93,S93-R93)","v":12},0,0,0,0,12,0,0,0,0,0,0,0,0,0,0,0]
[null,"Pete Michalski",null,null,null,null,null,null,2.2307692307692308,null,null,null,null,null,null,null,null,{"$f":"_xlfn.IFS(I95=I94,1+R94,I95<>I94,1)","v":1},{"$f":"_xlfn.IFS(I95=0,0,I95=I94,S94,S94-R94,S94-R94)","v":11},0,0,0,0,0,0,0,0,0,0,0,0,11,0,0,0]
[null,"Sue Michalski",null,null,null,null,null,null,2.2307692307692308,null,null,null,null,null,null,null,null,{"$f":"_xlfn.IFS(I96=I95,1+R95,I96<>I95,1)","v":2},{"$f":"_xlfn.IFS(I96=0,0,I96=I95,S95,S95-R95,S95-R95)","v":11},0,0,0,0,0,0,0,0,0,0,0,0,0,11,0,0]
[null,"Gloria Poston",null,null,null,null,null,null,2.2999999999999998,null,null,null,null,null,null,null,null,{"$f":"_xlfn.IFS(I97=I96,1+R96,I97<>I96,1)","v":1},{"$f":"_xlfn.IFS(I97=0,0,I97=I96,S96,S96-R96,S96-R96)","v":9},0,0,0,0,0,0,0,9,0,0,0,0,0,0,0,0]
[null,"Matt Nichols",null,null,null,null,null,null,2.4444444444444446,null,null,null,null,null,null,null,null,{"$f":"_xlfn.IFS(I98=I97,1+R97,I98<>I97,1)","v":1},{"$f":"_xlfn.IFS(I98=0,0,I98=I97,S97,S97-R97,S97-R97)","v":8},0,0,0,0,0,0,0,0,0,0,0,8,0,0,0,0]
[null,"Dan Palmerino",null,null,null,null,null,null,2.5384615384615383,null,null,null,null,null,null,null,null,{"$f":"_xlfn.IFS(I99=I98,1+R98,I99<>I98,1)","v":1},{"$f":"_xlfn.IFS(I99=0,0,I99=I98,S98,S98-R98,S98-R98)","v":7},0,0,0,0,0,7,0,0,0,0,0,0,0,0,0,0]
[null,"Bob Templeton",null,null,null,null,null,null,2.7142857142857144,null,null,null,null,null,null,null,null,{"$f":"_xlfn.IFS(I100=I99,1+R99,I100<>I99,1)","v":1},{"$f":"_xlfn.IFS(I100=0,0,I100=I99,S99,S99-R99,S99-R99)","v":6},0,0,6,0,0,0,0,0,0,0,0,0,0,0,0,0]
[null,"Tim Hobbs",null,null,null,null,null,null,2.8333333333333335,null,null,null,null,null,null,null,null,{"$f":"_xlfn.IFS(I101=I100,1+R100,I101<>I100,1)","v":1},{"$f":"_xlfn.IFS(I101=0,0,I101=I100,S100,S100-R100,S100-R100)","v":5},0,0,0,0,0,0,0,0,0,0,0,0,0,0,5,0]
[null,"Bette Mohsinger",null,null,null,null,null,null,2.9166666666666665,null,null,null,null,null,null,null,null,{"$f":"_xlfn.IFS(I102=I101,1+R101,I102<>I101,1)","v":1},{"$f":"_xlfn.IFS(I102=0,0,I102=I101,S101,S101-R101,S101-R101)","v":4},0,4,0,0,0,0,0,0,0,0,0,0,0,0,0,0]
[null,"Dave Taylor",null,null,null,null,null,null,3.0666666666666669,null,null,null,null,null,null,null,null,{"$f":"_xlfn.IFS(I103=I102,1+R102,I103<>I102,1)","v":1},{"$f":"_xlfn.IFS(I103=0,0,I103=I102,S102,S102-R102,S102-R102)","v":3},0,0,0,0,0,0,3,0,0,0,0,0,0,0,0,0]
[null,"Tom Mohsinger",null,null,null,null,null,null,3.2307692307692308,null,null,null,null,null,null,null,null,{"$f":"_xlfn.IFS(I104=I103,1+R103,I104<>I103,1)","v":1},{"$f":"_xlfn.IFS(I104=0,0,I104=I103,S103,S103-R103,S103-R103)","v":2},0,0,0,0,0,0,0,0,0,0,0,0,0,0,0,2]
[null,"Brian McLaughlin",null,null,null,null,null,null,3.25,null,null,null,null,null,null,null,null,{"$f":"_xlfn.IFS(I105=I104,1+R104,I105<>I104,1)","v":1},{"$f":"_xlfn.IFS(I105=0,0,I105=I104,S104,S104-R104,S104-R104)","v":1},0,0,0,1,0,0,0,0,0,0,0,0,0,0,0,0]
[]
[null,null,null,null,null,null,null,null,"Others"]
[null,"Mark Rusnak",null,null,null,null,null,null,0.2,null,null,null,null,null,null,null,null,1,16,{"$f":"IF($B108=T$34,$S108,0)","v":0},{"$f":"IF($B108=U$34,$S108,0)","v":0},{"$f":"IF($B108=V$34,$S108,0)","v":0},0,0,0,0,0,0,16,0,0,0,0,0,0]
[null,"Andy Linton",null,null,null,null,null,null,0.2,null,null,null,null,null,null,null,null,{"$f":"_xlfn.IFS(I109=I108,2,I109<>I108,1)","v":2},{"$f":"_xlfn.IFS(I109=0,0,I109=I108,S108,S108-R108,S108-R108)","v":16},{"$f":"IF($B109=T$34,$S109,0)","v":16},0,0,0,0,0,0,0,0,0,0,0,0,0,0,0]
[null,"Marty Reed",null,null,null,null,null,null,0.27272727272727271,null,null,null,null,null,null,null,null,{"$f":"_xlfn.IFS(I110=I109,1+R109,I110<>I109,1)","v":1},{"$f":"_xlfn.IFS(I110=0,0,I110=I109,S109,S109-R109,S109-R109)","v":14},0,0,0,0,0,0,0,0,0,0,14,0,0,0,0,0]
[null,"Dan Fusco",null,null,null,null,null,null,0.33333333333333331,null,null,null,null,null,null,null,null,{"$f":"_xlfn.IFS(I111=I110,1+R110,I111<>I110,1)","v":1},{"$f":"_xlfn.IFS(I111=0,0,I111=I110,S110,S110-R110,S110-R110)","v":13},0,0,0,0,13,0,0,0,0,0,0,0,0,0,0,0]
[null,"Jim Daviero",null,null,null,null,null,null,0.33333333333333331,null,null,null,null,null,null,null,null,{"$f":"_xlfn.IFS(I112=I111,1+R111,I112<>I111,1)","v":2},{"$f":"_xlfn.IFS(I112=0,0,I112=I111,S111,S111-R111,S111-R111)","v":13},0,0,0,0,0,0,0,0,13,0,0,0,0,0,0,0]
[null,"Dan Palmerino",null,null,null,null,null,null,0.53846153846153844,null,null,null,null,null,null,null,null,{"$f":"_xlfn.IFS(I113=I112,1+R112,I113<>I112,1)","v":1},{"$f":"_xlfn.IFS(I113=0,0,I113=I112,S112,S112-R112,S112-R112)","v":11},0,0,0,0,0,11,0,0,0,0,0,0,0,0,0,0]
[null,"Gloria Poston",null,null,null,null,null,null,1.3,null,null,null,null,null,null,null,null,{"$f":"_xlfn.IFS(I114=I113,1+R113,I114<>I113,1)","v":1},{"$f":"_xlfn.IFS(I114=0,0,I114=I113,S113,S113-R113,S113-R113)","v":10},0,0,0,0,0,0,0,10,0,0,0,0,0,0,0,0]
[null,"Dave Taylor",null,null,null,null,null,null,1.4,null,null,null,null,null,null,null,null,{"$f":"_xlfn.IFS(I115=I114,1+R114,I115<>I114,1)","v":1},{"$f":"_xlfn.IFS(I115=0,0,I115=I114,S114,S114-R114,S114-R114)","v":9},0,0,0,0,0,0,9,0,0,0,0,0,0,0,0,0]
[null,"Tim Hobbs",null,null,null,null,null,null,1.6666666666666667,null,null,null,null,null,null,null,null,{"$f":"_xlfn.IFS(I116=I115,1+R115,I116<>I115,1)","v":1},{"$f":"_xlfn.IFS(I116=0,0,I116=I115,S115,S115-R115,S115-R115)","v":8},0,0,0,0,0,0,0,0,0,0,0,0,0,0,8,0]
[null,"Brian McLaughlin",null,null,null,null,null,null,1.6666666666666667,null,null,null,null,null,null,null,null,{"$f":"_xlfn.IFS(I117=I116,1+R116,I117<>I116,1)","v":2},{"$f":"_xlfn.IFS(I117=0,0,I117=I116,S116,S116-R116,S116-R116)","v":8},0,0,0,8,0,0,0,0,0,0,0,0,0,0,0,0]
[null,"Matt Nichols",null,null,null,null,null,null,2.2222222222222223,null,null,null,null,null,null,null,null,{"$f":"_xlfn.IFS(I118=I117,1+R117,I118<>I117,1)","v":1},{"$f":"_xlfn.IFS(I118=0,0,I118=I117,S117,S117-R117,S117-R117)","v":6},0,0,0,0,0,0,0,0,0,0,0,6,0,0,0,0]
[null,"Tom Mohsinger",null,null,null,null,null,null,2.3076923076923075,null,null,null,null,null,null,null,null,{"$f":"_xlfn.IFS(I119=I118,1+R118,I119<>I118,1)","v":1},{"$f":"_xlfn.IFS(I119=0,0,I119=I118,S118,S118-R118,S118-R118)","v":5},0,0,0,0,0,0,0,0,0,0,0,0,0,0,0,5]
[null,"Bette Mohsinger",null,null,null,null,null,null,2.4166666666666665,null,null,null,null,null,null,null,null,{"$f":"_xlfn.IFS(I120=I119,1+R119,I120<>I119,1)","v":1},{"$f":"_xlfn.IFS(I120=0,0,I120=I119,S119,S119-R119,S119-R119)","v":4},0,4,0,0,0,0,0,0,0,0,0,0,0,0,0,0]
[null,"Bob Templeton",null,null,null,null,null,null,4.7857142857142856,null,null,null,null,null,null,null,null,{"$f":"_xlfn.IFS(I121=I120,1+R120,I121<>I120,1)","v":1},{"$f":"_xlfn.IFS(I121=0,0,I121=I120,S120,S120-R120,S120-R120)","v":3},0,0,3,0,0,0,0,0,0,0,0,0,0,0,0,0]
[null,"Pete Michalski",null,null,null,null,null,null,5.1538461538461542,null,null,null,null,null,null,null,null,{"$f":"_xlfn.IFS(I122=I121,1+R121,I122<>I121,1)","v":1},{"$f":"_xlfn.IFS(I122=0,0,I122=I121,S121,S121-R121,S121-R121)","v":2},0,0,0,0,0,0,0,0,0,0,0,0,2,0,0,0]
[null,"Sue Michalski",null,null,null,null,null,null,6.0769230769230766,null,null,null,null,null,null,null,null,{"$f":"_xlfn.IFS(I123=I122,1+R122,I123<>I122,1)","v":1},{"$f":"_xlfn.IFS(I123=0,0,I123=I122,S122,S122-R122,S122-R122)","v":1},0,0,0,0,0,0,0,0,0,0,0,0,0,1,0,0]
[]
[null,null,null,null,null,null,null,null,"Avg over Par",null,"Rounded"]
[null,"Mark Rusnak",null,null,null,null,null,null,5.6,null,{"$f":"ROUND(I126,0)","v":6},null,null,null,null,null,null,1,16,{"$f":"IF($B126=T$34,$S126,0)","v":0},0,0,0,0,0,0,0,0,16,0,0,0,0,0,0]
[null,"Andy Linton",null,null,null,null,null,null,6.6666666666666661,null,7,null,null,null,null,null,null,{"$f":"_xlfn.IFS(I127=I126,2,I127<>I126,1)","v":1},{"$f":"_xlfn.IFS(I127=0,0,I127=I126,S126,S126-R126,S126-R126)","v":15},15,0,0,0,0,0,0,0,0,0,0,0,0,0,0,0]
[null,"Marty Reed",null,null,null,null,null,null,6.7272727272727275,null,7,null,null,null,null,null,null,{"$f":"_xlfn.IFS(I128=I127,1+R127,I128<>I127,1)","v":1},{"$f":"_xlfn.IFS(I128=0,0,I128=I127,S127,S127-1,S127-1)","v":14},0,0,0,0,0,0,0,0,0,0,14,0,0,0,0,0]
[null,"Dan Fusco",null,null,null,null,null,null,8.1333333333333329,null,8,null,null,null,null,null,null,{"$f":"_xlfn.IFS(I129=I128,1+R128,I129<>I128,1)","v":1},{"$f":"_xlfn.IFS(I129=0,0,I129=I128,S128,S128-1,S128-1)","v":13},0,0,0,0,13,0,0,0,0,0,0,0,0,0,0,0]
[null,"Jim Daviero",null,null,null,null,null,null,9.3333333333333321,null,9,null,null,null,null,null,null,{"$f":"_xlfn.IFS(I130=I129,1+R129,I130<>I129,1)","v":1},{"$f":"_xlfn.IFS(I130=0,0,I130=I129,S129,S129-1,S129-1)","v":12},0,0,0,0,0,0,0,0,12,0,0,0,0,0,0,0]
[null,"Dan Palmerino",null,null,null,null,null,null,10.692307692307692,null,11,null,null,null,null,null,null,{"$f":"_xlfn.IFS(I131=I130,1+R130,I131<>I130,1)","v":1},{"$f":"_xlfn.IFS(I131=0,0,I131=I130,S130,S130-1,S130-1)","v":11},0,0,0,0,0,11,0,0,0,0,0,0,0,0,0,0]
[null,"Gloria Poston",null,null,null,null,null,null,12.4,null,12,null,null,null,null,null,null,{"$f":"_xlfn.IFS(I132=I131,1+R131,I132<>I131,1)","v":1},{"$f":"_xlfn.IFS(I132=0,0,I132=I131,S131,S131-1,S131-1)","v":10},0,0,0,0,0,0,0,10,0,0,0,0,0,0,0,0]
[null,"Tim Hobbs",null,null,null,null,null,null,13.833333333333334,null,14,null,null,null,null,null,null,{"$f":"_xlfn.IFS(I133=I132,1+R132,I133<>I132,1)","v":1},{"$f":"_xlfn.IFS(I133=0,0,I133=I132,S132,S132-1,S132-1)","v":9},0,0,0,0,0,0,0,0,0,0,0,0,0,0,9,0]
[null,"Dave Taylor",null,null,null,null,null,null,14.266666666666666,null,14,null,null,null,null,null,null,{"$f":"_xlfn.IFS(I134=I133,1+R133,I134<>I133,1)","v":1},{"$f":"_xlfn.IFS(I134=0,0,I134=I133,S133,S133-1,S133-1)","v":8},0,0,0,0,0,0,8,0,0,0,0,0,0,0,0,0]
[null,"Matt Nichols",null,null,null,null,null,null,14.444444444444446,null,14,null,null,null,null,null,null,{"$f":"_xlfn.IFS(I135=I134,1+R134,I135<>I134,1)","v":1},{"$f":"_xlfn.IFS(I135=0,0,I135=I134,S134,S134-1,S134-1)","v":7},0,0,0,0,0,0,0,0,0,0,0,7,0,0,0,0]
[null,"Brian McLaughlin",null,null,null,null,null,null,15.333333333333334,null,15,null,null,null,null,null,null,{"$f":"_xlfn.IFS(I136=I135,1+R135,I136<>I135,1)","v":1},{"$f":"_xlfn.IFS(I136=0,0,I136=I135,S135,S135-1,S135-1)","v":6},{"$f":"IF($B136=T$34,$S136,0)","v":0},0,0,6,0,0,0,0,0,0,0,0,0,0,0,0]
[null,"Bette Mohsinger",null,null,null,null,null,null,15.416666666666666,null,15,null,null,null,null,null,null,{"$f":"_xlfn.IFS(I137=I136,1+R136,I137<>I136,1)","v":1},{"$f":"_xlfn.IFS(I137=0,0,I137=I136,S136,S136-1,S136-1)","v":5},0,5,0,0,0,0,0,0,0,0,0,0,0,0,0,0]
[null,"Tom Mohsinger",null,null,null,null,null,null,16.46153846153846,null,16,null,null,null,null,null,null,{"$f":"_xlfn.IFS(I138=I137,1+R137,I138<>I137,1)","v":1},{"$f":"_xlfn.IFS(I138=0,0,I138=I137,S137,S137-1,S137-1)","v":4},0,0,0,0,0,0,0,0,0,0,0,0,0,0,0,4]
[null,"Bob Templeton",null,null,null,null,null,null,21,null,21,null,null,null,null,null,null,{"$f":"_xlfn.IFS(I139=I138,1+R138,I139<>I138,1)","v":1},{"$f":"_xlfn.IFS(I139=0,0,I139=I138,S138,S138-1,S138-1)","v":3},0,0,3,0,0,0,0,0,0,0,0,0,0,0,0,0]
[null,"Pete Michalski",null,null,null,null,null,null,21.461538461538463,null,21,null,null,null,null,null,null,{"$f":"_xlfn.IFS(I140=I139,1+R139,I140<>I139,1)","v":1},{"$f":"_xlfn.IFS(I140=0,0,I140=I139,S139,S139-1,S139-1)","v":2},0,0,0,0,0,0,0,0,0,0,0,0,2,0,0,0]
[null,"Sue Michalski",null,null,null,null,null,null,23.23076923076923,null,23,null,null,null,null,null,null,{"$f":"_xlfn.IFS(I141=I140,1+R140,I141<>I140,1)","v":1},{"$f":"_xlfn.IFS(I141=0,0,I141=I140,S140,S140-1,S140-1)","v":1},0,0,0,0,0,0,0,0,0,0,0,0,0,1,0,0]

{"sheet":"Sum of Scores","index":1,"n_rows":36,"n_cols":87,"rows_kept":36,"cut":false,"hidden":false,"merged":[[2,1,2,4],[0,78,0,80],[0,81,0,83],[0,84,0,85],[2,84,3,84],[2,85,3,85]]}
["Summary of Scores",null,null,null,null,null,"d16",null,null,null,"j16",null,null,null,"p16",null,null,null,"v16",null,null,null,"ab16",null,null,null,"ah16",null,null,null,"an16",null,null,null,"at16",null,null,null,"az16",null,null,null,"bf16",null,null,null,"bl16",null,null,null,"br16",null,null,null,"bx16",null,null,null,"cd16",null,null,null,"cj16",null,null,null,null,null,null,null,null,null,null,null,null,null,null,null,"Lows",null,null,"Highs",null,null,"Handicaps"]
[null,null,null,null,null,null,null,null,null,null,null,null,null,null,null,null,null,null,null,null,null,null,null,null,null,null,null,null,null,null,null,null,null,null,null,null,null,null,null,null,null,null,null,null,null,null,null,null,null,null,null,null,null,null,null,null,null,null,null,null,null,null,null,null,null,null,"Bonus",null,"Match ",null,"Total",null,null,null,null,null,null,null,null,null,null,null,null,null,"Start","Finish"]
[null,"Current Week",null,null,null,null,"Week #1",null,"Week #1",null,"Week #2",null,"Week #2",null,"Week #3",null,"Week #3",null,"Week #4",null,"Week #4",null,"Week #5",null,"Week #5",null,"Week #6",null,"Week #6",null,"Week #7",null,"Week #7",null,"Week #8",null,"Week #8",null,"Week #9",null,"Week #9",null,"Week #10",null,"Week #10",null,"Week #11",null,"Week #11",null,"Week #12",null,"Week #12",null,"Week #13",null,"Week #13",null,"Week #14",null,"Week #14",null,"Week #15",null,"Week #15",null,"Points",null,"Points",null,"Points","Matches","Average",null,null,null,null,null,null,null,null,null,null,null,"(accounts for up to 3 missed weeks at the start)","(accounts for up to 5 missed weeks at the end)"]
[null,"Gross","Handicap","Net","Cup",null,"Gross","Handicap","Net",null,"Gross","Handicap","Net",null,"Gross","Handicap","Net",null,"Gross","Handicap","Net",null,"Gross","Handicap","Net",null,"Gross","Handicap","Net",null,"Gross","Handicap","Net",null,"Gross","Handicap","Net",null,"Gross","Handicap","Net",null,"Gross","Handicap","Net",null,"Gross","Handicap","Net",null,"Gross","Handicap","Net",null,"Gross","Handicap","Net",null,"Gross","Handicap","Net",null,"Gross","Handicap","Net"]
[{"$f":"INDIRECT(CONCATENATE(BY5,\"!A1\"))","v":"Mark Rusnak"},38,2,36,3000,3000,39,6,33,null,47,5,42,null,39,5,34,null,46,5,41,null,43,5,38,null,46,5,41,null,41,6,35,null,43,6,37,null,37,6,31,null,47,5,42,null,38,5,33,null,42,4,38,null,37,4,33,null,41,3,38,null,38,2,36,null,{"$f":"J5+N5+R5+V5+Z5+AD5+AH5+AL5+AP5+AT5+AX5+BB5+BF5+BJ5+BN5","v":0},null,{"$f":"INDIRECT(CONCATENATE(BY5,\"!C44\"))","v":83.5},null,{"$f":"BO5+BQ5","v":83.5},{"$f":"INDIRECT(CONCATENATE(BY5,\"!e44\"))","v":15},{"$f":"(BO5+BQ5)/BT5","v":5.5666666666666664},{"$f":"A5","v":"Mark Rusnak"},{"$f":"FIND(\" \",BV5)","v":5},{"$f":"MID(BV5,BW5,99)","v":" Rusnak"},"rusnak",null,{"$f":"MIN(G5,K5,O5,S5,W5,AA5,AE5,AI5,AM5,AQ5,AU5,AY5,BC5,BG5,BK5)","v":37},{"$f":"MIN(H5,L5,P5,T5,X5,AB5,AF5,AJ5,AN5,AR5,AV5,AZ5,BD5,BH5,BL5)","v":2},{"$f":"MIN(I5,M5,Q5,U5,Y5,AC5,AG5,AK5,AO5,AS5,AW5,BA5,BE5,BI5,BM5)","v":31},{"$f":"MAX(G5,K5,O5,S5,W5,AA5,AE5,AI5,AM5,AQ5,AU5,AY5,BC5,BG5,BK5)","v":47},{"$f":"MAX(H5,L5,P5,T5,X5,AB5,AF5,AJ5,AN5,AR5,AV5,AZ5,BD5,BH5,BL5)","v":6},{"$f":"MAX(I5,M5,Q5,U5,Y5,AC5,AG5,AK5,AO5,AS5,AW5,BA5,BE5,BI5,BM5)","v":42},{"$f":"IF(H5=\"\",IF(L5=\"\",IF(P5=\"\",IF(T5=\"\",X5,T5),P5),L5),H5)","v":6},{"$f":"IF(BL5=\"\",IF(BH5=\"\",IF(BD5=\"\",IF(AZ5=\"\",IF(AV5=\"\",AR5,AV5),AZ5),BD5),BH5),BL5)","v":2},{"$f":"CG5-CH5","v":4}]
[{"$f":"INDIRECT(CONCATENATE(BY6,\"!A1\"))","v":"Andy Linton"},42,4,38,2000,2500,null,4,44,null,48,4,44,null,41,6,35,null,46,6,40,null,43,7,36,null,41,8,33,null,41,7,34,null,42,6,36,null,38,5,33,null,44,5,39,null,41,5,36,null,43,4,39,null,40,5,35,null,42,4,38,null,42,4,38,null,0,null,{"$f":"INDIRECT(CONCATENATE(BY6,\"!C44\"))","v":78},null,78,{"$f":"INDIRECT(CONCATENATE(BY6,\"!e44\"))","v":15},5.2,"Andy Linton",5," Linton","linton",null,38,4,33,48,8,44,4,4,0]
[{"$f":"INDIRECT(CONCATENATE(BY7,\"!A1\"))","v":"Brian McLaughlin"},50,12,38,2000,2000,54,12,42,null,51,14,37,null,54,13,41,null,null,null,null,null,56,13,43,null,58,15,43,null,51,16,35,null,52,16,36,null,48,16,32,null,47,15,32,null,55,14,41,null,null,null,null,null,null,null,null,null,47,14,33,null,50,12,38,null,0,null,{"$f":"INDIRECT(CONCATENATE(BY7,\"!C44\"))","v":58},null,58,{"$f":"INDIRECT(CONCATENATE(BY7,\"!e44\"))","v":12},4.833333333333333,"Brian McLaughlin",6," McLaughlin","mclaughlin",null,47,12,32,58,16,43,12,12,0]
[{"$f":"INDIRECT(CONCATENATE(BY8,\"!A1\"))","v":"Jim Daviero"},46,8,38,2000,1500,45,5,40,null,null,null,null,null,46,7,39,null,47,7,40,null,47,8,39,null,44,9,35,null,44,10,34,null,43,9,34,null,46,8,38,null,45,8,37,null,null,null,null,null,45,8,37,null,null,null,null,null,47,8,39,null,46,8,38,null,0,null,{"$f":"INDIRECT(CONCATENATE(BY8,\"!C44\"))","v":61},null,61,{"$f":"INDIRECT(CONCATENATE(BY8,\"!e44\"))","v":12},5.083333333333333,"Jim Daviero",4," Daviero","daviero",null,43,5,34,47,10,40,5,8,-3]
[{"$f":"INDIRECT(CONCATENATE(BY9,\"!A1\"))","v":"Dan Palmerino"},47,8,39,1000,1000,48,8,40,null,47,8,39,null,null,null,null,null,51,9,42,null,44,9,35,null,50,10,40,null,45,10,35,null,50,10,40,null,42,11,31,null,null,null,null,null,45,9,36,null,46,8,38,null,44,9,35,null,48,8,40,null,47,8,39,null,0,null,{"$f":"INDIRECT(CONCATENATE(BY9,\"!C44\"))","v":67.5},null,67.5,{"$f":"INDIRECT(CONCATENATE(BY9,\"!e44\"))","v":13},5.1923076923076925,"Dan Palmerino",4," Palmerino","palmerino",null,42,8,31,51,11,42,8,8,0]
[{"$f":"INDIRECT(CONCATENATE(BY10,\"!A1\"))","v":"Dave Taylor"},53,13,40,850,900,54,11,43,null,50,11,39,null,54,11,43,null,53,12,41,null,46,13,33,null,54,13,41,null,46,13,33,null,52,12,40,null,51,12,39,null,53,12,41,null,47,13,34,null,49,13,36,null,49,12,37,null,53,13,40,null,53,13,40,null,0,null,{"$f":"INDIRECT(CONCATENATE(BY10,\"!C44\"))","v":71.5},null,71.5,{"$f":"INDIRECT(CONCATENATE(BY10,\"!e44\"))","v":15},4.7666666666666666,"Dave Taylor",5," Taylor","taylor",null,46,11,33,54,13,43,11,13,-2]
[{"$f":"INDIRECT(CONCATENATE(BY11,\"!A1\"))","v":"Tom Mohsinger"},53,13,40,850,800,53,16,37,null,55,15,40,null,54,15,39,null,56,16,40,null,null,null,null,null,null,null,null,null,59,16,43,null,53,17,36,null,47,17,30,null,49,16,33,null,51,15,36,null,51,14,37,null,49,14,35,null,57,13,44,null,53,13,40,null,0,null,{"$f":"INDIRECT(CONCATENATE(BY11,\"!C44\"))","v":74},null,74,{"$f":"INDIRECT(CONCATENATE(BY11,\"!e44\"))","v":13},5.6923076923076925,"Tom Mohsinger",4," Mohsinger","mohsinger_t",null,47,13,30,59,17,44,16,13,3]
[{"$f":"INDIRECT(CONCATENATE(BY12,\"!A1\"))","v":"Dan Fusco"},48,7,41,700,700,43,8,35,null,47,8,39,null,45,10,35,null,46,9,37,null,43,9,34,null,44,8,36,null,40,8,32,null,45,7,38,null,41,7,34,null,46,6,40,null,45,6,39,null,44,7,37,null,42,7,35,null,45,7,38,null,48,7,41,null,0,null,{"$f":"INDIRECT(CONCATENATE(BY12,\"!C44\"))","v":78.5},null,78.5,{"$f":"INDIRECT(CONCATENATE(BY12,\"!e44\"))","v":15},5.2333333333333334,"Dan Fusco",4," Fusco","fusco_d",null,40,6,32,48,10,41,8,7,1]
[{"$f":"INDIRECT(CONCATENATE(BY13,\"!A1\"))","v":"Marty Reed"},47,5,42,600,600,null,null,null,null,null,null,null,null,null,null,null,null,41,8,33,null,44,8,36,null,42,8,34,null,42,7,35,null,45,6,39,null,43,6,37,null,43,6,37,null,45,7,38,null,40,7,33,null,38,6,32,null,null,null,null,null,47,5,42,null,0,null,{"$f":"INDIRECT(CONCATENATE(BY13,\"!C44\"))","v":63.5},null,63.5,{"$f":"INDIRECT(CONCATENATE(BY13,\"!e44\"))","v":11},5.7727272727272725,"Marty Reed",6," Reed","reed",null,38,5,32,47,8,42,{"$f":"IF(H13=\"\",IF(L13=\"\",IF(P13=\"\",IF(T13=\"\",X13,T13),P13),L13),H13)","v":8},5,3]
[{"$f":"INDIRECT(CONCATENATE(BY14,\"!A1\"))","v":"Bob Templeton"},65,20,45,500,500,64,19,45,null,55,21,34,null,61,20,41,null,63,19,44,null,65,20,45,null,57,20,37,null,57,20,37,null,58,20,38,null,50,21,29,null,65,19,46,null,62,19,43,null,62,19,43,null,61,19,42,null,null,null,null,null,65,20,45,null,0,null,{"$f":"INDIRECT(CONCATENATE(BY14,\"!C44\"))","v":60.5},null,60.5,{"$f":"INDIRECT(CONCATENATE(BY14,\"!e44\"))","v":14},4.3214285714285712,"Bob Templeton",4," Templeton","templeton",null,50,19,29,65,21,46,{"$f":"IF(H14=\"\",IF(L14=\"\",IF(P14=\"\",IF(T14=\"\",X14,T14),P14),L14),H14)","v":19},20,-1]
[{"$f":"INDIRECT(CONCATENATE(BY15,\"!A1\"))","v":"Pete Michalski"},65,19,46,450,450,60,21,39,null,60,20,40,null,67,21,46,null,70,21,49,null,null,null,null,null,65,21,44,null,65,22,43,null,64,21,43,null,57,22,35,null,59,22,37,null,56,21,35,null,55,20,35,null,null,null,null,null,56,19,37,null,65,19,46,null,0,null,{"$f":"INDIRECT(CONCATENATE(BY15,\"!C44\"))","v":56},null,56,{"$f":"INDIRECT(CONCATENATE(BY15,\"!e44\"))","v":13},4.3076923076923075,"Pete Michalski",5," Michalski","michalski_p",null,55,19,35,70,22,49,21,19,2]
[{"$f":"INDIRECT(CONCATENATE(BY16,\"!A1\"))","v":"Sue Michalski"},70,21,49,400,400,58,24,34,null,64,23,41,null,65,23,42,null,67,23,44,null,null,null,null,null,63,24,39,null,58,23,35,null,66,23,43,null,63,24,39,null,67,23,44,null,57,24,33,null,61,22,39,null,null,null,null,null,64,21,43,null,70,21,49,null,0,null,{"$f":"INDIRECT(CONCATENATE(BY16,\"!C44\"))","v":54.5},null,54.5,{"$f":"INDIRECT(CONCATENATE(BY16,\"!e44\"))","v":13},4.1923076923076925,"Sue Michalski",4," Michalski","michalski_s",null,57,21,33,70,24,49,24,21,3]
[{"$f":"INDIRECT(CONCATENATE(BY17,\"!A1\"))","v":"Bette Mohsinger"},null,null,null,null,350,53,13,40,null,56,13,43,null,55,14,41,null,59,15,44,null,51,16,35,null,49,15,34,null,47,15,32,null,56,14,42,null,48,14,34,null,54,13,41,null,46,13,33,null,null,null,null,null,49,12,37,null,null,null,null,null,null,null,null,null,0,null,{"$f":"INDIRECT(CONCATENATE(BY17,\"!C44\"))","v":60.5},null,60.5,{"$f":"INDIRECT(CONCATENATE(BY17,\"!e44\"))","v":12},5.041666666666667,"Bette Mohsinger",6," Mohsinger","mohsinger_b",null,46,12,32,59,16,44,13,12,1]
[{"$f":"INDIRECT(CONCATENATE(BY18,\"!A1\"))","v":"Gloria Poston"},null,null,null,null,300,47,11,36,null,49,11,38,null,null,null,null,null,null,null,null,null,46,11,35,null,47,10,37,null,47,11,36,null,50,11,39,null,null,null,null,null,46,11,35,null,52,11,41,null,53,11,42,null,null,null,null,null,49,12,37,null,null,null,null,null,0,null,{"$f":"INDIRECT(CONCATENATE(BY18,\"!C44\"))","v":52},null,52,{"$f":"INDIRECT(CONCATENATE(BY18,\"!e44\"))","v":10},5.2,"Gloria Poston",7," Poston","poston",null,46,10,35,53,12,42,11,12,-1]
[{"$f":"INDIRECT(CONCATENATE(BY19,\"!A1\"))","v":"Matt Nichols"},null,null,null,null,250,52,12,40,null,53,13,40,null,51,13,38,null,49,14,35,null,49,13,36,null,50,14,36,null,52,13,39,null,null,null,null,null,55,13,42,null,51,13,38,null,null,null,null,null,null,null,null,null,null,null,null,null,null,null,null,null,null,null,null,null,0,null,{"$f":"INDIRECT(CONCATENATE(BY19,\"!C44\"))","v":40.5},null,40.5,{"$f":"INDIRECT(CONCATENATE(BY19,\"!e44\"))","v":9},4.5,"Matt Nichols",5," Nichols","nichols",null,49,12,35,55,14,42,12,{"$f":"IF(BL19=\"\",IF(BH19=\"\",IF(BD19=\"\",IF(AZ19=\"\",IF(AV19=\"\",AR19,AV19),AZ19),BD19),BH19),BL19)","v":13},-1]
[{"$f":"INDIRECT(CONCATENATE(BY20,\"!A1\"))","v":"Tim Hobbs"},null,null,null,null,200,52,14,38,null,51,14,37,null,52,14,38,null,51,14,37,null,48,14,34,null,51,13,38,null,49,14,35,null,55,13,42,null,49,13,36,null,48,13,35,null,53,12,41,null,null,null,null,null,43,13,30,null,null,null,null,null,null,null,null,null,0,null,{"$f":"INDIRECT(CONCATENATE(BY20,\"!C44\"))","v":59.5},null,59.5,{"$f":"INDIRECT(CONCATENATE(BY20,\"!e44\"))","v":12},4.958333333333333,"Tim Hobbs",4," Hobbs","hobbs",null,43,12,30,55,14,42,14,{"$f":"IF(BL20=\"\",IF(BH20=\"\",IF(BD20=\"\",IF(AZ20=\"\",IF(AV20=\"\",AR20,AV20),AZ20),BD20),BH20),BL20)","v":13},1]
[]
["SUBS"]
[]
[{"$f":"INDIRECT(CONCATENATE(BY24,\"!A1\"))","v":"Paul Archambault"},null,null,null,null,null,null,null,null,null,null,null,null,null,null,null,null,null,null,null,null,null,49,11,38,null,null,null,null,null,null,null,null,null,null,null,null,null,null,null,null,null,null,null,null,null,null,null,null,null,52,11,41,null,47,12,35,null,null,null,null,null,null,null,null,null,null,null,{"$f":"INDIRECT(CONCATENATE(BY24,\"!C44\"))","v":13},null,{"$f":"BO24+BQ24","v":13},{"$f":"INDIRECT(CONCATENATE(BY24,\"!e44\"))","v":3},{"$f":"(BO24+BQ24)/BT24","v":4.333333333333333},{"$f":"A24","v":"Paul Archambault"},{"$f":"FIND(\" \",BV24)","v":5},{"$f":"MID(BV24,BW24,99)","v":" Archambault"},"archambault"]
[{"$f":"INDIRECT(CONCATENATE(BY25,\"!A1\"))","v":"Jill Daviero"},63,25,38,null,null,null,null,null,null,null,null,null,null,null,null,null,null,null,null,null,null,null,null,null,null,null,null,null,null,null,null,null,null,null,null,null,null,null,null,null,null,null,null,null,null,null,null,null,null,null,null,null,null,null,null,null,null,null,null,null,null,63,25,38,null,null,null,{"$f":"INDIRECT(CONCATENATE(BY25,\"!C44\"))","v":4},null,4,{"$f":"INDIRECT(CONCATENATE(BY25,\"!e44\"))","v":1},4,"Jill Daviero",5," Daviero","daviero_j"]
[{"$f":"INDIRECT(CONCATENATE(BY26,\"!A1\"))","v":"Jeane Henderson"},null,null,null,null,null,null,null,null,null,null,null,null,null,null,null,null,null,null,null,null,null,null,null,null,null,null,null,null,null,null,null,null,null,null,null,null,null,null,null,null,null,null,null,null,null,null,null,null,null,null,null,null,null,null,null,null,null,null,null,null,null,null,null,null,null,null,null,{"$f":"INDIRECT(CONCATENATE(BY26,\"!C44\"))","v":0},null,0,{"$f":"INDIRECT(CONCATENATE(BY26,\"!e44\"))","v":0},{"$error":"#DIV/0!"},"Jeane Henderson",6," Henderson","henderson"]
[{"$f":"INDIRECT(CONCATENATE(BY27,\"!A1\"))","v":"Ev Kauffman"},null,null,null,null,null,44,17,27,null,57,14,43,null,null,null,null,null,null,null,null,null,null,null,null,null,null,null,null,null,null,null,null,null,null,null,null,null,null,null,null,null,null,null,null,null,null,null,null,null,52,14,38,null,null,null,null,null,null,null,null,null,null,null,null,null,null,null,{"$f":"INDIRECT(CONCATENATE(BY27,\"!C44\"))","v":16},null,16,{"$f":"INDIRECT(CONCATENATE(BY27,\"!e44\"))","v":3},5.333333333333333,"Ev Kauffman",3," Kauffman","kauffman"]
[{"$f":"INDIRECT(CONCATENATE(BY28,\"!A1\"))","v":"Glenn Kreig"},null,null,null,null,null,null,null,null,null,58,11,47,null,null,null,null,null,50,11,39,null,null,null,null,null,null,null,null,null,null,null,null,null,null,null,null,null,null,null,null,null,null,null,null,null,50,13,37,null,null,null,null,null,null,null,null,null,56,12,44,null,null,null,null,null,null,null,{"$f":"INDIRECT(CONCATENATE(BY28,\"!C44\"))","v":17.5},null,17.5,{"$f":"INDIRECT(CONCATENATE(BY28,\"!e44\"))","v":4},4.375,"Glenn Kreig",6," Kreig","kreig"]
[{"$f":"INDIRECT(CONCATENATE(BY29,\"!A1\"))","v":"Lisa Palmerino"},55,18,37,null,null,null,null,null,null,null,null,null,null,null,null,null,null,null,null,null,null,57,19,38,null,null,null,null,null,null,null,null,null,null,null,null,null,null,null,null,null,null,null,null,null,null,null,null,null,null,null,null,null,null,null,null,null,null,null,null,null,55,18,37,null,null,null,{"$f":"INDIRECT(CONCATENATE(BY29,\"!C44\"))","v":10},null,10,{"$f":"INDIRECT(CONCATENATE(BY29,\"!e44\"))","v":2},5,"Lisa Palmerino",5," Palmerino","palmerino_l"]
[{"$f":"INDIRECT(CONCATENATE(BY30,\"!A1\"))","v":"Dan Richardson"},52,10,42,null,null,null,null,null,null,null,null,null,null,49,12,37,null,52,12,40,null,52,12,40,null,44,13,31,null,null,null,null,null,54,12,42,null,48,13,35,null,48,12,36,null,45,12,33,null,47,10,37,null,45,10,35,null,48,10,38,null,52,10,42,null,null,null,{"$f":"INDIRECT(CONCATENATE(BY30,\"!C44\"))","v":62.5},null,62.5,{"$f":"INDIRECT(CONCATENATE(BY30,\"!e44\"))","v":12},5.208333333333333,"Dan Richardson",4," Richardson","richardson"]
[{"$f":"INDIRECT(CONCATENATE(BY31,\"!A1\"))","v":"Bob Riley"},null,null,null,null,null,null,null,null,null,null,null,null,null,49,5,44,null,null,null,null,null,null,null,null,null,null,null,null,null,null,null,null,null,null,null,null,null,null,null,null,null,null,null,null,null,null,null,null,null,null,null,null,null,null,null,null,null,null,null,null,null,null,null,null,null,null,null,{"$f":"INDIRECT(CONCATENATE(BY31,\"!C44\"))","v":5},null,5,{"$f":"INDIRECT(CONCATENATE(BY31,\"!e44\"))","v":1},5,"Bob Riley",4," Riley","riley"]
[]
[]
["AVERAGE",{"$f":"AVERAGE(B5:B31)","v":52.93333333333333},null,{"$f":"AVERAGE(D5:D31)","v":40.6},null,null,{"$f":"AVERAGE(G5:G29)","v":51.06666666666667},null,{"$f":"AVERAGE(I5:I29)","v":38.3125},null,{"$f":"AVERAGE(K5:K31)","v":53},null,{"$f":"AVERAGE(M5:M29)","v":40.1875},null,{"$f":"AVERAGE(O5:O29)","v":52.615384615384613},null,{"$f":"AVERAGE(Q5:Q29)","v":39.384615384615387},null,{"$f":"AVERAGE(S5:S29)","v":53},null,{"$f":"AVERAGE(U5:U29)","v":40.4},null,{"$f":"AVERAGE(W5:W29)","v":48.733333333333334},null,{"$f":"AVERAGE(Y5:Y29)","v":37},null,{"$f":"AVERAGE(AA5:AA29)","v":50.733333333333334},null,{"$f":"AVERAGE(AC5:AC29)","v":37.866666666666667},null,{"$f":"AVERAGE(AE5:AE29)","v":49},null,{"$f":"AVERAGE(AG5:AG29)","v":35.8125},null,{"$f":"AVERAGE(AI5:AI29)","v":51.6},null,{"$f":"AVERAGE(AK5:AK29)","v":38.866666666666667},null,{"$f":"AVERAGE(AM5:AM29)","v":47.666666666666664},null,{"$f":"AVERAGE(AO5:AO29)","v":34.666666666666664},null,{"$f":"AVERAGE(AQ5:AQ29)","v":50.93333333333333},null,{"$f":"AVERAGE(AS5:AS29)","v":38.466666666666669},null,{"$f":"AVERAGE(AU5:AU29)","v":49.533333333333331},null,{"$f":"AVERAGE(AW5:AW29)","v":37.06666666666667},null,{"$f":"AVERAGE(AY5:AY29)","v":49.642857142857146},null,{"$f":"AVERAGE(BA5:BA29)","v":38.071428571428569},null,{"$f":"AVERAGE(BC5:BC29)","v":45.363636363636367},null,{"$f":"AVERAGE(BE5:BE29)","v":35.090909090909093},null,{"$f":"AVERAGE(BG5:BG29)","v":50.416666666666664},null,{"$f":"AVERAGE(BI5:BI29)","v":39.25},null,{"$f":"AVERAGE(BK5:BK31)","v":52.93333333333333},null,{"$f":"AVERAGE(BM5:BM31)","v":40.6}]
[]
["Average",{"$f":"AVERAGE(B5:B33)","v":52.93333333333333},{"$f":"AVERAGE(C5:C33)","v":12.333333333333334},{"$f":"AVERAGE(D5:D33)","v":40.6},null,null,{"$f":"AVERAGE(G5:G33)","v":51.06666666666667},{"$f":"AVERAGE(H5:H33)","v":12.5625},{"$f":"AVERAGE(I5:I33)","v":38.3125},null,{"$f":"AVERAGE(K5:K33)","v":53},{"$f":"AVERAGE(L5:L33)","v":12.8125},{"$f":"AVERAGE(M5:M33)","v":40.1875},null,{"$f":"AVERAGE(O5:O33)","v":52.133333333333333},{"$f":"AVERAGE(P5:P33)","v":12.6},{"$f":"AVERAGE(Q5:Q33)","v":39.533333333333331},null,{"$f":"AVERAGE(S5:S33)","v":52.9375},{"$f":"AVERAGE(T5:T33)","v":12.5625},{"$f":"AVERAGE(U5:U33)","v":40.375},null,{"$f":"AVERAGE(W5:W33)","v":48.9375},{"$f":"AVERAGE(X5:X33)","v":11.75},{"$f":"AVERAGE(Y5:Y33)","v":37.1875},null,{"$f":"AVERAGE(AA5:AA33)","v":50.3125},{"$f":"AVERAGE(AB5:AB33)","v":12.875},{"$f":"AVERAGE(AC5:AC33)","v":37.4375},null,{"$f":"AVERAGE(AE5:AE33)","v":49},{"$f":"AVERAGE(AF5:AF33)","v":13.1875},{"$f":"AVERAGE(AG5:AG33)","v":35.8125},null,{"$f":"AVERAGE(AI5:AI33)","v":51.75},{"$f":"AVERAGE(AJ5:AJ33)","v":12.6875},{"$f":"AVERAGE(AK5:AK33)","v":39.0625},null,{"$f":"AVERAGE(AM5:AM33)","v":47.6875},{"$f":"AVERAGE(AN5:AN33)","v":13},{"$f":"AVERAGE(AO5:AO33)","v":34.6875},null,{"$f":"AVERAGE(AQ5:AQ33)","v":50.75},{"$f":"AVERAGE(AR5:AR33)","v":12.4375},{"$f":"AVERAGE(AS5:AS33)","v":38.3125},null,{"$f":"AVERAGE(AU5:AU33)","v":49.25},{"$f":"AVERAGE(AV5:AV33)","v":12.4375},{"$f":"AVERAGE(AW5:AW33)","v":36.8125},null,{"$f":"AVERAGE(AY5:AY33)","v":49.466666666666669},{"$f":"AVERAGE(AZ5:AZ33)","v":11.466666666666667},{"$f":"AVERAGE(BA5:BA33)","v":38},null,{"$f":"AVERAGE(BC5:BC33)","v":45.333333333333336},{"$f":"AVERAGE(BD5:BD33)","v":10.25},{"$f":"AVERAGE(BE5:BE33)","v":35.083333333333336},null,{"$f":"AVERAGE(BG5:BG33)","v":50.230769230769234},{"$f":"AVERAGE(BH5:BH33)","v":11.076923076923077},{"$f":"AVERAGE(BI5:BI33)","v":39.153846153846153},null,{"$f":"AVERAGE(BK5:BK33)","v":52.93333333333333},{"$f":"AVERAGE(BL5:BL33)","v":12.333333333333334},{"$f":"AVERAGE(BM5:BM33)","v":40.6}]

{"sheet":"Hacker_Cup_Standings","index":2,"n_rows":93,"n_cols":15,"rows_kept":93,"cut":false,"hidden":false,"merged":[]}
[null,"Week","Points Back","Playoffs"]
["Previous","Player",null,"=SUM(E3:I3)-MIN(F3:I3)","Start",1,2,3,4]
[1,"Mark Rusnak",{"$f":"+D3-$D$3","v":0},{"$f":"SUM(E3:I3)-MIN(F3:I3)","v":8500},2500,750,2000,1000,3000]
[3,"Marty Reed",-1950,6550,450,3000,2500,0,600]
[2,"Dan Fusco",-2316.6666666666697,6183.3333333333303,3000,1133.3333333333301,1050,1000,0]
[5,"Andy Linton",-2450,6050,2000,550,1050,1000,2000]
[8,"Brian McLaughlin",-2700,5800,800,0,0,3000,2000]
[4,"Pete Michalski",-3100,5400,200,2500,0,2250,450]
[6,"Tim Hobbs",-4000,4500,1500,0,3000,0,0]
[12,"Jim Daviero",-4066.6666666666697,4433.3333333333303,500,1133.3333333333301,0,800,2000]
[7,"Dave Taylor",-4300,4200,700,2000,650,650,850]
[9,"Tom Mohsinger",-4566.6666666666697,3933.3333333333303,900,1133.3333333333301,1050,450,850]
[10,"Gloria Poston",-5450,3050,350,450,0,2250,0]
[11,"Dan Palmerino",-5450,3050,250,750,1050,650,1000]
[14,"Bob Templeton",-6500,2000,600,400,500,0,500]
[15,"Sue Michalski",-6650,1850,400,550,0,500,400]
[13,"Bette Mohsinger",-6850,1650,1000,0,650,0,0]
[16,"Matt Nichols",-8200,300,300,0,0,0,0]
[]
[]
[]
[]
[]
[]
[]
[]
[]
[]
[]
[]
[]
[]
[]
[]
[]
[]
[]
[]
[]
[]
[]
[]
[]
["Previous","Week","Points Back","Regular\nSeason",1,2,3,4,5,6,7,8,9,10,11]
[null,"Player"]
[1,"Dan Fusco",{"$f":"$D$46-D46","v":0},{"$f":"SUM(E46:O46)","v":15450},2000,900,2250,1750,2250,950,2750,850,750,500,500]
[4,"Mark Rusnak",1266.6666666666661,14183.333333333334,3000,400,3000,650,500,375,658.33333333333337,1000,1750,350,2500]
[3,"Andy Linton",2450,13000,300,300,2250,900,700,3000,1250,2000,900,600,800]
[2,"Tim Hobbs",2766.6666666666661,12683.333333333334,900,2250,1250,1750,2250,600,658.33333333333337,375,500,1750,400]
[9,"Bette Mohsinger",3354.1666666666679,12095.833333333332,562.5,350,600,400,1133.3333333333333,2250,2750,375,750,425,2500]
[5,"Tom Mohsinger",4025,11425,1000,650,850,900,0,0,225,2000,2500,2500,800]
[6,"Brian McLaughlin",4441.6666666666679,11008.333333333332,400,2250,600,0,400,300,658.33333333333337,2000,1000,3000,400]
[10,"Dave Taylor",5000,10450,350,900,450,650,3000,375,2000,475,325,425,1500]
[8,"Bob Templeton",5350,10100,250,3000,600,400,350,750,350,850,3000,250,300]
[7,"Jim Daviero",5637.5,9812.5,562.5,0,850,900,450,1500,1250,3000,400,900,0]
[11,"Marty Reed",6241.6666666666679,9208.3333333333321,0,0,0,3000,700,2250,658.33333333333337,650,450,900,600]
[15,"Sue Michalski",7091.6666666666679,8358.3333333333321,2500,450,450,400,0,500,658.33333333333337,275,325,300,2500]
[12,"Gloria Poston",7366.666666666667,8083.333333333333,1500,1500,0,0,1133.3333333333333,750,400,650,0,1750,400]
[13,"Matt Nichols",7787.5,7662.5,562.5,500,1250,2500,700,950,300,0,200,700,0]
[14,"Dan Palmerino",8220.8333333333339,7229.1666666666661,562.5,900,0,500,1133.3333333333333,450,658.33333333333337,475,1750,0,800]
[16,"Pete Michalski",10100,5350,800,650,350,300,0,250,225,275,600,900,1000]
[]
[]
[]
[]
[]
[]
[]
[]
[]
[]
[]
[]
[]
[]
[null,null,null,"Playoffs","Seed",1,2,3,4]
[]
[null,"Andy Linton",null,{"$f":"SUM(E78:I78)","v":0}]
[null,"Bob Bush",null,0]
[null,"Mike Smith",null,0]
[null,"Marty Reed",null,0]
[null,"Randy Gauthier",null,0]
[null,"Tom Mohsinger",null,0]
[null,"Gloria Poston",null,0]
[null,"Steve Fusco",null,0]
[null,"Dan Richardson",null,0]
[null,"Ken Lakich",null,0]
[null,"Todd Templeton",null,0]
[null,"Matt Rielly",null,0]
[null,"George Calder",null,0]
[null,"Bob Templeton",null,0]
[null,"Dave Taylor",null,0]
[null,"Ev Kauffman",null,0]

{"sheet":"HC History","index":3,"n_rows":107,"n_cols":52,"rows_kept":107,"cut":false,"hidden":false,"merged":[[11,2,12,2],[0,19,0,24],[3,2,4,2],[5,2,6,2],[7,2,8,2],[9,2,10,2],[0,3,0,17],[13,2,14,2],[15,2,16,2],[17,2,18,2],[49,2,50,2],[51,2,52,2],[44,2,45,2],[29,2,30,2],[31,2,32,2],[33,2,34,2],[19,2,20,2],[21,2,22,2],[23,2,24,2],[25,2,26,2],[27,2,28,2],[53,2,54,2],[55,2,56,2],[57,2,58,2],[69,2,70,2],[75,0,75,3],[59,2,60,2],[61,2,62,2],[63,2,64,2],[65,2,66,2],[67,2,68,2],[71,2,72,2]]}
[null,null,"Season",2024,null,null,null,null,null,null,null,null,null,null,null,null,null,null,null,2023,null,null,null,null,null,null,null,null,null,null,null,null,null,null,null,null,null,"Rounded",null,{"$f":"IF(AO1>0,\"CHECK HANDICAPS\",\"\")","v":""},{"$f":"SUM(AO5:AO71)","v":0}]
[null,null,"Current",15,14,13,12,11,10,9,8,7,6,5,4,3,2,1,null,15,14,13,12,11,10,null,null,null,null,null,null,null,null,null,null,"Total","Handicap","at .5"]
["PLAYER"]
[{"$f":"[1]Linton!A1","v":"Andy Linton"},"linton",{"$f":"MIN(AL5,25)","v":5},{"$f":"INDIRECT(CONCATENATE(B4,\"!CL22\"))","v":6},{"$f":"INDIRECT(CONCATENATE(B4,\"!CF22\"))","v":6},{"$f":"INDIRECT(CONCATENATE(B4,\"!BZ22\"))","v":4},{"$f":"INDIRECT(CONCATENATE(B4,\"!BT22\"))","v":7},{"$f":"INDIRECT(CONCATENATE(B4,\"!BN22\"))","v":5},{"$f":"INDIRECT(CONCATENATE(B4,\"!BH22\"))","v":8},{"$f":"INDIRECT(CONCATENATE(B4,\"!BB22\"))","v":2},{"$f":"INDIRECT(CONCATENATE(B4,\"!AV22\"))","v":6},{"$f":"INDIRECT(CONCATENATE(B4,\"!AP22\"))","v":5},{"$f":"INDIRECT(CONCATENATE(B4,\"!AJ22\"))","v":5},{"$f":"INDIRECT(CONCATENATE(B4,\"!AD22\"))","v":7},{"$f":"INDIRECT(CONCATENATE(B4,\"!X22\"))","v":10},{"$f":"INDIRECT(CONCATENATE(B4,\"!R22\"))","v":5},{"$f":"INDIRECT(CONCATENATE(B4,\"!L22\"))","v":12},{"$f":"INDIRECT(CONCATENATE(B4,\"!F22\"))","v":12},null,8,3,7,4,7,3,null,null,null,null,null,null,null,null,null,null,null,null,null,{"$f":"COUNT(C4:AI4)","v":22}]
[null,null,null,6,6,4,null,5,null,null,null,null,null,null,null,null,null,null,null,null,null,null,null,null,null,null,null,null,null,null,null,null,null,null,null,{"$f":"SUM(C5:AI5)","v":21},{"$f":"+AJ5/AM5","v":5.25},{"$f":"ROUND(SUM(AK5),0)","v":5},4,{"$f":"IF(COUNT(D5:R5)<>4,\"INCORRECT HCP COUNT\",\"\")","v":""},{"$f":"COUNTIF(AP5:AZ5,TRUE)","v":0},{"$f":"AND(D5>0,D5<>D4)","v":false},{"$f":"AND(E5>0,E5<>E4)","v":false},false,false,false,false,false,false,{"$f":"AND(L5>0,L5<>L4)","v":false},{"$f":"AND(M5>0,M5<>M4)","v":false},{"$f":"AND(N5>0,N5<>N4)","v":false}]
[{"$f":"[1]Mohsinger_B!A1","v":"Bette Mohsinger"},"mohsinger_b",{"$f":"MIN(AL7,25)","v":12},null,null,{"$f":"INDIRECT(CONCATENATE(B6,\"!BZ22\"))","v":13},null,{"$f":"INDIRECT(CONCATENATE(B6,\"!BN22\"))","v":10},{"$f":"INDIRECT(CONCATENATE(B6,\"!BH22\"))","v":18},{"$f":"INDIRECT(CONCATENATE(B6,\"!BB22\"))","v":12},{"$f":"INDIRECT(CONCATENATE(B6,\"!AV22\"))","v":20},{"$f":"INDIRECT(CONCATENATE(B6,\"!AP22\"))","v":11},{"$f":"INDIRECT(CONCATENATE(B6,\"!AJ22\"))","v":13},{"$f":"INDIRECT(CONCATENATE(B6,\"!AD22\"))","v":14},{"$f":"INDIRECT(CONCATENATE(B6,\"!X22\"))","v":22},{"$f":"INDIRECT(CONCATENATE(B6,\"!R22\"))","v":18},{"$f":"INDIRECT(CONCATENATE(B6,\"!L22\"))","v":19},{"$f":"INDIRECT(CONCATENATE(B6,\"!F22\"))","v":15},null,12,17,17,10,16,15,null,null,null,null,null,null,null,null,null,null,null,null,null,19]
[null,null,null,null,null,13,null,10,null,12,null,11,null,null,null,null,null,null,null,null,null,null,null,null,null,null,null,null,null,null,null,null,null,null,null,{"$f":"SUM(C7:AI7)","v":46},{"$f":"+AJ7/AM7","v":11.5},{"$f":"ROUND(SUM(AK7),0)","v":12},4,{"$f":"IF(COUNT(D7:R7)<>4,\"INCORRECT HCP COUNT\",\"\")","v":""},{"$f":"COUNTIF(AP7:AZ7,TRUE)","v":0},{"$f":"AND(D7>0,D7<>D6)","v":false},{"$f":"AND(E7>0,E7<>E6)","v":false},{"$f":"AND(F7>0,F7<>F6)","v":false},{"$f":"AND(G7>0,G7<>G6)","v":false},{"$f":"AND(H7>0,H7<>H6)","v":false},{"$f":"AND(I7>0,I7<>I6)","v":false},{"$f":"AND(J7>0,J7<>J6)","v":false},{"$f":"AND(K7>0,K7<>K6)","v":false},{"$f":"AND(L7>0,L7<>L6)","v":false},{"$f":"AND(M7>0,M7<>M6)","v":false},{"$f":"AND(N7>0,N7<>N6)","v":false}]
[{"$f":"[1]Templeton!A1","v":"Bob Templeton"},"templeton",{"$f":"MIN(AL9,25)","v":20},{"$f":"INDIRECT(CONCATENATE(B8,\"!CL22\"))","v":24},null,{"$f":"INDIRECT(CONCATENATE(B8,\"!BZ22\"))","v":21},{"$f":"INDIRECT(CONCATENATE(B8,\"!BT22\"))","v":22},{"$f":"INDIRECT(CONCATENATE(B8,\"!BN22\"))","v":22},{"$f":"INDIRECT(CONCATENATE(B8,\"!BH22\"))","v":22},{"$f":"INDIRECT(CONCATENATE(B8,\"!BB22\"))","v":14},{"$f":"INDIRECT(CONCATENATE(B8,\"!AV22\"))","v":21},{"$f":"INDIRECT(CONCATENATE(B8,\"!AP22\"))","v":20},{"$f":"INDIRECT(CONCATENATE(B8,\"!AJ22\"))","v":19},{"$f":"INDIRECT(CONCATENATE(B8,\"!AD22\"))","v":24},{"$f":"INDIRECT(CONCATENATE(B8,\"!X22\"))","v":22},{"$f":"INDIRECT(CONCATENATE(B8,\"!R22\"))","v":22},{"$f":"INDIRECT(CONCATENATE(B8,\"!L22\"))","v":18},{"$f":"INDIRECT(CONCATENATE(B8,\"!F22\"))","v":23},null,17,23,20,24,23,15,null,null,null,null,null,null,null,null,null,null,null,null,null,21]
[null,null,null,null,null,21,22,22,null,14,null,null,null,null,null,null,null,null,null,null,null,null,null,null,null,null,null,null,null,null,null,null,null,null,null,{"$f":"SUM(C9:AI9)","v":79},{"$f":"+AJ9/AM9","v":19.75},{"$f":"ROUND(SUM(AK9),0)","v":20},4,{"$f":"IF(COUNT(D9:R9)<>4,\"INCORRECT HCP COUNT\",\"\")","v":""},{"$f":"COUNTIF(AP9:AZ9,TRUE)","v":0},{"$f":"AND(D9>0,D9<>D8)","v":false},{"$f":"AND(E9>0,E9<>E8)","v":false},{"$f":"AND(F9>0,F9<>F8)","v":false},{"$f":"AND(G9>0,G9<>G8)","v":false},{"$f":"AND(H9>0,H9<>H8)","v":false},{"$f":"AND(I9>0,I9<>I8)","v":false},{"$f":"AND(J9>0,J9<>J8)","v":false},{"$f":"AND(K9>0,K9<>K8)","v":false},{"$f":"AND(L9>0,L9<>L8)","v":false},{"$f":"AND(M9>0,M9<>M8)","v":false},{"$f":"AND(N9>0,N9<>N8)","v":false}]
[{"$f":"[1]McLaughlin!A1","v":"Brian McLaughlin"},"mclaughlin",{"$f":"MIN(AL11,25)","v":12},{"$f":"INDIRECT(CONCATENATE(B10,\"!CL22\"))","v":14},{"$f":"INDIRECT(CONCATENATE(B10,\"!CF22\"))","v":11},null,null,{"$f":"INDIRECT(CONCATENATE(B10,\"!BN22\"))","v":18},{"$f":"INDIRECT(CONCATENATE(B10,\"!BH22\"))","v":11},{"$f":"INDIRECT(CONCATENATE(B10,\"!BB22\"))","v":12},{"$f":"INDIRECT(CONCATENATE(B10,\"!AV22\"))","v":16},{"$f":"INDIRECT(CONCATENATE(B10,\"!AP22\"))","v":15},{"$f":"INDIRECT(CONCATENATE(B10,\"!AJ22\"))","v":20},{"$f":"INDIRECT(CONCATENATE(B10,\"!AD22\"))","v":17},null,{"$f":"INDIRECT(CONCATENATE(B10,\"!R22\"))","v":18},{"$f":"INDIRECT(CONCATENATE(B10,\"!L22\"))","v":15},{"$f":"INDIRECT(CONCATENATE(B10,\"!F22\"))","v":17},null,15,14,9,19,19,2,null,null,null,null,null,null,null,null,null,null,null,null,null,19]
[null,null,null,14,11,null,null,null,11,12,null,null,null,null,null,null,null,null,null,null,null,null,null,null,null,null,null,null,null,null,null,null,null,null,null,{"$f":"SUM(C11:AI11)","v":48},{"$f":"+AJ11/AM11","v":12},{"$f":"ROUND(SUM(AK11),0)","v":12},4,{"$f":"IF(COUNT(D11:R11)<>4,\"INCORRECT HCP COUNT\",\"\")","v":""},{"$f":"COUNTIF(AP11:AZ11,TRUE)","v":0},{"$f":"AND(D11>0,D11<>D10)","v":false},{"$f":"AND(E11>0,E11<>E10)","v":false},{"$f":"AND(F11>0,F11<>F10)","v":false},{"$f":"AND(G11>0,G11<>G10)","v":false},{"$f":"AND(H11>0,H11<>H10)","v":false},{"$f":"AND(I11>0,I11<>I10)","v":false},{"$f":"AND(J11>0,J11<>J10)","v":false},{"$f":"AND(K11>0,K11<>K10)","v":false},{"$f":"AND(L11>0,L11<>L10)","v":false},{"$f":"AND(M11>0,M11<>M10)","v":false},{"$f":"AND(N11>0,N11<>N10)","v":false}]
[{"$f":"[1]Fusco_D!A1","v":"Dan Fusco"},"fusco_d",{"$f":"MIN(AL13,25)","v":8},{"$f":"INDIRECT(CONCATENATE(B12,\"!CL22\"))","v":11},{"$f":"INDIRECT(CONCATENATE(B12,\"!CF22\"))","v":9},{"$f":"INDIRECT(CONCATENATE(B12,\"!BZ22\"))","v":6},{"$f":"INDIRECT(CONCATENATE(B12,\"!BT22\"))","v":8},{"$f":"INDIRECT(CONCATENATE(B12,\"!BN22\"))","v":9},{"$f":"INDIRECT(CONCATENATE(B12,\"!BH22\"))","v":10},{"$f":"INDIRECT(CONCATENATE(B12,\"!BB22\"))","v":5},{"$f":"INDIRECT(CONCATENATE(B12,\"!AV22\"))","v":9},{"$f":"INDIRECT(CONCATENATE(B12,\"!AP22\"))","v":4},{"$f":"INDIRECT(CONCATENATE(B12,\"!AJ22\"))","v":8},{"$f":"INDIRECT(CONCATENATE(B12,\"!AD22\"))","v":7},{"$f":"INDIRECT(CONCATENATE(B12,\"!X22\"))","v":10},{"$f":"INDIRECT(CONCATENATE(B12,\"!R22\"))","v":8},{"$f":"INDIRECT(CONCATENATE(B12,\"!L22\"))","v":11},{"$f":"INDIRECT(CONCATENATE(B12,\"!F22\"))","v":7},null,14,10,11,10,5,8,null,null,null,null,null,null,null,null,null,null,null,null,null,22]
[null,null,null,null,9,6,8,9,null,null,null,null,null,null,null,null,null,null,null,null,null,null,null,null,null,null,null,null,null,null,null,null,null,null,null,{"$f":"SUM(C13:AI13)","v":32},{"$f":"+AJ13/AM13","v":8},{"$f":"ROUND(SUM(AK13),0)","v":8},4,{"$f":"IF(COUNT(D13:R13)<>4,\"INCORRECT HCP COUNT\",\"\")","v":""},{"$f":"COUNTIF(AP13:AZ13,TRUE)","v":0},{"$f":"AND(D13>0,D13<>D12)","v":false},{"$f":"AND(E13>0,E13<>E12)","v":false},{"$f":"AND(F13>0,F13<>F12)","v":false},{"$f":"AND(G13>0,G13<>G12)","v":false},{"$f":"AND(H13>0,H13<>H12)","v":false},{"$f":"AND(I13>0,I13<>I12)","v":false},{"$f":"AND(J13>0,J13<>J12)","v":false},{"$f":"AND(K13>0,K13<>K12)","v":false},{"$f":"AND(L13>0,L13<>L12)","v":false},{"$f":"AND(M13>0,M13<>M12)","v":false},{"$f":"AND(N13>0,N13<>N12)","v":false}]
[{"$f":"[1]Palmerino!A1","v":"Dan Palmerino"},"palmerino",{"$f":"MIN(AL15,25)","v":8},{"$f":"INDIRECT(CONCATENATE(B14,\"!CL22\"))","v":11},{"$f":"INDIRECT(CONCATENATE(B14,\"!CF22\"))","v":12},{"$f":"INDIRECT(CONCATENATE(B14,\"!BZ22\"))","v":8},{"$f":"INDIRECT(CONCATENATE(B14,\"!BT22\"))","v":10},{"$f":"INDIRECT(CONCATENATE(B14,\"!BN22\"))","v":9},null,{"$f":"INDIRECT(CONCATENATE(B14,\"!BB22\"))","v":6},{"$f":"INDIRECT(CONCATENATE(B14,\"!AV22\"))","v":14},{"$f":"INDIRECT(CONCATENATE(B14,\"!AP22\"))","v":9},{"$f":"INDIRECT(CONCATENATE(B14,\"!AJ22\"))","v":14},{"$f":"INDIRECT(CONCATENATE(B14,\"!AD22\"))","v":8},{"$f":"INDIRECT(CONCATENATE(B14,\"!X22\"))","v":15},null,{"$f":"INDIRECT(CONCATENATE(B14,\"!L22\"))","v":11},{"$f":"INDIRECT(CONCATENATE(B14,\"!F22\"))","v":12},null,9,10,7,8,8,12,null,null,null,null,null,null,null,null,null,null,null,null,null,20]
[null,null,null,null,null,8,10,9,null,6,null,null,null,null,null,null,null,null,null,null,null,null,null,null,null,null,null,null,null,null,null,null,null,null,null,{"$f":"SUM(C15:AI15)","v":33},{"$f":"+AJ15/AM15","v":8.25},{"$f":"ROUND(SUM(AK15),0)","v":8},4,{"$f":"IF(COUNT(D15:R15)<>4,\"INCORRECT HCP COUNT\",\"\")","v":""},{"$f":"COUNTIF(AP15:AZ15,TRUE)","v":0},{"$f":"AND(D15>0,D15<>D14)","v":false},{"$f":"AND(E15>0,E15<>E14)","v":false},{"$f":"AND(F15>0,F15<>F14)","v":false},{"$f":"AND(G15>0,G15<>G14)","v":false},{"$f":"AND(H15>0,H15<>H14)","v":false},{"$f":"AND(I15>0,I15<>I14)","v":false},{"$f":"AND(J15>0,J15<>J14)","v":false},{"$f":"AND(K15>0,K15<>K14)","v":false},{"$f":"AND(L15>0,L15<>L14)","v":false},{"$f":"AND(M15>0,M15<>M14)","v":false},{"$f":"AND(N15>0,N15<>N14)","v":false}]
[{"$f":"[1]Taylor!A1","v":"Dave Taylor"},"taylor",{"$f":"MIN(AL17,25)","v":13},{"$f":"INDIRECT(CONCATENATE(B16,\"!CL22\"))","v":16},{"$f":"INDIRECT(CONCATENATE(B16,\"!CF22\"))","v":17},{"$f":"INDIRECT(CONCATENATE(B16,\"!BZ22\"))","v":13},{"$f":"INDIRECT(CONCATENATE(B16,\"!BT22\"))","v":13},{"$f":"INDIRECT(CONCATENATE(B16,\"!BN22\"))","v":11},{"$f":"INDIRECT(CONCATENATE(B16,\"!BH22\"))","v":17},{"$f":"INDIRECT(CONCATENATE(B16,\"!BB22\"))","v":15},{"$f":"INDIRECT(CONCATENATE(B16,\"!AV22\"))","v":15},{"$f":"INDIRECT(CONCATENATE(B16,\"!AP22\"))","v":10},{"$f":"INDIRECT(CONCATENATE(B16,\"!AJ22\"))","v":15},{"$f":"INDIRECT(CONCATENATE(B16,\"!AD22\"))","v":10},{"$f":"INDIRECT(CONCATENATE(B16,\"!X22\"))","v":14},{"$f":"INDIRECT(CONCATENATE(B16,\"!R22\"))","v":17},{"$f":"INDIRECT(CONCATENATE(B16,\"!L22\"))","v":14},{"$f":"INDIRECT(CONCATENATE(B16,\"!F22\"))","v":17},null,12,10,12,8,13,13,null,null,null,null,null,null,null,null,null,null,null,null,null,22]
[null,null,null,16,null,13,13,11,null,null,null,null,null,null,null,null,null,null,null,null,null,null,null,null,null,null,null,null,null,null,null,null,null,null,null,{"$f":"SUM(C17:AI17)","v":53},{"$f":"+AJ17/AM17","v":13.25},{"$f":"ROUND(SUM(AK17),0)","v":13},4,{"$f":"IF(COUNT(D17:R17)<>4,\"INCORRECT HCP COUNT\",\"\")","v":""},{"$f":"COUNTIF(AP17:AZ17,TRUE)","v":0},{"$f":"AND(D17>0,D17<>D16)","v":false},{"$f":"AND(E17>0,E17<>E16)","v":false},{"$f":"AND(F17>0,F17<>F16)","v":false},{"$f":"AND(G17>0,G17<>G16)","v":false},{"$f":"AND(H17>0,H17<>H16)","v":false},{"$f":"AND(I17>0,I17<>I16)","v":false},{"$f":"AND(J17>0,J17<>J16)","v":false},{"$f":"AND(K17>0,K17<>K16)","v":false},{"$f":"AND(L17>0,L17<>L16)","v":false},{"$f":"AND(M17>0,M17<>M16)","v":false},{"$f":"AND(N17>0,N17<>N16)","v":false}]
[{"$f":"[1]Poston!A1","v":"Gloria Poston"},"poston",{"$f":"MIN(AL19,25)","v":12},null,{"$f":"INDIRECT(CONCATENATE(B18,\"!CF22\"))","v":12},null,{"$f":"INDIRECT(CONCATENATE(B18,\"!BT22\"))","v":17},{"$f":"INDIRECT(CONCATENATE(B18,\"!BN22\"))","v":15},{"$f":"INDIRECT(CONCATENATE(B18,\"!BH22\"))","v":10},null,{"$f":"INDIRECT(CONCATENATE(B18,\"!AV22\"))","v":14},{"$f":"INDIRECT(CONCATENATE(B18,\"!AP22\"))","v":11},{"$f":"INDIRECT(CONCATENATE(B18,\"!AJ22\"))","v":11},{"$f":"INDIRECT(CONCATENATE(B18,\"!AD22\"))","v":10},null,null,{"$f":"INDIRECT(CONCATENATE(B18,\"!L22\"))","v":13},{"$f":"INDIRECT(CONCATENATE(B18,\"!F22\"))","v":11},null,12,13,6,13,13,15,null,null,null,null,null,null,null,null,null,null,null,null,null,17]
[null,null,null,null,12,null,null,null,10,null,14,11,null,null,null,null,null,null,null,null,null,null,null,null,null,null,null,null,null,null,null,null,null,null,null,{"$f":"SUM(C19:AI19)","v":47},{"$f":"+AJ19/AM19","v":11.75},{"$f":"ROUND(SUM(AK19),0)","v":12},4,{"$f":"IF(COUNT(D19:R19)<>4,\"INCORRECT HCP COUNT\",\"\")","v":""},{"$f":"COUNTIF(AP19:AZ19,TRUE)","v":0},{"$f":"AND(D19>0,D19<>D18)","v":false},{"$f":"AND(E19>0,E19<>E18)","v":false},{"$f":"AND(F19>0,F19<>F18)","v":false},{"$f":"AND(G19>0,G19<>G18)","v":false},{"$f":"AND(H19>0,H19<>H18)","v":false},{"$f":"AND(I19>0,I19<>I18)","v":false},{"$f":"AND(J19>0,J19<>J18)","v":false},{"$f":"AND(K19>0,K19<>K18)","v":false},{"$f":"AND(L19>0,L19<>L18)","v":false},{"$f":"AND(M19>0,M19<>M18)","v":false},{"$f":"AND(N19>0,N19<>N18)","v":false}]
[{"$f":"[1]Daviero!A1","v":"Jim Daviero"},"daviero",{"$f":"MIN(AL21,25)","v":9},{"$f":"INDIRECT(CONCATENATE(B20,\"!CL22\"))","v":10},{"$f":"INDIRECT(CONCATENATE(B20,\"!CF22\"))","v":11},null,{"$f":"INDIRECT(CONCATENATE(B20,\"!BT22\"))","v":9},null,{"$f":"INDIRECT(CONCATENATE(B20,\"!BH22\"))","v":9},{"$f":"INDIRECT(CONCATENATE(B20,\"!BB22\"))","v":9},{"$f":"INDIRECT(CONCATENATE(B20,\"!AV22\"))","v":7},{"$f":"INDIRECT(CONCATENATE(B20,\"!AP22\"))","v":8},{"$f":"INDIRECT(CONCATENATE(B20,\"!AJ22\"))","v":8},{"$f":"INDIRECT(CONCATENATE(B20,\"!AD22\"))","v":11},{"$f":"INDIRECT(CONCATENATE(B20,\"!X22\"))","v":11},{"$f":"INDIRECT(CONCATENATE(B20,\"!R22\"))","v":10},null,{"$f":"INDIRECT(CONCATENATE(B20,\"!F22\"))","v":9},null,12,5,9,6,7,2,null,null,null,null,null,null,null,null,null,null,null,null,null,19]
[null,null,null,null,null,null,9,null,9,9,7,null,null,null,null,null,null,null,null,null,null,null,null,null,null,null,null,null,null,null,null,null,null,null,null,{"$f":"SUM(C21:AI21)","v":34},{"$f":"+AJ21/AM21","v":8.5},{"$f":"ROUND(SUM(AK21),0)","v":9},4,{"$f":"IF(COUNT(D21:R21)<>4,\"INCORRECT HCP COUNT\",\"\")","v":""},{"$f":"COUNTIF(AP21:AZ21,TRUE)","v":0},{"$f":"AND(D21>0,D21<>D20)","v":false},{"$f":"AND(E21>0,E21<>E20)","v":false},{"$f":"AND(F21>0,F21<>F20)","v":false},{"$f":"AND(G21>0,G21<>G20)","v":false},{"$f":"AND(H21>0,H21<>H20)","v":false},{"$f":"AND(I21>0,I21<>I20)","v":false},{"$f":"AND(J21>0,J21<>J20)","v":false},{"$f":"AND(K21>0,K21<>K20)","v":false},{"$f":"AND(L21>0,L21<>L20)","v":false},{"$f":"AND(M21>0,M21<>M20)","v":false},{"$f":"AND(N21>0,N21<>N20)","v":false}]
[{"$f":"[1]Rusnak!A1","v":"Mark Rusnak"},"rusnak",{"$f":"MIN(AL23,25)","v":3},{"$f":"INDIRECT(CONCATENATE(B22,\"!CL22\"))","v":2},{"$f":"INDIRECT(CONCATENATE(B22,\"!CF22\"))","v":5},{"$f":"INDIRECT(CONCATENATE(B22,\"!BZ22\"))","v":1},{"$f":"INDIRECT(CONCATENATE(B22,\"!BT22\"))","v":6},{"$f":"INDIRECT(CONCATENATE(B22,\"!BN22\"))","v":2},{"$f":"INDIRECT(CONCATENATE(B22,\"!BH22\"))","v":11},{"$f":"INDIRECT(CONCATENATE(B22,\"!BB22\"))","v":1},{"$f":"INDIRECT(CONCATENATE(B22,\"!AV22\"))","v":7},{"$f":"INDIRECT(CONCATENATE(B22,\"!AP22\"))","v":5},{"$f":"INDIRECT(CONCATENATE(B22,\"!AJ22\"))","v":10},{"$f":"INDIRECT(CONCATENATE(B22,\"!AD22\"))","v":7},{"$f":"INDIRECT(CONCATENATE(B22,\"!X22\"))","v":10},{"$f":"INDIRECT(CONCATENATE(B22,\"!R22\"))","v":3},{"$f":"INDIRECT(CONCATENATE(B22,\"!L22\"))","v":11},{"$f":"INDIRECT(CONCATENATE(B22,\"!F22\"))","v":3},null,6,7,6,6,7,4,null,null,null,null,null,null,null,null,null,null,null,null,null,22]
[null,null,null,2,5,1,null,2,null,null,null,null,null,null,null,null,null,null,null,null,null,null,null,null,null,null,null,null,null,null,null,null,null,null,null,{"$f":"SUM(C23:AI23)","v":10},{"$f":"+AJ23/AM23","v":2.5},{"$f":"ROUND(SUM(AK23),0)","v":3},4,{"$f":"IF(COUNT(D23:R23)<>4,\"INCORRECT HCP COUNT\",\"\")","v":""},{"$f":"COUNTIF(AP23:AZ23,TRUE)","v":0},{"$f":"AND(D23>0,D23<>D22)","v":false},{"$f":"AND(E23>0,E23<>E22)","v":false},{"$f":"AND(F23>0,F23<>F22)","v":false},{"$f":"AND(G23>0,G23<>G22)","v":false},{"$f":"AND(H23>0,H23<>H22)","v":false},{"$f":"AND(I23>0,I23<>I22)","v":false},{"$f":"AND(J23>0,J23<>J22)","v":false},{"$f":"AND(K23>0,K23<>K22)","v":false},{"$f":"AND(L23>0,L23<>L22)","v":false},{"$f":"AND(M23>0,M23<>M22)","v":false},{"$f":"AND(N23>0,N23<>N22)","v":false}]
[{"$f":"[1]Reed!A1","v":"Marty Reed"},"reed",{"$f":"MIN(AL25,25)","v":5},{"$f":"INDIRECT(CONCATENATE(B24,\"!CL22\"))","v":11},null,{"$f":"INDIRECT(CONCATENATE(B24,\"!BZ22\"))","v":2},{"$f":"INDIRECT(CONCATENATE(B24,\"!BT22\"))","v":4},{"$f":"INDIRECT(CONCATENATE(B24,\"!BN22\"))","v":9},{"$f":"INDIRECT(CONCATENATE(B24,\"!BH22\"))","v":7},{"$f":"INDIRECT(CONCATENATE(B24,\"!BB22\"))","v":7},{"$f":"INDIRECT(CONCATENATE(B24,\"!AV22\"))","v":9},{"$f":"INDIRECT(CONCATENATE(B24,\"!AP22\"))","v":6},{"$f":"INDIRECT(CONCATENATE(B24,\"!AJ22\"))","v":6},{"$f":"INDIRECT(CONCATENATE(B24,\"!AD22\"))","v":8},{"$f":"INDIRECT(CONCATENATE(B24,\"!X22\"))","v":5},null,null,null,null,10,10,10,11,8,5,null,null,null,null,null,null,null,null,null," ",null,null,null,18]
[null,null,null,null,null,2,4,null,7,7,null,null,null,null,null,null,null,null,null,null,null,null,null,null,null,null,null,null,null,null,null,null,null,null,null,{"$f":"SUM(C25:AI25)","v":20},{"$f":"+AJ25/AM25","v":5},{"$f":"ROUND(SUM(AK25),0)","v":5},4,{"$f":"IF(COUNT(D25:R25)<>4,\"INCORRECT HCP COUNT\",\"\")","v":""},{"$f":"COUNTIF(AP25:AZ25,TRUE)","v":0},{"$f":"AND(D25>0,D25<>D24)","v":false},{"$f":"AND(E25>0,E25<>E24)","v":false},{"$f":"AND(F25>0,F25<>F24)","v":false},{"$f":"AND(G25>0,G25<>G24)","v":false},{"$f":"AND(H25>0,H25<>H24)","v":false},{"$f":"AND(I25>0,I25<>I24)","v":false},{"$f":"AND(J25>0,J25<>J24)","v":false},{"$f":"AND(K25>0,K25<>K24)","v":false},{"$f":"AND(L25>0,L25<>L24)","v":false},{"$f":"AND(M25>0,M25<>M24)","v":false},{"$f":"AND(N25>0,N25<>N24)","v":false}]
[{"$f":"[1]Nichols!A1","v":"Matt Nichols"},"nichols",{"$f":"MIN(AL27,25)","v":13},null,null,null,null,null,{"$f":"INDIRECT(CONCATENATE(B26,\"!BH22\"))","v":14},{"$f":"INDIRECT(CONCATENATE(B26,\"!BB22\"))","v":16},null,{"$f":"INDIRECT(CONCATENATE(B26,\"!AP22\"))","v":15},{"$f":"INDIRECT(CONCATENATE(B26,\"!AJ22\"))","v":13},{"$f":"INDIRECT(CONCATENATE(B26,\"!AD22\"))","v":13},{"$f":"INDIRECT(CONCATENATE(B26,\"!X22\"))","v":13},{"$f":"INDIRECT(CONCATENATE(B26,\"!R22\"))","v":14},{"$f":"INDIRECT(CONCATENATE(B26,\"!L22\"))","v":17},{"$f":"INDIRECT(CONCATENATE(B26,\"!F22\"))","v":15},null,15,10,15,12,15,10,null,null,null,null,null,null,null,null,null,null,null,null,null,16]
[null,null,null,null,null,null,null,null,14,null,null,null,13,13,13,null,null,null,null,null,null,null,null,null,null,null,null,null,null,null,null,null,null,null,null,{"$f":"SUM(C27:AI27)","v":53},{"$f":"+AJ27/AM27","v":13.25},{"$f":"ROUND(SUM(AK27),0)","v":13},4,{"$f":"IF(COUNT(D27:R27)<>4,\"INCORRECT HCP COUNT\",\"\")","v":""},{"$f":"COUNTIF(AP27:AZ27,TRUE)","v":0},{"$f":"AND(D27>0,D27<>D26)","v":false},{"$f":"AND(E27>0,E27<>E26)","v":false},{"$f":"AND(F27>0,F27<>F26)","v":false},{"$f":"AND(G27>0,G27<>G26)","v":false},{"$f":"AND(H27>0,H27<>H26)","v":false},{"$f":"AND(I27>0,I27<>I26)","v":false},{"$f":"AND(J27>0,J27<>J26)","v":false},{"$f":"AND(K27>0,K27<>K26)","v":false},{"$f":"AND(L27>0,L27<>L26)","v":false},{"$f":"AND(M27>0,M27<>M26)","v":false},{"$f":"AND(N27>0,N27<>N26)","v":false}]
[{"$f":"[1]Michalski_P!A1","v":"Pete Michalski"},"michalski_p",{"$f":"MIN(AL29,25)","v":19},{"$f":"INDIRECT(CONCATENATE(B28,\"!CL22\"))","v":25},{"$f":"INDIRECT(CONCATENATE(B28,\"!CF22\"))","v":19},null,{"$f":"INDIRECT(CONCATENATE(B28,\"!BT22\"))","v":19},{"$f":"INDIRECT(CONCATENATE(B28,\"!BN22\"))","v":18},{"$f":"INDIRECT(CONCATENATE(B28,\"!BH22\"))","v":20},{"$f":"INDIRECT(CONCATENATE(B28,\"!BB22\"))","v":19},{"$f":"INDIRECT(CONCATENATE(B28,\"!AV22\"))","v":24},{"$f":"INDIRECT(CONCATENATE(B28,\"!AP22\"))","v":21},{"$f":"INDIRECT(CONCATENATE(B28,\"!AJ22\"))","v":23},null,{"$f":"INDIRECT(CONCATENATE(B28,\"!X22\"))","v":26},{"$f":"INDIRECT(CONCATENATE(B28,\"!R22\"))","v":24},{"$f":"INDIRECT(CONCATENATE(B28,\"!L22\"))","v":20},{"$f":"INDIRECT(CONCATENATE(B28,\"!F22\"))","v":21},null,23,20,23,21,19,25,null,null,null,null,null,null,null,null,null,null,null,null,null,20]
[null,null,null,null,19,null,19,18,null,19,null,null,null,null,null,null,null,null,null,null,null,null,null,null,null,null,null,null,null,null,null,null,null,null,null,{"$f":"SUM(C29:AI29)","v":75},{"$f":"+AJ29/AM29","v":18.75},{"$f":"ROUND(SUM(AK29),0)","v":19},4,{"$f":"IF(COUNT(D29:R29)<>4,\"INCORRECT HCP COUNT\",\"\")","v":""},{"$f":"COUNTIF(AP29:AZ29,TRUE)","v":0},{"$f":"AND(D29>0,D29<>D28)","v":false},{"$f":"AND(E29>0,E29<>E28)","v":false},{"$f":"AND(F29>0,F29<>F28)","v":false},{"$f":"AND(G29>0,G29<>G28)","v":false},{"$f":"AND(H29>0,H29<>H28)","v":false},{"$f":"AND(I29>0,I29<>I28)","v":false},{"$f":"AND(J29>0,J29<>J28)","v":false},{"$f":"AND(K29>0,K29<>K28)","v":false},{"$f":"AND(L29>0,L29<>L28)","v":false},{"$f":"AND(M29>0,M29<>M28)","v":false},{"$f":"AND(N29>0,N29<>N28)","v":false}]
[{"$f":"[1]Michalski_S!A1","v":"Sue Michalski"},"michalski_s",{"$f":"MIN(AL31,25)","v":21},{"$f":"INDIRECT(CONCATENATE(B30,\"!CL22\"))","v":26},{"$f":"INDIRECT(CONCATENATE(B30,\"!CF22\"))","v":22},null,{"$f":"INDIRECT(CONCATENATE(B30,\"!BT22\"))","v":22},{"$f":"INDIRECT(CONCATENATE(B30,\"!BN22\"))","v":18},{"$f":"INDIRECT(CONCATENATE(B30,\"!BH22\"))","v":25},{"$f":"INDIRECT(CONCATENATE(B30,\"!BB22\"))","v":23},{"$f":"INDIRECT(CONCATENATE(B30,\"!AV22\"))","v":25},{"$f":"INDIRECT(CONCATENATE(B30,\"!AP22\"))","v":22},{"$f":"INDIRECT(CONCATENATE(B30,\"!AJ22\"))","v":24},null,{"$f":"INDIRECT(CONCATENATE(B30,\"!X22\"))","v":25},{"$f":"INDIRECT(CONCATENATE(B30,\"!R22\"))","v":23},{"$f":"INDIRECT(CONCATENATE(B30,\"!L22\"))","v":26},{"$f":"INDIRECT(CONCATENATE(B30,\"!F22\"))","v":21},null,25,25,23,22,27,25,null,null,null,null,null,null,null,null,null,null,null,null,null,20]
[null,null,null,null,22,null,22,18,null,23,null,null,null,null,null,null,null,null,null,null,null,null,null,null,null,null,null,null,null,null,null,null,null,null,null,{"$f":"SUM(C31:AI31)","v":85},{"$f":"+AJ31/AM31","v":21.25},{"$f":"ROUND(SUM(AK31),0)","v":21},4,{"$f":"IF(COUNT(D31:R31)<>4,\"INCORRECT HCP COUNT\",\"\")","v":""},{"$f":"COUNTIF(AP31:AZ31,TRUE)","v":0},{"$f":"AND(D31>0,D31<>D30)","v":false},{"$f":"AND(E31>0,E31<>E30)","v":false},{"$f":"AND(F31>0,F31<>F30)","v":false},{"$f":"AND(G31>0,G31<>G30)","v":false},{"$f":"AND(H31>0,H31<>H30)","v":false},{"$f":"AND(I31>0,I31<>I30)","v":false},{"$f":"AND(J31>0,J31<>J30)","v":false},{"$f":"AND(K31>0,K31<>K30)","v":false},{"$f":"AND(L31>0,L31<>L30)","v":false},{"$f":"AND(M31>0,M31<>M30)","v":false},{"$f":"AND(N31>0,N31<>N30)","v":false}]
[{"$f":"[1]Hobbs!A1","v":"Tim Hobbs"},"hobbs",{"$f":"MIN(AL33,25)","v":11},null,null,{"$f":"INDIRECT(CONCATENATE(B32,\"!BZ22\"))","v":7},null,{"$f":"INDIRECT(CONCATENATE(B32,\"!BN22\"))","v":17},{"$f":"INDIRECT(CONCATENATE(B32,\"!BH22\"))","v":12},{"$f":"INDIRECT(CONCATENATE(B32,\"!BB22\"))","v":12},{"$f":"INDIRECT(CONCATENATE(B32,\"!AV22\"))","v":19},{"$f":"INDIRECT(CONCATENATE(B32,\"!AP22\"))","v":13},{"$f":"INDIRECT(CONCATENATE(B32,\"!AJ22\"))","v":15},{"$f":"INDIRECT(CONCATENATE(B32,\"!AD22\"))","v":11},{"$f":"INDIRECT(CONCATENATE(B32,\"!X22\"))","v":15},{"$f":"INDIRECT(CONCATENATE(B32,\"!R22\"))","v":14},{"$f":"INDIRECT(CONCATENATE(B32,\"!L22\"))","v":15},{"$f":"INDIRECT(CONCATENATE(B32,\"!F22\"))","v":16},null,11,18,17,12,16,15,null,null,null,null,null,null,null,null,null,null,null,null,null,19]
[null,null,null,null,null,7,null,null,12,12,null,13,null,null,null,null,null,null,null,null,null,null,null,null,null,null,null,null,null,null,null,null,null,null,null,{"$f":"SUM(C33:AI33)","v":44},{"$f":"+AJ33/AM33","v":11},{"$f":"ROUND(SUM(AK33),0)","v":11},4,{"$f":"IF(COUNT(D33:R33)<>4,\"INCORRECT HCP COUNT\",\"\")","v":""},{"$f":"COUNTIF(AP33:AZ33,TRUE)","v":0},{"$f":"AND(D33>0,D33<>D32)","v":false},{"$f":"AND(E33>0,E33<>E32)","v":false},{"$f":"AND(F33>0,F33<>F32)","v":false},{"$f":"AND(G33>0,G33<>G32)","v":false},{"$f":"AND(H33>0,H33<>H32)","v":false},{"$f":"AND(I33>0,I33<>I32)","v":false},{"$f":"AND(J33>0,J33<>J32)","v":false},{"$f":"AND(K33>0,K33<>K32)","v":false},{"$f":"AND(L33>0,L33<>L32)","v":false},{"$f":"AND(M33>0,M33<>M32)","v":false},{"$f":"AND(N33>0,N33<>N32)","v":false}]
[{"$f":"[1]Mohsinger_T!A1","v":"Tom Mohsinger"},"mohsinger_t",{"$f":"MIN(AL35,25)","v":14},{"$f":"INDIRECT(CONCATENATE(B34,\"!CL22\"))","v":17},{"$f":"INDIRECT(CONCATENATE(B34,\"!CF22\"))","v":20},{"$f":"INDIRECT(CONCATENATE(B34,\"!BZ22\"))","v":13},{"$f":"INDIRECT(CONCATENATE(B34,\"!BT22\"))","v":15},{"$f":"INDIRECT(CONCATENATE(B34,\"!BN22\"))","v":15},{"$f":"INDIRECT(CONCATENATE(B34,\"!BH22\"))","v":13},{"$f":"INDIRECT(CONCATENATE(B34,\"!BB22\"))","v":11},{"$f":"INDIRECT(CONCATENATE(B34,\"!AV22\"))","v":16},{"$f":"INDIRECT(CONCATENATE(B34,\"!AP22\"))","v":22},null,null,{"$f":"INDIRECT(CONCATENATE(B34,\"!X22\"))","v":20},{"$f":"INDIRECT(CONCATENATE(B34,\"!R22\"))","v":18},{"$f":"INDIRECT(CONCATENATE(B34,\"!L22\"))","v":17},{"$f":"INDIRECT(CONCATENATE(B34,\"!F22\"))","v":17},null,14,17,18,13,22,20,null,null,null,null,null,null,null,null,null,null,null,null,null,20]
[null,null,null,null,null,13,15,15,13,null,null,null,null,null,null,null,null,null,null,null,null,null,null,null,null,null,null,null,null,null,null,null,null,null,null,{"$f":"SUM(C35:AI35)","v":56},{"$f":"+AJ35/AM35","v":14},{"$f":"ROUND(SUM(AK35),0)","v":14},4,{"$f":"IF(COUNT(D35:R35)<>4,\"INCORRECT HCP COUNT\",\"\")","v":""},{"$f":"COUNTIF(AP35:AZ35,TRUE)","v":0},{"$f":"AND(D35>0,D35<>D34)","v":false},{"$f":"AND(E35>0,E35<>E34)","v":false},{"$f":"AND(F35>0,F35<>F34)","v":false},{"$f":"AND(G35>0,G35<>G34)","v":false},{"$f":"AND(H35>0,H35<>H34)","v":false},{"$f":"AND(I35>0,I35<>I34)","v":false},{"$f":"AND(J35>0,J35<>J34)","v":false},{"$f":"AND(K35>0,K35<>K34)","v":false},{"$f":"AND(L35>0,L35<>L34)","v":false},{"$f":"AND(M35>0,M35<>M34)","v":false},{"$f":"AND(N35>0,N35<>N34)","v":false}]
[]
[]
[]
[]
[null,null,null,null,null,null,null,null,null,null,null,null,null,null,null,null,null,null,null,null,null,null,null,null,null,null,null,null,null,null,null,null,null,null,null,null,null,null,{"$f":"COUNT(C40:AI40)","v":0}]
[null,null,null,null,null,null,null,null,null,null,null,null,null,null,null,null,null,null,null,null,null,null,null,null,null,null,null,null,null,null,null,null,null,null,null,null,null,null,{"$f":"COUNT(C41:AI41)","v":0}]
[]
[]
[]
[null,null,null,null,null,null,null,null,null,null,null,null,null,null,null,null,null,null,null,null,null,null,null,null,null,null,null,null,null,null,null,null,null,null,null,null,null,null,0]
[null,null,null,null,null,null,null,null,null,null,null,null,null,null,null,null,null,null,null,null,null,null,null,null,null,null,null,null,null,null,null,null,null,null,null,null,null,null,0]
["Subs"]
[]
[]
["Bob Riley","riley",{"$f":"MIN(AL51,25)","v":5},{"$f":"IFERROR(INDIRECT(CONCATENATE(B50,\"!CL22\")),0)","v":0},{"$f":"IFERROR(INDIRECT(CONCATENATE(B50,\"!CF22\")),0)","v":0},{"$f":"IFERROR(INDIRECT(CONCATENATE(B50,\"!BZ22\")),0)","v":0},{"$f":"IFERROR(INDIRECT(CONCATENATE(B50,\"!BT22\")),0)","v":0},{"$f":"IFERROR(INDIRECT(CONCATENATE(B50,\"!BN22\")),0)","v":0},{"$f":"IFERROR(INDIRECT(CONCATENATE(B50,\"!BH22\")),0)","v":0},{"$f":"IFERROR(INDIRECT(CONCATENATE(B50,\"!BB22\")),0)","v":0},{"$f":"IFERROR(INDIRECT(CONCATENATE(B50,\"!AV22\")),0)","v":0},{"$f":"IFERROR(INDIRECT(CONCATENATE(B50,\"!AP22\")),0)","v":0},{"$f":"IFERROR(INDIRECT(CONCATENATE(B50,\"!AJ22\")),0)","v":0},{"$f":"IFERROR(INDIRECT(CONCATENATE(B50,\"!AD22\")),0)","v":0},null,{"$f":"IFERROR(INDIRECT(CONCATENATE(B50,\"!R22\")),0)","v":13},null,null,null,5,11,5,4,4,4,null,null,null,null,null,null,null,null,null,null,null,null,null,{"$f":"COUNT(C50:AI50)","v":19}]
[null,null,null,null,null,null,null,null,null,null,null,null,null,null,null,null,null,null,null,5,null,5,4,4,null,null,null,null,null,null,null,null,null,null,null,{"$f":"SUM(C51:AI51)","v":18},{"$f":"+AJ51/AM51","v":4.5},{"$f":"ROUND(SUM(AK51),0)","v":5},4,"Scores are non-league but same course",{"$f":"COUNTIF(AP51:AZ51,TRUE)","v":0},{"$f":"AND(D51>0,D51<>D50)","v":false},{"$f":"AND(E51>0,E51<>E50)","v":false},{"$f":"AND(F51>0,F51<>F50)","v":false},{"$f":"AND(G51>0,G51<>G50)","v":false},{"$f":"AND(H51>0,H51<>H50)","v":false},{"$f":"AND(I51>0,I51<>I50)","v":false},{"$f":"AND(J51>0,J51<>J50)","v":false},{"$f":"AND(K51>0,K51<>K50)","v":false},{"$f":"AND(L51>0,L51<>L50)","v":false},{"$f":"AND(M51>0,M51<>M50)","v":false},{"$f":"AND(N51>0,N51<>N50)","v":false}]
["Ev Kauffman","kauffman",{"$f":"MIN(AL53,25)","v":14},{"$f":"IFERROR(INDIRECT(CONCATENATE(B52,\"!CL22\")),0)","v":0},{"$f":"IFERROR(INDIRECT(CONCATENATE(B52,\"!CF22\")),0)","v":0},{"$f":"IFERROR(INDIRECT(CONCATENATE(B52,\"!BZ22\")),0)","v":0},{"$f":"IFERROR(INDIRECT(CONCATENATE(B52,\"!BT22\")),0)","v":16},null,null,null,null,null,null,null,null,null,{"$f":"IFERROR(INDIRECT(CONCATENATE(B52,\"!L22\")),0)","v":20},{"$f":"IFERROR(INDIRECT(CONCATENATE(B52,\"!F22\")),0)","v":8},null,17,16,21,13,null,null,null,null,null,null,null,null,null,null,null,null,null,null,null,11]
[null,null,null,null,null,null,16,null,null,null,null,null,null,null,null,null,null,8,null,17,16,null,null,null,null,null,null,null,null,null,null,null,null,null,null,{"$f":"SUM(C53:AI53)","v":57},{"$f":"+AJ53/AM53","v":14.25},{"$f":"ROUND(SUM(AK53),0)","v":14},4,{"$f":"IF(COUNT(D53:Y53)<>4,\"INCORRECT HCP COUNT\",\"\")","v":""},0,{"$f":"AND(D53>0,D53<>D52)","v":false},{"$f":"AND(E53>0,E53<>E52)","v":false},{"$f":"AND(F53>0,F53<>F52)","v":false},{"$f":"AND(G53>0,G53<>G52)","v":false},{"$f":"AND(H53>0,H53<>H52)","v":false},{"$f":"AND(I53>0,I53<>I52)","v":false},{"$f":"AND(J53>0,J53<>J52)","v":false},{"$f":"AND(K53>0,K53<>K52)","v":false},{"$f":"AND(L53>0,L53<>L52)","v":false},{"$f":"AND(M53>0,M53<>M52)","v":false},{"$f":"AND(N53>0,N53<>N52)","v":false}]
["Dick Vosko","vosko",{"$f":"MIN(AL55,25)","v":{"$error":"#DIV/0!"}},{"$f":"INDIRECT(CONCATENATE(B54,\"!CL22\"))","v":{"$error":"#REF!"}},{"$f":"INDIRECT(CONCATENATE(B54,\"!CF22\"))","v":{"$error":"#REF!"}},{"$f":"INDIRECT(CONCATENATE(B54,\"!BZ22\"))","v":{"$error":"#REF!"}},{"$f":"INDIRECT(CONCATENATE(B54,\"!BT22\"))","v":{"$error":"#REF!"}},{"$f":"INDIRECT(CONCATENATE(B54,\"!BN22\"))","v":{"$error":"#REF!"}},{"$f":"INDIRECT(CONCATENATE(B54,\"!BH22\"))","v":{"$error":"#REF!"}},{"$f":"INDIRECT(CONCATENATE(B54,\"!BB22\"))","v":{"$error":"#REF!"}},{"$f":"INDIRECT(CONCATENATE(B54,\"!AV22\"))","v":{"$error":"#REF!"}},{"$f":"INDIRECT(CONCATENATE(B54,\"!AP22\"))","v":{"$error":"#REF!"}},{"$f":"INDIRECT(CONCATENATE(B54,\"!AJ22\"))","v":{"$error":"#REF!"}},{"$f":"INDIRECT(CONCATENATE(B54,\"!AD22\"))","v":{"$error":"#REF!"}},{"$f":"INDIRECT(CONCATENATE(B54,\"!X22\"))","v":{"$error":"#REF!"}},{"$f":"INDIRECT(CONCATENATE(B54,\"!R22\"))","v":{"$error":"#REF!"}},{"$f":"INDIRECT(CONCATENATE(B54,\"!L22\"))","v":{"$error":"#REF!"}},{"$f":"INDIRECT(CONCATENATE(B54,\"!F22\"))","v":{"$error":"#REF!"}},null,null,null,null,null,null,null,null,null,null,null,null,null,null,null,null,null,null,null,null,0]
[null,null,null,null,null,null,null,null,null,null,null,null,null,null,null,null,null,null,null,null,null,null,null,null,null,null,null,null,null,null,null,null,null,null,null,{"$f":"SUM(C55:AI55)","v":0},{"$f":"+AJ55/AM55","v":{"$error":"#DIV/0!"}},{"$f":"ROUND(SUM(AK55),0)","v":{"$error":"#DIV/0!"}},0,{"$f":"IF(COUNT(D55:Y55)<>4,\"INCORRECT HCP COUNT\",\"\")","v":"INCORRECT HCP COUNT"},0]
["Dan Richardson","richardson",{"$f":"MIN(AL57,25)","v":10},{"$f":"IFERROR(INDIRECT(CONCATENATE(B56,\"!CL22\")),0)","v":14},{"$f":"IFERROR(INDIRECT(CONCATENATE(B56,\"!CF22\")),0)","v":12},{"$f":"IFERROR(INDIRECT(CONCATENATE(B56,\"!BZ22\")),0)","v":9},{"$f":"IFERROR(INDIRECT(CONCATENATE(B56,\"!BT22\")),0)","v":11},{"$f":"IFERROR(INDIRECT(CONCATENATE(B56,\"!BN22\")),0)","v":9},{"$f":"IFERROR(INDIRECT(CONCATENATE(B56,\"!BH22\")),0)","v":12},{"$f":"IFERROR(INDIRECT(CONCATENATE(B56,\"!BB22\")),0)","v":12},{"$f":"IFERROR(INDIRECT(CONCATENATE(B56,\"!AV22\")),0)","v":17},null,{"$f":"IFERROR(INDIRECT(CONCATENATE(B56,\"!AJ22\")),0)","v":8},{"$f":"IFERROR(INDIRECT(CONCATENATE(B56,\"!AD22\")),0)","v":16},{"$f":"IFERROR(INDIRECT(CONCATENATE(B56,\"!X22\")),0)","v":16},{"$f":"IFERROR(INDIRECT(CONCATENATE(B56,\"!R22\")),0)","v":12},null,null,null,17,11,12,12,15,14,null,null,null,null,null,null,null,null,null,null,null,null,null,19]
[null,null,null,null,12,9,11,9,null,null,null,null,null,null,null,null,null,null,null,null,null,null,null,null,null,null,null,null,null,null,null,null,null,null,null,{"$f":"SUM(C57:AI57)","v":41},{"$f":"+AJ57/AM57","v":10.25},{"$f":"ROUND(SUM(AK57),0)","v":10},4,{"$f":"IF(COUNT(D57:Y57)<>4,\"INCORRECT HCP COUNT\",\"\")","v":""},0,{"$f":"AND(D57>0,D57<>D56)","v":false},{"$f":"AND(E57>0,E57<>E56)","v":false},{"$f":"AND(F57>0,F57<>F56)","v":false},{"$f":"AND(G57>0,G57<>G56)","v":false},{"$f":"AND(H57>0,H57<>H56)","v":false},{"$f":"AND(I57>0,I57<>I56)","v":false},{"$f":"AND(J57>0,J57<>J56)","v":false},{"$f":"AND(K57>0,K57<>K56)","v":false},{"$f":"AND(L57>0,L57<>L56)","v":false},{"$f":"AND(M57>0,M57<>M56)","v":false},{"$f":"AND(N57>0,N57<>N56)","v":false}]
["Joe Sheridan","sheridan",{"$f":"MIN(AL59,25)","v":5},{"$f":"IFERROR(INDIRECT(CONCATENATE(B58,\"!CL22\")),0)","v":0},{"$f":"IFERROR(INDIRECT(CONCATENATE(B58,\"!CF22\")),0)","v":0},{"$f":"IFERROR(INDIRECT(CONCATENATE(B58,\"!BZ22\")),0)","v":0},{"$f":"IFERROR(INDIRECT(CONCATENATE(B58,\"!BT22\")),0)","v":0},null,5,5,2,8,14,11,9,12,9,null,null,10,9,11,6,9,10,null,null,null,null,null,null,null,null,null,null,null,null,null,20,"Scores are non-league but same course"]
[null,null,null,null,null,null,null,null,5,5,2,8,null,null,null,null,null,null,null,null,null,null,null,null,null,null,null,null,null,null,null,null,null,null,null,{"$f":"SUM(C59:AI59)","v":20},{"$f":"+AJ59/AM59","v":5},{"$f":"ROUND(SUM(AK59),0)","v":5},4,{"$f":"IF(COUNT(D59:Y59)<>4,\"INCORRECT HCP COUNT\",\"\")","v":""},0,{"$f":"AND(D59>0,D59<>D58)","v":false},{"$f":"AND(E59>0,E59<>E58)","v":false},{"$f":"AND(F59>0,F59<>F58)","v":false},{"$f":"AND(G59>0,G59<>G58)","v":false},{"$f":"AND(H59>0,H59<>H58)","v":false},{"$f":"AND(I59>0,I59<>I58)","v":false},{"$f":"AND(J59>0,J59<>J58)","v":false},{"$f":"AND(K59>0,K59<>K58)","v":false},{"$f":"AND(L59>0,L59<>L58)","v":false},{"$f":"AND(M59>0,M59<>M58)","v":false},{"$f":"AND(N59>0,N59<>N58)","v":false}]
["Bret Scott","scott",{"$f":"MIN(AL61,25)","v":18},{"$f":"IFERROR(INDIRECT(CONCATENATE(B60,\"!CL22\")),0)","v":0},{"$f":"IFERROR(INDIRECT(CONCATENATE(B60,\"!CF22\")),0)","v":0},{"$f":"IFERROR(INDIRECT(CONCATENATE(B60,\"!BZ22\")),0)","v":0},{"$f":"IFERROR(INDIRECT(CONCATENATE(B60,\"!BT22\")),0)","v":0},{"$f":"IFERROR(INDIRECT(CONCATENATE(B60,\"!BN22\")),0)","v":0},{"$f":"IFERROR(INDIRECT(CONCATENATE(B60,\"!BH22\")),0)","v":0},{"$f":"IFERROR(INDIRECT(CONCATENATE(B60,\"!BB22\")),0)","v":0},{"$f":"IFERROR(INDIRECT(CONCATENATE(B60,\"!AV22\")),0)","v":0},{"$f":"IFERROR(INDIRECT(CONCATENATE(B60,\"!AP22\")),0)","v":0},{"$f":"IFERROR(INDIRECT(CONCATENATE(B60,\"!AJ22\")),0)","v":0},{"$f":"IFERROR(INDIRECT(CONCATENATE(B60,\"!AD22\")),0)","v":0},null,null,null,null,null,21,19,13,18,18,19,null,null,null,null,null,null,null,null,null,null,null,null,null,18]
[null,null,null,null,null,null,null,null,null,null,null,null,null,null,null,null,null,null,null,21,19,13,18,null,null,null,null,null,null,null,null,null,null,null,null,{"$f":"SUM(C61:AI61)","v":71},{"$f":"+AJ61/AM61","v":17.75},{"$f":"ROUND(SUM(AK61),0)","v":18},4,{"$f":"IF(COUNT(D61:Y61)<>4,\"INCORRECT HCP COUNT\",\"\")","v":""},0,{"$f":"AND(D61>0,D61<>D60)","v":false},{"$f":"AND(E61>0,E61<>E60)","v":false},{"$f":"AND(F61>0,F61<>F60)","v":false},{"$f":"AND(G61>0,G61<>G60)","v":false},{"$f":"AND(H61>0,H61<>H60)","v":false},{"$f":"AND(I61>0,I61<>I60)","v":false},{"$f":"AND(J61>0,J61<>J60)","v":false},{"$f":"AND(K61>0,K61<>K60)","v":false},{"$f":"AND(L61>0,L61<>L60)","v":false},{"$f":"AND(M61>0,M61<>M60)","v":false},{"$f":"AND(N61>0,N61<>N60)","v":false}]
["Mark Roschinsky","roschinsky",{"$f":"MIN(AL63,25)","v":9},{"$f":"IFERROR(INDIRECT(CONCATENATE(B62,\"!CL22\")),0)","v":0},{"$f":"IFERROR(INDIRECT(CONCATENATE(B62,\"!CF22\")),0)","v":0},{"$f":"IFERROR(INDIRECT(CONCATENATE(B62,\"!BZ22\")),0)","v":0},{"$f":"IFERROR(INDIRECT(CONCATENATE(B62,\"!BT22\")),0)","v":0},{"$f":"IFERROR(INDIRECT(CONCATENATE(B62,\"!BN22\")),0)","v":0},9,9,9,9,8,15,8,4,null,null,null,8,11,9,5,11,5,null,null,null,null,null,null,null,null,null,null,null,null,null,null,"Scores are non-league but same course"]
[null,"(scores from Monday League)",null,null,null,null,null,null,9,9,9,null,8,null,null,null,null,null,null,null,null,null,null,null,null,null,null,null,null,null,null,null,null,null,null,{"$f":"SUM(C63:AI63)","v":35},{"$f":"+AJ63/AM63","v":8.75},{"$f":"ROUND(SUM(AK63),0)","v":9},4,{"$f":"IF(COUNT(D63:Y63)<>4,\"INCORRECT HCP COUNT\",\"\")","v":""},0,{"$f":"AND(D63>0,D63<>D62)","v":false},{"$f":"AND(E63>0,E63<>E62)","v":false},{"$f":"AND(F63>0,F63<>F62)","v":false},{"$f":"AND(G63>0,G63<>G62)","v":false},{"$f":"AND(H63>0,H63<>H62)","v":false},{"$f":"AND(I63>0,I63<>I62)","v":false},{"$f":"AND(J63>0,J63<>J62)","v":false},{"$f":"AND(K63>0,K63<>K62)","v":false},{"$f":"AND(L63>0,L63<>L62)","v":false},{"$f":"AND(M63>0,M63<>M62)","v":false},{"$f":"AND(N63>0,N63<>N62)","v":false}]
["Paul Archambault","archambault",{"$f":"MIN(AL65,25)","v":11},{"$f":"IFERROR(INDIRECT(CONCATENATE(B64,\"!CL22\")),0)","v":0},{"$f":"IFERROR(INDIRECT(CONCATENATE(B64,\"!CF22\")),0)","v":0},{"$f":"IFERROR(INDIRECT(CONCATENATE(B64,\"!BZ22\")),0)","v":11},{"$f":"IFERROR(INDIRECT(CONCATENATE(B64,\"!BT22\")),0)","v":15},null,null,null,null,null,null,{"$f":"IFERROR(INDIRECT(CONCATENATE(B64,\"!AD22\")),0)","v":12},null,null,null,null,null,14,8,11,11,11,11,null,null,null,null,null,null,null,null,null,null,null,null,null,12]
[null,null,null,null,null,11,null,null,null,null,null,null,null,12,null,null,null,null,null,14,8,null,null,null,null,null,null,null,null,null,null,null,null,null,null,{"$f":"SUM(C65:AI65)","v":45},{"$f":"+AJ65/AM65","v":11.25},{"$f":"ROUND(SUM(AK65),0)","v":11},4,{"$f":"IF(COUNT(D65:Y65)<>4,\"INCORRECT HCP COUNT\",\"\")","v":""},0,{"$f":"AND(D65>0,D65<>D64)","v":false},{"$f":"AND(E65>0,E65<>E64)","v":false},{"$f":"AND(F65>0,F65<>F64)","v":false},{"$f":"AND(G65>0,G65<>G64)","v":false},{"$f":"AND(H65>0,H65<>H64)","v":false},{"$f":"AND(I65>0,I65<>I64)","v":false},{"$f":"AND(J65>0,J65<>J64)","v":false},{"$f":"AND(K65>0,K65<>K64)","v":false},{"$f":"AND(L65>0,L65<>L64)","v":false},{"$f":"AND(M65>0,M65<>M64)","v":false},{"$f":"AND(N65>0,N65<>N64)","v":false}]
["Lisa Palmerino","palmerino_l",{"$f":"MIN(AL67,25)","v":18},{"$f":"IFERROR(INDIRECT(CONCATENATE(B66,\"!CL22\")),0)","v":16},{"$f":"IFERROR(INDIRECT(CONCATENATE(B66,\"!CF22\")),0)","v":0},{"$f":"IFERROR(INDIRECT(CONCATENATE(B66,\"!BZ22\")),0)","v":0},{"$f":"IFERROR(INDIRECT(CONCATENATE(B66,\"!BT22\")),0)","v":0},{"$f":"IFERROR(INDIRECT(CONCATENATE(B66,\"!BN22\")),0)","v":0},{"$f":"IFERROR(INDIRECT(CONCATENATE(B66,\"!BH22\")),0)","v":0},{"$f":"IFERROR(INDIRECT(CONCATENATE(B66,\"!BB22\")),0)","v":0},{"$f":"IFERROR(INDIRECT(CONCATENATE(B66,\"!AV22\")),0)","v":0},{"$f":"IFERROR(INDIRECT(CONCATENATE(B66,\"!AP22\")),0)","v":0},{"$f":"IFERROR(INDIRECT(CONCATENATE(B66,\"!AJ22\")),0)","v":0},{"$f":"IFERROR(INDIRECT(CONCATENATE(B66,\"!AD22\")),0)","v":18},null,null,null,null,null,18,20,18,19,19,19]
[null,null,null,16,null,null,null,null,null,null,null,null,null,18,null,null,null,null,null,18,null,18,null,null,null,null,null,null,null,null,null,null,null,null,null,{"$f":"SUM(C67:AI67)","v":70},{"$f":"+AJ67/AM67","v":17.5},{"$f":"ROUND(SUM(AK67),0)","v":18},4,{"$f":"IF(COUNT(D67:Y67)<>4,\"INCORRECT HCP COUNT\",\"\")","v":""},0,{"$f":"AND(D67>0,D67<>D66)","v":false},{"$f":"AND(E67>0,E67<>E66)","v":false},{"$f":"AND(F67>0,F67<>F66)","v":false},{"$f":"AND(G67>0,G67<>G66)","v":false},{"$f":"AND(H67>0,H67<>H66)","v":false},{"$f":"AND(I67>0,I67<>I66)","v":false},{"$f":"AND(J67>0,J67<>J66)","v":false},{"$f":"AND(K67>0,K67<>K66)","v":false},{"$f":"AND(L67>0,L67<>L66)","v":false},{"$f":"AND(M67>0,M67<>M66)","v":false},{"$f":"AND(N67>0,N67<>N66)","v":false}]
["Glen Kreig","kreig",{"$f":"MIN(AL69,25)","v":13},{"$f":"IFERROR(INDIRECT(CONCATENATE(B68,\"!CL22\")),0)","v":0},{"$f":"IFERROR(INDIRECT(CONCATENATE(B68,\"!CF22\")),0)","v":17},null,null,{"$f":"IFERROR(INDIRECT(CONCATENATE(B68,\"!BN22\")),0)","v":13},null,null,null,null,null,null,{"$f":"IFERROR(INDIRECT(CONCATENATE(B68,\"!X22\")),0)","v":14},null,{"$f":"IFERROR(INDIRECT(CONCATENATE(B68,\"!L22\")),0)","v":18},null,null,10,15,11,19,9,20]
[null,null,null,null,null,null,null,13,null,null,null,null,null,null,14,null,null,null,null,10,15,null,null,null,null,null,null,null,null,null,null,null,null,null,null,{"$f":"SUM(C69:AI69)","v":52},{"$f":"+AJ69/AM69","v":13},{"$f":"ROUND(SUM(AK69),0)","v":13},{"$f":"COUNT(C69:AI69)","v":4},{"$f":"IF(COUNT(D69:Y69)<>4,\"INCORRECT HCP COUNT\",\"\")","v":""},0,{"$f":"AND(D69>0,D69<>D68)","v":false},{"$f":"AND(E69>0,E69<>E68)","v":false},{"$f":"AND(F69>0,F69<>F68)","v":false},{"$f":"AND(G69>0,G69<>G68)","v":false},{"$f":"AND(H69>0,H69<>H68)","v":false},{"$f":"AND(I69>0,I69<>I68)","v":false},{"$f":"AND(J69>0,J69<>J68)","v":false},{"$f":"AND(K69>0,K69<>K68)","v":false},{"$f":"AND(L69>0,L69<>L68)","v":false},{"$f":"AND(M69>0,M69<>M68)","v":false},{"$f":"AND(N69>0,N69<>N68)","v":false}]
["Jill Daviero","daviero_j",{"$f":"MIN(AL71,25)","v":24},{"$f":"IFERROR(INDIRECT(CONCATENATE(B70,\"!CL22\")),0)","v":19},null,null,null,null,null,null,null,null,null,null,null,null,null,null,null,25,25,25,25,null,null,null,null,null,null,null,null,null,null,null,null,null,null,null,6]
[null,null,null,19,null,null,null,null,null,null,null,null,null,null,null,null,null,null,null,25,25,25,null,null,null,null,null,null,null,null,null,null,null,null,null,{"$f":"SUM(C71:AI71)","v":94},{"$f":"+AJ71/AM71","v":23.5},{"$f":"ROUND(SUM(AK71),0)","v":24},4,{"$f":"IF(COUNT(D71:Y71)<>4,\"INCORRECT HCP COUNT\",\"\")","v":""},0,{"$f":"AND(D71>0,D71<>D70)","v":false},{"$f":"AND(E71>0,E71<>E70)","v":false},{"$f":"AND(F71>0,F71<>F70)","v":false},{"$f":"AND(G71>0,G71<>G70)","v":false},{"$f":"AND(H71>0,H71<>H70)","v":false},{"$f":"AND(I71>0,I71<>I70)","v":false},{"$f":"AND(J71>0,J71<>J70)","v":false},{"$f":"AND(K71>0,K71<>K70)","v":false},{"$f":"AND(L71>0,L71<>L70)","v":false},{"$f":"AND(M71>0,M71<>M70)","v":false},{"$f":"AND(N71>0,N71<>N70)","v":false}]
["Jeanne Henderson","daviero_j",{"$f":"MIN(AL73,25)","v":17},{"$f":"IFERROR(INDIRECT(CONCATENATE(B72,\"!CL22\")),0)","v":19},null,null,null,null,null,null,null,null,null,null,null,null,null,null,null,16,19,16,17,null,null,null,null,null,null,null,null,null,null,null,null,null,null,null,{"$f":"COUNT(C72:AI72)","v":6}]
[null,null,null,null,null,null,null,null,null,null,null,null,null,null,null,null,null,null,null,16,19,16,17,null,null,null,null,null,null,null,null,null,null,null,null,{"$f":"SUM(C73:AI73)","v":68},{"$f":"+AJ73/AM73","v":17},{"$f":"ROUND(SUM(AK73),0)","v":17},4,{"$f":"IF(COUNT(D73:Y73)<>4,\"INCORRECT HCP COUNT\",\"\")","v":""},{"$f":"COUNTIF(AP73:AZ73,TRUE)","v":0},{"$f":"AND(D73>0,D73<>D72)","v":false},{"$f":"AND(E73>0,E73<>E72)","v":false},{"$f":"AND(F73>0,F73<>F72)","v":false},{"$f":"AND(G73>0,G73<>G72)","v":false},{"$f":"AND(H73>0,H73<>H72)","v":false},{"$f":"AND(I73>0,I73<>I72)","v":false},{"$f":"AND(J73>0,J73<>J72)","v":false},{"$f":"AND(K73>0,K73<>K72)","v":false},{"$f":"AND(L73>0,L73<>L72)","v":false},{"$f":"AND(M73>0,M73<>M72)","v":false},{"$f":"AND(N73>0,N73<>N72)","v":false}]
[]
[]
["Handicap lookup"]
[]
["Paul","archambault",{"$f":"C64","v":11},{"$f":"AK65","v":11.25}]
["Jim","daviero",{"$f":"C20","v":9},{"$f":"AK21","v":8.5}]
["Jill","daviero_j",{"$f":"C70","v":24},{"$f":"AK71","v":23.5}]
[null,"empty",0,0]
["Dan","fusco_d",{"$f":"C12","v":8},{"$f":"AK13","v":8}]
["Mike","fusco_m",11]
["Steve","fusco_s",{"$f":"C14","v":8}]
["Jeanne","henderson",{"$f":"C72","v":17},{"$f":"AK73","v":17}]
["Tim","hobbs",{"$f":"C32","v":11},{"$f":"AK33","v":11}]
["Ev","kauffman",{"$f":"C52","v":14},{"$f":"AK53","v":14.25}]
["Glenn","kreig",{"$f":"C68","v":13},{"$f":"AK69","v":13}]
["Andy","linton",{"$f":"C4","v":5},{"$f":"AK5","v":5.25}]
["Brian","mclaughlin",{"$f":"C10","v":12},{"$f":"AK11","v":12}]
["Pete","michalski_p",{"$f":"C28","v":19},{"$f":"AK29","v":18.75}]
["Sue","michalski_s",{"$f":"C30","v":21},{"$f":"AK31","v":21.25}]
["Bette","mohsinger_b",{"$f":"C6","v":12},{"$f":"AK7","v":11.5}]
["Tom","mohsinger_t",{"$f":"C34","v":14},{"$f":"AK35","v":14}]
["Matt","nichols",{"$f":"C26","v":13},{"$f":"AK27","v":13.25}]
["Dan","palmerino",{"$f":"C14","v":8},{"$f":"AK15","v":8.25}]
["Lisa","palmerino_l",{"$f":"C66","v":18},{"$f":"AK67","v":17.5}]
["Gloria","poston",{"$f":"C18","v":12},{"$f":"AK19","v":11.75}]
["Marty","reed",{"$f":"C24","v":5},{"$f":"AK25","v":5}]
["Dan","richardson",{"$f":"C56","v":10},{"$f":"AK57","v":10.25}]
["Bob","riley",{"$f":"C50","v":5},{"$f":"AK51","v":4.5}]
["Mark","roschinsky",{"$f":"C62","v":9},{"$f":"AK63","v":8.75}]
["Mark","rusnak",{"$f":"C22","v":3},{"$f":"AK23","v":2.5}]
["Bret","scott",{"$f":"C60","v":18},{"$f":"AK61","v":17.75}]
["Joe","sheridan",{"$f":"C58","v":5},{"$f":"AK59","v":5}]
["Dave","taylor",{"$f":"C16","v":13},{"$f":"AK17","v":13.25}]
["Bob","templeton",{"$f":"C8","v":20},{"$f":"AK9","v":19.75}]

{"sheet":"Sum of W_T_L","index":4,"n_rows":29,"n_cols":25,"rows_kept":29,"cut":false,"hidden":false,"merged":[]}
["Summary of Wins / Losses / Ties"]
[]
[null,"Week #1","Week #2","Week #3","Week #4","Week #5","Week #6","Week #7","Week #8","Week #9","Week #10","Week #11","Week #12","Week #13","Week #14","Week #15",null,"Wins","Losses","Ties",null,null,null,"Previous","Current"]
[{"$f":"Mohsinger_T!A1","v":"Tom Mohsinger"},{"$f":"Mohsinger_T!F24","v":"L"},{"$f":"Mohsinger_T!L24","v":"L"},{"$f":"Mohsinger_T!R24","v":"W"},{"$f":"Mohsinger_T!X24","v":"W"},{"$f":"Mohsinger_T!AD24","v":0},{"$f":"Mohsinger_T!AJ24","v":0},{"$f":"Mohsinger_T!AP24","v":"W"},{"$f":"Mohsinger_T!AV24","v":"W"},{"$f":"Mohsinger_T!BB24","v":"W"},{"$f":"Mohsinger_T!BH24","v":"W"},{"$f":"Mohsinger_T!BN24","v":"W"},{"$f":"Mohsinger_T!BT24","v":"W"},{"$f":"Mohsinger_T!BZ24","v":"W"},{"$f":"Mohsinger_T!CF24","v":"L"},{"$f":"Mohsinger_T!CL24","v":"T"},null,{"$f":"COUNTIF(B4:P4,\"W\")","v":9},{"$f":"COUNTIF(B4:P4,\"L\")","v":3},{"$f":"COUNTIF(B4:P4,\"T\")","v":1},{"$f":"FIND(\" \",A4)","v":4},{"$f":"MID(A4,U4,99)","v":" Mohsinger"},{"$f":"IFERROR((R4+(T4/2))/SUM(R4:T4),0)","v":0.73076923076923073},1,1]
[{"$f":"Hobbs!A1","v":"Tim Hobbs"},{"$f":"Hobbs!F24","v":"L"},{"$f":"Hobbs!L24","v":"W"},{"$f":"Hobbs!R24","v":"W"},{"$f":"Hobbs!X24","v":"W"},{"$f":"Hobbs!AD24","v":"W"},{"$f":"Hobbs!AJ24","v":"W"},{"$f":"Hobbs!AP24","v":"W"},{"$f":"Hobbs!AV24","v":"L"},{"$f":"Hobbs!BB24","v":"L"},{"$f":"Hobbs!BH24","v":"W"},{"$f":"Hobbs!BN24","v":"L"},{"$f":"Hobbs!BT24","v":0},{"$f":"Hobbs!BZ24","v":"W"},{"$f":"Hobbs!CF24","v":0},{"$f":"Hobbs!CL24","v":0},null,8,4,0,4," Hobbs",0.66666666666666663,3,2]
[{"$f":"Linton!A1","v":"Andy Linton"},{"$f":"Linton!F24","v":"L"},{"$f":"Linton!L24","v":"L"},{"$f":"Linton!R24","v":"L"},{"$f":"Linton!X24","v":"W"},{"$f":"Linton!AD24","v":"W"},{"$f":"Linton!AJ24","v":"W"},{"$f":"Linton!AP24","v":"W"},{"$f":"Linton!AV24","v":"W"},{"$f":"Linton!BB24","v":"T"},{"$f":"Linton!BH24","v":"L"},{"$f":"Linton!BN24","v":"L"},{"$f":"Linton!BT24","v":"W"},{"$f":"Linton!BZ24","v":"W"},{"$f":"Linton!CF24","v":"W"},{"$f":"Linton!CL24","v":"W"},null,9,5,1,5," Linton",0.6333333333333333,"T4","T3"]
[{"$f":"Rusnak!A1","v":"Mark Rusnak"},{"$f":"Rusnak!F24","v":"W"},{"$f":"Rusnak!L24","v":"W"},{"$f":"Rusnak!R24","v":"W"},{"$f":"Rusnak!X24","v":"T"},{"$f":"Rusnak!AD24","v":"L"},{"$f":"Rusnak!AJ24","v":"W"},{"$f":"Rusnak!AP24","v":"W"},{"$f":"Rusnak!AV24","v":"T"},{"$f":"Rusnak!BB24","v":"L"},{"$f":"Rusnak!BH24","v":"W"},{"$f":"Rusnak!BN24","v":"W"},{"$f":"Rusnak!BT24","v":"T"},{"$f":"Rusnak!BZ24","v":"W"},{"$f":"Rusnak!CF24","v":"L"},{"$f":"Rusnak!CL24","v":"L"},null,8,4,3,5," Rusnak",0.6333333333333333,2,"T3"]
[{"$f":"Fusco_D!A1","v":"Dan Fusco"},{"$f":"Fusco_D!F24","v":"T"},{"$f":"Fusco_D!L24","v":"W"},{"$f":"Fusco_D!R24","v":"W"},{"$f":"Fusco_D!X24","v":"L"},{"$f":"Fusco_D!AD24","v":"W"},{"$f":"Fusco_D!AJ24","v":"W"},{"$f":"Fusco_D!AP24","v":"W"},{"$f":"Fusco_D!AV24","v":"W"},{"$f":"Fusco_D!BB24","v":"T"},{"$f":"Fusco_D!BH24","v":"L"},{"$f":"Fusco_D!BN24","v":"L"},{"$f":"Fusco_D!BT24","v":"T"},{"$f":"Fusco_D!BZ24","v":"L"},{"$f":"Fusco_D!CF24","v":"W"},{"$f":"Fusco_D!CL24","v":"T"},null,7,4,4,4," Fusco",0.6,"T4",5]
["Marty Reed",{"$f":"Reed!F24","v":0},{"$f":"Reed!L24","v":0},{"$f":"Reed!R24","v":0},{"$f":"Reed!X24","v":"W"},{"$f":"Reed!AD24","v":"T"},{"$f":"Reed!AJ24","v":"L"},{"$f":"Reed!AP24","v":"L"},{"$f":"Reed!AV24","v":"T"},{"$f":"Reed!BB24","v":"T"},{"$f":"Reed!BH24","v":"L"},{"$f":"Reed!BN24","v":"W"},{"$f":"Reed!BT24","v":"W"},{"$f":"Reed!BZ24","v":"W"},{"$f":"Reed!CF24","v":0},{"$f":"Reed!CL24","v":"W"},null,5,3,3,6," Reed",0.59090909090909094,6,6]
[{"$f":"Poston!A1","v":"Gloria Poston"},{"$f":"Poston!F24","v":"W"},{"$f":"Poston!L24","v":"L"},{"$f":"Poston!R24","v":0},{"$f":"Poston!X24","v":0},{"$f":"Poston!AD24","v":"T"},{"$f":"Poston!AJ24","v":"L"},{"$f":"Poston!AP24","v":"T"},{"$f":"Poston!AV24","v":"W"},{"$f":"Poston!BB24","v":0},{"$f":"Poston!BH24","v":"W"},{"$f":"Poston!BN24","v":"L"},{"$f":"Poston!BT24","v":"L"},{"$f":"Poston!BZ24","v":0},{"$f":"Poston!CF24","v":"W"},{"$f":"Poston!CL24","v":0},null,4,4,2,7," Poston",0.5,11,"T7"]
[{"$f":"Nichols!A1","v":"Matt Nichols"},{"$f":"Nichols!F24","v":"T"},{"$f":"Nichols!L24","v":"W"},{"$f":"Nichols!R24","v":"L"},{"$f":"Nichols!X24","v":"W"},{"$f":"Nichols!AD24","v":"W"},{"$f":"Nichols!AJ24","v":"W"},{"$f":"Nichols!AP24","v":"L"},{"$f":"Nichols!AV24","v":0},{"$f":"Nichols!BB24","v":"L"},{"$f":"Nichols!BH24","v":"L"},{"$f":"Nichols!BN24","v":0},{"$f":"Nichols!BT24","v":0},{"$f":"Nichols!BZ24","v":0},{"$f":"Nichols!CF24","v":0},{"$f":"Nichols!CL24","v":0},null,4,4,1,5," Nichols",0.5,7,"T7"]
[{"$f":"Taylor!A1","v":"Dave Taylor"},{"$f":"Taylor!F24","v":"W"},{"$f":"Taylor!L24","v":"W"},{"$f":"Taylor!R24","v":"L"},{"$f":"Taylor!X24","v":"W"},{"$f":"Taylor!AD24","v":"W"},{"$f":"Taylor!AJ24","v":"W"},{"$f":"Taylor!AP24","v":"L"},{"$f":"Taylor!AV24","v":"L"},{"$f":"Taylor!BB24","v":"L"},{"$f":"Taylor!BH24","v":"L"},{"$f":"Taylor!BN24","v":"L"},{"$f":"Taylor!BT24","v":"W"},{"$f":"Taylor!BZ24","v":"L"},{"$f":"Taylor!CF24","v":"L"},{"$f":"Taylor!CL24","v":"W"},null,7,8,0,5," Taylor",0.46666666666666667,8,9]
[{"$f":"Mohsinger_B!A1","v":"Bette Mohsinger"},{"$f":"Mohsinger_B!F24","v":"W"},{"$f":"Mohsinger_B!L24","v":"L"},{"$f":"Mohsinger_B!R24","v":"L"},{"$f":"Mohsinger_B!X24","v":"L"},{"$f":"Mohsinger_B!AD24","v":"L"},{"$f":"Mohsinger_B!AJ24","v":"W"},{"$f":"Mohsinger_B!AP24","v":"W"},{"$f":"Mohsinger_B!AV24","v":"L"},{"$f":"Mohsinger_B!BB24","v":"T"},{"$f":"Mohsinger_B!BH24","v":"W"},{"$f":"Mohsinger_B!BN24","v":"W"},{"$f":"Mohsinger_B!BT24","v":0},{"$f":"Mohsinger_B!BZ24","v":"L"},{"$f":"Mohsinger_B!CF24","v":0},{"$f":"Mohsinger_B!CL24","v":0},null,5,6,1,6," Mohsinger",0.45833333333333331,9,10]
[{"$f":"Daviero!A1","v":"Jim Daviero"},{"$f":"Daviero!F24","v":"T"},{"$f":"Daviero!L24","v":0},{"$f":"Daviero!R24","v":"W"},{"$f":"Daviero!X24","v":"L"},{"$f":"Daviero!AD24","v":"L"},{"$f":"Daviero!AJ24","v":"L"},{"$f":"Daviero!AP24","v":"T"},{"$f":"Daviero!AV24","v":"W"},{"$f":"Daviero!BB24","v":"T"},{"$f":"Daviero!BH24","v":"L"},{"$f":"Daviero!BN24","v":0},{"$f":"Daviero!BT24","v":"W"},{"$f":"Daviero!BZ24","v":0},{"$f":"Daviero!CF24","v":"L"},{"$f":"Daviero!CL24","v":"W"},null,4,5,3,4," Daviero",0.45833333333333331,10,11]
[{"$f":"McLaughlin!A1","v":"Brian McLaughlin"},{"$f":"McLaughlin!F24","v":"L"},{"$f":"McLaughlin!L24","v":"W"},{"$f":"McLaughlin!R24","v":"L"},{"$f":"McLaughlin!X24","v":0},{"$f":"McLaughlin!AD24","v":"L"},{"$f":"McLaughlin!AJ24","v":"L"},{"$f":"McLaughlin!AP24","v":"L"},{"$f":"McLaughlin!AV24","v":"W"},{"$f":"McLaughlin!BB24","v":"W"},{"$f":"McLaughlin!BH24","v":"W"},{"$f":"McLaughlin!BN24","v":"L"},{"$f":"McLaughlin!BT24","v":0},{"$f":"McLaughlin!BZ24","v":0},{"$f":"McLaughlin!CF24","v":"W"},{"$f":"McLaughlin!CL24","v":"L"},null,5,7,0,6," McLaughlin",0.41666666666666669,13,12]
[{"$f":"Palmerino!A1","v":"Dan Palmerino"},{"$f":"Palmerino!F24","v":"T"},{"$f":"Palmerino!L24","v":"L"},{"$f":"Palmerino!R24","v":0},{"$f":"Palmerino!X24","v":"T"},{"$f":"Palmerino!AD24","v":"W"},{"$f":"Palmerino!AJ24","v":"L"},{"$f":"Palmerino!AP24","v":"L"},{"$f":"Palmerino!AV24","v":"L"},{"$f":"Palmerino!BB24","v":"W"},{"$f":"Palmerino!BH24","v":0},{"$f":"Palmerino!BN24","v":"W"},{"$f":"Palmerino!BT24","v":"L"},{"$f":"Palmerino!BZ24","v":"L"},{"$f":"Palmerino!CF24","v":"L"},{"$f":"Palmerino!CL24","v":"W"},null,4,7,2,4," Palmerino",0.38461538461538464,14,13]
[{"$f":"Michalski_P!A1","v":"Pete Michalski"},{"$f":"Michalski_P!F24","v":"T"},{"$f":"Michalski_P!L24","v":"L"},{"$f":"Michalski_P!R24","v":"L"},{"$f":"Michalski_P!X24","v":"L"},{"$f":"Michalski_P!AD24","v":0},{"$f":"Michalski_P!AJ24","v":"L"},{"$f":"Michalski_P!AP24","v":"L"},{"$f":"Michalski_P!AV24","v":"L"},{"$f":"Michalski_P!BB24","v":"L"},{"$f":"Michalski_P!BH24","v":"W"},{"$f":"Michalski_P!BN24","v":"W"},{"$f":"Michalski_P!BT24","v":"W"},{"$f":"Michalski_P!BZ24","v":0},{"$f":"Michalski_P!CF24","v":"W"},{"$f":"Michalski_P!CL24","v":"L"},null,4,8,1,5," Michalski",0.34615384615384615,15,"T14"]
[{"$f":"Michalski_S!A1","v":"Sue Michalski"},{"$f":"Michalski_S!F24","v":"T"},{"$f":"Michalski_S!L24","v":"W"},{"$f":"Michalski_S!R24","v":"L"},{"$f":"Michalski_S!X24","v":"L"},{"$f":"Michalski_S!AD24","v":0},{"$f":"Michalski_S!AJ24","v":"L"},{"$f":"Michalski_S!AP24","v":"W"},{"$f":"Michalski_S!AV24","v":"L"},{"$f":"Michalski_S!BB24","v":"W"},{"$f":"Michalski_S!BH24","v":"L"},{"$f":"Michalski_S!BN24","v":"W"},{"$f":"Michalski_S!BT24","v":"L"},{"$f":"Michalski_S!BZ24","v":0},{"$f":"Michalski_S!CF24","v":"L"},{"$f":"Michalski_S!CL24","v":"L"},null,4,8,1,4," Michalski",0.34615384615384615,12,"T14"]
[{"$f":"Templeton!A1","v":"Bob Templeton"},{"$f":"Templeton!F24","v":"L"},{"$f":"Templeton!L24","v":"W"},{"$f":"Templeton!R24","v":"W"},{"$f":"Templeton!X24","v":"L"},{"$f":"Templeton!AD24","v":"L"},{"$f":"Templeton!AJ24","v":"L"},{"$f":"Templeton!AP24","v":"L"},{"$f":"Templeton!AV24","v":"W"},{"$f":"Templeton!BB24","v":"W"},{"$f":"Templeton!BH24","v":"L"},{"$f":"Templeton!BN24","v":"L"},{"$f":"Templeton!BT24","v":"L"},{"$f":"Templeton!BZ24","v":"L"},{"$f":"Templeton!CF24","v":0},{"$f":"Templeton!CL24","v":"L"},null,4,10,0,4," Templeton",0.2857142857142857,16,16]
[]
[{"$f":"#REF!","v":{"$error":"#REF!"}},{"$f":"#REF!","v":{"$error":"#REF!"}},{"$f":"#REF!","v":{"$error":"#REF!"}},{"$f":"#REF!","v":{"$error":"#REF!"}},{"$f":"#REF!","v":{"$error":"#REF!"}},{"$f":"#REF!","v":{"$error":"#REF!"}},{"$f":"#REF!","v":{"$error":"#REF!"}},{"$f":"#REF!","v":{"$error":"#REF!"}},{"$f":"#REF!","v":{"$error":"#REF!"}},{"$f":"#REF!","v":{"$error":"#REF!"}},{"$f":"#REF!","v":{"$error":"#REF!"}},{"$f":"#REF!","v":{"$error":"#REF!"}},{"$f":"#REF!","v":{"$error":"#REF!"}},{"$f":"#REF!","v":{"$error":"#REF!"}},{"$f":"#REF!","v":{"$error":"#REF!"}},{"$f":"#REF!","v":{"$error":"#REF!"}},null,{"$f":"COUNTIF(B21:P21,\"W\")","v":0},{"$f":"COUNTIF(B21:P21,\"L\")","v":0},{"$f":"COUNTIF(B21:P21,\"T\")","v":0},{"$f":"FIND(\" \",A21)","v":{"$error":"#REF!"}},{"$f":"MID(A21,U21,99)","v":{"$error":"#REF!"}},{"$f":"(R21+(T21/2))/SUM(R21:T21)","v":{"$error":"#DIV/0!"}}]
[{"$f":"#REF!","v":{"$error":"#REF!"}},{"$f":"#REF!","v":{"$error":"#REF!"}},{"$f":"#REF!","v":{"$error":"#REF!"}},{"$f":"#REF!","v":{"$error":"#REF!"}},{"$f":"#REF!","v":{"$error":"#REF!"}},{"$f":"#REF!","v":{"$error":"#REF!"}},{"$f":"#REF!","v":{"$error":"#REF!"}},{"$f":"#REF!","v":{"$error":"#REF!"}},{"$f":"#REF!","v":{"$error":"#REF!"}},{"$f":"#REF!","v":{"$error":"#REF!"}},{"$f":"#REF!","v":{"$error":"#REF!"}},{"$f":"#REF!","v":{"$error":"#REF!"}},{"$f":"#REF!","v":{"$error":"#REF!"}},{"$f":"#REF!","v":{"$error":"#REF!"}},{"$f":"#REF!","v":{"$error":"#REF!"}},{"$f":"#REF!","v":{"$error":"#REF!"}},null,{"$f":"COUNTIF(B22:P22,\"W\")","v":0},{"$f":"COUNTIF(B22:P22,\"L\")","v":0},{"$f":"COUNTIF(B22:P22,\"T\")","v":0},{"$f":"FIND(\" \",A22)","v":{"$error":"#REF!"}},{"$f":"MID(A22,U22,99)","v":{"$error":"#REF!"}},{"$f":"(R22+(T22/2))/SUM(R22:T22)","v":{"$error":"#DIV/0!"}}]
[{"$f":"#REF!","v":{"$error":"#REF!"}},{"$f":"#REF!","v":{"$error":"#REF!"}},{"$f":"#REF!","v":{"$error":"#REF!"}},{"$f":"#REF!","v":{"$error":"#REF!"}},{"$f":"#REF!","v":{"$error":"#REF!"}},{"$f":"#REF!","v":{"$error":"#REF!"}},{"$f":"#REF!","v":{"$error":"#REF!"}},{"$f":"#REF!","v":{"$error":"#REF!"}},{"$f":"#REF!","v":{"$error":"#REF!"}},{"$f":"#REF!","v":{"$error":"#REF!"}},{"$f":"#REF!","v":{"$error":"#REF!"}},{"$f":"#REF!","v":{"$error":"#REF!"}},{"$f":"#REF!","v":{"$error":"#REF!"}},{"$f":"#REF!","v":{"$error":"#REF!"}},{"$f":"#REF!","v":{"$error":"#REF!"}},{"$f":"#REF!","v":{"$error":"#REF!"}},null,{"$f":"COUNTIF(B23:P23,\"W\")","v":0},{"$f":"COUNTIF(B23:P23,\"L\")","v":0},{"$f":"COUNTIF(B23:P23,\"T\")","v":0},{"$f":"FIND(\" \",A23)","v":{"$error":"#REF!"}},{"$error":"#REF!"},{"$error":"#DIV/0!"}]
[{"$f":"#REF!","v":{"$error":"#REF!"}},{"$f":"#REF!","v":{"$error":"#REF!"}},{"$f":"#REF!","v":{"$error":"#REF!"}},{"$f":"#REF!","v":{"$error":"#REF!"}},{"$f":"#REF!","v":{"$error":"#REF!"}},{"$f":"#REF!","v":{"$error":"#REF!"}},{"$f":"#REF!","v":{"$error":"#REF!"}},{"$f":"#REF!","v":{"$error":"#REF!"}},{"$f":"#REF!","v":{"$error":"#REF!"}},{"$f":"#REF!","v":{"$error":"#REF!"}},{"$f":"#REF!","v":{"$error":"#REF!"}},{"$f":"#REF!","v":{"$error":"#REF!"}},{"$f":"#REF!","v":{"$error":"#REF!"}},{"$f":"#REF!","v":{"$error":"#REF!"}},{"$f":"#REF!","v":{"$error":"#REF!"}},{"$f":"#REF!","v":{"$error":"#REF!"}},null,0,0,0,{"$error":"#REF!"},{"$error":"#REF!"},{"$error":"#DIV/0!"}]
[{"$f":"#REF!","v":{"$error":"#REF!"}},{"$f":"#REF!","v":{"$error":"#REF!"}},{"$f":"#REF!","v":{"$error":"#REF!"}},{"$f":"#REF!","v":{"$error":"#REF!"}},{"$f":"#REF!","v":{"$error":"#REF!"}},{"$f":"#REF!","v":{"$error":"#REF!"}},{"$f":"#REF!","v":{"$error":"#REF!"}},{"$f":"#REF!","v":{"$error":"#REF!"}},{"$f":"#REF!","v":{"$error":"#REF!"}},{"$f":"#REF!","v":{"$error":"#REF!"}},{"$f":"#REF!","v":{"$error":"#REF!"}},{"$f":"#REF!","v":{"$error":"#REF!"}},{"$f":"#REF!","v":{"$error":"#REF!"}},{"$f":"#REF!","v":{"$error":"#REF!"}},{"$f":"#REF!","v":{"$error":"#REF!"}},{"$f":"#REF!","v":{"$error":"#REF!"}},null,0,0,0,1,{"$error":"#REF!"},{"$error":"#DIV/0!"}]
[{"$f":"#REF!","v":{"$error":"#REF!"}},{"$f":"#REF!","v":{"$error":"#REF!"}},{"$f":"#REF!","v":{"$error":"#REF!"}},{"$f":"#REF!","v":{"$error":"#REF!"}},{"$f":"#REF!","v":{"$error":"#REF!"}},{"$f":"#REF!","v":{"$error":"#REF!"}},{"$f":"#REF!","v":{"$error":"#REF!"}},{"$f":"#REF!","v":{"$error":"#REF!"}},{"$f":"#REF!","v":{"$error":"#REF!"}},{"$f":"#REF!","v":{"$error":"#REF!"}},{"$f":"#REF!","v":{"$error":"#REF!"}},{"$f":"#REF!","v":{"$error":"#REF!"}},{"$f":"#REF!","v":{"$error":"#REF!"}},{"$f":"#REF!","v":{"$error":"#REF!"}},{"$f":"#REF!","v":{"$error":"#REF!"}},{"$f":"#REF!","v":{"$error":"#REF!"}},null,0,0,0,1,{"$error":"#REF!"},{"$error":"#DIV/0!"}]
[{"$f":"#REF!","v":{"$error":"#REF!"}},{"$f":"#REF!","v":{"$error":"#REF!"}},{"$f":"#REF!","v":{"$error":"#REF!"}},{"$f":"#REF!","v":{"$error":"#REF!"}},{"$f":"#REF!","v":{"$error":"#REF!"}},{"$f":"#REF!","v":{"$error":"#REF!"}},{"$f":"#REF!","v":{"$error":"#REF!"}},{"$f":"#REF!","v":{"$error":"#REF!"}},{"$f":"#REF!","v":{"$error":"#REF!"}},{"$f":"#REF!","v":{"$error":"#REF!"}},{"$f":"#REF!","v":{"$error":"#REF!"}},{"$f":"#REF!","v":{"$error":"#REF!"}},{"$f":"#REF!","v":{"$error":"#REF!"}},{"$f":"#REF!","v":{"$error":"#REF!"}},{"$f":"#REF!","v":{"$error":"#REF!"}},{"$f":"#REF!","v":{"$error":"#REF!"}},null,0,0,0,1,{"$error":"#REF!"},{"$error":"#DIV/0!"}]
[{"$f":"#REF!","v":{"$error":"#REF!"}},{"$f":"#REF!","v":{"$error":"#REF!"}},{"$f":"#REF!","v":{"$error":"#REF!"}},{"$f":"#REF!","v":{"$error":"#REF!"}},{"$f":"#REF!","v":{"$error":"#REF!"}},{"$f":"#REF!","v":{"$error":"#REF!"}},{"$f":"#REF!","v":{"$error":"#REF!"}},{"$f":"#REF!","v":{"$error":"#REF!"}},{"$f":"#REF!","v":{"$error":"#REF!"}},{"$f":"#REF!","v":{"$error":"#REF!"}},{"$f":"#REF!","v":{"$error":"#REF!"}},{"$f":"#REF!","v":{"$error":"#REF!"}},{"$f":"#REF!","v":{"$error":"#REF!"}},{"$f":"#REF!","v":{"$error":"#REF!"}},{"$f":"#REF!","v":{"$error":"#REF!"}},{"$f":"#REF!","v":{"$error":"#REF!"}},null,0,0,0,{"$error":"#REF!"},{"$error":"#REF!"},{"$error":"#DIV/0!"}]
[{"$f":"#REF!","v":{"$error":"#REF!"}},{"$f":"#REF!","v":{"$error":"#REF!"}},{"$f":"#REF!","v":{"$error":"#REF!"}},{"$f":"#REF!","v":{"$error":"#REF!"}},{"$f":"#REF!","v":{"$error":"#REF!"}},{"$f":"#REF!","v":{"$error":"#REF!"}},{"$f":"#REF!","v":{"$error":"#REF!"}},{"$f":"#REF!","v":{"$error":"#REF!"}},{"$f":"#REF!","v":{"$error":"#REF!"}},{"$f":"#REF!","v":{"$error":"#REF!"}},{"$f":"#REF!","v":{"$error":"#REF!"}},{"$f":"#REF!","v":{"$error":"#REF!"}},{"$f":"#REF!","v":{"$error":"#REF!"}},{"$f":"#REF!","v":{"$error":"#REF!"}},{"$f":"#REF!","v":{"$error":"#REF!"}},{"$f":"#REF!","v":{"$error":"#REF!"}},null,0,0,0,{"$error":"#REF!"},{"$error":"#REF!"},{"$error":"#DIV/0!"}]

{"sheet":"Daviero","index":5,"n_rows":218,"n_cols":90,"rows_kept":218,"cut":false,"hidden":false,"merged":[]}
["Jim Daviero"]
[]
[]
[null,null,"Date:",{"$f":"VLOOKUP(C5,Week,2)","v":"2024-04-26"},null,null,null,null,"Date:",{"$f":"VLOOKUP(I5,Week,2)","v":"2024-05-03"},null,null,null,null,"Date:",{"$f":"VLOOKUP(O5,Week,2)","v":"2024-05-10"},null,null,null,null,"Date:",{"$f":"VLOOKUP(U5,Week,2)","v":"2024-05-17"},null,null,null,null,"Date:",{"$f":"VLOOKUP(AA5,Week,2)","v":"2024-05-24"},null,null,null,null,"Date:",{"$f":"VLOOKUP(AG5,Week,2)","v":"2024-05-31"},null,null,null,null,"Date:",{"$f":"VLOOKUP(AM5,Week,2)","v":"2024-06-07"},null,null,null,null,"Date:",{"$f":"VLOOKUP(AS5,Week,2)","v":"2024-06-14"},null,null,null,null,"Date:",{"$f":"VLOOKUP(AY5,Week,2)","v":"2024-07-05"},null,null,null,null,"Date:",{"$f":"VLOOKUP(BE5,Week,2)","v":"2024-07-12"},null,null,null,null,"Date:",{"$f":"VLOOKUP(BK5,Week,2)","v":"2024-07-19"},null,null,null,null,"Date:",{"$f":"VLOOKUP(BQ5,Week,2)","v":"2024-07-26"},null,null,null,null,"Date:",{"$f":"VLOOKUP(BW5,Week,2)","v":"2024-08-02"},null,null,null,null,"Date:",{"$f":"VLOOKUP(CC5,Week,2)","v":"2024-08-16"},null,null,null,null,"Date:",{"$f":"VLOOKUP(CI5,Week,2)","v":"2024-08-23"}]
[null,"Week",1,null,null,null,null,"Week",2,null,null,null,null,"Week",3,null,null,null,null,"Week",4,null,null,null,null,"Week",5,null,null,null,null,"Week",6,null,null,null,null,"Week",7,null,null,null,null,"Week",8,null,null,null,null,"Week",9,null,null,null,null,"Week",10,null,null,null,null,"Week",11,null,null,null,null,"Week",12,null,null,null,null,"Week",13,null,null,null,null,"Week",14,null,null,null,null,"Week",15]
[null,"Hole #","Par","Score","Net","Win Hole",null,"Hole #","Par","Score","Net","Win Hole",null,"Hole #","Par","Score","Net","Win Hole",null,"Hole #","Par","Score","Net","Win Hole",null,"Hole #","Par","Score","Net","Win Hole",null,"Hole #","Par","Score","Net","Win Hole",null,"Hole #","Par","Score","Net","Win Hole",null,"Hole #","Par","Score","Net","Win Hole",null,"Hole #","Par","Score","Net","Win Hole",null,"Hole #","Par","Score","Net","Win Hole",null,"Hole #","Par","Score","Net","Win Hole",null,"Hole #","Par","Score","Net","Win Hole",null,"Hole #","Par","Score","Net","Win Hole",null,"Hole #","Par","Score","Net","Win Hole",null,"Hole #","Par","Score","Net","Win Hole"]
[null,{"$f":"VLOOKUP(C5,Week,6)","v":1},{"$f":"VLOOKUP(B7,Holes,2)","v":4},5,{"$f":"IF((D7-C7)>3,C7+3,D7)","v":5},1,null,{"$f":"VLOOKUP(I5,Week,6)","v":10},{"$f":"VLOOKUP(H7,Holes,2)","v":4},null,{"$f":"IF((J7-I7)>3,I7+3,J7)","v":0},null,null,{"$f":"VLOOKUP(O5,Week,6)","v":1},{"$f":"VLOOKUP(N7,Holes,2)","v":4},5,{"$f":"IF((P7-O7)>3,O7+3,P7)","v":5},0,null,{"$f":"VLOOKUP(U5,Week,6)","v":10},{"$f":"VLOOKUP(T7,Holes,2)","v":4},5,{"$f":"IF((V7-U7)>3,U7+3,V7)","v":5},0.5,null,{"$f":"VLOOKUP(AA5,Week,6)","v":1},{"$f":"VLOOKUP(Z7,Holes,2)","v":4},5,{"$f":"IF((AB7-AA7)>3,AA7+3,AB7)","v":5},0.5,null,{"$f":"VLOOKUP(AG5,Week,6)","v":10},{"$f":"VLOOKUP(AF7,Holes,2)","v":4},5,{"$f":"IF((AH7-AG7)>3,AG7+3,AH7)","v":5},0.5,null,{"$f":"VLOOKUP(AM5,Week,6)","v":1},{"$f":"VLOOKUP(AL7,Holes,2)","v":4},6,{"$f":"IF((AN7-AM7)>3,AM7+3,AN7)","v":6},0,null,{"$f":"VLOOKUP(AS5,Week,6)","v":10},{"$f":"VLOOKUP(AR7,Holes,2)","v":4},5,{"$f":"IF((AT7-AS7)>3,AS7+3,AT7)","v":5},1,null,{"$f":"VLOOKUP(AY5,Week,6)","v":1},{"$f":"VLOOKUP(AX7,Holes,2)","v":4},5,{"$f":"IF((AZ7-AY7)>3,AY7+3,AZ7)","v":5},0,null,{"$f":"VLOOKUP(BE5,Week,6)","v":10},{"$f":"VLOOKUP(BD7,Holes,2)","v":4},4,{"$f":"IF((BF7-BE7)>3,BE7+3,BF7)","v":4},0.5,null,{"$f":"VLOOKUP(BK5,Week,6)","v":1},{"$f":"VLOOKUP(BJ7,Holes,2)","v":4},null,{"$f":"IF((BL7-BK7)>3,BK7+3,BL7)","v":0},null,null,{"$f":"VLOOKUP(BQ5,Week,6)","v":10},{"$f":"VLOOKUP(BP7,Holes,2)","v":4},5,{"$f":"IF((BR7-BQ7)>3,BQ7+3,BR7)","v":5},1,null,{"$f":"VLOOKUP(BW5,Week,6)","v":1},{"$f":"VLOOKUP(BV7,Holes,2)","v":4},null,{"$f":"IF((BX7-BW7)>3,BW7+3,BX7)","v":0},null,null,{"$f":"VLOOKUP(CC5,Week,6)","v":1},{"$f":"VLOOKUP(CB7,Holes,2)","v":4},6,{"$f":"IF((CD7-CC7)>3,CC7+3,CD7)","v":6},0,null,{"$f":"VLOOKUP(CI5,Week,6)","v":10},{"$f":"VLOOKUP(CH7,Holes,2)","v":4},4,{"$f":"IF((CJ7-CI7)>3,CI7+3,CJ7)","v":4},1]
[null,{"$f":"+B7+1","v":2},4,4,4,0.5,null,{"$f":"+H7+1","v":11},4,null,0,null,null,{"$f":"+N7+1","v":2},4,5,5,1,null,{"$f":"+T7+1","v":11},4,6,6,0.5,null,{"$f":"+Z7+1","v":2},4,6,6,0,null,{"$f":"+AF7+1","v":11},4,5,5,0,null,{"$f":"+AL7+1","v":2},4,5,5,1,null,{"$f":"+AR7+1","v":11},4,4,4,1,null,{"$f":"+AX7+1","v":2},4,5,5,1,null,{"$f":"+BD7+1","v":11},4,6,6,0,null,{"$f":"+BJ7+1","v":2},4,null,0,null,null,{"$f":"+BP7+1","v":11},4,5,5,0.5,null,{"$f":"+BV7+1","v":2},4,null,0,null,null,{"$f":"+CB7+1","v":2},4,7,7,0.5,null,{"$f":"+CH7+1","v":11},4,4,4,1]
[null,3,3,3,3,1,null,12,4,null,0,null,null,3,3,4,4,1,null,12,4,5,5,0.5,null,3,3,4,4,0.5,null,12,4,5,5,0,null,3,3,3,3,0.5,null,12,4,5,5,1,null,3,3,3,3,0.5,null,12,4,6,6,0.5,null,3,3,null,0,null,null,12,4,5,5,1,null,3,3,null,0,null,null,3,3,4,4,0.5,null,12,4,5,5,0.5]
[null,4,4,5,5,0.5,null,13,5,null,0,null,null,4,4,5,5,1,null,13,5,6,6,0.5,null,4,4,6,6,0,null,13,5,6,6,0,null,4,4,5,5,1,null,13,5,6,6,0.5,null,4,4,8,7,0,null,13,5,6,6,1,null,4,4,null,0,null,null,13,5,4,4,1,null,4,4,null,0,null,null,4,4,5,5,0.5,null,13,5,6,6,1]
[null,5,5,8,8,0,null,14,3,null,0,null,null,5,5,5,5,1,null,14,3,4,4,0.5,null,5,5,5,5,0.5,null,14,3,4,4,0,null,5,5,6,6,0.5,null,14,3,3,3,1,null,5,5,6,6,0.5,null,14,3,5,5,0,null,5,5,null,0,null,null,14,3,4,4,1,null,5,5,null,0,null,null,5,5,6,6,0,null,14,3,4,4,1]
[null,6,3,4,4,0,null,15,4,null,0,null,null,6,3,4,4,1,null,15,4,6,6,0,null,6,3,6,6,0,null,15,4,5,5,1,null,6,3,3,3,1,null,15,4,4,4,1,null,6,3,4,4,0.5,null,15,4,4,4,1,null,6,3,null,0,null,null,15,4,5,5,0.5,null,6,3,null,0,null,null,6,3,3,3,0.5,null,15,4,6,6,0]
[null,7,4,5,5,0,null,16,4,null,0,null,null,7,4,6,6,0,null,16,4,4,4,1,null,7,4,5,5,0,null,16,4,5,5,0.5,null,7,4,5,5,0.5,null,16,4,6,6,0,null,7,4,4,4,1,null,16,4,5,5,0,null,7,4,null,0,null,null,16,4,6,6,0,null,7,4,null,0,null,null,7,4,4,4,1,null,16,4,5,5,0]
[null,8,4,5,5,0.5,null,17,3,null,0,null,null,8,4,6,6,0.5,null,17,3,4,4,0,null,8,4,5,5,0.5,null,17,3,4,4,0.5,null,8,4,6,6,0,null,17,3,4,4,1,null,8,4,5,5,0,null,17,3,4,4,0,null,8,4,null,0,null,null,17,3,5,5,0,null,8,4,null,0,null,null,8,4,6,6,0,null,17,3,5,5,1]
[null,9,5,6,6,1,null,18,5,null,0,null,null,9,5,6,6,1,null,18,5,7,7,0.5,null,9,5,5,5,0.5,null,18,5,5,5,1,null,9,5,5,5,0,null,18,5,6,6,0.5,null,9,5,6,6,1,null,18,5,5,5,0.5,null,9,5,null,0,null,null,18,5,6,6,0.5,null,9,5,null,0,null,null,9,5,6,6,1,null,18,5,7,7,0]
[null,"Total",{"$f":"SUM(C7:C15)","v":36},{"$f":"SUM(D7:D15)","v":45},{"$f":"SUM(E7:E15)","v":45},{"$f":"SUM(F7:F15)","v":4.5},null,"Total",{"$f":"SUM(I7:I15)","v":36},{"$f":"SUM(J7:J15)","v":0},{"$f":"SUM(K7:K15)","v":0},{"$f":"SUM(L7:L15)","v":0},null,"Total",{"$f":"SUM(O7:O15)","v":36},{"$f":"SUM(P7:P15)","v":46},{"$f":"SUM(Q7:Q15)","v":46},{"$f":"SUM(R7:R15)","v":6.5},null,"Total",{"$f":"SUM(U7:U15)","v":36},{"$f":"SUM(V7:V15)","v":47},{"$f":"SUM(W7:W15)","v":47},{"$f":"SUM(X7:X15)","v":4},null,"Total",{"$f":"SUM(AA7:AA15)","v":36},{"$f":"SUM(AB7:AB15)","v":47},{"$f":"SUM(AC7:AC15)","v":47},{"$f":"SUM(AD7:AD15)","v":2.5},null,"Total",{"$f":"SUM(AG7:AG15)","v":36},{"$f":"SUM(AH7:AH15)","v":44},{"$f":"SUM(AI7:AI15)","v":44},{"$f":"SUM(AJ7:AJ15)","v":3.5},null,"Total",{"$f":"SUM(AM7:AM15)","v":36},{"$f":"SUM(AN7:AN15)","v":44},{"$f":"SUM(AO7:AO15)","v":44},{"$f":"SUM(AP7:AP15)","v":4.5},null,"Total",{"$f":"SUM(AS7:AS15)","v":36},{"$f":"SUM(AT7:AT15)","v":43},{"$f":"SUM(AU7:AU15)","v":43},{"$f":"SUM(AV7:AV15)","v":7},null,"Total",{"$f":"SUM(AY7:AY15)","v":36},{"$f":"SUM(AZ7:AZ15)","v":46},{"$f":"SUM(BA7:BA15)","v":45},{"$f":"SUM(BB7:BB15)","v":4.5},null,"Total",{"$f":"SUM(BE7:BE15)","v":36},{"$f":"SUM(BF7:BF15)","v":45},{"$f":"SUM(BG7:BG15)","v":45},{"$f":"SUM(BH7:BH15)","v":3.5},null,"Total",{"$f":"SUM(BK7:BK15)","v":36},{"$f":"SUM(BL7:BL15)","v":0},{"$f":"SUM(BM7:BM15)","v":0},{"$f":"SUM(BN7:BN15)","v":0},null,"Total",{"$f":"SUM(BQ7:BQ15)","v":36},{"$f":"SUM(BR7:BR15)","v":45},{"$f":"SUM(BS7:BS15)","v":45},{"$f":"SUM(BT7:BT15)","v":5.5},null,"Total",{"$f":"SUM(BW7:BW15)","v":36},{"$f":"SUM(BX7:BX15)","v":0},{"$f":"SUM(BY7:BY15)","v":0},{"$f":"SUM(BZ7:BZ15)","v":0},null,"Total",{"$f":"SUM(CC7:CC15)","v":36},{"$f":"SUM(CD7:CD15)","v":47},{"$f":"SUM(CE7:CE15)","v":47},{"$f":"SUM(CF7:CF15)","v":4},null,"Total",{"$f":"SUM(CI7:CI15)","v":36},{"$f":"SUM(CJ7:CJ15)","v":46},{"$f":"SUM(CK7:CK15)","v":46},{"$f":"SUM(CL7:CL15)","v":5.5}]
[]
[null,null,null,null,"Low Net",0.5,null,null,null,null,"Low Net",0,null,null,null,null,"Low Net",1,null,null,null,null,"Low Net",0.5,null,null,null,null,"Low Net",0,null,null,null,null,"Low Net",0,null,null,null,null,"Low Net",1,null,null,null,null,"Low Net",1,null,null,null,null,"Low Net",0,null,null,null,null,"Low Net",0,null,null,null,null,"Low Net",null,null,null,null,null,"Low Net",1,null,null,null,null,"Low Net",null,null,null,null,null,"Low Net",0,null,null,null,null,"Low Net",0.5]
[]
[null,null,null,null,"Total Points",{"$f":"SUM(F16:F19)","v":5},null,null,null,null,"Total Points",{"$f":"SUM(L16:L19)","v":0},null,null,null,null,"Total Points",{"$f":"SUM(R16:R19)","v":7.5},null,null,null,null,"Total Points",{"$f":"SUM(X16:X19)","v":4.5},null,null,null,null,"Total Points",{"$f":"SUM(AD16:AD19)","v":2.5},null,null,null,null,"Total Points",{"$f":"SUM(AJ16:AJ19)","v":3.5},null,null,null,null,"Total Points",{"$f":"SUM(AP16:AP19)","v":5.5},null,null,null,null,"Total Points",{"$f":"SUM(AV16:AV19)","v":8},null,null,null,null,"Total Points",{"$f":"SUM(BB16:BB19)","v":4.5},null,null,null,null,"Total Points",{"$f":"SUM(BH16:BH19)","v":3.5},null,null,null,null,"Total Points",{"$f":"SUM(BN16:BN19)","v":0},null,null,null,null,"Total Points",{"$f":"SUM(BT16:BT19)","v":6.5},null,null,null,null,"Total Points",{"$f":"SUM(BZ16:BZ19)","v":0},null,null,null,null,"Total Points",{"$f":"SUM(CF16:CF19)","v":4},null,null,null,null,"Total Points",{"$f":"SUM(CL16:CL19)","v":6}]
[]
[null,null,null,null,"Handicap",{"$f":"IF(D16=0,0,E16-C16)","v":9},null,null,null,null,"Handicap",{"$f":"IF(J16=0,0,K16-I16)","v":0},null,null,null,null,"Handicap",{"$f":"IF(P16=0,0,Q16-O16)","v":10},null,null,null,null,"Handicap",{"$f":"IF(V16=0,0,W16-U16)","v":11},null,null,null,null,"Handicap",{"$f":"IF(AB16=0,0,AC16-AA16)","v":11},null,null,null,null,"Handicap",{"$f":"IF(AH16=0,0,AI16-AG16)","v":8},null,null,null,null,"Handicap",{"$f":"IF(AN16=0,0,AO16-AM16)","v":8},null,null,null,null,"Handicap",{"$f":"IF(AT16=0,0,AU16-AS16)","v":7},null,null,null,null,"Handicap",{"$f":"IF(AZ16=0,0,BA16-AY16)","v":9},null,null,null,null,"Handicap",{"$f":"IF(BF16=0,0,BG16-BE16)","v":9},null,null,null,null,"Handicap",{"$f":"IF(BL16=0,0,BM16-BK16)","v":0},null,null,null,null,"Handicap",{"$f":"IF(BR16=0,0,BS16-BQ16)","v":9},null,null,null,null,"Handicap",{"$f":"IF(BX16=0,0,BY16-BW16)","v":0},null,null,null,null,"Handicap",{"$f":"IF(CD16=0,0,CE16-CC16)","v":11},null,null,null,null,"Handicap",{"$f":"IF(CJ16=0,0,CK16-CI16)","v":10}]
[]
[null,null,null,null,null,{"$f":"IF(D16<>0,IF(F16>4.5,\"W\",IF(F16=4.5,\"T\",IF(F16<4.5,\"L\"))),0)","v":"T"},null,null,null,null,null,{"$f":"IF(J16<>0,IF(L16>4.5,\"W\",IF(L16=4.5,\"T\",IF(L16<4.5,\"L\"))),0)","v":0},null,null,null,null,null,{"$f":"IF(P16<>0,IF(R16>4.5,\"W\",IF(R16=4.5,\"T\",IF(R16<4.5,\"L\"))),0)","v":"W"},null,null,null,null,null,{"$f":"IF(V16<>0,IF(X16>4.5,\"W\",IF(X16=4.5,\"T\",IF(X16<4.5,\"L\"))),0)","v":"L"},null,null,null,null,null,{"$f":"IF(AB16<>0,IF(AD16>4.5,\"W\",IF(AD16=4.5,\"T\",IF(AD16<4.5,\"L\"))),0)","v":"L"},null,null,null,null,null,{"$f":"IF(AH16<>0,IF(AJ16>4.5,\"W\",IF(AJ16=4.5,\"T\",IF(AJ16<4.5,\"L\"))),0)","v":"L"},null,null,null,null,null,{"$f":"IF(AN16<>0,IF(AP16>4.5,\"W\",IF(AP16=4.5,\"T\",IF(AP16<4.5,\"L\"))),0)","v":"T"},null,null,null,null,null,{"$f":"IF(AT16<>0,IF(AV16>4.5,\"W\",IF(AV16=4.5,\"T\",IF(AV16<4.5,\"L\"))),0)","v":"W"},null,null,null,null,null,{"$f":"IF(AZ16<>0,IF(BB16>4.5,\"W\",IF(BB16=4.5,\"T\",IF(BB16<4.5,\"L\"))),0)","v":"T"},null,null,null,null,null,{"$f":"IF(BF16<>0,IF(BH16>4.5,\"W\",IF(BH16=4.5,\"T\",IF(BH16<4.5,\"L\"))),0)","v":"L"},null,null,null,null,null,{"$f":"IF(BL16<>0,IF(BN16>4.5,\"W\",IF(BN16=4.5,\"T\",IF(BN16<4.5,\"L\"))),0)","v":0},null,null,null,null,null,{"$f":"IF(BR16<>0,IF(BT16>4.5,\"W\",IF(BT16=4.5,\"T\",IF(BT16<4.5,\"L\"))),0)","v":"W"},null,null,null,null,null,{"$f":"IF(BX16<>0,IF(BZ16>4.5,\"W\",IF(BZ16=4.5,\"T\",IF(BZ16<4.5,\"L\"))),0)","v":0},null,null,null,null,null,{"$f":"IF(CD16<>0,IF(CF16>4.5,\"W\",IF(CF16=4.5,\"T\",IF(CF16<4.5,\"L\"))),0)","v":"L"},null,null,null,null,null,{"$f":"IF(CJ16<>0,IF(CL16>4.5,\"W\",IF(CL16=4.5,\"T\",IF(CL16<4.5,\"L\"))),0)","v":"W"}]
[]
[null,"Summary",null,{"$f":"COUNT(D29:D43)","v":10}]
[null,null,null,"Adj",null,"Adj",null,null,null,"Avg Score"]
[null,null,"Points","Points","Matches","Matches",null,null,"Hole #","by Hole","Best","Worst"]
[null,"Week #1",{"$f":"F20","v":5},{"$f":"C29","v":5},{"$f":"IF(D16>0,1,0)","v":1},{"$f":"E29","v":1},null,null,1,{"$f":"IFERROR(AVERAGE(D7,P7,AB7,AN7,AZ7,BL7,BX7,CD7),0)","v":5.333333333333333},{"$f":"IFERROR(MIN(D7,P7,AB7,AN7,AZ7,BL7,BX7,CD7),0)","v":5},{"$f":"IFERROR(MAX(D7,P7,AB7,AN7,AZ7,BL7,BX7,CD7),0)","v":6}]
[null,"Week #2",{"$f":"L20","v":0},null,{"$f":"IF(J16>0,1,0)","v":0},0,null,null,2,{"$f":"IFERROR(AVERAGE(D8,P8,AB8,AN8,AZ8,BL8,BX8,CD8),0)","v":5.333333333333333},{"$f":"IFERROR(MIN(D8,P8,AB8,AN8,AZ8,BL8,BX8,CD8),0)","v":4},{"$f":"IFERROR(MAX(D8,P8,AB8,AN8,AZ8,BL8,BX8,CD8),0)","v":7}]
[null,"Week #3",{"$f":"R20","v":7.5},7.5,{"$f":"IF(P16>0,1,0)","v":1},1,null,null,3,3.5,3,4]
[null,"Week #4",{"$f":"X20","v":4.5},4.5,{"$f":"IF(V16>0,1,0)","v":1},1,null,null,4,5.666666666666667,5,8]
[null,"Week #5",{"$f":"AD20","v":2.5},null,{"$f":"IF(AB16>0,1,0)","v":1},1,null,null,5,6,5,8]
[null,"Week #6",{"$f":"AJ20","v":3.5},null,{"$f":"IF(AH16>0,1,0)","v":1},1,null,null,6,4,3,6]
[null,"Week #7",{"$f":"AP20","v":5.5},5.5,{"$f":"IF(AN16>0,1,0)","v":1},1,null,null,7,4.833333333333333,4,6]
[null,"Week #8",{"$f":"AV20","v":8},8,{"$f":"IF(AT16>0,1,0)","v":1},1,null,null,8,5.5,5,6]
[null,"Week #9",{"$f":"BB20","v":4.5},4.5,{"$f":"IF(AZ16>0,1,0)","v":1},1,null,null,9,5.666666666666667,5,6]
[null,"Week #10",{"$f":"BH20","v":3.5},3.5,{"$f":"IF(BF16>0,1,0)","v":1},1,null,null,"Front",{"$f":"SUM(J29:J37)","v":45.833333333333329},{"$f":"SUM(K29:K37)","v":39},57]
[null,"Week #11",{"$f":"BN20","v":0},null,{"$f":"IF(BL16>0,1,0)","v":0},0]
[null,"Week #12",{"$f":"BT20","v":6.5},6.5,{"$f":"IF(BR16>0,1,0)","v":1},1,null,null,10,{"$f":"IFERROR(AVERAGE(J7,V7,AH7,AT7,BF7,BR7,CJ7),0)","v":4.666666666666667},{"$f":"IFERROR(MIN(J7,V7,AH7,AT7,BF7,BR7,CJ7),0)","v":4},{"$f":"IFERROR(MAX(J7,V7,AH7,AT7,BF7,BR7,CJ7),0)","v":5}]
[null,"Week #13",{"$f":"BZ20","v":0},null,{"$f":"IF(BX16>0,1,0)","v":0},0,null,null,11,{"$f":"IFERROR(AVERAGE(J8,V8,AH8,AT8,BF8,BR8,CJ8),0)","v":5},{"$f":"IFERROR(MIN(J8,V8,AH8,AT8,BF8,BR8,CJ8),0)","v":4},{"$f":"IFERROR(MAX(J8,V8,AH8,AT8,BF8,BR8,CJ8),0)","v":6}]
[null,"Week #14",{"$f":"CF20","v":4},4,{"$f":"IF(CD16>0,1,0)","v":1},1,null,null,12,5.166666666666667,5,6]
[null,"Week #15",{"$f":"CL20","v":6},6,{"$f":"IF(CJ16>0,1,0)","v":1},1,null,null,13,5.666666666666667,4,6]
[null,"Total",{"$f":"SUM(C29:C43)","v":61},{"$f":"SUM(D29:D43)","v":55},{"$f":"SUM(E29:E43)","v":12},{"$f":"SUM(F29:F43)","v":12},null,null,14,4,3,5]
[null,null,null,null,null,null,null,null,15,5,4,6]
[null,"Summary",null,null,null,null,null,null,16,5.166666666666667,4,6]
[null,"Eagles",{"$f":"I57+I68+I79+I90+I101+I112+I123+I134+I145+I156+I167+I178+I189+I200+I211","v":0},null,null,null,null,null,17,4.333333333333333,4,5]
[null,"Birdies",1,null,null,null,null,null,18,6,5,7]
[null,"Pars",{"$f":"I59+I70+I81+I92+I103+I114+I125+I136+I147+I158+I169+I180+I191+I202+I213","v":22},null,null,null,null,null,"Back",{"$f":"SUM(J40:J48)","v":45.000000000000007},{"$f":"SUM(K40:K48)","v":37},52]
[null,"bogeys",61]
[null,"Double bogeys",20]
[null,"Other",4]
[null,"Total",{"$f":"SUM(C47:C52)","v":108}]
[]
[null,{"$f":"D4","v":"2024-04-26"},"Par","Score"]
[null,{"$f":"B7","v":1},4,5,{"$f":"IF(D56<>0,IF((D56-C56)=-1,\"Birdie\",IF((D56-C56)=-2,\"Eagle\",IF((D56-C56)=0,\"Par\",IF((D56-C56)=1,\"bogey\",IF((D56-C56)=2,\"Double bogey\",\"Other\"))))),\"  \")","v":"bogey"},null,null,"Count"]
[null,2,4,4,"Par",null,null,"Eagle",{"$f":"COUNTIF(E56:E64,\"Eagle\")","v":0}]
[null,3,3,3,"Par",null,null,"Birdie",{"$f":"COUNTIF(E56:E64,\"Birdie\")","v":0}]
[null,4,4,5,"bogey",null,null,"Par",{"$f":"COUNTIF(E56:E64,\"Par\")","v":2}]
[null,5,5,8,"Other",null,null,"bogey",{"$f":"COUNTIF(E56:E64,\"bogey\")","v":6}]
[null,6,3,4,"bogey",null,null,"Double bogey",{"$f":"COUNTIF(E56:E64,\"Double bogey\")","v":0}]
[null,7,4,5,"bogey",null,null,"Other",{"$f":"COUNTIF(E56:E64,\"Other\")","v":1}]
[null,8,4,5,"bogey"]
[null,9,5,6,"bogey"]
[]
[null,{"$f":"J4","v":"2024-05-03"}]
[null,{"$f":"H7","v":10},4,0,{"$f":"IF(D67<>0,IF((D67-C67)=-1,\"Birdie\",IF((D67-C67)=-2,\"Eagle\",IF((D67-C67)=0,\"Par\",IF((D67-C67)=1,\"bogey\",IF((D67-C67)=2,\"Double bogey\",\"Other\"))))),\"  \")","v":"  "},null,null,"Count"]
[null,11,4,0,"  ",null,null,"Eagle",{"$f":"COUNTIF(E67:E75,\"Eagle\")","v":0}]
[null,12,4,0,"  ",null,null,"Birdie",{"$f":"COUNTIF(E67:E75,\"Birdie\")","v":0}]
[null,13,5,0,"  ",null,null,"Par",{"$f":"COUNTIF(E67:E75,\"Par\")","v":0}]
[null,14,3,0,"  ",null,null,"bogey",{"$f":"COUNTIF(E67:E75,\"bogey\")","v":0}]
[null,15,4,0,"  ",null,null,"Double bogey",{"$f":"COUNTIF(E67:E75,\"Double bogey\")","v":0}]
[null,16,4,0,"  ",null,null,"Other",{"$f":"COUNTIF(E67:E75,\"Other\")","v":0}]
[null,17,3,0,"  "]
[null,18,5,0,"  "]
[]
[null,{"$f":"P4","v":"2024-05-10"}]
[null,{"$f":"N7","v":1},4,5,{"$f":"IF(D78<>0,IF((D78-C78)=-1,\"Birdie\",IF((D78-C78)=-2,\"Eagle\",IF((D78-C78)=0,\"Par\",IF((D78-C78)=1,\"bogey\",IF((D78-C78)=2,\"Double bogey\",\"Other\"))))),\"  \")","v":"bogey"},null,null,"Count"]
[null,2,4,5,"bogey",null,null,"Eagle",{"$f":"COUNTIF(E78:E86,\"Eagle\")","v":0}]
[null,3,3,4,"bogey",null,null,"Birdie",{"$f":"COUNTIF(E78:E86,\"Birdie\")","v":0}]
[null,4,4,5,"bogey",null,null,"Par",{"$f":"COUNTIF(E78:E86,\"Par\")","v":1}]
[null,5,5,5,"Par",null,null,"bogey",{"$f":"COUNTIF(E78:E86,\"bogey\")","v":6}]
[null,6,3,4,"bogey",null,null,"Double bogey",{"$f":"COUNTIF(E78:E86,\"Double bogey\")","v":2}]
[null,7,4,6,"Double bogey",null,null,"Other",{"$f":"COUNTIF(E78:E86,\"Other\")","v":0}]
[null,8,4,6,"Double bogey"]
[null,9,5,6,"bogey"]
[]
[null,{"$f":"V4","v":"2024-05-17"}]
[null,{"$f":"T7","v":10},4,5,{"$f":"IF(D89<>0,IF((D89-C89)=-1,\"Birdie\",IF((D89-C89)=-2,\"Eagle\",IF((D89-C89)=0,\"Par\",IF((D89-C89)=1,\"bogey\",IF((D89-C89)=2,\"Double bogey\",\"Other\"))))),\"  \")","v":"bogey"},null,null,"Count"]
[null,11,4,6,"Double bogey",null,null,"Eagle",{"$f":"COUNTIF(E89:E97,\"Eagle\")","v":0}]
[null,12,4,5,"bogey",null,null,"Birdie",{"$f":"COUNTIF(E89:E97,\"Birdie\")","v":0}]
[null,13,5,6,"bogey",null,null,"Par",{"$f":"COUNTIF(E89:E97,\"Par\")","v":1}]
[null,14,3,4,"bogey",null,null,"bogey",{"$f":"COUNTIF(E89:E97,\"bogey\")","v":5}]
[null,15,4,6,"Double bogey",null,null,"Double bogey",{"$f":"COUNTIF(E89:E97,\"Double bogey\")","v":3}]
[null,16,4,4,"Par",null,null,"Other",{"$f":"COUNTIF(E89:E97,\"Other\")","v":0}]
[null,17,3,4,"bogey"]
[null,18,5,7,"Double bogey"]
[]
[null,{"$f":"AB4","v":"2024-05-24"}]
[null,{"$f":"Z7","v":1},4,5,{"$f":"IF(D100<>0,IF((D100-C100)=-1,\"Birdie\",IF((D100-C100)=-2,\"Eagle\",IF((D100-C100)=0,\"Par\",IF((D100-C100)=1,\"bogey\",IF((D100-C100)=2,\"Double bogey\",\"Other\"))))),\"  \")","v":"bogey"},null,null,"Count"]
[null,2,4,6,"Double bogey",null,null,"Eagle",{"$f":"COUNTIF(E100:E108,\"Eagle\")","v":0}]
[null,3,3,4,"bogey",null,null,"Birdie",{"$f":"COUNTIF(E100:E108,\"Birdie\")","v":0}]
[null,4,4,6,"Double bogey",null,null,"Par",{"$f":"COUNTIF(E100:E108,\"Par\")","v":2}]
[null,5,5,5,"Par",null,null,"bogey",{"$f":"COUNTIF(E100:E108,\"bogey\")","v":4}]
[null,6,3,6,"Other",null,null,"Double bogey",{"$f":"COUNTIF(E100:E108,\"Double bogey\")","v":2}]
[null,7,4,5,"bogey",null,null,"Other",{"$f":"COUNTIF(E100:E108,\"Other\")","v":1}]
[null,8,4,5,"bogey"]
[null,9,5,5,"Par"]
[]
[null,{"$f":"AH4","v":"2024-05-31"}]
[null,{"$f":"AF7","v":10},4,5,{"$f":"IF(D111<>0,IF((D111-C111)=-1,\"Birdie\",IF((D111-C111)=-2,\"Eagle\",IF((D111-C111)=0,\"Par\",IF((D111-C111)=1,\"bogey\",IF((D111-C111)=2,\"Double bogey\",\"Other\"))))),\"  \")","v":"bogey"},null,null,"Count"]
[null,11,4,5,"bogey",null,null,"Eagle",{"$f":"COUNTIF(E111:E119,\"Eagle\")","v":0}]
[null,12,4,5,"bogey",null,null,"Birdie",{"$f":"COUNTIF(E111:E119,\"Birdie\")","v":0}]
[null,13,5,6,"bogey",null,null,"Par",{"$f":"COUNTIF(E111:E119,\"Par\")","v":1}]
[null,14,3,4,"bogey",null,null,"bogey",{"$f":"COUNTIF(E111:E119,\"bogey\")","v":8}]
[null,15,4,5,"bogey",null,null,"Double bogey",{"$f":"COUNTIF(E111:E119,\"Double bogey\")","v":0}]
[null,16,4,5,"bogey",null,null,"Other",{"$f":"COUNTIF(E111:E119,\"Other\")","v":0}]
[null,17,3,4,"bogey"]
[null,18,5,5,"Par"]
[]
[null,{"$f":"AN4","v":"2024-06-07"}]
[null,{"$f":"AL7","v":1},4,6,{"$f":"IF(D122<>0,IF((D122-C122)=-1,\"Birdie\",IF((D122-C122)=-2,\"Eagle\",IF((D122-C122)=0,\"Par\",IF((D122-C122)=1,\"bogey\",IF((D122-C122)=2,\"Double bogey\",\"Other\"))))),\"  \")","v":"Double bogey"},null,null,"Count"]
[null,2,4,5,"bogey",null,null,"Eagle",{"$f":"COUNTIF(E122:E130,\"Eagle\")","v":0}]
[null,3,3,3,"Par",null,null,"Birdie",{"$f":"COUNTIF(E122:E130,\"Birdie\")","v":0}]
[null,4,4,5,"bogey",null,null,"Par",{"$f":"COUNTIF(E122:E130,\"Par\")","v":3}]
[null,5,5,6,"bogey",null,null,"bogey",{"$f":"COUNTIF(E122:E130,\"bogey\")","v":4}]
[null,6,3,3,"Par",null,null,"Double bogey",{"$f":"COUNTIF(E122:E130,\"Double bogey\")","v":2}]
[null,7,4,5,"bogey",null,null,"Other",{"$f":"COUNTIF(E122:E130,\"Other\")","v":0}]
[null,8,4,6,"Double bogey"]
[null,9,5,5,"Par"]
[]
[null,{"$f":"AT4","v":"2024-06-14"}]
[null,{"$f":"AR7","v":10},4,5,{"$f":"IF(D133<>0,IF((D133-C133)=-1,\"Birdie\",IF((D133-C133)=-2,\"Eagle\",IF((D133-C133)=0,\"Par\",IF((D133-C133)=1,\"bogey\",IF((D133-C133)=2,\"Double bogey\",\"Other\"))))),\"  \")","v":"bogey"},null,null,"Count"]
[null,11,4,4,"Par",null,null,"Eagle",{"$f":"COUNTIF(E133:E141,\"Eagle\")","v":0}]
[null,12,4,5,"bogey",null,null,"Birdie",{"$f":"COUNTIF(E133:E141,\"Birdie\")","v":0}]
[null,13,5,6,"bogey",null,null,"Par",{"$f":"COUNTIF(E133:E141,\"Par\")","v":3}]
[null,14,3,3,"Par",null,null,"bogey",{"$f":"COUNTIF(E133:E141,\"bogey\")","v":5}]
[null,15,4,4,"Par",null,null,"Double bogey",{"$f":"COUNTIF(E133:E141,\"Double bogey\")","v":1}]
[null,16,4,6,"Double bogey",null,null,"Other",{"$f":"COUNTIF(E133:E141,\"Other\")","v":0}]
[null,17,3,4,"bogey"]
[null,18,5,6,"bogey"]
[]
[null,{"$f":"AZ4","v":"2024-07-05"}]
[null,{"$f":"AX7","v":1},4,5,{"$f":"IF(D144<>0,IF((D144-C144)=-1,\"Birdie\",IF((D144-C144)=-2,\"Eagle\",IF((D144-C144)=0,\"Par\",IF((D144-C144)=1,\"bogey\",IF((D144-C144)=2,\"Double bogey\",\"Other\"))))),\"  \")","v":"bogey"},null,null,"Count"]
[null,2,4,5,"bogey",null,null,"Eagle",{"$f":"COUNTIF(E144:E152,\"Eagle\")","v":0}]
[null,3,3,3,"Par",null,null,"Birdie",{"$f":"COUNTIF(E144:E152,\"Birdie\")","v":0}]
[null,4,4,8,"Other",null,null,"Par",{"$f":"COUNTIF(E144:E152,\"Par\")","v":2}]
[null,5,5,6,"bogey",null,null,"bogey",{"$f":"COUNTIF(E144:E152,\"bogey\")","v":6}]
[null,6,3,4,"bogey",null,null,"Double bogey",{"$f":"COUNTIF(E144:E152,\"Double bogey\")","v":0}]
[null,7,4,4,"Par",null,null,"Other",{"$f":"COUNTIF(E144:E152,\"Other\")","v":1}]
[null,8,4,5,"bogey"]
[null,9,5,6,"bogey"]
[]
[null,{"$f":"BF4","v":"2024-07-12"}]
[null,{"$f":"BD7","v":10},4,4,{"$f":"IF(D155<>0,IF((D155-C155)=-1,\"Birdie\",IF((D155-C155)=-2,\"Eagle\",IF((D155-C155)=0,\"Par\",IF((D155-C155)=1,\"bogey\",IF((D155-C155)=2,\"Double bogey\",\"Other\"))))),\"  \")","v":"Par"},null,null,"Count"]
[null,11,4,6,"Double bogey",null,null,"Eagle",{"$f":"COUNTIF(E155:E163,\"Eagle\")","v":0}]
[null,12,4,6,"Double bogey",null,null,"Birdie",{"$f":"COUNTIF(E155:E163,\"Birdie\")","v":0}]
[null,13,5,6,"bogey",null,null,"Par",{"$f":"COUNTIF(E155:E163,\"Par\")","v":3}]
[null,14,3,5,"Double bogey",null,null,"bogey",{"$f":"COUNTIF(E155:E163,\"bogey\")","v":3}]
[null,15,4,4,"Par",null,null,"Double bogey",{"$f":"COUNTIF(E155:E163,\"Double bogey\")","v":3}]
[null,16,4,5,"bogey",null,null,"Other",{"$f":"COUNTIF(E155:E163,\"Other\")","v":0}]
[null,17,3,4,"bogey"]
[null,18,5,5,"Par"]
[]
[null,{"$f":"BL4","v":"2024-07-19"}]
[null,{"$f":"BJ7","v":1},4,0,{"$f":"IF(D166<>0,IF((D166-C166)=-1,\"Birdie\",IF((D166-C166)=-2,\"Eagle\",IF((D166-C166)=0,\"Par\",IF((D166-C166)=1,\"bogey\",IF((D166-C166)=2,\"Double bogey\",\"Other\"))))),\"  \")","v":"  "},null,null,"Count"]
[null,2,4,0,"  ",null,null,"Eagle",{"$f":"COUNTIF(E166:E174,\"Eagle\")","v":0}]
[null,3,3,0,"  ",null,null,"Birdie",{"$f":"COUNTIF(E166:E174,\"Birdie\")","v":0}]
[null,4,4,0,"  ",null,null,"Par",{"$f":"COUNTIF(E166:E174,\"Par\")","v":0}]
[null,5,5,0,"  ",null,null,"bogey",{"$f":"COUNTIF(E166:E174,\"bogey\")","v":0}]
[null,6,3,0,"  ",null,null,"Double bogey",{"$f":"COUNTIF(E166:E174,\"Double bogey\")","v":0}]
[null,7,4,0,"  ",null,null,"Other",{"$f":"COUNTIF(E166:E174,\"Other\")","v":0}]
[null,8,4,0,"  "]
[null,9,5,0,"  "]
[]
[null,{"$f":"BR4","v":"2024-07-26"}]
[null,{"$f":"BP7","v":10},4,5,{"$f":"IF(D177<>0,IF((D177-C177)=-1,\"Birdie\",IF((D177-C177)=-2,\"Eagle\",IF((D177-C177)=0,\"Par\",IF((D177-C177)=1,\"bogey\",IF((D177-C177)=2,\"Double bogey\",\"Other\"))))),\"  \")","v":"bogey"},null,null,"Count"]
[null,11,4,5,"bogey",null,null,"Eagle",{"$f":"COUNTIF(E177:E185,\"Eagle\")","v":0}]
[null,12,4,5,"bogey",null,null,"Birdie",{"$f":"COUNTIF(E177:E185,\"Birdie\")","v":1}]
[null,13,5,4,"Birdie",null,null,"Par",{"$f":"COUNTIF(E177:E185,\"Par\")","v":0}]
[null,14,3,4,"bogey",null,null,"bogey",{"$f":"COUNTIF(E177:E185,\"bogey\")","v":6}]
[null,15,4,5,"bogey",null,null,"Double bogey",{"$f":"COUNTIF(E177:E185,\"Double bogey\")","v":2}]
[null,16,4,6,"Double bogey",null,null,"Other",{"$f":"COUNTIF(E177:E185,\"Other\")","v":0}]
[null,17,3,5,"Double bogey"]
[null,18,5,6,"bogey"]
[]
[null,{"$f":"BX4","v":"2024-08-02"}]
[null,{"$f":"BV7","v":1},4,0,{"$f":"IF(D188<>0,IF((D188-C188)=-1,\"Birdie\",IF((D188-C188)=-2,\"Eagle\",IF((D188-C188)=0,\"Par\",IF((D188-C188)=1,\"bogey\",IF((D188-C188)=2,\"Double bogey\",\"Other\"))))),\"  \")","v":"  "},null,null,"Count"]
[null,2,4,0,"  ",null,null,"Eagle",{"$f":"COUNTIF(E188:E196,\"Eagle\")","v":0}]
[null,3,3,0,"  ",null,null,"Birdie",{"$f":"COUNTIF(E188:E196,\"Birdie\")","v":0}]
[null,4,4,0,"  ",null,null,"Par",{"$f":"COUNTIF(E188:E196,\"Par\")","v":0}]
[null,5,5,0,"  ",null,null,"bogey",{"$f":"COUNTIF(E188:E196,\"bogey\")","v":0}]
[null,6,3,0,"  ",null,null,"Double bogey",{"$f":"COUNTIF(E188:E196,\"Double bogey\")","v":0}]
[null,7,4,0,"  ",null,null,"Other",{"$f":"COUNTIF(E188:E196,\"Other\")","v":0}]
[null,8,4,0,"  "]
[null,9,5,0,"  "]
[]
[null,{"$f":"CD4","v":"2024-08-16"}]
[null,{"$f":"CB7","v":1},4,6,{"$f":"IF(D199<>0,IF((D199-C199)=-1,\"Birdie\",IF((D199-C199)=-2,\"Eagle\",IF((D199-C199)=0,\"Par\",IF((D199-C199)=1,\"bogey\",IF((D199-C199)=2,\"Double bogey\",\"Other\"))))),\"  \")","v":"Double bogey"},null,null,"Count"]
[null,2,4,7,"Other",null,null,"Eagle",{"$f":"COUNTIF(E199:E207,\"Eagle\")","v":0}]
[null,3,3,4,"bogey",null,null,"Birdie",{"$f":"COUNTIF(E199:E207,\"Birdie\")","v":0}]
[null,4,4,5,"bogey",null,null,"Par",{"$f":"COUNTIF(E199:E207,\"Par\")","v":2}]
[null,5,5,6,"bogey",null,null,"bogey",{"$f":"COUNTIF(E199:E207,\"bogey\")","v":4}]
[null,6,3,3,"Par",null,null,"Double bogey",{"$f":"COUNTIF(E199:E207,\"Double bogey\")","v":2}]
[null,7,4,4,"Par",null,null,"Other",{"$f":"COUNTIF(E199:E207,\"Other\")","v":1}]
[null,8,4,6,"Double bogey"]
[null,9,5,6,"bogey"]
[]
[null,{"$f":"CJ4","v":"2024-08-23"}]
[null,{"$f":"CH7","v":10},4,4,{"$f":"IF(D210<>0,IF((D210-C210)=-1,\"Birdie\",IF((D210-C210)=-2,\"Eagle\",IF((D210-C210)=0,\"Par\",IF((D210-C210)=1,\"bogey\",IF((D210-C210)=2,\"Double bogey\",\"Other\"))))),\"  \")","v":"Par"},null,null,"Count"]
[null,11,4,4,"Par",null,null,"Eagle",{"$f":"COUNTIF(E210:E218,\"Eagle\")","v":0}]
[null,12,4,5,"bogey",null,null,"Birdie",{"$f":"COUNTIF(E210:E218,\"Birdie\")","v":0}]
[null,13,5,6,"bogey",null,null,"Par",{"$f":"COUNTIF(E210:E218,\"Par\")","v":2}]
[null,14,3,4,"bogey",null,null,"bogey",{"$f":"COUNTIF(E210:E218,\"bogey\")","v":4}]
[null,15,4,6,"Double bogey",null,null,"Double bogey",{"$f":"COUNTIF(E210:E218,\"Double bogey\")","v":3}]
[null,16,4,5,"bogey",null,null,"Other",{"$f":"COUNTIF(E210:E218,\"Other\")","v":0}]
[null,17,3,5,"Double bogey"]
[null,18,5,7,"Double bogey"]

{"sheet":"Fusco_D","index":6,"n_rows":218,"n_cols":90,"rows_kept":218,"cut":false,"hidden":false,"merged":[]}
["Dan Fusco"]
[]
[]
[null,null,"Date:",{"$f":"VLOOKUP(C5,Week,2)","v":"2024-04-26"},null,null,null,null,"Date:",{"$f":"VLOOKUP(I5,Week,2)","v":"2024-05-03"},null,null,null,null,"Date:",{"$f":"VLOOKUP(O5,Week,2)","v":"2024-05-10"},null,null,null,null,"Date:",{"$f":"VLOOKUP(U5,Week,2)","v":"2024-05-17"},null,null,null,null,"Date:",{"$f":"VLOOKUP(AA5,Week,2)","v":"2024-05-24"},null,null,null,null,"Date:",{"$f":"VLOOKUP(AG5,Week,2)","v":"2024-05-31"},null,null,null,null,"Date:",{"$f":"VLOOKUP(AM5,Week,2)","v":"2024-06-07"},null,null,null,null,"Date:",{"$f":"VLOOKUP(AS5,Week,2)","v":"2024-06-14"},null,null,null,null,"Date:",{"$f":"VLOOKUP(AY5,Week,2)","v":"2024-07-05"},null,null,null,null,"Date:",{"$f":"VLOOKUP(BE5,Week,2)","v":"2024-07-12"},null,null,null,null,"Date:",{"$f":"VLOOKUP(BK5,Week,2)","v":"2024-07-19"},null,null,null,null,"Date:",{"$f":"VLOOKUP(BQ5,Week,2)","v":"2024-07-26"},null,null,null,null,"Date:",{"$f":"VLOOKUP(BW5,Week,2)","v":"2024-08-02"},null,null,null,null,"Date:",{"$f":"VLOOKUP(CC5,Week,2)","v":"2024-08-16"},null,null,null,null,"Date:",{"$f":"VLOOKUP(CI5,Week,2)","v":"2024-08-23"}]
[null,"Week",1,null,null,null,null,"Week",2,null,null,null,null,"Week",3,null,null,null,null,"Week",4,null,null,null,null,"Week",5,null,null,null,null,"Week",6,null,null,null,null,"Week",7,null,null,null,null,"Week",8,null,null,null,null,"Week",9,null,null,null,null,"Week",10,null,null,null,null,"Week",11,null,null,null,null,"Week",12,null,null,null,null,"Week",13,null,null,null,null,"Week",14,null,null,null,null,"Week",15]
[null,"Hole #","Par","Score","Net","Win Hole",null,"Hole #","Par","Score","Net","Win Hole",null,"Hole #","Par","Score","Net","Win Hole",null,"Hole #","Par","Score","Net","Win Hole",null,"Hole #","Par","Score","Net","Win Hole",null,"Hole #","Par","Score","Net","Win Hole",null,"Hole #","Par","Score","Net","Win Hole",null,"Hole #","Par","Score","Net","Win Hole",null,"Hole #","Par","Score","Net","Win Hole",null,"Hole #","Par","Score","Net","Win Hole",null,"Hole #","Par","Score","Net","Win Hole",null,"Hole #","Par","Score","Net","Win Hole",null,"Hole #","Par","Score","Net","Win Hole",null,"Hole #","Par","Score","Net","Win Hole",null,"Hole #","Par","Score","Net","Win Hole"]
[null,{"$f":"VLOOKUP(C5,Week,6)","v":1},{"$f":"VLOOKUP(B7,Holes,2)","v":4},5,{"$f":"IF((D7-C7)>3,C7+3,D7)","v":5},0,null,{"$f":"VLOOKUP(I5,Week,6)","v":10},{"$f":"VLOOKUP(H7,Holes,2)","v":4},6,{"$f":"IF((J7-I7)>3,I7+3,J7)","v":6},0,null,{"$f":"VLOOKUP(O5,Week,6)","v":1},{"$f":"VLOOKUP(N7,Holes,2)","v":4},4,{"$f":"IF((P7-O7)>3,O7+3,P7)","v":4},1,null,{"$f":"VLOOKUP(U5,Week,6)","v":10},{"$f":"VLOOKUP(T7,Holes,2)","v":4},4,{"$f":"IF((V7-U7)>3,U7+3,V7)","v":4},0,null,{"$f":"VLOOKUP(AA5,Week,6)","v":1},{"$f":"VLOOKUP(Z7,Holes,2)","v":4},5,{"$f":"IF((AB7-AA7)>3,AA7+3,AB7)","v":5},0,null,{"$f":"VLOOKUP(AG5,Week,6)","v":10},{"$f":"VLOOKUP(AF7,Holes,2)","v":4},5,{"$f":"IF((AH7-AG7)>3,AG7+3,AH7)","v":5},0.5,null,{"$f":"VLOOKUP(AM5,Week,6)","v":1},{"$f":"VLOOKUP(AL7,Holes,2)","v":4},4,{"$f":"IF((AN7-AM7)>3,AM7+3,AN7)","v":4},1,null,{"$f":"VLOOKUP(AS5,Week,6)","v":10},{"$f":"VLOOKUP(AR7,Holes,2)","v":4},6,{"$f":"IF((AT7-AS7)>3,AS7+3,AT7)","v":6},0.5,null,{"$f":"VLOOKUP(AY5,Week,6)","v":1},{"$f":"VLOOKUP(AX7,Holes,2)","v":4},5,{"$f":"IF((AZ7-AY7)>3,AY7+3,AZ7)","v":5},0.5,null,{"$f":"VLOOKUP(BE5,Week,6)","v":10},{"$f":"VLOOKUP(BD7,Holes,2)","v":4},5,{"$f":"IF((BF7-BE7)>3,BE7+3,BF7)","v":5},0.5,null,{"$f":"VLOOKUP(BK5,Week,6)","v":1},{"$f":"VLOOKUP(BJ7,Holes,2)","v":4},4,{"$f":"IF((BL7-BK7)>3,BK7+3,BL7)","v":4},1,null,{"$f":"VLOOKUP(BQ5,Week,6)","v":10},{"$f":"VLOOKUP(BP7,Holes,2)","v":4},5,{"$f":"IF((BR7-BQ7)>3,BQ7+3,BR7)","v":5},0,null,{"$f":"VLOOKUP(BW5,Week,6)","v":1},{"$f":"VLOOKUP(BV7,Holes,2)","v":4},4,{"$f":"IF((BX7-BW7)>3,BW7+3,BX7)","v":4},0.5,null,{"$f":"VLOOKUP(CC5,Week,6)","v":1},{"$f":"VLOOKUP(CB7,Holes,2)","v":4},4,{"$f":"IF((CD7-CC7)>3,CC7+3,CD7)","v":4},1,null,{"$f":"VLOOKUP(CI5,Week,6)","v":10},{"$f":"VLOOKUP(CH7,Holes,2)","v":4},8,{"$f":"IF((CJ7-CI7)>3,CI7+3,CJ7)","v":7},0]
[null,{"$f":"+B7+1","v":2},4,5,5,0,null,{"$f":"+H7+1","v":11},4,5,5,0,null,{"$f":"+N7+1","v":2},4,6,6,0.5,null,{"$f":"+T7+1","v":11},4,5,5,0.5,null,{"$f":"+Z7+1","v":2},4,5,5,0.5,null,{"$f":"+AF7+1","v":11},4,5,5,0.5,null,{"$f":"+AL7+1","v":2},4,4,4,0.5,null,{"$f":"+AR7+1","v":11},4,5,5,0,null,{"$f":"+AX7+1","v":2},4,5,5,0,null,{"$f":"+BD7+1","v":11},4,5,5,0,null,{"$f":"+BJ7+1","v":2},4,5,5,0.5,null,{"$f":"+BP7+1","v":11},4,5,5,0,null,{"$f":"+BV7+1","v":2},4,5,5,0.5,null,{"$f":"+CB7+1","v":2},4,6,6,0.5,null,{"$f":"+CH7+1","v":11},4,5,5,1]
[null,3,3,5,5,0,null,12,4,5,5,0,null,3,3,4,4,0,null,12,4,6,6,0.5,null,3,3,3,3,1,null,12,4,5,5,0.5,null,3,3,3,3,1,null,12,4,5,5,0.5,null,3,3,3,3,0.5,null,12,4,4,4,1,null,3,3,4,4,0,null,12,4,5,5,1,null,3,3,5,5,0,null,3,3,4,4,0.5,null,12,4,6,6,0]
[null,4,4,5,5,0.5,null,13,5,7,7,0.5,null,4,4,5,5,0.5,null,13,5,5,5,0,null,4,4,4,4,1,null,13,5,5,5,1,null,4,4,4,4,0.5,null,13,5,7,7,0,null,4,4,5,5,0,null,13,5,4,4,1,null,4,4,5,5,0.5,null,13,5,4,4,1,null,4,4,4,4,1,null,4,4,5,5,0.5,null,13,5,6,6,0.5]
[null,5,5,4,4,1,null,14,3,4,4,1,null,5,5,5,5,1,null,14,3,3,3,1,null,5,5,5,5,1,null,14,3,4,4,1,null,5,5,5,5,1,null,14,3,3,3,1,null,5,5,4,4,1,null,14,3,4,4,0,null,5,5,6,6,0,null,14,3,5,5,0.5,null,5,5,6,6,0.5,null,5,5,5,5,1,null,14,3,3,3,1]
[null,6,3,4,4,1,null,15,4,6,6,1,null,6,3,3,3,1,null,15,4,6,6,0.5,null,6,3,4,4,1,null,15,4,5,5,1,null,6,3,6,6,0,null,15,4,5,5,1,null,6,3,4,4,0.5,null,15,4,6,6,0,null,6,3,5,5,0,null,15,4,5,5,1,null,6,3,3,3,0.5,null,6,3,3,3,0.5,null,15,4,5,5,0]
[null,7,4,3,3,1,null,16,4,4,4,1,null,7,4,4,4,1,null,16,4,6,6,0.5,null,7,4,4,4,1,null,16,4,5,5,0.5,null,7,4,4,4,1,null,16,4,5,5,0,null,7,4,4,4,1,null,16,4,7,7,0,null,7,4,6,6,0,null,16,4,4,4,1,null,7,4,4,4,0.5,null,7,4,6,6,0,null,16,4,6,6,0.5]
[null,8,4,6,6,0.5,null,17,3,4,4,0.5,null,8,4,8,7,0,null,17,3,4,4,0.5,null,8,4,7,7,0.5,null,17,3,3,3,1,null,8,4,5,5,0.5,null,17,3,3,3,1,null,8,4,6,6,0,null,17,3,5,5,1,null,8,4,5,5,0,null,17,3,5,5,0,null,8,4,5,5,0,null,8,4,5,5,1,null,17,3,4,4,0.5]
[null,9,5,6,6,0.5,null,18,5,6,6,1,null,9,5,6,6,0.5,null,18,5,7,7,0,null,9,5,6,6,0.5,null,18,5,7,7,1,null,9,5,5,5,0,null,18,5,6,6,1,null,9,5,5,5,1,null,18,5,6,6,0,null,9,5,5,5,0,null,18,5,6,6,0,null,9,5,6,6,0,null,9,5,7,7,0,null,18,5,5,5,1]
[null,"Total",{"$f":"SUM(C7:C15)","v":36},{"$f":"SUM(D7:D15)","v":43},{"$f":"SUM(E7:E15)","v":43},{"$f":"SUM(F7:F15)","v":4.5},null,"Total",{"$f":"SUM(I7:I15)","v":36},{"$f":"SUM(J7:J15)","v":47},{"$f":"SUM(K7:K15)","v":47},{"$f":"SUM(L7:L15)","v":5},null,"Total",{"$f":"SUM(O7:O15)","v":36},{"$f":"SUM(P7:P15)","v":45},{"$f":"SUM(Q7:Q15)","v":44},{"$f":"SUM(R7:R15)","v":5.5},null,"Total",{"$f":"SUM(U7:U15)","v":36},{"$f":"SUM(V7:V15)","v":46},{"$f":"SUM(W7:W15)","v":46},{"$f":"SUM(X7:X15)","v":3.5},null,"Total",{"$f":"SUM(AA7:AA15)","v":36},{"$f":"SUM(AB7:AB15)","v":43},{"$f":"SUM(AC7:AC15)","v":43},{"$f":"SUM(AD7:AD15)","v":6.5},null,"Total",{"$f":"SUM(AG7:AG15)","v":36},{"$f":"SUM(AH7:AH15)","v":44},{"$f":"SUM(AI7:AI15)","v":44},{"$f":"SUM(AJ7:AJ15)","v":7},null,"Total",{"$f":"SUM(AM7:AM15)","v":36},{"$f":"SUM(AN7:AN15)","v":40},{"$f":"SUM(AO7:AO15)","v":40},{"$f":"SUM(AP7:AP15)","v":5.5},null,"Total",{"$f":"SUM(AS7:AS15)","v":36},{"$f":"SUM(AT7:AT15)","v":45},{"$f":"SUM(AU7:AU15)","v":45},{"$f":"SUM(AV7:AV15)","v":5},null,"Total",{"$f":"SUM(AY7:AY15)","v":36},{"$f":"SUM(AZ7:AZ15)","v":41},{"$f":"SUM(BA7:BA15)","v":41},{"$f":"SUM(BB7:BB15)","v":4.5},null,"Total",{"$f":"SUM(BE7:BE15)","v":36},{"$f":"SUM(BF7:BF15)","v":46},{"$f":"SUM(BG7:BG15)","v":46},{"$f":"SUM(BH7:BH15)","v":3.5},null,"Total",{"$f":"SUM(BK7:BK15)","v":36},{"$f":"SUM(BL7:BL15)","v":45},{"$f":"SUM(BM7:BM15)","v":45},{"$f":"SUM(BN7:BN15)","v":2},null,"Total",{"$f":"SUM(BQ7:BQ15)","v":36},{"$f":"SUM(BR7:BR15)","v":44},{"$f":"SUM(BS7:BS15)","v":44},{"$f":"SUM(BT7:BT15)","v":4.5},null,"Total",{"$f":"SUM(BW7:BW15)","v":36},{"$f":"SUM(BX7:BX15)","v":42},{"$f":"SUM(BY7:BY15)","v":42},{"$f":"SUM(BZ7:BZ15)","v":3.5},null,"Total",{"$f":"SUM(CC7:CC15)","v":36},{"$f":"SUM(CD7:CD15)","v":45},{"$f":"SUM(CE7:CE15)","v":45},{"$f":"SUM(CF7:CF15)","v":5},null,"Total",{"$f":"SUM(CI7:CI15)","v":36},{"$f":"SUM(CJ7:CJ15)","v":48},{"$f":"SUM(CK7:CK15)","v":47},{"$f":"SUM(CL7:CL15)","v":4.5}]
[]
[null,null,null,null,"Low Net",0,null,null,null,null,"Low Net",1,null,null,null,null,"Low Net",0.5,null,null,null,null,"Low Net",0,null,null,null,null,"Low Net",1,null,null,null,null,"Low Net",1,null,null,null,null,"Low Net",1,null,null,null,null,"Low Net",1,null,null,null,null,"Low Net",1,null,null,null,null,"Low Net",0,null,null,null,null,"Low Net",0,null,null,null,null,"Low Net",1,null,null,null,null,"Low Net",0,null,null,null,null,"Low Net",1,null,null,null,null,"Low Net",0]
[]
[null,null,null,null,"Total Points",{"$f":"SUM(F16:F19)","v":4.5},null,null,null,null,"Total Points",{"$f":"SUM(L16:L19)","v":6},null,null,null,null,"Total Points",{"$f":"SUM(R16:R19)","v":6},null,null,null,null,"Total Points",{"$f":"SUM(X16:X19)","v":3.5},null,null,null,null,"Total Points",{"$f":"SUM(AD16:AD19)","v":7.5},null,null,null,null,"Total Points",{"$f":"SUM(AJ16:AJ19)","v":8},null,null,null,null,"Total Points",{"$f":"SUM(AP16:AP19)","v":6.5},null,null,null,null,"Total Points",{"$f":"SUM(AV16:AV19)","v":6},null,null,null,null,"Total Points",{"$f":"SUM(BB16:BB19)","v":5.5},null,null,null,null,"Total Points",{"$f":"SUM(BH16:BH19)","v":3.5},null,null,null,null,"Total Points",{"$f":"SUM(BN16:BN19)","v":2},null,null,null,null,"Total Points",{"$f":"SUM(BT16:BT19)","v":5.5},null,null,null,null,"Total Points",{"$f":"SUM(BZ16:BZ19)","v":3.5},null,null,null,null,"Total Points",{"$f":"SUM(CF16:CF19)","v":6},null,null,null,null,"Total Points",{"$f":"SUM(CL16:CL19)","v":4.5}]
[]
[null,null,null,null,"Handicap",{"$f":"IF(D16=0,0,E16-C16)","v":7},null,null,null,null,"Handicap",{"$f":"IF(J16=0,0,K16-I16)","v":11},null,null,null,null,"Handicap",{"$f":"IF(P16=0,0,Q16-O16)","v":8},null,null,null,null,"Handicap",{"$f":"IF(V16=0,0,W16-U16)","v":10},null,null,null,null,"Handicap",{"$f":"IF(AB16=0,0,AC16-AA16)","v":7},null,null,null,null,"Handicap",{"$f":"IF(AH16=0,0,AI16-AG16)","v":8},null,null,null,null,"Handicap",{"$f":"IF(AN16=0,0,AO16-AM16)","v":4},null,null,null,null,"Handicap",{"$f":"IF(AT16=0,0,AU16-AS16)","v":9},null,null,null,null,"Handicap",{"$f":"IF(AZ16=0,0,BA16-AY16)","v":5},null,null,null,null,"Handicap",{"$f":"IF(BF16=0,0,BG16-BE16)","v":10},null,null,null,null,"Handicap",{"$f":"IF(BL16=0,0,BM16-BK16)","v":9},null,null,null,null,"Handicap",{"$f":"IF(BR16=0,0,BS16-BQ16)","v":8},null,null,null,null,"Handicap",{"$f":"IF(BX16=0,0,BY16-BW16)","v":6},null,null,null,null,"Handicap",{"$f":"IF(CD16=0,0,CE16-CC16)","v":9},null,null,null,null,"Handicap",{"$f":"IF(CJ16=0,0,CK16-CI16)","v":11}]
[]
[null,null,null,null,null,{"$f":"IF(D16<>0,IF(F16>4.5,\"W\",IF(F16=4.5,\"T\",IF(F16<4.5,\"L\"))),0)","v":"T"},null,null,null,null,null,{"$f":"IF(J16<>0,IF(L16>4.5,\"W\",IF(L16=4.5,\"T\",IF(L16<4.5,\"L\"))),0)","v":"W"},null,null,null,null,null,{"$f":"IF(P16<>0,IF(R16>4.5,\"W\",IF(R16=4.5,\"T\",IF(R16<4.5,\"L\"))),0)","v":"W"},null,null,null,null,null,{"$f":"IF(V16<>0,IF(X16>4.5,\"W\",IF(X16=4.5,\"T\",IF(X16<4.5,\"L\"))),0)","v":"L"},null,null,null,null,null,{"$f":"IF(AB16<>0,IF(AD16>4.5,\"W\",IF(AD16=4.5,\"T\",IF(AD16<4.5,\"L\"))),0)","v":"W"},null,null,null,null,null,{"$f":"IF(AH16<>0,IF(AJ16>4.5,\"W\",IF(AJ16=4.5,\"T\",IF(AJ16<4.5,\"L\"))),0)","v":"W"},null,null,null,null,null,{"$f":"IF(AN16<>0,IF(AP16>4.5,\"W\",IF(AP16=4.5,\"T\",IF(AP16<4.5,\"L\"))),0)","v":"W"},null,null,null,null,null,{"$f":"IF(AT16<>0,IF(AV16>4.5,\"W\",IF(AV16=4.5,\"T\",IF(AV16<4.5,\"L\"))),0)","v":"W"},null,null,null,null,null,{"$f":"IF(AZ16<>0,IF(BB16>4.5,\"W\",IF(BB16=4.5,\"T\",IF(BB16<4.5,\"L\"))),0)","v":"T"},null,null,null,null,null,{"$f":"IF(BF16<>0,IF(BH16>4.5,\"W\",IF(BH16=4.5,\"T\",IF(BH16<4.5,\"L\"))),0)","v":"L"},null,null,null,null,null,{"$f":"IF(BL16<>0,IF(BN16>4.5,\"W\",IF(BN16=4.5,\"T\",IF(BN16<4.5,\"L\"))),0)","v":"L"},null,null,null,null,null,{"$f":"IF(BR16<>0,IF(BT16>4.5,\"W\",IF(BT16=4.5,\"T\",IF(BT16<4.5,\"L\"))),0)","v":"T"},null,null,null,null,null,{"$f":"IF(BX16<>0,IF(BZ16>4.5,\"W\",IF(BZ16=4.5,\"T\",IF(BZ16<4.5,\"L\"))),0)","v":"L"},null,null,null,null,null,{"$f":"IF(CD16<>0,IF(CF16>4.5,\"W\",IF(CF16=4.5,\"T\",IF(CF16<4.5,\"L\"))),0)","v":"W"},null,null,null,null,null,{"$f":"IF(CJ16<>0,IF(CL16>4.5,\"W\",IF(CL16=4.5,\"T\",IF(CL16<4.5,\"L\"))),0)","v":"T"}]
[]
[null,"Summary",null,{"$f":"COUNT(D29:D43)","v":10}]
[null,null,null,"Adj",null,"Adj",null,null,null,"Avg Score"]
[null,null,"Points","Points","Matches","Matches",null,null,"Hole #","by Hole","Best","Worst"]
[null,"Week #1",{"$f":"F20","v":4.5},null,{"$f":"IF(D16>0,1,0)","v":1},{"$f":"E29","v":1},null,null,1,{"$f":"IFERROR(AVERAGE(D7,P7,AB7,AN7,AZ7,BL7,BX7,CD7),0)","v":4.375},{"$f":"IFERROR(MIN(D7,P7,AB7,AN7,AZ7,BL7,BX7,CD7),0)","v":4},{"$f":"IFERROR(MAX(D7,P7,AB7,AN7,AZ7,BL7,BX7,CD7),0)","v":5}]
[null,"Week #2",{"$f":"L20","v":6},{"$f":"C30","v":6},{"$f":"IF(J16>0,1,0)","v":1},1,null,null,2,{"$f":"IFERROR(AVERAGE(D8,P8,AB8,AN8,AZ8,BL8,BX8,CD8),0)","v":5.125},{"$f":"IFERROR(MIN(D8,P8,AB8,AN8,AZ8,BL8,BX8,CD8),0)","v":4},{"$f":"IFERROR(MAX(D8,P8,AB8,AN8,AZ8,BL8,BX8,CD8),0)","v":6}]
[null,"Week #3",{"$f":"R20","v":6},6,{"$f":"IF(P16>0,1,0)","v":1},1,null,null,3,3.875,3,5]
[null,"Week #4",{"$f":"X20","v":3.5},null,{"$f":"IF(V16>0,1,0)","v":1},1,null,null,4,4.625,4,5]
[null,"Week #5",{"$f":"AD20","v":7.5},7.5,{"$f":"IF(AB16>0,1,0)","v":1},1,null,null,5,5,4,6]
[null,"Week #6",{"$f":"AJ20","v":8},8,{"$f":"IF(AH16>0,1,0)","v":1},1,null,null,6,4,3,6]
[null,"Week #7",{"$f":"AP20","v":6.5},6.5,{"$f":"IF(AN16>0,1,0)","v":1},1,null,null,7,4.375,3,6]
[null,"Week #8",{"$f":"AV20","v":6},6,{"$f":"IF(AT16>0,1,0)","v":1},1,null,null,8,5.875,5,8]
[null,"Week #9",{"$f":"BB20","v":5.5},5.5,{"$f":"IF(AZ16>0,1,0)","v":1},1,null,null,9,5.75,5,7]
[null,"Week #10",{"$f":"BH20","v":3.5},null,{"$f":"IF(BF16>0,1,0)","v":1},1,null,null,"Front",{"$f":"SUM(J29:J37)","v":43},{"$f":"SUM(K29:K37)","v":35},54]
[null,"Week #11",{"$f":"BN20","v":2},null,1,1]
[null,"Week #12",{"$f":"BT20","v":5.5},5.5,{"$f":"IF(BR16>0,1,0)","v":1},1,null,null,10,{"$f":"IFERROR(AVERAGE(J7,V7,AH7,AT7,BF7,BR7,CJ7),0)","v":5.5714285714285712},{"$f":"IFERROR(MIN(J7,V7,AH7,AT7,BF7,BR7,CJ7),0)","v":4},{"$f":"IFERROR(MAX(J7,V7,AH7,AT7,BF7,BR7,CJ7),0)","v":8}]
[null,"Week #13",{"$f":"BZ20","v":3.5},null,{"$f":"IF(BX16>0,1,0)","v":1},1,null,null,11,{"$f":"IFERROR(AVERAGE(J8,V8,AH8,AT8,BF8,BR8,CJ8),0)","v":5},{"$f":"IFERROR(MIN(J8,V8,AH8,AT8,BF8,BR8,CJ8),0)","v":5},{"$f":"IFERROR(MAX(J8,V8,AH8,AT8,BF8,BR8,CJ8),0)","v":5}]
[null,"Week #14",{"$f":"CF20","v":6},6,{"$f":"IF(CD16>0,1,0)","v":1},1,null,null,12,5.1428571428571432,4,6]
[null,"Week #15",{"$f":"CL20","v":4.5},4.5,{"$f":"IF(CJ16>0,1,0)","v":1},1,null,null,13,5.4285714285714288,4,7]
[null,"Total",{"$f":"SUM(C29:C43)","v":78.5},{"$f":"SUM(D29:D43)","v":61.5},{"$f":"SUM(E29:E43)","v":15},{"$f":"SUM(F29:F43)","v":15},null,null,14,3.7142857142857144,3,5]
[null,null,null,null,null,null,null,null,15,5.4285714285714288,5,6]
[null,"Summary",null,null,null,null,null,null,16,5.2857142857142856,4,7]
[null,"Eagles",{"$f":"I57+I68+I79+I90+I101+I112+I123+I134+I145+I156+I167+I178+I189+I200+I211","v":0},null,null,null,null,null,17,4,3,5]
[null,"Birdies",5,null,null,null,null,null,18,6.1428571428571432,5,7]
[null,"Pars",{"$f":"I59+I70+I81+I92+I103+I114+I125+I136+I147+I158+I169+I180+I191+I202+I213","v":39},null,null,null,null,null,"Back",{"$f":"SUM(J40:J48)","v":45.714285714285722},{"$f":"SUM(K40:K48)","v":37},56]
[null,"bogeys",60]
[null,"Double bogeys",26]
[null,"Other",5]
[null,"Total",{"$f":"SUM(C47:C52)","v":135}]
[]
[null,{"$f":"D4","v":"2024-04-26"},"Par","Score"]
[null,{"$f":"B7","v":1},4,5,{"$f":"IF(D56<>0,IF((D56-C56)=-1,\"Birdie\",IF((D56-C56)=-2,\"Eagle\",IF((D56-C56)=0,\"Par\",IF((D56-C56)=1,\"bogey\",IF((D56-C56)=2,\"Double bogey\",\"Other\"))))),\"  \")","v":"bogey"},null,null,"Count"]
[null,2,4,5,"bogey",null,null,"Eagle",{"$f":"COUNTIF(E56:E64,\"Eagle\")","v":0}]
[null,3,3,5,"Double bogey",null,null,"Birdie",{"$f":"COUNTIF(E56:E64,\"Birdie\")","v":2}]
[null,4,4,5,"bogey",null,null,"Par",{"$f":"COUNTIF(E56:E64,\"Par\")","v":0}]
[null,5,5,4,"Birdie",null,null,"bogey",{"$f":"COUNTIF(E56:E64,\"bogey\")","v":5}]
[null,6,3,4,"bogey",null,null,"Double bogey",{"$f":"COUNTIF(E56:E64,\"Double bogey\")","v":2}]
[null,7,4,3,"Birdie",null,null,"Other",{"$f":"COUNTIF(E56:E64,\"Other\")","v":0}]
[null,8,4,6,"Double bogey"]
[null,9,5,6,"bogey"]
[]
[null,{"$f":"J4","v":"2024-05-03"}]
[null,{"$f":"H7","v":10},4,6,{"$f":"IF(D67<>0,IF((D67-C67)=-1,\"Birdie\",IF((D67-C67)=-2,\"Eagle\",IF((D67-C67)=0,\"Par\",IF((D67-C67)=1,\"bogey\",IF((D67-C67)=2,\"Double bogey\",\"Other\"))))),\"  \")","v":"Double bogey"},null,null,"Count"]
[null,11,4,5,"bogey",null,null,"Eagle",{"$f":"COUNTIF(E67:E75,\"Eagle\")","v":0}]
[null,12,4,5,"bogey",null,null,"Birdie",{"$f":"COUNTIF(E67:E75,\"Birdie\")","v":0}]
[null,13,5,7,"Double bogey",null,null,"Par",{"$f":"COUNTIF(E67:E75,\"Par\")","v":1}]
[null,14,3,4,"bogey",null,null,"bogey",{"$f":"COUNTIF(E67:E75,\"bogey\")","v":5}]
[null,15,4,6,"Double bogey",null,null,"Double bogey",{"$f":"COUNTIF(E67:E75,\"Double bogey\")","v":3}]
[null,16,4,4,"Par",null,null,"Other",{"$f":"COUNTIF(E67:E75,\"Other\")","v":0}]
[null,17,3,4,"bogey"]
[null,18,5,6,"bogey"]
[]
[null,{"$f":"P4","v":"2024-05-10"}]
[null,{"$f":"N7","v":1},4,4,{"$f":"IF(D78<>0,IF((D78-C78)=-1,\"Birdie\",IF((D78-C78)=-2,\"Eagle\",IF((D78-C78)=0,\"Par\",IF((D78-C78)=1,\"bogey\",IF((D78-C78)=2,\"Double bogey\",\"Other\"))))),\"  \")","v":"Par"},null,null,"Count"]
[null,2,4,6,"Double bogey",null,null,"Eagle",{"$f":"COUNTIF(E78:E86,\"Eagle\")","v":0}]
[null,3,3,4,"bogey",null,null,"Birdie",{"$f":"COUNTIF(E78:E86,\"Birdie\")","v":0}]
[null,4,4,5,"bogey",null,null,"Par",{"$f":"COUNTIF(E78:E86,\"Par\")","v":4}]
[null,5,5,5,"Par",null,null,"bogey",{"$f":"COUNTIF(E78:E86,\"bogey\")","v":3}]
[null,6,3,3,"Par",null,null,"Double bogey",{"$f":"COUNTIF(E78:E86,\"Double bogey\")","v":1}]
[null,7,4,4,"Par",null,null,"Other",{"$f":"COUNTIF(E78:E86,\"Other\")","v":1}]
[null,8,4,8,"Other"]
[null,9,5,6,"bogey"]
[]
[null,{"$f":"V4","v":"2024-05-17"}]
[null,{"$f":"T7","v":10},4,4,{"$f":"IF(D89<>0,IF((D89-C89)=-1,\"Birdie\",IF((D89-C89)=-2,\"Eagle\",IF((D89-C89)=0,\"Par\",IF((D89-C89)=1,\"bogey\",IF((D89-C89)=2,\"Double bogey\",\"Other\"))))),\"  \")","v":"Par"},null,null,"Count"]
[null,11,4,5,"bogey",null,null,"Eagle",{"$f":"COUNTIF(E89:E97,\"Eagle\")","v":0}]
[null,12,4,6,"Double bogey",null,null,"Birdie",{"$f":"COUNTIF(E89:E97,\"Birdie\")","v":0}]
[null,13,5,5,"Par",null,null,"Par",{"$f":"COUNTIF(E89:E97,\"Par\")","v":3}]
[null,14,3,3,"Par",null,null,"bogey",{"$f":"COUNTIF(E89:E97,\"bogey\")","v":2}]
[null,15,4,6,"Double bogey",null,null,"Double bogey",{"$f":"COUNTIF(E89:E97,\"Double bogey\")","v":4}]
[null,16,4,6,"Double bogey",null,null,"Other",{"$f":"COUNTIF(E89:E97,\"Other\")","v":0}]
[null,17,3,4,"bogey"]
[null,18,5,7,"Double bogey"]
[]
[null,{"$f":"AB4","v":"2024-05-24"}]
[null,{"$f":"Z7","v":1},4,5,{"$f":"IF(D100<>0,IF((D100-C100)=-1,\"Birdie\",IF((D100-C100)=-2,\"Eagle\",IF((D100-C100)=0,\"Par\",IF((D100-C100)=1,\"bogey\",IF((D100-C100)=2,\"Double bogey\",\"Other\"))))),\"  \")","v":"bogey"},null,null,"Count"]
[null,2,4,5,"bogey",null,null,"Eagle",{"$f":"COUNTIF(E100:E108,\"Eagle\")","v":0}]
[null,3,3,3,"Par",null,null,"Birdie",{"$f":"COUNTIF(E100:E108,\"Birdie\")","v":0}]
[null,4,4,4,"Par",null,null,"Par",{"$f":"COUNTIF(E100:E108,\"Par\")","v":4}]
[null,5,5,5,"Par",null,null,"bogey",{"$f":"COUNTIF(E100:E108,\"bogey\")","v":4}]
[null,6,3,4,"bogey",null,null,"Double bogey",{"$f":"COUNTIF(E100:E108,\"Double bogey\")","v":0}]
[null,7,4,4,"Par",null,null,"Other",{"$f":"COUNTIF(E100:E108,\"Other\")","v":1}]
[null,8,4,7,"Other"]
[null,9,5,6,"bogey"]
[]
[null,{"$f":"AH4","v":"2024-05-31"}]
[null,{"$f":"AF7","v":10},4,5,{"$f":"IF(D111<>0,IF((D111-C111)=-1,\"Birdie\",IF((D111-C111)=-2,\"Eagle\",IF((D111-C111)=0,\"Par\",IF((D111-C111)=1,\"bogey\",IF((D111-C111)=2,\"Double bogey\",\"Other\"))))),\"  \")","v":"bogey"},null,null,"Count"]
[null,11,4,5,"bogey",null,null,"Eagle",{"$f":"COUNTIF(E111:E119,\"Eagle\")","v":0}]
[null,12,4,5,"bogey",null,null,"Birdie",{"$f":"COUNTIF(E111:E119,\"Birdie\")","v":0}]
[null,13,5,5,"Par",null,null,"Par",{"$f":"COUNTIF(E111:E119,\"Par\")","v":2}]
[null,14,3,4,"bogey",null,null,"bogey",{"$f":"COUNTIF(E111:E119,\"bogey\")","v":6}]
[null,15,4,5,"bogey",null,null,"Double bogey",{"$f":"COUNTIF(E111:E119,\"Double bogey\")","v":1}]
[null,16,4,5,"bogey",null,null,"Other",{"$f":"COUNTIF(E111:E119,\"Other\")","v":0}]
[null,17,3,3,"Par"]
[null,18,5,7,"Double bogey"]
[]
[null,{"$f":"AN4","v":"2024-06-07"}]
[null,{"$f":"AL7","v":1},4,4,{"$f":"IF(D122<>0,IF((D122-C122)=-1,\"Birdie\",IF((D122-C122)=-2,\"Eagle\",IF((D122-C122)=0,\"Par\",IF((D122-C122)=1,\"bogey\",IF((D122-C122)=2,\"Double bogey\",\"Other\"))))),\"  \")","v":"Par"},null,null,"Count"]
[null,2,4,4,"Par",null,null,"Eagle",{"$f":"COUNTIF(E122:E130,\"Eagle\")","v":0}]
[null,3,3,3,"Par",null,null,"Birdie",{"$f":"COUNTIF(E122:E130,\"Birdie\")","v":0}]
[null,4,4,4,"Par",null,null,"Par",{"$f":"COUNTIF(E122:E130,\"Par\")","v":7}]
[null,5,5,5,"Par",null,null,"bogey",{"$f":"COUNTIF(E122:E130,\"bogey\")","v":1}]
[null,6,3,6,"Other",null,null,"Double bogey",{"$f":"COUNTIF(E122:E130,\"Double bogey\")","v":0}]
[null,7,4,4,"Par",null,null,"Other",{"$f":"COUNTIF(E122:E130,\"Other\")","v":1}]
[null,8,4,5,"bogey"]
[null,9,5,5,"Par"]
[]
[null,{"$f":"AT4","v":"2024-06-14"}]
[null,{"$f":"AR7","v":10},4,6,{"$f":"IF(D133<>0,IF((D133-C133)=-1,\"Birdie\",IF((D133-C133)=-2,\"Eagle\",IF((D133-C133)=0,\"Par\",IF((D133-C133)=1,\"bogey\",IF((D133-C133)=2,\"Double bogey\",\"Other\"))))),\"  \")","v":"Double bogey"},null,null,"Count"]
[null,11,4,5,"bogey",null,null,"Eagle",{"$f":"COUNTIF(E133:E141,\"Eagle\")","v":0}]
[null,12,4,5,"bogey",null,null,"Birdie",{"$f":"COUNTIF(E133:E141,\"Birdie\")","v":0}]
[null,13,5,7,"Double bogey",null,null,"Par",{"$f":"COUNTIF(E133:E141,\"Par\")","v":2}]
[null,14,3,3,"Par",null,null,"bogey",{"$f":"COUNTIF(E133:E141,\"bogey\")","v":5}]
[null,15,4,5,"bogey",null,null,"Double bogey",{"$f":"COUNTIF(E133:E141,\"Double bogey\")","v":2}]
[null,16,4,5,"bogey",null,null,"Other",{"$f":"COUNTIF(E133:E141,\"Other\")","v":0}]
[null,17,3,3,"Par"]
[null,18,5,6,"bogey"]
[]
[null,{"$f":"AZ4","v":"2024-07-05"}]
[null,{"$f":"AX7","v":1},4,5,{"$f":"IF(D144<>0,IF((D144-C144)=-1,\"Birdie\",IF((D144-C144)=-2,\"Eagle\",IF((D144-C144)=0,\"Par\",IF((D144-C144)=1,\"bogey\",IF((D144-C144)=2,\"Double bogey\",\"Other\"))))),\"  \")","v":"bogey"},null,null,"Count"]
[null,2,4,5,"bogey",null,null,"Eagle",{"$f":"COUNTIF(E144:E152,\"Eagle\")","v":0}]
[null,3,3,3,"Par",null,null,"Birdie",{"$f":"COUNTIF(E144:E152,\"Birdie\")","v":1}]
[null,4,4,5,"bogey",null,null,"Par",{"$f":"COUNTIF(E144:E152,\"Par\")","v":3}]
[null,5,5,4,"Birdie",null,null,"bogey",{"$f":"COUNTIF(E144:E152,\"bogey\")","v":4}]
[null,6,3,4,"bogey",null,null,"Double bogey",{"$f":"COUNTIF(E144:E152,\"Double bogey\")","v":1}]
[null,7,4,4,"Par",null,null,"Other",{"$f":"COUNTIF(E144:E152,\"Other\")","v":0}]
[null,8,4,6,"Double bogey"]
[null,9,5,5,"Par"]
[]
[null,{"$f":"BF4","v":"2024-07-12"}]
[null,{"$f":"BD7","v":10},4,5,{"$f":"IF(D155<>0,IF((D155-C155)=-1,\"Birdie\",IF((D155-C155)=-2,\"Eagle\",IF((D155-C155)=0,\"Par\",IF((D155-C155)=1,\"bogey\",IF((D155-C155)=2,\"Double bogey\",\"Other\"))))),\"  \")","v":"bogey"},null,null,"Count"]
[null,11,4,5,"bogey",null,null,"Eagle",{"$f":"COUNTIF(E155:E163,\"Eagle\")","v":0}]
[null,12,4,4,"Par",null,null,"Birdie",{"$f":"COUNTIF(E155:E163,\"Birdie\")","v":1}]
[null,13,5,4,"Birdie",null,null,"Par",{"$f":"COUNTIF(E155:E163,\"Par\")","v":1}]
[null,14,3,4,"bogey",null,null,"bogey",{"$f":"COUNTIF(E155:E163,\"bogey\")","v":4}]
[null,15,4,6,"Double bogey",null,null,"Double bogey",{"$f":"COUNTIF(E155:E163,\"Double bogey\")","v":2}]
[null,16,4,7,"Other",null,null,"Other",{"$f":"COUNTIF(E155:E163,\"Other\")","v":1}]
[null,17,3,5,"Double bogey"]
[null,18,5,6,"bogey"]
[]
[null,{"$f":"BL4","v":"2024-07-19"}]
[null,{"$f":"BJ7","v":1},4,4,{"$f":"IF(D166<>0,IF((D166-C166)=-1,\"Birdie\",IF((D166-C166)=-2,\"Eagle\",IF((D166-C166)=0,\"Par\",IF((D166-C166)=1,\"bogey\",IF((D166-C166)=2,\"Double bogey\",\"Other\"))))),\"  \")","v":"Par"},null,null,"Count"]
[null,2,4,5,"bogey",null,null,"Eagle",{"$f":"COUNTIF(E166:E174,\"Eagle\")","v":0}]
[null,3,3,4,"bogey",null,null,"Birdie",{"$f":"COUNTIF(E166:E174,\"Birdie\")","v":0}]
[null,4,4,5,"bogey",null,null,"Par",{"$f":"COUNTIF(E166:E174,\"Par\")","v":2}]
[null,5,5,6,"bogey",null,null,"bogey",{"$f":"COUNTIF(E166:E174,\"bogey\")","v":5}]
[null,6,3,5,"Double bogey",null,null,"Double bogey",{"$f":"COUNTIF(E166:E174,\"Double bogey\")","v":2}]
[null,7,4,6,"Double bogey",null,null,"Other",{"$f":"COUNTIF(E166:E174,\"Other\")","v":0}]
[null,8,4,5,"bogey"]
[null,9,5,5,"Par"]
[]
[null,{"$f":"BR4","v":"2024-07-26"}]
[null,{"$f":"BP7","v":10},4,5,{"$f":"IF(D177<>0,IF((D177-C177)=-1,\"Birdie\",IF((D177-C177)=-2,\"Eagle\",IF((D177-C177)=0,\"Par\",IF((D177-C177)=1,\"bogey\",IF((D177-C177)=2,\"Double bogey\",\"Other\"))))),\"  \")","v":"bogey"},null,null,"Count"]
[null,11,4,5,"bogey",null,null,"Eagle",{"$f":"COUNTIF(E177:E185,\"Eagle\")","v":0}]
[null,12,4,5,"bogey",null,null,"Birdie",{"$f":"COUNTIF(E177:E185,\"Birdie\")","v":1}]
[null,13,5,4,"Birdie",null,null,"Par",{"$f":"COUNTIF(E177:E185,\"Par\")","v":1}]
[null,14,3,5,"Double bogey",null,null,"bogey",{"$f":"COUNTIF(E177:E185,\"bogey\")","v":5}]
[null,15,4,5,"bogey",null,null,"Double bogey",{"$f":"COUNTIF(E177:E185,\"Double bogey\")","v":2}]
[null,16,4,4,"Par",null,null,"Other",{"$f":"COUNTIF(E177:E185,\"Other\")","v":0}]
[null,17,3,5,"Double bogey"]
[null,18,5,6,"bogey"]
[]
[null,{"$f":"BX4","v":"2024-08-02"}]
[null,{"$f":"BV7","v":1},4,4,{"$f":"IF(D188<>0,IF((D188-C188)=-1,\"Birdie\",IF((D188-C188)=-2,\"Eagle\",IF((D188-C188)=0,\"Par\",IF((D188-C188)=1,\"bogey\",IF((D188-C188)=2,\"Double bogey\",\"Other\"))))),\"  \")","v":"Par"},null,null,"Count"]
[null,2,4,5,"bogey",null,null,"Eagle",{"$f":"COUNTIF(E188:E196,\"Eagle\")","v":0}]
[null,3,3,5,"Double bogey",null,null,"Birdie",{"$f":"COUNTIF(E188:E196,\"Birdie\")","v":0}]
[null,4,4,4,"Par",null,null,"Par",{"$f":"COUNTIF(E188:E196,\"Par\")","v":4}]
[null,5,5,6,"bogey",null,null,"bogey",{"$f":"COUNTIF(E188:E196,\"bogey\")","v":4}]
[null,6,3,3,"Par",null,null,"Double bogey",{"$f":"COUNTIF(E188:E196,\"Double bogey\")","v":1}]
[null,7,4,4,"Par",null,null,"Other",{"$f":"COUNTIF(E188:E196,\"Other\")","v":0}]
[null,8,4,5,"bogey"]
[null,9,5,6,"bogey"]
[]
[null,{"$f":"CD4","v":"2024-08-16"}]
[null,{"$f":"CB7","v":1},4,4,{"$f":"IF(D199<>0,IF((D199-C199)=-1,\"Birdie\",IF((D199-C199)=-2,\"Eagle\",IF((D199-C199)=0,\"Par\",IF((D199-C199)=1,\"bogey\",IF((D199-C199)=2,\"Double bogey\",\"Other\"))))),\"  \")","v":"Par"},null,null,"Count"]
[null,2,4,6,"Double bogey",null,null,"Eagle",{"$f":"COUNTIF(E199:E207,\"Eagle\")","v":0}]
[null,3,3,4,"bogey",null,null,"Birdie",{"$f":"COUNTIF(E199:E207,\"Birdie\")","v":0}]
[null,4,4,5,"bogey",null,null,"Par",{"$f":"COUNTIF(E199:E207,\"Par\")","v":3}]
[null,5,5,5,"Par",null,null,"bogey",{"$f":"COUNTIF(E199:E207,\"bogey\")","v":3}]
[null,6,3,3,"Par",null,null,"Double bogey",{"$f":"COUNTIF(E199:E207,\"Double bogey\")","v":3}]
[null,7,4,6,"Double bogey",null,null,"Other",{"$f":"COUNTIF(E199:E207,\"Other\")","v":0}]
[null,8,4,5,"bogey"]
[null,9,5,7,"Double bogey"]
[]
[null,{"$f":"CJ4","v":"2024-08-23"}]
[null,{"$f":"CH7","v":10},4,8,{"$f":"IF(D210<>0,IF((D210-C210)=-1,\"Birdie\",IF((D210-C210)=-2,\"Eagle\",IF((D210-C210)=0,\"Par\",IF((D210-C210)=1,\"bogey\",IF((D210-C210)=2,\"Double bogey\",\"Other\"))))),\"  \")","v":"Other"},null,null,"Count"]
[null,11,4,5,"bogey",null,null,"Eagle",{"$f":"COUNTIF(E210:E218,\"Eagle\")","v":0}]
[null,12,4,6,"Double bogey",null,null,"Birdie",{"$f":"COUNTIF(E210:E218,\"Birdie\")","v":0}]
[null,13,5,6,"bogey",null,null,"Par",{"$f":"COUNTIF(E210:E218,\"Par\")","v":2}]
[null,14,3,3,"Par",null,null,"bogey",{"$f":"COUNTIF(E210:E218,\"bogey\")","v":4}]
[null,15,4,5,"bogey",null,null,"Double bogey",{"$f":"COUNTIF(E210:E218,\"Double bogey\")","v":2}]
[null,16,4,6,"Double bogey",null,null,"Other",{"$f":"COUNTIF(E210:E218,\"Other\")","v":1}]
[null,17,3,4,"bogey"]
[null,18,5,5,"Par"]

{"sheet":"Hobbs","index":7,"n_rows":218,"n_cols":90,"rows_kept":218,"cut":false,"hidden":false,"merged":[]}
["Tim Hobbs"]
[]
[]
[null,null,"Date:",{"$f":"VLOOKUP(C5,Week,2)","v":"2024-04-26"},null,null,null,null,"Date:",{"$f":"VLOOKUP(I5,Week,2)","v":"2024-05-03"},null,null,null,null,"Date:",{"$f":"VLOOKUP(O5,Week,2)","v":"2024-05-10"},null,null,null,null,"Date:",{"$f":"VLOOKUP(U5,Week,2)","v":"2024-05-17"},null,null,null,null,"Date:",{"$f":"VLOOKUP(AA5,Week,2)","v":"2024-05-24"},null,null,null,null,"Date:",{"$f":"VLOOKUP(AG5,Week,2)","v":"2024-05-31"},null,null,null,null,"Date:",{"$f":"VLOOKUP(AM5,Week,2)","v":"2024-06-07"},null,null,null,null,"Date:",{"$f":"VLOOKUP(AS5,Week,2)","v":"2024-06-14"},null,null,null,null,"Date:",{"$f":"VLOOKUP(AY5,Week,2)","v":"2024-07-05"},null,null,null,null,"Date:",{"$f":"VLOOKUP(BE5,Week,2)","v":"2024-07-12"},null,null,null,null,"Date:",{"$f":"VLOOKUP(BK5,Week,2)","v":"2024-07-19"},null,null,null,null,"Date:",{"$f":"VLOOKUP(BQ5,Week,2)","v":"2024-07-26"},null,null,null,null,"Date:",{"$f":"VLOOKUP(BW5,Week,2)","v":"2024-08-02"},null,null,null,null,"Date:",{"$f":"VLOOKUP(CC5,Week,2)","v":"2024-08-16"},null,null,null,null,"Date:",{"$f":"VLOOKUP(CI5,Week,2)","v":"2024-08-23"}]
[null,"Week",1,null,null,null,null,"Week",2,null,null,null,null,"Week",3,null,null,null,null,"Week",4,null,null,null,null,"Week",5,null,null,null,null,"Week",6,null,null,null,null,"Week",7,null,null,null,null,"Week",8,null,null,null,null,"Week",9,null,null,null,null,"Week",10,null,null,null,null,"Week",11,null,null,null,null,"Week",12,null,null,null,null,"Week",13,null,null,null,null,"Week",14,null,null,null,null,"Week",15]
[null,"Hole #","Par","Score","Net","Win Hole",null,"Hole #","Par","Score","Net","Win Hole",null,"Hole #","Par","Score","Net","Win Hole",null,"Hole #","Par","Score","Net","Win Hole",null,"Hole #","Par","Score","Net","Win Hole",null,"Hole #","Par","Score","Net","Win Hole",null,"Hole #","Par","Score","Net","Win Hole",null,"Hole #","Par","Score","Net","Win Hole",null,"Hole #","Par","Score","Net","Win Hole",null,"Hole #","Par","Score","Net","Win Hole",null,"Hole #","Par","Score","Net","Win Hole",null,"Hole #","Par","Score","Net","Win Hole",null,"Hole #","Par","Score","Net","Win Hole",null,"Hole #","Par","Score","Net","Win Hole",null,"Hole #","Par","Score","Net","Win Hole"]
[null,{"$f":"VLOOKUP(C5,Week,6)","v":1},{"$f":"VLOOKUP(B7,Holes,2)","v":4},5,{"$f":"IF((D7-C7)>3,C7+3,D7)","v":5},0,null,{"$f":"VLOOKUP(I5,Week,6)","v":10},{"$f":"VLOOKUP(H7,Holes,2)","v":4},5,{"$f":"IF((J7-I7)>3,I7+3,J7)","v":5},1,null,{"$f":"VLOOKUP(O5,Week,6)","v":1},{"$f":"VLOOKUP(N7,Holes,2)","v":4},5,{"$f":"IF((P7-O7)>3,O7+3,P7)","v":5},1,null,{"$f":"VLOOKUP(U5,Week,6)","v":10},{"$f":"VLOOKUP(T7,Holes,2)","v":4},5,{"$f":"IF((V7-U7)>3,U7+3,V7)","v":5},0.5,null,{"$f":"VLOOKUP(AA5,Week,6)","v":1},{"$f":"VLOOKUP(Z7,Holes,2)","v":4},5,{"$f":"IF((AB7-AA7)>3,AA7+3,AB7)","v":5},1,null,{"$f":"VLOOKUP(AG5,Week,6)","v":10},{"$f":"VLOOKUP(AF7,Holes,2)","v":4},5,{"$f":"IF((AH7-AG7)>3,AG7+3,AH7)","v":5},1,null,{"$f":"VLOOKUP(AM5,Week,6)","v":1},{"$f":"VLOOKUP(AL7,Holes,2)","v":4},5,{"$f":"IF((AN7-AM7)>3,AM7+3,AN7)","v":5},0,null,{"$f":"VLOOKUP(AS5,Week,6)","v":10},{"$f":"VLOOKUP(AR7,Holes,2)","v":4},7,{"$f":"IF((AT7-AS7)>3,AS7+3,AT7)","v":7},0,null,{"$f":"VLOOKUP(AY5,Week,6)","v":1},{"$f":"VLOOKUP(AX7,Holes,2)","v":4},5,{"$f":"IF((AZ7-AY7)>3,AY7+3,AZ7)","v":5},0.5,null,{"$f":"VLOOKUP(BE5,Week,6)","v":10},{"$f":"VLOOKUP(BD7,Holes,2)","v":4},6,{"$f":"IF((BF7-BE7)>3,BE7+3,BF7)","v":6},0.5,null,{"$f":"VLOOKUP(BK5,Week,6)","v":1},{"$f":"VLOOKUP(BJ7,Holes,2)","v":4},6,{"$f":"IF((BL7-BK7)>3,BK7+3,BL7)","v":6},0,null,{"$f":"VLOOKUP(BQ5,Week,6)","v":10},{"$f":"VLOOKUP(BP7,Holes,2)","v":4},null,{"$f":"IF((BR7-BQ7)>3,BQ7+3,BR7)","v":0},null,null,{"$f":"VLOOKUP(BW5,Week,6)","v":1},{"$f":"VLOOKUP(BV7,Holes,2)","v":4},4,{"$f":"IF((BX7-BW7)>3,BW7+3,BX7)","v":4},0.5,null,{"$f":"VLOOKUP(CC5,Week,6)","v":1},{"$f":"VLOOKUP(CB7,Holes,2)","v":4},null,{"$f":"IF((CD7-CC7)>3,CC7+3,CD7)","v":0},null,null,{"$f":"VLOOKUP(CI5,Week,6)","v":10},{"$f":"VLOOKUP(CH7,Holes,2)","v":4},null,{"$f":"IF((CJ7-CI7)>3,CI7+3,CJ7)","v":0}]
[null,{"$f":"+B7+1","v":2},4,5,5,0.5,null,{"$f":"+H7+1","v":11},4,4,4,1,null,{"$f":"+N7+1","v":2},4,8,7,1,null,{"$f":"+T7+1","v":11},4,6,6,1,null,{"$f":"+Z7+1","v":2},4,8,7,0,null,{"$f":"+AF7+1","v":11},4,6,6,0,null,{"$f":"+AL7+1","v":2},4,6,6,0,null,{"$f":"+AR7+1","v":11},4,7,7,0,null,{"$f":"+AX7+1","v":2},4,8,7,0,null,{"$f":"+BD7+1","v":11},4,5,5,1,null,{"$f":"+BJ7+1","v":2},4,5,5,1,null,{"$f":"+BP7+1","v":11},4,null,0,null,null,{"$f":"+BV7+1","v":2},4,6,6,1,null,{"$f":"+CB7+1","v":2},4,null,0,null,null,{"$f":"+CH7+1","v":11},4,null,0]
[null,3,3,4,4,0.5,null,12,4,5,5,0.5,null,3,3,3,3,1,null,12,4,5,5,1,null,3,3,3,3,1,null,12,4,5,5,1,null,3,3,6,6,0,null,12,4,7,7,0,null,3,3,4,4,0.5,null,12,4,6,6,0,null,3,3,5,5,0,null,12,4,null,0,null,null,3,3,4,4,0.5,null,3,3,null,0,null,null,12,4,null,0]
[null,4,4,5,5,0.5,null,13,5,7,7,1,null,4,4,6,6,0,null,13,5,5,5,1,null,4,4,5,5,1,null,13,5,8,8,0,null,4,4,6,6,1,null,13,5,6,6,0.5,null,4,4,5,5,0.5,null,13,5,7,7,0,null,4,4,7,7,0,null,13,5,null,0,null,null,4,4,4,4,0.5,null,4,4,null,0,null,null,13,5,null,0]
[null,5,5,8,8,0,null,14,3,5,5,1,null,5,5,9,8,0,null,14,3,6,6,0,null,5,5,6,6,0.5,null,14,3,5,5,1,null,5,5,7,7,0.5,null,14,3,4,4,0,null,5,5,7,7,0,null,14,3,3,3,1,null,5,5,8,8,0,null,14,3,null,0,null,null,5,5,5,5,1,null,5,5,null,0,null,null,14,3,null,0]
[null,6,3,6,6,0,null,15,4,6,6,0,null,6,3,5,5,0,null,15,4,6,6,1,null,6,3,4,4,0.5,null,15,4,6,6,1,null,6,3,3,3,1,null,15,4,7,7,0,null,6,3,4,4,0.5,null,15,4,4,4,1,null,6,3,3,3,1,null,15,4,null,0,null,null,6,3,4,4,1,null,6,3,null,0,null,null,15,4,null,0]
[null,7,4,6,6,0,null,16,4,7,7,0,null,7,4,4,4,1,null,16,4,6,6,0,null,7,4,6,6,0,null,16,4,6,6,0.5,null,7,4,5,5,0.5,null,16,4,6,6,1,null,7,4,5,5,0,null,16,4,5,5,1,null,7,4,6,6,0.5,null,16,4,null,0,null,null,7,4,5,5,0,null,7,4,null,0,null,null,16,4,null,0]
[null,8,4,5,5,0.5,null,17,3,4,4,1,null,8,4,6,6,1,null,17,3,5,5,0,null,8,4,6,6,0,null,17,3,5,5,0,null,8,4,6,6,1,null,17,3,5,5,0,null,8,4,5,5,0,null,17,3,6,6,0,null,8,4,7,7,0,null,17,3,null,0,null,null,8,4,4,4,1,null,8,4,null,0,null,null,17,3,null,0]
[null,9,5,8,8,0,null,18,5,8,8,0,null,9,5,6,6,0.5,null,18,5,7,7,1,null,9,5,5,5,1,null,18,5,5,5,1,null,9,5,5,5,1,null,18,5,6,6,0.5,null,9,5,6,6,1,null,18,5,6,6,1,null,9,5,6,6,0.5,null,18,5,null,0,null,null,9,5,7,7,0.5,null,9,5,null,0,null,null,18,5,null,0]
[null,"Total",{"$f":"SUM(C7:C15)","v":36},{"$f":"SUM(D7:D15)","v":52},{"$f":"SUM(E7:E15)","v":52},{"$f":"SUM(F7:F15)","v":2},null,"Total",{"$f":"SUM(I7:I15)","v":36},{"$f":"SUM(J7:J15)","v":51},{"$f":"SUM(K7:K15)","v":51},{"$f":"SUM(L7:L15)","v":5.5},null,"Total",{"$f":"SUM(O7:O15)","v":36},{"$f":"SUM(P7:P15)","v":52},{"$f":"SUM(Q7:Q15)","v":50},{"$f":"SUM(R7:R15)","v":5.5},null,"Total",{"$f":"SUM(U7:U15)","v":36},{"$f":"SUM(V7:V15)","v":51},{"$f":"SUM(W7:W15)","v":51},{"$f":"SUM(X7:X15)","v":5.5},null,"Total",{"$f":"SUM(AA7:AA15)","v":36},{"$f":"SUM(AB7:AB15)","v":48},{"$f":"SUM(AC7:AC15)","v":47},{"$f":"SUM(AD7:AD15)","v":5},null,"Total",{"$f":"SUM(AG7:AG15)","v":36},{"$f":"SUM(AH7:AH15)","v":51},{"$f":"SUM(AI7:AI15)","v":51},{"$f":"SUM(AJ7:AJ15)","v":5.5},null,"Total",{"$f":"SUM(AM7:AM15)","v":36},{"$f":"SUM(AN7:AN15)","v":49},{"$f":"SUM(AO7:AO15)","v":49},{"$f":"SUM(AP7:AP15)","v":5},null,"Total",{"$f":"SUM(AS7:AS15)","v":36},{"$f":"SUM(AT7:AT15)","v":55},{"$f":"SUM(AU7:AU15)","v":55},{"$f":"SUM(AV7:AV15)","v":2},null,"Total",{"$f":"SUM(AY7:AY15)","v":36},{"$f":"SUM(AZ7:AZ15)","v":49},{"$f":"SUM(BA7:BA15)","v":48},{"$f":"SUM(BB7:BB15)","v":3},null,"Total",{"$f":"SUM(BE7:BE15)","v":36},{"$f":"SUM(BF7:BF15)","v":48},{"$f":"SUM(BG7:BG15)","v":48},{"$f":"SUM(BH7:BH15)","v":5.5},null,"Total",{"$f":"SUM(BK7:BK15)","v":36},{"$f":"SUM(BL7:BL15)","v":53},{"$f":"SUM(BM7:BM15)","v":53},{"$f":"SUM(BN7:BN15)","v":3},null,"Total",{"$f":"SUM(BQ7:BQ15)","v":36},{"$f":"SUM(BR7:BR15)","v":0},{"$f":"SUM(BS7:BS15)","v":0},{"$f":"SUM(BT7:BT15)","v":0},null,"Total",{"$f":"SUM(BW7:BW15)","v":36},{"$f":"SUM(BX7:BX15)","v":43},{"$f":"SUM(BY7:BY15)","v":43},{"$f":"SUM(BZ7:BZ15)","v":6},null,"Total",{"$f":"SUM(CC7:CC15)","v":36},{"$f":"SUM(CD7:CD15)","v":0},{"$f":"SUM(CE7:CE15)","v":0},{"$f":"SUM(CF7:CF15)","v":0},null,"Total",{"$f":"SUM(CI7:CI15)","v":36},{"$f":"SUM(CJ7:CJ15)","v":0},{"$f":"SUM(CK7:CK15)","v":0},{"$f":"SUM(CL7:CL15)","v":0}]
[]
[null,null,null,null,"Low Net",0,null,null,null,null,"Low Net",1,null,null,null,null,"Low Net",0.5,null,null,null,null,"Low Net",1,null,null,null,null,"Low Net",1,null,null,null,null,"Low Net",0,null,null,null,null,"Low Net",0.5,null,null,null,null,"Low Net",0,null,null,null,null,"Low Net",0,null,null,null,null,"Low Net",1,null,null,null,null,"Low Net",0,null,null,null,null,"Low Net",null,null,null,null,null,"Low Net",1,null,null,null,null,"Low Net",null,null,null,null,null,"Low Net"]
[]
[null,null,null,null,"Total Points",{"$f":"SUM(F16:F19)","v":2},null,null,null,null,"Total Points",{"$f":"SUM(L16:L19)","v":6.5},null,null,null,null,"Total Points",{"$f":"SUM(R16:R19)","v":6},null,null,null,null,"Total Points",{"$f":"SUM(X16:X19)","v":6.5},null,null,null,null,"Total Points",{"$f":"SUM(AD16:AD19)","v":6},null,null,null,null,"Total Points",{"$f":"SUM(AJ16:AJ19)","v":5.5},null,null,null,null,"Total Points",{"$f":"SUM(AP16:AP19)","v":5.5},null,null,null,null,"Total Points",{"$f":"SUM(AV16:AV19)","v":2},null,null,null,null,"Total Points",{"$f":"SUM(BB16:BB19)","v":3},null,null,null,null,"Total Points",{"$f":"SUM(BH16:BH19)","v":6.5},null,null,null,null,"Total Points",{"$f":"SUM(BN16:BN19)","v":3},null,null,null,null,"Total Points",{"$f":"SUM(BT16:BT19)","v":0},null,null,null,null,"Total Points",{"$f":"SUM(BZ16:BZ19)","v":7},null,null,null,null,"Total Points",{"$f":"SUM(CF16:CF19)","v":0},null,null,null,null,"Total Points",{"$f":"SUM(CL16:CL19)","v":0}]
[]
[null,null,null,null,"Handicap",{"$f":"IF(D16=0,0,E16-C16)","v":16},null,null,null,null,"Handicap",{"$f":"IF(J16=0,0,K16-I16)","v":15},null,null,null,null,"Handicap",{"$f":"IF(P16=0,0,Q16-O16)","v":14},null,null,null,null,"Handicap",{"$f":"IF(V16=0,0,W16-U16)","v":15},null,null,null,null,"Handicap",{"$f":"IF(AB16=0,0,AC16-AA16)","v":11},null,null,null,null,"Handicap",{"$f":"IF(AH16=0,0,AI16-AG16)","v":15},null,null,null,null,"Handicap",{"$f":"IF(AN16=0,0,AO16-AM16)","v":13},null,null,null,null,"Handicap",{"$f":"IF(AT16=0,0,AU16-AS16)","v":19},null,null,null,null,"Handicap",{"$f":"IF(AZ16=0,0,BA16-AY16)","v":12},null,null,null,null,"Handicap",{"$f":"IF(BF16=0,0,BG16-BE16)","v":12},null,null,null,null,"Handicap",{"$f":"IF(BL16=0,0,BM16-BK16)","v":17},null,null,null,null,"Handicap",{"$f":"IF(BR16=0,0,BS16-BQ16)","v":0},null,null,null,null,"Handicap",{"$f":"IF(BX16=0,0,BY16-BW16)","v":7},null,null,null,null,"Handicap",{"$f":"IF(CD16=0,0,CE16-CC16)","v":0},null,null,null,null,"Handicap",{"$f":"IF(CJ16=0,0,CK16-CI16)","v":0}]
[]
[null,null,null,null,null,{"$f":"IF(D16<>0,IF(F16>4.5,\"W\",IF(F16=4.5,\"T\",IF(F16<4.5,\"L\"))),0)","v":"L"},null,null,null,null,null,{"$f":"IF(J16<>0,IF(L16>4.5,\"W\",IF(L16=4.5,\"T\",IF(L16<4.5,\"L\"))),0)","v":"W"},null,null,null,null,null,{"$f":"IF(P16<>0,IF(R16>4.5,\"W\",IF(R16=4.5,\"T\",IF(R16<4.5,\"L\"))),0)","v":"W"},null,null,null,null,null,{"$f":"IF(V16<>0,IF(X16>4.5,\"W\",IF(X16=4.5,\"T\",IF(X16<4.5,\"L\"))),0)","v":"W"},null,null,null,null,null,{"$f":"IF(AB16<>0,IF(AD16>4.5,\"W\",IF(AD16=4.5,\"T\",IF(AD16<4.5,\"L\"))),0)","v":"W"},null,null,null,null,null,{"$f":"IF(AH16<>0,IF(AJ16>4.5,\"W\",IF(AJ16=4.5,\"T\",IF(AJ16<4.5,\"L\"))),0)","v":"W"},null,null,null,null,null,{"$f":"IF(AN16<>0,IF(AP16>4.5,\"W\",IF(AP16=4.5,\"T\",IF(AP16<4.5,\"L\"))),0)","v":"W"},null,null,null,null,null,{"$f":"IF(AT16<>0,IF(AV16>4.5,\"W\",IF(AV16=4.5,\"T\",IF(AV16<4.5,\"L\"))),0)","v":"L"},null,null,null,null,null,{"$f":"IF(AZ16<>0,IF(BB16>4.5,\"W\",IF(BB16=4.5,\"T\",IF(BB16<4.5,\"L\"))),0)","v":"L"},null,null,null,null,null,{"$f":"IF(BF16<>0,IF(BH16>4.5,\"W\",IF(BH16=4.5,\"T\",IF(BH16<4.5,\"L\"))),0)","v":"W"},null,null,null,null,null,{"$f":"IF(BL16<>0,IF(BN16>4.5,\"W\",IF(BN16=4.5,\"T\",IF(BN16<4.5,\"L\"))),0)","v":"L"},null,null,null,null,null,{"$f":"IF(BR16<>0,IF(BT16>4.5,\"W\",IF(BT16=4.5,\"T\",IF(BT16<4.5,\"L\"))),0)","v":0},null,null,null,null,null,{"$f":"IF(BX16<>0,IF(BZ16>4.5,\"W\",IF(BZ16=4.5,\"T\",IF(BZ16<4.5,\"L\"))),0)","v":"W"},null,null,null,null,null,{"$f":"IF(CD16<>0,IF(CF16>4.5,\"W\",IF(CF16=4.5,\"T\",IF(CF16<4.5,\"L\"))),0)","v":0},null,null,null,null,null,{"$f":"IF(CJ16<>0,IF(CL16>4.5,\"W\",IF(CL16=4.5,\"T\",IF(CL16<4.5,\"L\"))),0)","v":0}]
[]
[null,"Summary",null,{"$f":"COUNT(D29:D43)","v":11}]
[null,null,null,"Adj",null,"Adj",null,null,null,"Avg Score"]
[null,null,"Points","Points","Matches","Matches",null,null,"Hole #","by Hole","Best","Worst"]
[null,"Week #1",{"$f":"F20","v":2},null,1,{"$f":"E29","v":1},null,null,1,{"$f":"IFERROR(AVERAGE(D7,P7,AB7,AN7,AZ7,BL7,BX7,CD7),0)","v":5},{"$f":"IFERROR(MIN(D7,P7,AB7,AN7,AZ7,BL7,BX7,CD7),0)","v":4},{"$f":"IFERROR(MAX(D7,P7,AB7,AN7,AZ7,BL7,BX7,CD7),0)","v":6}]
[null,"Week #2",{"$f":"L20","v":6.5},{"$f":"C30","v":6.5},{"$f":"IF(J16>0,1,0)","v":1},1,null,null,2,{"$f":"IFERROR(AVERAGE(D8,P8,AB8,AN8,AZ8,BL8,BX8,CD8),0)","v":6.5714285714285712},{"$f":"IFERROR(MIN(D8,P8,AB8,AN8,AZ8,BL8,BX8,CD8),0)","v":5},{"$f":"IFERROR(MAX(D8,P8,AB8,AN8,AZ8,BL8,BX8,CD8),0)","v":8}]
[null,"Week #3",{"$f":"R20","v":6},6,{"$f":"IF(P16>0,1,0)","v":1},1,null,null,3,4.1428571428571432,3,6]
[null,"Week #4",{"$f":"X20","v":6.5},6.5,{"$f":"IF(V16>0,1,0)","v":1},1,null,null,4,5.4285714285714288,4,7]
[null,"Week #5",{"$f":"AD20","v":6},6,{"$f":"IF(AB16>0,1,0)","v":1},1,null,null,5,7.1428571428571432,5,9]
[null,"Week #6",{"$f":"AJ20","v":5.5},5.5,{"$f":"IF(AH16>0,1,0)","v":1},1,null,null,6,4.1428571428571432,3,6]
[null,"Week #7",{"$f":"AP20","v":5.5},5.5,{"$f":"IF(AN16>0,1,0)","v":1},1,null,null,7,5.2857142857142856,4,6]
[null,"Week #8",{"$f":"AV20","v":2},null,{"$f":"IF(AT16>0,1,0)","v":1},1,null,null,8,5.5714285714285712,4,7]
[null,"Week #9",{"$f":"BB20","v":3},3,{"$f":"IF(AZ16>0,1,0)","v":1},1,null,null,9,6.1428571428571432,5,8]
[null,"Week #10",{"$f":"BH20","v":6.5},6.5,{"$f":"IF(BF16>0,1,0)","v":1},1,null,null,"Front",{"$f":"SUM(J29:J37)","v":49.428571428571431},{"$f":"SUM(K29:K37)","v":37},63]
[null,"Week #11",{"$f":"BN20","v":3},3,{"$f":"IF(BL16>0,1,0)","v":1},1]
[null,"Week #12",{"$f":"BT20","v":0},null,{"$f":"IF(BR16>0,1,0)","v":0},0,null,null,10,{"$f":"IFERROR(AVERAGE(J7,V7,AH7,AT7,BF7,BR7,CJ7),0)","v":5.6},{"$f":"IFERROR(MIN(J7,V7,AH7,AT7,BF7,BR7,CJ7),0)","v":5},{"$f":"IFERROR(MAX(J7,V7,AH7,AT7,BF7,BR7,CJ7),0)","v":7}]
[null,"Week #13",{"$f":"BZ20","v":7},7,{"$f":"IF(BX16>0,1,0)","v":1},1,null,null,11,{"$f":"IFERROR(AVERAGE(J8,V8,AH8,AT8,BF8,BR8,CJ8),0)","v":5.6},{"$f":"IFERROR(MIN(J8,V8,AH8,AT8,BF8,BR8,CJ8),0)","v":4},{"$f":"IFERROR(MAX(J8,V8,AH8,AT8,BF8,BR8,CJ8),0)","v":7}]
[null,"Week #14",{"$f":"CF20","v":0},null,{"$f":"IF(CD16>0,1,0)","v":0},0,null,null,12,5.6,5,7]
[null,"Week #15",{"$f":"CL20","v":0},0,{"$f":"IF(CJ16>0,1,0)","v":0},0,null,null,13,6.6,5,8]
[null,"Total",{"$f":"SUM(C29:C43)","v":59.5},{"$f":"SUM(D29:D43)","v":55.5},{"$f":"SUM(E29:E43)","v":12},{"$f":"SUM(F29:F43)","v":12},null,null,14,4.5999999999999996,3,6]
[null,null,null,null,null,null,null,null,15,5.8,4,7]
[null,"Summary",null,null,null,null,null,null,16,6,5,7]
[null,"Eagles",{"$f":"I57+I68+I79+I90+I101+I112+I123+I134+I145+I156+I167+I178+I189+I200+I211","v":0},null,null,null,null,null,17,5,4,6]
[null,"Birdies",0,null,null,null,null,null,18,6.4,5,8]
[null,"Pars",{"$f":"I59+I70+I81+I92+I103+I114+I125+I136+I147+I158+I169+I180+I191+I202+I213","v":16},null,null,null,null,null,"Back",{"$f":"SUM(J40:J48)","v":51.199999999999996},{"$f":"SUM(K40:K48)","v":40},63]
[null,"bogeys",38]
[null,"Double bogeys",34]
[null,"Other",20]
[null,"Total",{"$f":"SUM(C47:C52)","v":108}]
[]
[null,{"$f":"D4","v":"2024-04-26"},"Par","Score"]
[null,{"$f":"B7","v":1},4,5,{"$f":"IF(D56<>0,IF((D56-C56)=-1,\"Birdie\",IF((D56-C56)=-2,\"Eagle\",IF((D56-C56)=0,\"Par\",IF((D56-C56)=1,\"bogey\",IF((D56-C56)=2,\"Double bogey\",\"Other\"))))),\"  \")","v":"bogey"},null,null,"Count"]
[null,2,4,5,"bogey",null,null,"Eagle",{"$f":"COUNTIF(E56:E64,\"Eagle\")","v":0}]
[null,3,3,4,"bogey",null,null,"Birdie",{"$f":"COUNTIF(E56:E64,\"Birdie\")","v":0}]
[null,4,4,5,"bogey",null,null,"Par",{"$f":"COUNTIF(E56:E64,\"Par\")","v":0}]
[null,5,5,8,"Other",null,null,"bogey",{"$f":"COUNTIF(E56:E64,\"bogey\")","v":5}]
[null,6,3,6,"Other",null,null,"Double bogey",{"$f":"COUNTIF(E56:E64,\"Double bogey\")","v":1}]
[null,7,4,6,"Double bogey",null,null,"Other",{"$f":"COUNTIF(E56:E64,\"Other\")","v":3}]
[null,8,4,5,"bogey"]
[null,9,5,8,"Other"]
[]
[null,{"$f":"J4","v":"2024-05-03"}]
[null,{"$f":"H7","v":10},4,5,{"$f":"IF(D67<>0,IF((D67-C67)=-1,\"Birdie\",IF((D67-C67)=-2,\"Eagle\",IF((D67-C67)=0,\"Par\",IF((D67-C67)=1,\"bogey\",IF((D67-C67)=2,\"Double bogey\",\"Other\"))))),\"  \")","v":"bogey"},null,null,"Count"]
[null,11,4,4,"Par",null,null,"Eagle",{"$f":"COUNTIF(E67:E75,\"Eagle\")","v":0}]
[null,12,4,5,"bogey",null,null,"Birdie",{"$f":"COUNTIF(E67:E75,\"Birdie\")","v":0}]
[null,13,5,7,"Double bogey",null,null,"Par",{"$f":"COUNTIF(E67:E75,\"Par\")","v":1}]
[null,14,3,5,"Double bogey",null,null,"bogey",{"$f":"COUNTIF(E67:E75,\"bogey\")","v":3}]
[null,15,4,6,"Double bogey",null,null,"Double bogey",{"$f":"COUNTIF(E67:E75,\"Double bogey\")","v":3}]
[null,16,4,7,"Other",null,null,"Other",{"$f":"COUNTIF(E67:E75,\"Other\")","v":2}]
[null,17,3,4,"bogey"]
[null,18,5,8,"Other"]
[]
[null,{"$f":"P4","v":"2024-05-10"}]
[null,{"$f":"N7","v":1},4,5,{"$f":"IF(D78<>0,IF((D78-C78)=-1,\"Birdie\",IF((D78-C78)=-2,\"Eagle\",IF((D78-C78)=0,\"Par\",IF((D78-C78)=1,\"bogey\",IF((D78-C78)=2,\"Double bogey\",\"Other\"))))),\"  \")","v":"bogey"},null,null,"Count"]
[null,2,4,8,"Other",null,null,"Eagle",{"$f":"COUNTIF(E78:E86,\"Eagle\")","v":0}]
[null,3,3,3,"Par",null,null,"Birdie",{"$f":"COUNTIF(E78:E86,\"Birdie\")","v":0}]
[null,4,4,6,"Double bogey",null,null,"Par",{"$f":"COUNTIF(E78:E86,\"Par\")","v":2}]
[null,5,5,9,"Other",null,null,"bogey",{"$f":"COUNTIF(E78:E86,\"bogey\")","v":2}]
[null,6,3,5,"Double bogey",null,null,"Double bogey",{"$f":"COUNTIF(E78:E86,\"Double bogey\")","v":3}]
[null,7,4,4,"Par",null,null,"Other",{"$f":"COUNTIF(E78:E86,\"Other\")","v":2}]
[null,8,4,6,"Double bogey"]
[null,9,5,6,"bogey"]
[]
[null,{"$f":"V4","v":"2024-05-17"}]
[null,{"$f":"T7","v":10},4,5,{"$f":"IF(D89<>0,IF((D89-C89)=-1,\"Birdie\",IF((D89-C89)=-2,\"Eagle\",IF((D89-C89)=0,\"Par\",IF((D89-C89)=1,\"bogey\",IF((D89-C89)=2,\"Double bogey\",\"Other\"))))),\"  \")","v":"bogey"},null,null,"Count"]
[null,11,4,6,"Double bogey",null,null,"Eagle",{"$f":"COUNTIF(E89:E97,\"Eagle\")","v":0}]
[null,12,4,5,"bogey",null,null,"Birdie",{"$f":"COUNTIF(E89:E97,\"Birdie\")","v":0}]
[null,13,5,5,"Par",null,null,"Par",{"$f":"COUNTIF(E89:E97,\"Par\")","v":1}]
[null,14,3,6,"Other",null,null,"bogey",{"$f":"COUNTIF(E89:E97,\"bogey\")","v":2}]
[null,15,4,6,"Double bogey",null,null,"Double bogey",{"$f":"COUNTIF(E89:E97,\"Double bogey\")","v":5}]
[null,16,4,6,"Double bogey",null,null,"Other",{"$f":"COUNTIF(E89:E97,\"Other\")","v":1}]
[null,17,3,5,"Double bogey"]
[null,18,5,7,"Double bogey"]
[]
[null,{"$f":"AB4","v":"2024-05-24"}]
[null,{"$f":"Z7","v":1},4,5,{"$f":"IF(D100<>0,IF((D100-C100)=-1,\"Birdie\",IF((D100-C100)=-2,\"Eagle\",IF((D100-C100)=0,\"Par\",IF((D100-C100)=1,\"bogey\",IF((D100-C100)=2,\"Double bogey\",\"Other\"))))),\"  \")","v":"bogey"},null,null,"Count"]
[null,2,4,8,"Other",null,null,"Eagle",{"$f":"COUNTIF(E100:E108,\"Eagle\")","v":0}]
[null,3,3,3,"Par",null,null,"Birdie",{"$f":"COUNTIF(E100:E108,\"Birdie\")","v":0}]
[null,4,4,5,"bogey",null,null,"Par",{"$f":"COUNTIF(E100:E108,\"Par\")","v":2}]
[null,5,5,6,"bogey",null,null,"bogey",{"$f":"COUNTIF(E100:E108,\"bogey\")","v":4}]
[null,6,3,4,"bogey",null,null,"Double bogey",{"$f":"COUNTIF(E100:E108,\"Double bogey\")","v":2}]
[null,7,4,6,"Double bogey",null,null,"Other",{"$f":"COUNTIF(E100:E108,\"Other\")","v":1}]
[null,8,4,6,"Double bogey"]
[null,9,5,5,"Par"]
[]
[null,{"$f":"AH4","v":"2024-05-31"}]
[null,{"$f":"AF7","v":10},4,5,{"$f":"IF(D111<>0,IF((D111-C111)=-1,\"Birdie\",IF((D111-C111)=-2,\"Eagle\",IF((D111-C111)=0,\"Par\",IF((D111-C111)=1,\"bogey\",IF((D111-C111)=2,\"Double bogey\",\"Other\"))))),\"  \")","v":"bogey"},null,null,"Count"]
[null,11,4,6,"Double bogey",null,null,"Eagle",{"$f":"COUNTIF(E111:E119,\"Eagle\")","v":0}]
[null,12,4,5,"bogey",null,null,"Birdie",{"$f":"COUNTIF(E111:E119,\"Birdie\")","v":0}]
[null,13,5,8,"Other",null,null,"Par",{"$f":"COUNTIF(E111:E119,\"Par\")","v":1}]
[null,14,3,5,"Double bogey",null,null,"bogey",{"$f":"COUNTIF(E111:E119,\"bogey\")","v":2}]
[null,15,4,6,"Double bogey",null,null,"Double bogey",{"$f":"COUNTIF(E111:E119,\"Double bogey\")","v":5}]
[null,16,4,6,"Double bogey",null,null,"Other",{"$f":"COUNTIF(E111:E119,\"Other\")","v":1}]
[null,17,3,5,"Double bogey"]
[null,18,5,5,"Par"]
[]
[null,{"$f":"AN4","v":"2024-06-07"}]
[null,{"$f":"AL7","v":1},4,5,{"$f":"IF(D122<>0,IF((D122-C122)=-1,\"Birdie\",IF((D122-C122)=-2,\"Eagle\",IF((D122-C122)=0,\"Par\",IF((D122-C122)=1,\"bogey\",IF((D122-C122)=2,\"Double bogey\",\"Other\"))))),\"  \")","v":"bogey"},null,null,"Count"]
[null,2,4,6,"Double bogey",null,null,"Eagle",{"$f":"COUNTIF(E122:E130,\"Eagle\")","v":0}]
[null,3,3,6,"Other",null,null,"Birdie",{"$f":"COUNTIF(E122:E130,\"Birdie\")","v":0}]
[null,4,4,6,"Double bogey",null,null,"Par",{"$f":"COUNTIF(E122:E130,\"Par\")","v":2}]
[null,5,5,7,"Double bogey",null,null,"bogey",{"$f":"COUNTIF(E122:E130,\"bogey\")","v":2}]
[null,6,3,3,"Par",null,null,"Double bogey",{"$f":"COUNTIF(E122:E130,\"Double bogey\")","v":4}]
[null,7,4,5,"bogey",null,null,"Other",{"$f":"COUNTIF(E122:E130,\"Other\")","v":1}]
[null,8,4,6,"Double bogey"]
[null,9,5,5,"Par"]
[]
[null,{"$f":"AT4","v":"2024-06-14"}]
[null,{"$f":"AR7","v":10},4,7,{"$f":"IF(D133<>0,IF((D133-C133)=-1,\"Birdie\",IF((D133-C133)=-2,\"Eagle\",IF((D133-C133)=0,\"Par\",IF((D133-C133)=1,\"bogey\",IF((D133-C133)=2,\"Double bogey\",\"Other\"))))),\"  \")","v":"Other"},null,null,"Count"]
[null,11,4,7,"Other",null,null,"Eagle",{"$f":"COUNTIF(E133:E141,\"Eagle\")","v":0}]
[null,12,4,7,"Other",null,null,"Birdie",{"$f":"COUNTIF(E133:E141,\"Birdie\")","v":0}]
[null,13,5,6,"bogey",null,null,"Par",{"$f":"COUNTIF(E133:E141,\"Par\")","v":0}]
[null,14,3,4,"bogey",null,null,"bogey",{"$f":"COUNTIF(E133:E141,\"bogey\")","v":3}]
[null,15,4,7,"Other",null,null,"Double bogey",{"$f":"COUNTIF(E133:E141,\"Double bogey\")","v":2}]
[null,16,4,6,"Double bogey",null,null,"Other",{"$f":"COUNTIF(E133:E141,\"Other\")","v":4}]
[null,17,3,5,"Double bogey"]
[null,18,5,6,"bogey"]
[]
[null,{"$f":"AZ4","v":"2024-07-05"}]
[null,{"$f":"AX7","v":1},4,5,{"$f":"IF(D144<>0,IF((D144-C144)=-1,\"Birdie\",IF((D144-C144)=-2,\"Eagle\",IF((D144-C144)=0,\"Par\",IF((D144-C144)=1,\"bogey\",IF((D144-C144)=2,\"Double bogey\",\"Other\"))))),\"  \")","v":"bogey"},null,null,"Count"]
[null,2,4,8,"Other",null,null,"Eagle",{"$f":"COUNTIF(E144:E152,\"Eagle\")","v":0}]
[null,3,3,4,"bogey",null,null,"Birdie",{"$f":"COUNTIF(E144:E152,\"Birdie\")","v":0}]
[null,4,4,5,"bogey",null,null,"Par",{"$f":"COUNTIF(E144:E152,\"Par\")","v":0}]
[null,5,5,7,"Double bogey",null,null,"bogey",{"$f":"COUNTIF(E144:E152,\"bogey\")","v":7}]
[null,6,3,4,"bogey",null,null,"Double bogey",{"$f":"COUNTIF(E144:E152,\"Double bogey\")","v":1}]
[null,7,4,5,"bogey",null,null,"Other",{"$f":"COUNTIF(E144:E152,\"Other\")","v":1}]
[null,8,4,5,"bogey"]
[null,9,5,6,"bogey"]
[]
[null,{"$f":"BF4","v":"2024-07-12"}]
[null,{"$f":"BD7","v":10},4,6,{"$f":"IF(D155<>0,IF((D155-C155)=-1,\"Birdie\",IF((D155-C155)=-2,\"Eagle\",IF((D155-C155)=0,\"Par\",IF((D155-C155)=1,\"bogey\",IF((D155-C155)=2,\"Double bogey\",\"Other\"))))),\"  \")","v":"Double bogey"},null,null,"Count"]
[null,11,4,5,"bogey",null,null,"Eagle",{"$f":"COUNTIF(E155:E163,\"Eagle\")","v":0}]
[null,12,4,6,"Double bogey",null,null,"Birdie",{"$f":"COUNTIF(E155:E163,\"Birdie\")","v":0}]
[null,13,5,7,"Double bogey",null,null,"Par",{"$f":"COUNTIF(E155:E163,\"Par\")","v":2}]
[null,14,3,3,"Par",null,null,"bogey",{"$f":"COUNTIF(E155:E163,\"bogey\")","v":3}]
[null,15,4,4,"Par",null,null,"Double bogey",{"$f":"COUNTIF(E155:E163,\"Double bogey\")","v":3}]
[null,16,4,5,"bogey",null,null,"Other",{"$f":"COUNTIF(E155:E163,\"Other\")","v":1}]
[null,17,3,6,"Other"]
[null,18,5,6,"bogey"]
[]
[null,{"$f":"BL4","v":"2024-07-19"}]
[null,{"$f":"BJ7","v":1},4,6,{"$f":"IF(D166<>0,IF((D166-C166)=-1,\"Birdie\",IF((D166-C166)=-2,\"Eagle\",IF((D166-C166)=0,\"Par\",IF((D166-C166)=1,\"bogey\",IF((D166-C166)=2,\"Double bogey\",\"Other\"))))),\"  \")","v":"Double bogey"},null,null,"Count"]
[null,2,4,5,"bogey",null,null,"Eagle",{"$f":"COUNTIF(E166:E174,\"Eagle\")","v":0}]
[null,3,3,5,"Double bogey",null,null,"Birdie",{"$f":"COUNTIF(E166:E174,\"Birdie\")","v":0}]
[null,4,4,7,"Other",null,null,"Par",{"$f":"COUNTIF(E166:E174,\"Par\")","v":1}]
[null,5,5,8,"Other",null,null,"bogey",{"$f":"COUNTIF(E166:E174,\"bogey\")","v":2}]
[null,6,3,3,"Par",null,null,"Double bogey",{"$f":"COUNTIF(E166:E174,\"Double bogey\")","v":3}]
[null,7,4,6,"Double bogey",null,null,"Other",{"$f":"COUNTIF(E166:E174,\"Other\")","v":3}]
[null,8,4,7,"Other"]
[null,9,5,6,"bogey"]
[]
[null,{"$f":"BR4","v":"2024-07-26"}]
[null,{"$f":"BP7","v":10},4,0,{"$f":"IF(D177<>0,IF((D177-C177)=-1,\"Birdie\",IF((D177-C177)=-2,\"Eagle\",IF((D177-C177)=0,\"Par\",IF((D177-C177)=1,\"bogey\",IF((D177-C177)=2,\"Double bogey\",\"Other\"))))),\"  \")","v":"  "},null,null,"Count"]
[null,11,4,0,"  ",null,null,"Eagle",{"$f":"COUNTIF(E177:E185,\"Eagle\")","v":0}]
[null,12,4,0,"  ",null,null,"Birdie",{"$f":"COUNTIF(E177:E185,\"Birdie\")","v":0}]
[null,13,5,0,"  ",null,null,"Par",{"$f":"COUNTIF(E177:E185,\"Par\")","v":0}]
[null,14,3,0,"  ",null,null,"bogey",{"$f":"COUNTIF(E177:E185,\"bogey\")","v":0}]
[null,15,4,0,"  ",null,null,"Double bogey",{"$f":"COUNTIF(E177:E185,\"Double bogey\")","v":0}]
[null,16,4,0,"  ",null,null,"Other",{"$f":"COUNTIF(E177:E185,\"Other\")","v":0}]
[null,17,3,0,"  "]
[null,18,5,0,"  "]
[]
[null,{"$f":"BX4","v":"2024-08-02"}]
[null,{"$f":"BV7","v":1},4,4,{"$f":"IF(D188<>0,IF((D188-C188)=-1,\"Birdie\",IF((D188-C188)=-2,\"Eagle\",IF((D188-C188)=0,\"Par\",IF((D188-C188)=1,\"bogey\",IF((D188-C188)=2,\"Double bogey\",\"Other\"))))),\"  \")","v":"Par"},null,null,"Count"]
[null,2,4,6,"Double bogey",null,null,"Eagle",{"$f":"COUNTIF(E188:E196,\"Eagle\")","v":0}]
[null,3,3,4,"bogey",null,null,"Birdie",{"$f":"COUNTIF(E188:E196,\"Birdie\")","v":0}]
[null,4,4,4,"Par",null,null,"Par",{"$f":"COUNTIF(E188:E196,\"Par\")","v":4}]
[null,5,5,5,"Par",null,null,"bogey",{"$f":"COUNTIF(E188:E196,\"bogey\")","v":3}]
[null,6,3,4,"bogey",null,null,"Double bogey",{"$f":"COUNTIF(E188:E196,\"Double bogey\")","v":2}]
[null,7,4,5,"bogey",null,null,"Other",{"$f":"COUNTIF(E188:E196,\"Other\")","v":0}]
[null,8,4,4,"Par"]
[null,9,5,7,"Double bogey"]
[]
[null,{"$f":"CD4","v":"2024-08-16"}]
[null,{"$f":"CB7","v":1},4,0,{"$f":"IF(D199<>0,IF((D199-C199)=-1,\"Birdie\",IF((D199-C199)=-2,\"Eagle\",IF((D199-C199)=0,\"Par\",IF((D199-C199)=1,\"bogey\",IF((D199-C199)=2,\"Double bogey\",\"Other\"))))),\"  \")","v":"  "},null,null,"Count"]
[null,2,4,0,"  ",null,null,"Eagle",{"$f":"COUNTIF(E199:E207,\"Eagle\")","v":0}]
[null,3,3,0,"  ",null,null,"Birdie",{"$f":"COUNTIF(E199:E207,\"Birdie\")","v":0}]
[null,4,4,0,"  ",null,null,"Par",{"$f":"COUNTIF(E199:E207,\"Par\")","v":0}]
[null,5,5,0,"  ",null,null,"bogey",{"$f":"COUNTIF(E199:E207,\"bogey\")","v":0}]
[null,6,3,0,"  ",null,null,"Double bogey",{"$f":"COUNTIF(E199:E207,\"Double bogey\")","v":0}]
[null,7,4,0,"  ",null,null,"Other",{"$f":"COUNTIF(E199:E207,\"Other\")","v":0}]
[null,8,4,0,"  "]
[null,9,5,0,"  "]
[]
[null,{"$f":"CJ4","v":"2024-08-23"}]
[null,{"$f":"CH7","v":10},4,0,{"$f":"IF(D210<>0,IF((D210-C210)=-1,\"Birdie\",IF((D210-C210)=-2,\"Eagle\",IF((D210-C210)=0,\"Par\",IF((D210-C210)=1,\"bogey\",IF((D210-C210)=2,\"Double bogey\",\"Other\"))))),\"  \")","v":"  "},null,null,"Count"]
[null,11,4,0,"  ",null,null,"Eagle",{"$f":"COUNTIF(E210:E218,\"Eagle\")","v":0}]
[null,12,4,0,"  ",null,null,"Birdie",{"$f":"COUNTIF(E210:E218,\"Birdie\")","v":0}]
[null,13,5,0,"  ",null,null,"Par",{"$f":"COUNTIF(E210:E218,\"Par\")","v":0}]
[null,14,3,0,"  ",null,null,"bogey",{"$f":"COUNTIF(E210:E218,\"bogey\")","v":0}]
[null,15,4,0,"  ",null,null,"Double bogey",{"$f":"COUNTIF(E210:E218,\"Double bogey\")","v":0}]
[null,16,4,0,"  ",null,null,"Other",{"$f":"COUNTIF(E210:E218,\"Other\")","v":0}]
[null,17,3,0,"  "]
[null,18,5,0,"  "]

{"sheet":"Linton","index":8,"n_rows":218,"n_cols":90,"rows_kept":218,"cut":false,"hidden":false,"merged":[]}
["Andy Linton"]
[]
[]
[null,null,"Date:",{"$f":"VLOOKUP(C5,Week,2)","v":"2024-04-26"},null,null,null,null,"Date:",{"$f":"VLOOKUP(I5,Week,2)","v":"2024-05-03"},null,null,null,null,"Date:",{"$f":"VLOOKUP(O5,Week,2)","v":"2024-05-10"},null,null,null,null,"Date:",{"$f":"VLOOKUP(U5,Week,2)","v":"2024-05-17"},null,null,null,null,"Date:",{"$f":"VLOOKUP(AA5,Week,2)","v":"2024-05-24"},null,null,null,null,"Date:",{"$f":"VLOOKUP(AG5,Week,2)","v":"2024-05-31"},null,null,null,null,"Date:",{"$f":"VLOOKUP(AM5,Week,2)","v":"2024-06-07"},null,null,null,null,"Date:",{"$f":"VLOOKUP(AS5,Week,2)","v":"2024-06-14"},null,null,null,null,"Date:",{"$f":"VLOOKUP(AY5,Week,2)","v":"2024-07-05"},null,null,null,null,"Date:",{"$f":"VLOOKUP(BE5,Week,2)","v":"2024-07-12"},null,null,null,null,"Date:",{"$f":"VLOOKUP(BK5,Week,2)","v":"2024-07-19"},null,null,null,null,"Date:",{"$f":"VLOOKUP(BQ5,Week,2)","v":"2024-07-26"},null,null,null,null,"Date:",{"$f":"VLOOKUP(BW5,Week,2)","v":"2024-08-02"},null,null,null,null,"Date:",{"$f":"VLOOKUP(CC5,Week,2)","v":"2024-08-16"},null,null,null,null,"Date:",{"$f":"VLOOKUP(CI5,Week,2)","v":"2024-08-23"}]
[null,"Week",1,null,null,null,null,"Week",2,null,null,null,null,"Week",3,null,null,null,null,"Week",4,null,null,null,null,"Week",5,null,null,null,null,"Week",6,null,null,null,null,"Week",7,null,null,null,null,"Week",8,null,null,null,null,"Week",9,null,null,null,null,"Week",10,null,null,null,null,"Week",11,null,null,null,null,"Week",12,null,null,null,null,"Week",13,null,null,null,null,"Week",14,null,null,null,null,"Week",15]
[null,"Hole #","Par","Score","Net","Win Hole",null,"Hole #","Par","Score","Net","Win Hole",null,"Hole #","Par","Score","Net","Win Hole",null,"Hole #","Par","Score","Net","Win Hole",null,"Hole #","Par","Score","Net","Win Hole",null,"Hole #","Par","Score","Net","Win Hole",null,"Hole #","Par","Score","Net","Win Hole",null,"Hole #","Par","Score","Net","Win Hole",null,"Hole #","Par","Score","Net","Win Hole",null,"Hole #","Par","Score","Net","Win Hole",null,"Hole #","Par","Score","Net","Win Hole",null,"Hole #","Par","Score","Net","Win Hole",null,"Hole #","Par","Score","Net","Win Hole",null,"Hole #","Par","Score","Net","Win Hole",null,"Hole #","Par","Score","Net","Win Hole"]
[null,{"$f":"VLOOKUP(C5,Week,6)","v":1},{"$f":"VLOOKUP(B7,Holes,2)","v":4},5,{"$f":"IF((D7-C7)>3,C7+3,D7)","v":5},0,null,{"$f":"VLOOKUP(I5,Week,6)","v":10},{"$f":"VLOOKUP(H7,Holes,2)","v":4},4,{"$f":"IF((J7-I7)>3,I7+3,J7)","v":4},1,null,{"$f":"VLOOKUP(O5,Week,6)","v":1},{"$f":"VLOOKUP(N7,Holes,2)","v":4},5,{"$f":"IF((P7-O7)>3,O7+3,P7)","v":5},0,null,{"$f":"VLOOKUP(U5,Week,6)","v":10},{"$f":"VLOOKUP(T7,Holes,2)","v":4},7,{"$f":"IF((V7-U7)>3,U7+3,V7)","v":7},0,null,{"$f":"VLOOKUP(AA5,Week,6)","v":1},{"$f":"VLOOKUP(Z7,Holes,2)","v":4},5,{"$f":"IF((AB7-AA7)>3,AA7+3,AB7)","v":5},0,null,{"$f":"VLOOKUP(AG5,Week,6)","v":10},{"$f":"VLOOKUP(AF7,Holes,2)","v":4},4,{"$f":"IF((AH7-AG7)>3,AG7+3,AH7)","v":4},1,null,{"$f":"VLOOKUP(AM5,Week,6)","v":1},{"$f":"VLOOKUP(AL7,Holes,2)","v":4},6,{"$f":"IF((AN7-AM7)>3,AM7+3,AN7)","v":6},0,null,{"$f":"VLOOKUP(AS5,Week,6)","v":10},{"$f":"VLOOKUP(AR7,Holes,2)","v":4},4,{"$f":"IF((AT7-AS7)>3,AS7+3,AT7)","v":4},1,null,{"$f":"VLOOKUP(AY5,Week,6)","v":1},{"$f":"VLOOKUP(AX7,Holes,2)","v":4},4,{"$f":"IF((AZ7-AY7)>3,AY7+3,AZ7)","v":4},1,null,{"$f":"VLOOKUP(BE5,Week,6)","v":10},{"$f":"VLOOKUP(BD7,Holes,2)","v":4},4,{"$f":"IF((BF7-BE7)>3,BE7+3,BF7)","v":4},0.5,null,{"$f":"VLOOKUP(BK5,Week,6)","v":1},{"$f":"VLOOKUP(BJ7,Holes,2)","v":4},4,{"$f":"IF((BL7-BK7)>3,BK7+3,BL7)","v":4},1,null,{"$f":"VLOOKUP(BQ5,Week,6)","v":10},{"$f":"VLOOKUP(BP7,Holes,2)","v":4},5,{"$f":"IF((BR7-BQ7)>3,BQ7+3,BR7)","v":5},0.5,null,{"$f":"VLOOKUP(BW5,Week,6)","v":1},{"$f":"VLOOKUP(BV7,Holes,2)","v":4},4,{"$f":"IF((BX7-BW7)>3,BW7+3,BX7)","v":4},1,null,{"$f":"VLOOKUP(CC5,Week,6)","v":1},{"$f":"VLOOKUP(CB7,Holes,2)","v":4},6,{"$f":"IF((CD7-CC7)>3,CC7+3,CD7)","v":6},0,null,{"$f":"VLOOKUP(CI5,Week,6)","v":10},{"$f":"VLOOKUP(CH7,Holes,2)","v":4},4,{"$f":"IF((CJ7-CI7)>3,CI7+3,CJ7)","v":4},0.5]
[null,{"$f":"+B7+1","v":2},4,6,6,0,null,{"$f":"+H7+1","v":11},4,6,6,1,null,{"$f":"+N7+1","v":2},4,5,5,0.5,null,{"$f":"+T7+1","v":11},4,5,5,1,null,{"$f":"+Z7+1","v":2},4,5,5,1,null,{"$f":"+AF7+1","v":11},4,5,5,1,null,{"$f":"+AL7+1","v":2},4,4,4,1,null,{"$f":"+AR7+1","v":11},4,4,4,0.5,null,{"$f":"+AX7+1","v":2},4,5,5,0,null,{"$f":"+BD7+1","v":11},4,4,4,0.5,null,{"$f":"+BJ7+1","v":2},4,5,5,0,null,{"$f":"+BP7+1","v":11},4,5,5,0.5,null,{"$f":"+BV7+1","v":2},4,5,5,1,null,{"$f":"+CB7+1","v":2},4,4,4,1,null,{"$f":"+CH7+1","v":11},4,5,5,0.5]
[null,3,3,4,4,0,null,12,4,6,6,0,null,3,3,3,3,1,null,12,4,5,5,0.5,null,3,3,4,4,1,null,12,4,6,6,0,null,3,3,3,3,1,null,12,4,5,5,0,null,3,3,4,4,0.5,null,12,4,5,5,1,null,3,3,4,4,0.5,null,12,4,6,6,1,null,3,3,3,3,1,null,3,3,4,4,0.5,null,12,4,5,5,0.5]
[null,4,4,6,6,0,null,13,5,7,7,0,null,4,4,4,4,0.5,null,13,5,6,6,1,null,4,4,5,5,0.5,null,13,5,6,6,1,null,4,4,5,5,0.5,null,13,5,7,7,1,null,4,4,4,4,0,null,13,5,8,8,0,null,4,4,5,5,0,null,13,5,5,5,1,null,4,4,5,5,0,null,4,4,5,5,1,null,13,5,8,8,0]
[null,5,5,7,7,0,null,14,3,4,4,0.5,null,5,5,6,6,0,null,14,3,3,3,1,null,5,5,6,6,0.5,null,14,3,4,4,1,null,5,5,6,6,0,null,14,3,4,4,1,null,5,5,5,5,1,null,14,3,3,3,1,null,5,5,6,6,0.5,null,14,3,4,4,0.5,null,5,5,5,5,0.5,null,5,5,5,5,1,null,14,3,4,4,0.5]
[null,6,3,4,4,0,null,15,4,4,4,1,null,6,3,4,4,0,null,15,4,5,5,0.5,null,6,3,3,3,1,null,15,4,4,4,0.5,null,6,3,4,4,0,null,15,4,5,5,1,null,6,3,3,3,0,null,15,4,4,4,0,null,6,3,3,3,0.5,null,15,4,5,5,0,null,6,3,4,4,0,null,6,3,3,3,1,null,15,4,4,4,1]
[null,7,4,4,4,0.5,null,16,4,6,6,0,null,7,4,5,5,0,null,16,4,5,5,0,null,7,4,5,5,1,null,16,4,4,4,0,null,7,4,4,4,0.5,null,16,4,4,4,1,null,7,4,4,4,0.5,null,16,4,5,5,0,null,7,4,5,5,0,null,16,4,4,4,1,null,7,4,4,4,0.5,null,7,4,4,4,0.5,null,16,4,4,4,1]
[null,8,4,5,5,0,null,17,3,4,4,0.5,null,8,4,4,4,1,null,17,3,5,5,1,null,8,4,5,5,1,null,17,3,3,3,0,null,8,4,5,5,1,null,17,3,3,3,1,null,8,4,4,4,0.5,null,17,3,5,5,0.5,null,8,4,4,4,0,null,17,3,4,4,0.5,null,8,4,4,4,0.5,null,8,4,5,5,0,null,17,3,3,3,0.5]
[null,9,5,7,7,0,null,18,5,7,7,0,null,9,5,5,5,0.5,null,18,5,5,5,1,null,9,5,5,5,0.5,null,18,5,5,5,0.5,null,9,5,4,4,1,null,18,5,6,6,0.5,null,9,5,5,5,1,null,18,5,6,6,0,null,9,5,5,5,0,null,18,5,5,5,0,null,9,5,6,6,0.5,null,9,5,6,6,1,null,18,5,5,5,0.5]
[null,"Total",{"$f":"SUM(C7:C15)","v":36},{"$f":"SUM(D7:D15)","v":48},{"$f":"SUM(E7:E15)","v":48},{"$f":"SUM(F7:F15)","v":0.5},null,"Total",{"$f":"SUM(I7:I15)","v":36},{"$f":"SUM(J7:J15)","v":48},{"$f":"SUM(K7:K15)","v":48},{"$f":"SUM(L7:L15)","v":4},null,"Total",{"$f":"SUM(O7:O15)","v":36},{"$f":"SUM(P7:P15)","v":41},{"$f":"SUM(Q7:Q15)","v":41},{"$f":"SUM(R7:R15)","v":3.5},null,"Total",{"$f":"SUM(U7:U15)","v":36},{"$f":"SUM(V7:V15)","v":46},{"$f":"SUM(W7:W15)","v":46},{"$f":"SUM(X7:X15)","v":6},null,"Total",{"$f":"SUM(AA7:AA15)","v":36},{"$f":"SUM(AB7:AB15)","v":43},{"$f":"SUM(AC7:AC15)","v":43},{"$f":"SUM(AD7:AD15)","v":6.5},null,"Total",{"$f":"SUM(AG7:AG15)","v":36},{"$f":"SUM(AH7:AH15)","v":41},{"$f":"SUM(AI7:AI15)","v":41},{"$f":"SUM(AJ7:AJ15)","v":5},null,"Total",{"$f":"SUM(AM7:AM15)","v":36},{"$f":"SUM(AN7:AN15)","v":41},{"$f":"SUM(AO7:AO15)","v":41},{"$f":"SUM(AP7:AP15)","v":5},null,"Total",{"$f":"SUM(AS7:AS15)","v":36},{"$f":"SUM(AT7:AT15)","v":42},{"$f":"SUM(AU7:AU15)","v":42},{"$f":"SUM(AV7:AV15)","v":7},null,"Total",{"$f":"SUM(AY7:AY15)","v":36},{"$f":"SUM(AZ7:AZ15)","v":38},{"$f":"SUM(BA7:BA15)","v":38},{"$f":"SUM(BB7:BB15)","v":4.5},null,"Total",{"$f":"SUM(BE7:BE15)","v":36},{"$f":"SUM(BF7:BF15)","v":44},{"$f":"SUM(BG7:BG15)","v":44},{"$f":"SUM(BH7:BH15)","v":3.5},null,"Total",{"$f":"SUM(BK7:BK15)","v":36},{"$f":"SUM(BL7:BL15)","v":41},{"$f":"SUM(BM7:BM15)","v":41},{"$f":"SUM(BN7:BN15)","v":2.5},null,"Total",{"$f":"SUM(BQ7:BQ15)","v":36},{"$f":"SUM(BR7:BR15)","v":43},{"$f":"SUM(BS7:BS15)","v":43},{"$f":"SUM(BT7:BT15)","v":5},null,"Total",{"$f":"SUM(BW7:BW15)","v":36},{"$f":"SUM(BX7:BX15)","v":40},{"$f":"SUM(BY7:BY15)","v":40},{"$f":"SUM(BZ7:BZ15)","v":5},null,"Total",{"$f":"SUM(CC7:CC15)","v":36},{"$f":"SUM(CD7:CD15)","v":42},{"$f":"SUM(CE7:CE15)","v":42},{"$f":"SUM(CF7:CF15)","v":6},null,"Total",{"$f":"SUM(CI7:CI15)","v":36},{"$f":"SUM(CJ7:CJ15)","v":42},{"$f":"SUM(CK7:CK15)","v":42},{"$f":"SUM(CL7:CL15)","v":5}]
[]
[null,null,null,null,"Low Net",0,null,null,null,null,"Low Net",0,null,null,null,null,"Low Net",0.5,null,null,null,null,"Low Net",1,null,null,null,null,"Low Net",1,null,null,null,null,"Low Net",1,null,null,null,null,"Low Net",1,null,null,null,null,"Low Net",1,null,null,null,null,"Low Net",1,null,null,null,null,"Low Net",0,null,null,null,null,"Low Net",0,null,null,null,null,"Low Net",1,null,null,null,null,"Low Net",0.5,null,null,null,null,"Low Net",1,null,null,null,null,"Low Net",0]
[]
[null,null,null,null,"Total Points",{"$f":"SUM(F16:F19)","v":0.5},null,null,null,null,"Total Points",{"$f":"SUM(L16:L19)","v":4},null,null,null,null,"Total Points",{"$f":"SUM(R16:R19)","v":4},null,null,null,null,"Total Points",{"$f":"SUM(X16:X19)","v":7},null,null,null,null,"Total Points",{"$f":"SUM(AD16:AD19)","v":7.5},null,null,null,null,"Total Points",{"$f":"SUM(AJ16:AJ19)","v":6},null,null,null,null,"Total Points",{"$f":"SUM(AP16:AP19)","v":6},null,null,null,null,"Total Points",{"$f":"SUM(AV16:AV19)","v":8},null,null,null,null,"Total Points",{"$f":"SUM(BB16:BB19)","v":5.5},null,null,null,null,"Total Points",{"$f":"SUM(BH16:BH19)","v":3.5},null,null,null,null,"Total Points",{"$f":"SUM(BN16:BN19)","v":2.5},null,null,null,null,"Total Points",{"$f":"SUM(BT16:BT19)","v":6},null,null,null,null,"Total Points",{"$f":"SUM(BZ16:BZ19)","v":5.5},null,null,null,null,"Total Points",{"$f":"SUM(CF16:CF19)","v":7},null,null,null,null,"Total Points",{"$f":"SUM(CL16:CL19)","v":5}]
[]
[null,null,null,null,"Handicap",{"$f":"IF(D16=0,0,E16-C16)","v":12},null,null,null,null,"Handicap",{"$f":"IF(J16=0,0,K16-I16)","v":12},null,null,null,null,"Handicap",{"$f":"IF(P16=0,0,Q16-O16)","v":5},null,null,null,null,"Handicap",{"$f":"IF(V16=0,0,W16-U16)","v":10},null,null,null,null,"Handicap",{"$f":"IF(AB16=0,0,AC16-AA16)","v":7},null,null,null,null,"Handicap",{"$f":"IF(AH16=0,0,AI16-AG16)","v":5},null,null,null,null,"Handicap",{"$f":"IF(AN16=0,0,AO16-AM16)","v":5},null,null,null,null,"Handicap",{"$f":"IF(AT16=0,0,AU16-AS16)","v":6},null,null,null,null,"Handicap",{"$f":"IF(AZ16=0,0,BA16-AY16)","v":2},null,null,null,null,"Handicap",{"$f":"IF(BF16=0,0,BG16-BE16)","v":8},null,null,null,null,"Handicap",{"$f":"IF(BL16=0,0,BM16-BK16)","v":5},null,null,null,null,"Handicap",{"$f":"IF(BR16=0,0,BS16-BQ16)","v":7},null,null,null,null,"Handicap",{"$f":"IF(BX16=0,0,BY16-BW16)","v":4},null,null,null,null,"Handicap",{"$f":"IF(CD16=0,0,CE16-CC16)","v":6},null,null,null,null,"Handicap",{"$f":"IF(CJ16=0,0,CK16-CI16)","v":6}]
[]
[null,null,null,null,null,{"$f":"IF(D16<>0,IF(F16>4.5,\"W\",IF(F16=4.5,\"T\",IF(F16<4.5,\"L\"))),0)","v":"L"},null,null,null,null,null,{"$f":"IF(J16<>0,IF(L16>4.5,\"W\",IF(L16=4.5,\"T\",IF(L16<4.5,\"L\"))),0)","v":"L"},null,null,null,null,null,{"$f":"IF(P16<>0,IF(R16>4.5,\"W\",IF(R16=4.5,\"T\",IF(R16<4.5,\"L\"))),0)","v":"L"},null,null,null,null,null,{"$f":"IF(V16<>0,IF(X16>4.5,\"W\",IF(X16=4.5,\"T\",IF(X16<4.5,\"L\"))),0)","v":"W"},null,null,null,null,null,{"$f":"IF(AB16<>0,IF(AD16>4.5,\"W\",IF(AD16=4.5,\"T\",IF(AD16<4.5,\"L\"))),0)","v":"W"},null,null,null,null,null,{"$f":"IF(AH16<>0,IF(AJ16>4.5,\"W\",IF(AJ16=4.5,\"T\",IF(AJ16<4.5,\"L\"))),0)","v":"W"},null,null,null,null,null,{"$f":"IF(AN16<>0,IF(AP16>4.5,\"W\",IF(AP16=4.5,\"T\",IF(AP16<4.5,\"L\"))),0)","v":"W"},null,null,null,null,null,{"$f":"IF(AT16<>0,IF(AV16>4.5,\"W\",IF(AV16=4.5,\"T\",IF(AV16<4.5,\"L\"))),0)","v":"W"},null,null,null,null,null,{"$f":"IF(AZ16<>0,IF(BB16>4.5,\"W\",IF(BB16=4.5,\"T\",IF(BB16<4.5,\"L\"))),0)","v":"T"},null,null,null,null,null,{"$f":"IF(BF16<>0,IF(BH16>4.5,\"W\",IF(BH16=4.5,\"T\",IF(BH16<4.5,\"L\"))),0)","v":"L"},null,null,null,null,null,{"$f":"IF(BL16<>0,IF(BN16>4.5,\"W\",IF(BN16=4.5,\"T\",IF(BN16<4.5,\"L\"))),0)","v":"L"},null,null,null,null,null,{"$f":"IF(BR16<>0,IF(BT16>4.5,\"W\",IF(BT16=4.5,\"T\",IF(BT16<4.5,\"L\"))),0)","v":"W"},null,null,null,null,null,{"$f":"IF(BX16<>0,IF(BZ16>4.5,\"W\",IF(BZ16=4.5,\"T\",IF(BZ16<4.5,\"L\"))),0)","v":"W"},null,null,null,null,null,{"$f":"IF(CD16<>0,IF(CF16>4.5,\"W\",IF(CF16=4.5,\"T\",IF(CF16<4.5,\"L\"))),0)","v":"W"},null,null,null,null,null,{"$f":"IF(CJ16<>0,IF(CL16>4.5,\"W\",IF(CL16=4.5,\"T\",IF(CL16<4.5,\"L\"))),0)","v":"W"}]
[]
[null,"Summary",null,{"$f":"COUNT(D29:D43)","v":10}]
[null,null,null,"Adj",null,"Adj",null,null,null,"Avg Score"]
[null,null,"Points","Points","Matches","Matches",null,null,"Hole #","by Hole","Best","Worst"]
[null,"Week #1",{"$f":"F20","v":0.5},null,1,{"$f":"E29","v":1},null,null,1,{"$f":"IFERROR(AVERAGE(D7,P7,AB7,AN7,AZ7,BL7,BX7,CD7),0)","v":4.875},{"$f":"IFERROR(MIN(D7,P7,AB7,AN7,AZ7,BL7,BX7,CD7),0)","v":4},{"$f":"IFERROR(MAX(D7,P7,AB7,AN7,AZ7,BL7,BX7,CD7),0)","v":6}]
[null,"Week #2",{"$f":"L20","v":4},null,{"$f":"IF(J16>0,1,0)","v":1},1,null,null,2,{"$f":"IFERROR(AVERAGE(D8,P8,AB8,AN8,AZ8,BL8,BX8,CD8),0)","v":4.875},{"$f":"IFERROR(MIN(D8,P8,AB8,AN8,AZ8,BL8,BX8,CD8),0)","v":4},{"$f":"IFERROR(MAX(D8,P8,AB8,AN8,AZ8,BL8,BX8,CD8),0)","v":6}]
[null,"Week #3",{"$f":"R20","v":4},null,{"$f":"IF(P16>0,1,0)","v":1},1,null,null,3,3.625,3,4]
[null,"Week #4",{"$f":"X20","v":7},{"$f":"C32","v":7},{"$f":"IF(V16>0,1,0)","v":1},1,null,null,4,4.875,4,6]
[null,"Week #5",{"$f":"AD20","v":7.5},7.5,{"$f":"IF(AB16>0,1,0)","v":1},1,null,null,5,5.75,5,7]
[null,"Week #6",{"$f":"AJ20","v":6},6,{"$f":"IF(AH16>0,1,0)","v":1},1,null,null,6,3.5,3,4]
[null,"Week #7",{"$f":"AP20","v":6},6,{"$f":"IF(AN16>0,1,0)","v":1},1,null,null,7,4.375,4,5]
[null,"Week #8",{"$f":"AV20","v":8},8,{"$f":"IF(AT16>0,1,0)","v":1},1,null,null,8,4.5,4,5]
[null,"Week #9",{"$f":"BB20","v":5.5},5.5,{"$f":"IF(AZ16>0,1,0)","v":1},1,null,null,9,5.375,4,7]
[null,"Week #10",{"$f":"BH20","v":3.5},null,{"$f":"IF(BF16>0,1,0)","v":1},1,null,null,"Front",{"$f":"SUM(J29:J37)","v":41.75},{"$f":"SUM(K29:K37)","v":35},50]
[null,"Week #11",{"$f":"BN20","v":2.5},null,{"$f":"IF(BL16>0,1,0)","v":1},1]
[null,"Week #12",{"$f":"BT20","v":6},6,{"$f":"IF(BR16>0,1,0)","v":1},1,null,null,10,{"$f":"IFERROR(AVERAGE(J7,V7,AH7,AT7,BF7,BR7,CJ7),0)","v":4.5714285714285712},{"$f":"IFERROR(MIN(J7,V7,AH7,AT7,BF7,BR7,CJ7),0)","v":4},{"$f":"IFERROR(MAX(J7,V7,AH7,AT7,BF7,BR7,CJ7),0)","v":7}]
[null,"Week #13",{"$f":"BZ20","v":5.5},5.5,{"$f":"IF(BX16>0,1,0)","v":1},1,null,null,11,{"$f":"IFERROR(AVERAGE(J8,V8,AH8,AT8,BF8,BR8,CJ8),0)","v":4.8571428571428568},{"$f":"IFERROR(MIN(J8,V8,AH8,AT8,BF8,BR8,CJ8),0)","v":4},{"$f":"IFERROR(MAX(J8,V8,AH8,AT8,BF8,BR8,CJ8),0)","v":6}]
[null,"Week #14",{"$f":"CF20","v":7},7,{"$f":"IF(CD16>0,1,0)","v":1},1,null,null,12,5.4285714285714288,5,6]
[null,"Week #15",{"$f":"CL20","v":5},5,{"$f":"IF(CJ16>0,1,0)","v":1},1,null,null,13,6.7142857142857144,5,8]
[null,"Total",{"$f":"SUM(C29:C43)","v":78},{"$f":"SUM(D29:D43)","v":63.5},{"$f":"SUM(E29:E43)","v":15},{"$f":"SUM(F29:F43)","v":15},null,null,14,3.7142857142857144,3,4]
[null,null,null,null,null,null,null,null,15,4.4285714285714288,4,5]
[null,"Summary",null,null,null,null,null,null,16,4.5714285714285712,4,6]
[null,"Eagles",{"$f":"I57+I68+I79+I90+I101+I112+I123+I134+I145+I156+I167+I178+I189+I200+I211","v":0},null,null,null,null,null,17,3.8571428571428572,3,5]
[null,"Birdies",1,null,null,null,null,null,18,5.5714285714285712,5,7]
[null,"Pars",55,null,null,null,null,null,"Back",{"$f":"SUM(J40:J48)","v":43.714285714285708},{"$f":"SUM(K40:K48)","v":37},54]
[null,"bogeys",60]
[null,"Double bogeys",16]
[null,"Other",3]
[null,"Total",{"$f":"SUM(C47:C52)","v":135}]
[]
[null,{"$f":"D4","v":"2024-04-26"},"Par","Score"]
[null,{"$f":"B7","v":1},4,5,{"$f":"IF(D56<>0,IF((D56-C56)=-1,\"Birdie\",IF((D56-C56)=-2,\"Eagle\",IF((D56-C56)=0,\"Par\",IF((D56-C56)=1,\"bogey\",IF((D56-C56)=2,\"Double bogey\",\"Other\"))))),\"  \")","v":"bogey"},null,null,"Count"]
[null,2,4,6,"Double bogey",null,null,"Eagle",{"$f":"COUNTIF(E56:E64,\"Eagle\")","v":0}]
[null,3,3,4,"bogey",null,null,"Birdie",{"$f":"COUNTIF(E56:E64,\"Birdie\")","v":0}]
[null,4,4,6,"Double bogey",null,null,"Par",{"$f":"COUNTIF(E56:E64,\"Par\")","v":1}]
[null,5,5,7,"Double bogey",null,null,"bogey",{"$f":"COUNTIF(E56:E64,\"bogey\")","v":4}]
[null,6,3,4,"bogey",null,null,"Double bogey",{"$f":"COUNTIF(E56:E64,\"Double bogey\")","v":4}]
[null,7,4,4,"Par",null,null,"Other",{"$f":"COUNTIF(E56:E64,\"Other\")","v":0}]
[null,8,4,5,"bogey"]
[null,9,5,7,"Double bogey"]
[]
[null,{"$f":"J4","v":"2024-05-03"}]
[null,{"$f":"H7","v":10},4,4,{"$f":"IF(D67<>0,IF((D67-C67)=-1,\"Birdie\",IF((D67-C67)=-2,\"Eagle\",IF((D67-C67)=0,\"Par\",IF((D67-C67)=1,\"bogey\",IF((D67-C67)=2,\"Double bogey\",\"Other\"))))),\"  \")","v":"Par"},null,null,"Count"]
[null,11,4,6,"Double bogey",null,null,"Eagle",{"$f":"COUNTIF(E67:E75,\"Eagle\")","v":0}]
[null,12,4,6,"Double bogey",null,null,"Birdie",{"$f":"COUNTIF(E67:E75,\"Birdie\")","v":0}]
[null,13,5,7,"Double bogey",null,null,"Par",{"$f":"COUNTIF(E67:E75,\"Par\")","v":2}]
[null,14,3,4,"bogey",null,null,"bogey",{"$f":"COUNTIF(E67:E75,\"bogey\")","v":2}]
[null,15,4,4,"Par",null,null,"Double bogey",{"$f":"COUNTIF(E67:E75,\"Double bogey\")","v":5}]
[null,16,4,6,"Double bogey",null,null,"Other",{"$f":"COUNTIF(E67:E75,\"Other\")","v":0}]
[null,17,3,4,"bogey"]
[null,18,5,7,"Double bogey"]
[]
[null,{"$f":"P4","v":"2024-05-10"}]
[null,{"$f":"N7","v":1},4,5,{"$f":"IF(D78<>0,IF((D78-C78)=-1,\"Birdie\",IF((D78-C78)=-2,\"Eagle\",IF((D78-C78)=0,\"Par\",IF((D78-C78)=1,\"bogey\",IF((D78-C78)=2,\"Double bogey\",\"Other\"))))),\"  \")","v":"bogey"},null,null,"Count"]
[null,2,4,5,"bogey",null,null,"Eagle",{"$f":"COUNTIF(E78:E86,\"Eagle\")","v":0}]
[null,3,3,3,"Par",null,null,"Birdie",{"$f":"COUNTIF(E78:E86,\"Birdie\")","v":0}]
[null,4,4,4,"Par",null,null,"Par",{"$f":"COUNTIF(E78:E86,\"Par\")","v":4}]
[null,5,5,6,"bogey",null,null,"bogey",{"$f":"COUNTIF(E78:E86,\"bogey\")","v":5}]
[null,6,3,4,"bogey",null,null,"Double bogey",{"$f":"COUNTIF(E78:E86,\"Double bogey\")","v":0}]
[null,7,4,5,"bogey",null,null,"Other",{"$f":"COUNTIF(E78:E86,\"Other\")","v":0}]
[null,8,4,4,"Par"]
[null,9,5,5,"Par"]
[]
[null,{"$f":"V4","v":"2024-05-17"}]
[null,{"$f":"T7","v":10},4,7,{"$f":"IF(D89<>0,IF((D89-C89)=-1,\"Birdie\",IF((D89-C89)=-2,\"Eagle\",IF((D89-C89)=0,\"Par\",IF((D89-C89)=1,\"bogey\",IF((D89-C89)=2,\"Double bogey\",\"Other\"))))),\"  \")","v":"Other"},null,null,"Count"]
[null,11,4,5,"bogey",null,null,"Eagle",{"$f":"COUNTIF(E89:E97,\"Eagle\")","v":0}]
[null,12,4,5,"bogey",null,null,"Birdie",{"$f":"COUNTIF(E89:E97,\"Birdie\")","v":0}]
[null,13,5,6,"bogey",null,null,"Par",{"$f":"COUNTIF(E89:E97,\"Par\")","v":2}]
[null,14,3,3,"Par",null,null,"bogey",{"$f":"COUNTIF(E89:E97,\"bogey\")","v":5}]
[null,15,4,5,"bogey",null,null,"Double bogey",{"$f":"COUNTIF(E89:E97,\"Double bogey\")","v":1}]
[null,16,4,5,"bogey",null,null,"Other",{"$f":"COUNTIF(E89:E97,\"Other\")","v":1}]
[null,17,3,5,"Double bogey"]
[null,18,5,5,"Par"]
[]
[null,{"$f":"AB4","v":"2024-05-24"}]
[null,{"$f":"Z7","v":1},4,5,{"$f":"IF(D100<>0,IF((D100-C100)=-1,\"Birdie\",IF((D100-C100)=-2,\"Eagle\",IF((D100-C100)=0,\"Par\",IF((D100-C100)=1,\"bogey\",IF((D100-C100)=2,\"Double bogey\",\"Other\"))))),\"  \")","v":"bogey"},null,null,"Count"]
[null,2,4,5,"bogey",null,null,"Eagle",{"$f":"COUNTIF(E100:E108,\"Eagle\")","v":0}]
[null,3,3,4,"bogey",null,null,"Birdie",{"$f":"COUNTIF(E100:E108,\"Birdie\")","v":0}]
[null,4,4,5,"bogey",null,null,"Par",{"$f":"COUNTIF(E100:E108,\"Par\")","v":2}]
[null,5,5,6,"bogey",null,null,"bogey",{"$f":"COUNTIF(E100:E108,\"bogey\")","v":7}]
[null,6,3,3,"Par",null,null,"Double bogey",{"$f":"COUNTIF(E100:E108,\"Double bogey\")","v":0}]
[null,7,4,5,"bogey",null,null,"Other",{"$f":"COUNTIF(E100:E108,\"Other\")","v":0}]
[null,8,4,5,"bogey"]
[null,9,5,5,"Par"]
[]
[null,{"$f":"AH4","v":"2024-05-31"}]
[null,{"$f":"AF7","v":10},4,4,{"$f":"IF(D111<>0,IF((D111-C111)=-1,\"Birdie\",IF((D111-C111)=-2,\"Eagle\",IF((D111-C111)=0,\"Par\",IF((D111-C111)=1,\"bogey\",IF((D111-C111)=2,\"Double bogey\",\"Other\"))))),\"  \")","v":"Par"},null,null,"Count"]
[null,11,4,5,"bogey",null,null,"Eagle",{"$f":"COUNTIF(E111:E119,\"Eagle\")","v":0}]
[null,12,4,6,"Double bogey",null,null,"Birdie",{"$f":"COUNTIF(E111:E119,\"Birdie\")","v":0}]
[null,13,5,6,"bogey",null,null,"Par",{"$f":"COUNTIF(E111:E119,\"Par\")","v":5}]
[null,14,3,4,"bogey",null,null,"bogey",{"$f":"COUNTIF(E111:E119,\"bogey\")","v":3}]
[null,15,4,4,"Par",null,null,"Double bogey",{"$f":"COUNTIF(E111:E119,\"Double bogey\")","v":1}]
[null,16,4,4,"Par",null,null,"Other",{"$f":"COUNTIF(E111:E119,\"Other\")","v":0}]
[null,17,3,3,"Par"]
[null,18,5,5,"Par"]
[]
[null,{"$f":"AN4","v":"2024-06-07"}]
[null,{"$f":"AL7","v":1},4,6,{"$f":"IF(D122<>0,IF((D122-C122)=-1,\"Birdie\",IF((D122-C122)=-2,\"Eagle\",IF((D122-C122)=0,\"Par\",IF((D122-C122)=1,\"bogey\",IF((D122-C122)=2,\"Double bogey\",\"Other\"))))),\"  \")","v":"Double bogey"},null,null,"Count"]
[null,2,4,4,"Par",null,null,"Eagle",{"$f":"COUNTIF(E122:E130,\"Eagle\")","v":0}]
[null,3,3,3,"Par",null,null,"Birdie",{"$f":"COUNTIF(E122:E130,\"Birdie\")","v":1}]
[null,4,4,5,"bogey",null,null,"Par",{"$f":"COUNTIF(E122:E130,\"Par\")","v":3}]
[null,5,5,6,"bogey",null,null,"bogey",{"$f":"COUNTIF(E122:E130,\"bogey\")","v":4}]
[null,6,3,4,"bogey",null,null,"Double bogey",{"$f":"COUNTIF(E122:E130,\"Double bogey\")","v":1}]
[null,7,4,4,"Par",null,null,"Other",{"$f":"COUNTIF(E122:E130,\"Other\")","v":0}]
[null,8,4,5,"bogey"]
[null,9,5,4,"Birdie"]
[]
[null,{"$f":"AT4","v":"2024-06-14"}]
[null,{"$f":"AR7","v":10},4,4,{"$f":"IF(D133<>0,IF((D133-C133)=-1,\"Birdie\",IF((D133-C133)=-2,\"Eagle\",IF((D133-C133)=0,\"Par\",IF((D133-C133)=1,\"bogey\",IF((D133-C133)=2,\"Double bogey\",\"Other\"))))),\"  \")","v":"Par"},null,null,"Count"]
[null,11,4,4,"Par",null,null,"Eagle",{"$f":"COUNTIF(E133:E141,\"Eagle\")","v":0}]
[null,12,4,5,"bogey",null,null,"Birdie",{"$f":"COUNTIF(E133:E141,\"Birdie\")","v":0}]
[null,13,5,7,"Double bogey",null,null,"Par",{"$f":"COUNTIF(E133:E141,\"Par\")","v":4}]
[null,14,3,4,"bogey",null,null,"bogey",{"$f":"COUNTIF(E133:E141,\"bogey\")","v":4}]
[null,15,4,5,"bogey",null,null,"Double bogey",{"$f":"COUNTIF(E133:E141,\"Double bogey\")","v":1}]
[null,16,4,4,"Par",null,null,"Other",{"$f":"COUNTIF(E133:E141,\"Other\")","v":0}]
[null,17,3,3,"Par"]
[null,18,5,6,"bogey"]
[]
[null,{"$f":"AZ4","v":"2024-07-05"}]
[null,{"$f":"AX7","v":1},4,4,{"$f":"IF(D144<>0,IF((D144-C144)=-1,\"Birdie\",IF((D144-C144)=-2,\"Eagle\",IF((D144-C144)=0,\"Par\",IF((D144-C144)=1,\"bogey\",IF((D144-C144)=2,\"Double bogey\",\"Other\"))))),\"  \")","v":"Par"},null,null,"Count"]
[null,2,4,5,"bogey",null,null,"Eagle",{"$f":"COUNTIF(E144:E152,\"Eagle\")","v":0}]
[null,3,3,4,"bogey",null,null,"Birdie",{"$f":"COUNTIF(E144:E152,\"Birdie\")","v":0}]
[null,4,4,4,"Par",null,null,"Par",{"$f":"COUNTIF(E144:E152,\"Par\")","v":7}]
[null,5,5,5,"Par",null,null,"bogey",{"$f":"COUNTIF(E144:E152,\"bogey\")","v":2}]
[null,6,3,3,"Par",null,null,"Double bogey",{"$f":"COUNTIF(E144:E152,\"Double bogey\")","v":0}]
[null,7,4,4,"Par",null,null,"Other",{"$f":"COUNTIF(E144:E152,\"Other\")","v":0}]
[null,8,4,4,"Par"]
[null,9,5,5,"Par"]
[]
[null,{"$f":"BF4","v":"2024-07-12"}]
[null,{"$f":"BD7","v":10},4,4,{"$f":"IF(D155<>0,IF((D155-C155)=-1,\"Birdie\",IF((D155-C155)=-2,\"Eagle\",IF((D155-C155)=0,\"Par\",IF((D155-C155)=1,\"bogey\",IF((D155-C155)=2,\"Double bogey\",\"Other\"))))),\"  \")","v":"Par"},null,null,"Count"]
[null,11,4,4,"Par",null,null,"Eagle",{"$f":"COUNTIF(E155:E163,\"Eagle\")","v":0}]
[null,12,4,5,"bogey",null,null,"Birdie",{"$f":"COUNTIF(E155:E163,\"Birdie\")","v":0}]
[null,13,5,8,"Other",null,null,"Par",{"$f":"COUNTIF(E155:E163,\"Par\")","v":4}]
[null,14,3,3,"Par",null,null,"bogey",{"$f":"COUNTIF(E155:E163,\"bogey\")","v":3}]
[null,15,4,4,"Par",null,null,"Double bogey",{"$f":"COUNTIF(E155:E163,\"Double bogey\")","v":1}]
[null,16,4,5,"bogey",null,null,"Other",{"$f":"COUNTIF(E155:E163,\"Other\")","v":1}]
[null,17,3,5,"Double bogey"]
[null,18,5,6,"bogey"]
[]
[null,{"$f":"BL4","v":"2024-07-19"}]
[null,{"$f":"BJ7","v":1},4,4,{"$f":"IF(D166<>0,IF((D166-C166)=-1,\"Birdie\",IF((D166-C166)=-2,\"Eagle\",IF((D166-C166)=0,\"Par\",IF((D166-C166)=1,\"bogey\",IF((D166-C166)=2,\"Double bogey\",\"Other\"))))),\"  \")","v":"Par"},null,null,"Count"]
[null,2,4,5,"bogey",null,null,"Eagle",{"$f":"COUNTIF(E166:E174,\"Eagle\")","v":0}]
[null,3,3,4,"bogey",null,null,"Birdie",{"$f":"COUNTIF(E166:E174,\"Birdie\")","v":0}]
[null,4,4,5,"bogey",null,null,"Par",{"$f":"COUNTIF(E166:E174,\"Par\")","v":4}]
[null,5,5,6,"bogey",null,null,"bogey",{"$f":"COUNTIF(E166:E174,\"bogey\")","v":5}]
[null,6,3,3,"Par",null,null,"Double bogey",{"$f":"COUNTIF(E166:E174,\"Double bogey\")","v":0}]
[null,7,4,5,"bogey",null,null,"Other",{"$f":"COUNTIF(E166:E174,\"Other\")","v":0}]
[null,8,4,4,"Par"]
[null,9,5,5,"Par"]
[]
[null,{"$f":"BR4","v":"2024-07-26"}]
[null,{"$f":"BP7","v":10},4,5,{"$f":"IF(D177<>0,IF((D177-C177)=-1,\"Birdie\",IF((D177-C177)=-2,\"Eagle\",IF((D177-C177)=0,\"Par\",IF((D177-C177)=1,\"bogey\",IF((D177-C177)=2,\"Double bogey\",\"Other\"))))),\"  \")","v":"bogey"},null,null,"Count"]
[null,11,4,5,"bogey",null,null,"Eagle",{"$f":"COUNTIF(E177:E185,\"Eagle\")","v":0}]
[null,12,4,6,"Double bogey",null,null,"Birdie",{"$f":"COUNTIF(E177:E185,\"Birdie\")","v":0}]
[null,13,5,5,"Par",null,null,"Par",{"$f":"COUNTIF(E177:E185,\"Par\")","v":3}]
[null,14,3,4,"bogey",null,null,"bogey",{"$f":"COUNTIF(E177:E185,\"bogey\")","v":5}]
[null,15,4,5,"bogey",null,null,"Double bogey",{"$f":"COUNTIF(E177:E185,\"Double bogey\")","v":1}]
[null,16,4,4,"Par",null,null,"Other",{"$f":"COUNTIF(E177:E185,\"Other\")","v":0}]
[null,17,3,4,"bogey"]
[null,18,5,5,"Par"]
[]
[null,{"$f":"BX4","v":"2024-08-02"}]
[null,{"$f":"BV7","v":1},4,4,{"$f":"IF(D188<>0,IF((D188-C188)=-1,\"Birdie\",IF((D188-C188)=-2,\"Eagle\",IF((D188-C188)=0,\"Par\",IF((D188-C188)=1,\"bogey\",IF((D188-C188)=2,\"Double bogey\",\"Other\"))))),\"  \")","v":"Par"},null,null,"Count"]
[null,2,4,5,"bogey",null,null,"Eagle",{"$f":"COUNTIF(E188:E196,\"Eagle\")","v":0}]
[null,3,3,3,"Par",null,null,"Birdie",{"$f":"COUNTIF(E188:E196,\"Birdie\")","v":0}]
[null,4,4,5,"bogey",null,null,"Par",{"$f":"COUNTIF(E188:E196,\"Par\")","v":5}]
[null,5,5,5,"Par",null,null,"bogey",{"$f":"COUNTIF(E188:E196,\"bogey\")","v":4}]
[null,6,3,4,"bogey",null,null,"Double bogey",{"$f":"COUNTIF(E188:E196,\"Double bogey\")","v":0}]
[null,7,4,4,"Par",null,null,"Other",{"$f":"COUNTIF(E188:E196,\"Other\")","v":0}]
[null,8,4,4,"Par"]
[null,9,5,6,"bogey"]
[]
[null,{"$f":"CD4","v":"2024-08-16"}]
[null,{"$f":"CB7","v":1},4,6,{"$f":"IF(D199<>0,IF((D199-C199)=-1,\"Birdie\",IF((D199-C199)=-2,\"Eagle\",IF((D199-C199)=0,\"Par\",IF((D199-C199)=1,\"bogey\",IF((D199-C199)=2,\"Double bogey\",\"Other\"))))),\"  \")","v":"Double bogey"},null,null,"Count"]
[null,2,4,4,"Par",null,null,"Eagle",{"$f":"COUNTIF(E199:E207,\"Eagle\")","v":0}]
[null,3,3,4,"bogey",null,null,"Birdie",{"$f":"COUNTIF(E199:E207,\"Birdie\")","v":0}]
[null,4,4,5,"bogey",null,null,"Par",{"$f":"COUNTIF(E199:E207,\"Par\")","v":4}]
[null,5,5,5,"Par",null,null,"bogey",{"$f":"COUNTIF(E199:E207,\"bogey\")","v":4}]
[null,6,3,3,"Par",null,null,"Double bogey",{"$f":"COUNTIF(E199:E207,\"Double bogey\")","v":1}]
[null,7,4,4,"Par",null,null,"Other",{"$f":"COUNTIF(E199:E207,\"Other\")","v":0}]
[null,8,4,5,"bogey"]
[null,9,5,6,"bogey"]
[]
[null,{"$f":"CJ4","v":"2024-08-23"}]
[null,{"$f":"CH7","v":10},4,4,{"$f":"IF(D210<>0,IF((D210-C210)=-1,\"Birdie\",IF((D210-C210)=-2,\"Eagle\",IF((D210-C210)=0,\"Par\",IF((D210-C210)=1,\"bogey\",IF((D210-C210)=2,\"Double bogey\",\"Other\"))))),\"  \")","v":"Par"},null,null,"Count"]
[null,11,4,5,"bogey",null,null,"Eagle",{"$f":"COUNTIF(E210:E218,\"Eagle\")","v":0}]
[null,12,4,5,"bogey",null,null,"Birdie",{"$f":"COUNTIF(E210:E218,\"Birdie\")","v":0}]
[null,13,5,8,"Other",null,null,"Par",{"$f":"COUNTIF(E210:E218,\"Par\")","v":5}]
[null,14,3,4,"bogey",null,null,"bogey",{"$f":"COUNTIF(E210:E218,\"bogey\")","v":3}]
[null,15,4,4,"Par",null,null,"Double bogey",{"$f":"COUNTIF(E210:E218,\"Double bogey\")","v":0}]
[null,16,4,4,"Par",null,null,"Other",{"$f":"COUNTIF(E210:E218,\"Other\")","v":1}]
[null,17,3,3,"Par"]
[null,18,5,5,"Par"]

{"sheet":"McLaughlin","index":9,"n_rows":218,"n_cols":90,"rows_kept":218,"cut":false,"hidden":false,"merged":[]}
["Brian McLaughlin"]
[]
[]
[null,null,"Date:",{"$f":"VLOOKUP(C5,Week,2)","v":"2024-04-26"},null,null,null,null,"Date:",{"$f":"VLOOKUP(I5,Week,2)","v":"2024-05-03"},null,null,null,null,"Date:",{"$f":"VLOOKUP(O5,Week,2)","v":"2024-05-10"},null,null,null,null,"Date:",{"$f":"VLOOKUP(U5,Week,2)","v":"2024-05-17"},null,null,null,null,"Date:",{"$f":"VLOOKUP(AA5,Week,2)","v":"2024-05-24"},null,null,null,null,"Date:",{"$f":"VLOOKUP(AG5,Week,2)","v":"2024-05-31"},null,null,null,null,"Date:",{"$f":"VLOOKUP(AM5,Week,2)","v":"2024-06-07"},null,null,null,null,"Date:",{"$f":"VLOOKUP(AS5,Week,2)","v":"2024-06-14"},null,null,null,null,"Date:",{"$f":"VLOOKUP(AY5,Week,2)","v":"2024-07-05"},null,null,null,null,"Date:",{"$f":"VLOOKUP(BE5,Week,2)","v":"2024-07-12"},null,null,null,null,"Date:",{"$f":"VLOOKUP(BK5,Week,2)","v":"2024-07-19"},null,null,null,null,"Date:",{"$f":"VLOOKUP(BQ5,Week,2)","v":"2024-07-26"},null,null,null,null,"Date:",{"$f":"VLOOKUP(BW5,Week,2)","v":"2024-08-02"},null,null,null,null,"Date:",{"$f":"VLOOKUP(CC5,Week,2)","v":"2024-08-16"},null,null,null,null,"Date:",{"$f":"VLOOKUP(CI5,Week,2)","v":"2024-08-23"}]
[null,"Week",1,null,null,null,null,"Week",2,null,null,null,null,"Week",3,null,null,null,null,"Week",4,null,null,null,null,"Week",5,null,null,null,null,"Week",6,null,null,null,null,"Week",7,null,null,null,null,"Week",8,null,null,null,null,"Week",9,null,null,null,null,"Week",10,null,null,null,null,"Week",11,null,null,null,null,"Week",12,null,null,null,null,"Week",13,null,null,null,null,"Week",14,null,null,null,null,"Week",15]
[null,"Hole #","Par","Score","Net","Win Hole",null,"Hole #","Par","Score","Net","Win Hole",null,"Hole #","Par","Score","Net","Win Hole",null,"Hole #","Par","Score","Net","Win Hole",null,"Hole #","Par","Score","Net","Win Hole",null,"Hole #","Par","Score","Net","Win Hole",null,"Hole #","Par","Score","Net","Win Hole",null,"Hole #","Par","Score","Net","Win Hole",null,"Hole #","Par","Score","Net","Win Hole",null,"Hole #","Par","Score","Net","Win Hole",null,"Hole #","Par","Score","Net","Win Hole",null,"Hole #","Par","Score","Net","Win Hole",null,"Hole #","Par","Score","Net","Win Hole",null,"Hole #","Par","Score","Net","Win Hole",null,"Hole #","Par","Score","Net","Win Hole"]
[null,{"$f":"VLOOKUP(C5,Week,6)","v":1},{"$f":"VLOOKUP(B7,Holes,2)","v":4},6,{"$f":"IF((D7-C7)>3,C7+3,D7)","v":6},1,null,{"$f":"VLOOKUP(I5,Week,6)","v":10},{"$f":"VLOOKUP(H7,Holes,2)","v":4},6,{"$f":"IF((J7-I7)>3,I7+3,J7)","v":6},0.5,null,{"$f":"VLOOKUP(O5,Week,6)","v":1},{"$f":"VLOOKUP(N7,Holes,2)","v":4},7,{"$f":"IF((P7-O7)>3,O7+3,P7)","v":7},0,null,{"$f":"VLOOKUP(U5,Week,6)","v":10},{"$f":"VLOOKUP(T7,Holes,2)","v":4},null,{"$f":"IF((V7-U7)>3,U7+3,V7)","v":0},null,null,{"$f":"VLOOKUP(AA5,Week,6)","v":1},{"$f":"VLOOKUP(Z7,Holes,2)","v":4},5,{"$f":"IF((AB7-AA7)>3,AA7+3,AB7)","v":5},0.5,null,{"$f":"VLOOKUP(AG5,Week,6)","v":10},{"$f":"VLOOKUP(AF7,Holes,2)","v":4},6,{"$f":"IF((AH7-AG7)>3,AG7+3,AH7)","v":6},0.5,null,{"$f":"VLOOKUP(AM5,Week,6)","v":1},{"$f":"VLOOKUP(AL7,Holes,2)","v":4},5,{"$f":"IF((AN7-AM7)>3,AM7+3,AN7)","v":5},1,null,{"$f":"VLOOKUP(AS5,Week,6)","v":10},{"$f":"VLOOKUP(AR7,Holes,2)","v":4},5,{"$f":"IF((AT7-AS7)>3,AS7+3,AT7)","v":5},1,null,{"$f":"VLOOKUP(AY5,Week,6)","v":1},{"$f":"VLOOKUP(AX7,Holes,2)","v":4},5,{"$f":"IF((AZ7-AY7)>3,AY7+3,AZ7)","v":5},1,null,{"$f":"VLOOKUP(BE5,Week,6)","v":10},{"$f":"VLOOKUP(BD7,Holes,2)","v":4},5,{"$f":"IF((BF7-BE7)>3,BE7+3,BF7)","v":5},0.5,null,{"$f":"VLOOKUP(BK5,Week,6)","v":1},{"$f":"VLOOKUP(BJ7,Holes,2)","v":4},8,{"$f":"IF((BL7-BK7)>3,BK7+3,BL7)","v":7},0,null,{"$f":"VLOOKUP(BQ5,Week,6)","v":10},{"$f":"VLOOKUP(BP7,Holes,2)","v":4},null,{"$f":"IF((BR7-BQ7)>3,BQ7+3,BR7)","v":0},null,null,{"$f":"VLOOKUP(BW5,Week,6)","v":1},{"$f":"VLOOKUP(BV7,Holes,2)","v":4},null,{"$f":"IF((BX7-BW7)>3,BW7+3,BX7)","v":0},null,null,{"$f":"VLOOKUP(CC5,Week,6)","v":1},{"$f":"VLOOKUP(CB7,Holes,2)","v":4},5,{"$f":"IF((CD7-CC7)>3,CC7+3,CD7)","v":5},1,null,{"$f":"VLOOKUP(CI5,Week,6)","v":10},{"$f":"VLOOKUP(CH7,Holes,2)","v":4},6,{"$f":"IF((CJ7-CI7)>3,CI7+3,CJ7)","v":6},0]
[null,{"$f":"+B7+1","v":2},4,8,7,0,null,{"$f":"+H7+1","v":11},4,7,7,0.5,null,{"$f":"+N7+1","v":2},4,6,6,1,null,{"$f":"+T7+1","v":11},4,null,0,null,null,{"$f":"+Z7+1","v":2},4,5,5,1,null,{"$f":"+AF7+1","v":11},4,6,6,0.5,null,{"$f":"+AL7+1","v":2},4,7,7,0,null,{"$f":"+AR7+1","v":11},4,5,5,1,null,{"$f":"+AX7+1","v":2},4,7,7,0,null,{"$f":"+BD7+1","v":11},4,5,5,1,null,{"$f":"+BJ7+1","v":2},4,6,6,0,null,{"$f":"+BP7+1","v":11},4,null,0,null,null,{"$f":"+BV7+1","v":2},4,null,0,null,null,{"$f":"+CB7+1","v":2},4,5,5,1,null,{"$f":"+CH7+1","v":11},4,5,5,0]
[null,3,3,4,4,0.5,null,12,4,5,5,0.5,null,3,3,4,4,1,null,12,4,null,0,null,null,3,3,4,4,1,null,12,4,6,6,0.5,null,3,3,5,5,0,null,12,4,6,6,0.5,null,3,3,4,4,1,null,12,4,4,4,1,null,3,3,4,4,1,null,12,4,null,0,null,null,3,3,null,0,null,null,3,3,4,4,0.5,null,12,4,6,6,0.5]
[null,4,4,6,6,0,null,13,5,6,6,1,null,4,4,5,5,0,null,13,5,null,0,null,null,4,4,8,7,0,null,13,5,9,8,0,null,4,4,6,6,0.5,null,13,5,6,6,1,null,4,4,6,6,1,null,13,5,8,8,0,null,4,4,6,6,0.5,null,13,5,null,0,null,null,4,4,null,0,null,null,4,4,5,5,1,null,13,5,7,7,0]
[null,5,5,6,6,1,null,14,3,4,4,1,null,5,5,8,8,0,null,14,3,null,0,null,null,5,5,7,7,0,null,14,3,5,5,0,null,5,5,6,6,1,null,14,3,5,5,0.5,null,5,5,6,6,1,null,14,3,4,4,0.5,null,5,5,6,6,1,null,14,3,null,0,null,null,5,5,null,0,null,null,5,5,7,7,0,null,14,3,5,5,0]
[null,6,3,4,4,0.5,null,15,4,6,6,1,null,6,3,5,5,0,null,15,4,null,0,null,null,6,3,5,5,0,null,15,4,7,7,0,null,6,3,4,4,1,null,15,4,6,6,0.5,null,6,3,4,4,0,null,15,4,5,5,0.5,null,6,3,6,6,0,null,15,4,null,0,null,null,6,3,null,0,null,null,6,3,4,4,0.5,null,15,4,5,5,1]
[null,7,4,6,6,0,null,16,4,6,6,0,null,7,4,5,5,0.5,null,16,4,null,0,null,null,7,4,7,7,0,null,16,4,6,6,0.5,null,7,4,5,5,0.5,null,16,4,6,6,1,null,7,4,5,5,0,null,16,4,5,5,1,null,7,4,6,6,0,null,16,4,null,0,null,null,7,4,null,0,null,null,7,4,4,4,1,null,16,4,4,4,1]
[null,8,4,6,6,1,null,17,3,4,4,0.5,null,8,4,7,7,0.5,null,17,3,null,0,null,null,8,4,9,7,0,null,17,3,4,4,0,null,8,4,7,7,0,null,17,3,5,5,0.5,null,8,4,5,5,0,null,17,3,4,4,1,null,8,4,6,6,0,null,17,3,null,0,null,null,8,4,null,0,null,null,8,4,6,6,0.5,null,17,3,6,6,0]
[null,9,5,8,8,0,null,18,5,7,7,1,null,9,5,7,7,0,null,18,5,null,0,null,null,9,5,6,6,0.5,null,18,5,9,8,0,null,9,5,6,6,0,null,18,5,8,8,0.5,null,9,5,6,6,1,null,18,5,7,7,0,null,9,5,7,7,0,null,18,5,null,0,null,null,9,5,null,0,null,null,9,5,7,7,1,null,18,5,6,6,1]
[null,"Total",{"$f":"SUM(C7:C15)","v":36},{"$f":"SUM(D7:D15)","v":54},{"$f":"SUM(E7:E15)","v":53},{"$f":"SUM(F7:F15)","v":4},null,"Total",{"$f":"SUM(I7:I15)","v":36},{"$f":"SUM(J7:J15)","v":51},{"$f":"SUM(K7:K15)","v":51},{"$f":"SUM(L7:L15)","v":6},null,"Total",{"$f":"SUM(O7:O15)","v":36},{"$f":"SUM(P7:P15)","v":54},{"$f":"SUM(Q7:Q15)","v":54},{"$f":"SUM(R7:R15)","v":3},null,"Total",{"$f":"SUM(U7:U15)","v":36},{"$f":"SUM(V7:V15)","v":0},{"$f":"SUM(W7:W15)","v":0},{"$f":"SUM(X7:X15)","v":0},null,"Total",{"$f":"SUM(AA7:AA15)","v":36},{"$f":"SUM(AB7:AB15)","v":56},{"$f":"SUM(AC7:AC15)","v":53},{"$f":"SUM(AD7:AD15)","v":3},null,"Total",{"$f":"SUM(AG7:AG15)","v":36},{"$f":"SUM(AH7:AH15)","v":58},{"$f":"SUM(AI7:AI15)","v":56},{"$f":"SUM(AJ7:AJ15)","v":2},null,"Total",{"$f":"SUM(AM7:AM15)","v":36},{"$f":"SUM(AN7:AN15)","v":51},{"$f":"SUM(AO7:AO15)","v":51},{"$f":"SUM(AP7:AP15)","v":4},null,"Total",{"$f":"SUM(AS7:AS15)","v":36},{"$f":"SUM(AT7:AT15)","v":52},{"$f":"SUM(AU7:AU15)","v":52},{"$f":"SUM(AV7:AV15)","v":6.5},null,"Total",{"$f":"SUM(AY7:AY15)","v":36},{"$f":"SUM(AZ7:AZ15)","v":48},{"$f":"SUM(BA7:BA15)","v":48},{"$f":"SUM(BB7:BB15)","v":5},null,"Total",{"$f":"SUM(BE7:BE15)","v":36},{"$f":"SUM(BF7:BF15)","v":47},{"$f":"SUM(BG7:BG15)","v":47},{"$f":"SUM(BH7:BH15)","v":5.5},null,"Total",{"$f":"SUM(BK7:BK15)","v":36},{"$f":"SUM(BL7:BL15)","v":55},{"$f":"SUM(BM7:BM15)","v":54},{"$f":"SUM(BN7:BN15)","v":2.5},null,"Total",{"$f":"SUM(BQ7:BQ15)","v":36},{"$f":"SUM(BR7:BR15)","v":0},{"$f":"SUM(BS7:BS15)","v":0},{"$f":"SUM(BT7:BT15)","v":0},null,"Total",{"$f":"SUM(BW7:BW15)","v":36},{"$f":"SUM(BX7:BX15)","v":0},{"$f":"SUM(BY7:BY15)","v":0},{"$f":"SUM(BZ7:BZ15)","v":0},null,"Total",{"$f":"SUM(CC7:CC15)","v":36},{"$f":"SUM(CD7:CD15)","v":47},{"$f":"SUM(CE7:CE15)","v":47},{"$f":"SUM(CF7:CF15)","v":6.5},null,"Total",{"$f":"SUM(CI7:CI15)","v":36},{"$f":"SUM(CJ7:CJ15)","v":50},{"$f":"SUM(CK7:CK15)","v":50},{"$f":"SUM(CL7:CL15)","v":3.5}]
[]
[null,null,null,null,"Low Net",1,null,null,null,null,"Low Net",1,null,null,null,null,"Low Net",0,null,null,null,null,"Low Net",null,null,null,null,null,"Low Net",0,null,null,null,null,"Low Net",0,null,null,null,null,"Low Net",0,null,null,null,null,"Low Net",1,null,null,null,null,"Low Net",1,null,null,null,null,"Low Net",1,null,null,null,null,"Low Net",0,null,null,null,null,"Low Net",null,null,null,null,null,"Low Net",null,null,null,null,null,"Low Net",1,null,null,null,null,"Low Net",0.5]
[]
[null,null,null,null,"Total Points",{"$f":"SUM(F16:F19)","v":5},null,null,null,null,"Total Points",{"$f":"SUM(L16:L19)","v":7},null,null,null,null,"Total Points",{"$f":"SUM(R16:R19)","v":3},null,null,null,null,"Total Points",{"$f":"SUM(X16:X19)","v":0},null,null,null,null,"Total Points",{"$f":"SUM(AD16:AD19)","v":3},null,null,null,null,"Total Points",{"$f":"SUM(AJ16:AJ19)","v":2},null,null,null,null,"Total Points",{"$f":"SUM(AP16:AP19)","v":4},null,null,null,null,"Total Points",{"$f":"SUM(AV16:AV19)","v":7.5},null,null,null,null,"Total Points",{"$f":"SUM(BB16:BB19)","v":6},null,null,null,null,"Total Points",{"$f":"SUM(BH16:BH19)","v":6.5},null,null,null,null,"Total Points",{"$f":"SUM(BN16:BN19)","v":2.5},null,null,null,null,"Total Points",{"$f":"SUM(BT16:BT19)","v":0},null,null,null,null,"Total Points",{"$f":"SUM(BZ16:BZ19)","v":0},null,null,null,null,"Total Points",{"$f":"SUM(CF16:CF19)","v":7.5},null,null,null,null,"Total Points",{"$f":"SUM(CL16:CL19)","v":4}]
[]
[null,null,null,null,"Handicap",{"$f":"IF(D16=0,0,E16-C16)","v":17},null,null,null,null,"Handicap",{"$f":"IF(J16=0,0,K16-I16)","v":15},null,null,null,null,"Handicap",{"$f":"IF(P16=0,0,Q16-O16)","v":18},null,null,null,null,"Handicap",{"$f":"IF(V16=0,0,W16-U16)","v":0},null,null,null,null,"Handicap",{"$f":"IF(AB16=0,0,AC16-AA16)","v":17},null,null,null,null,"Handicap",{"$f":"IF(AH16=0,0,AI16-AG16)","v":20},null,null,null,null,"Handicap",{"$f":"IF(AN16=0,0,AO16-AM16)","v":15},null,null,null,null,"Handicap",{"$f":"IF(AT16=0,0,AU16-AS16)","v":16},null,null,null,null,"Handicap",{"$f":"IF(AZ16=0,0,BA16-AY16)","v":12},null,null,null,null,"Handicap",{"$f":"IF(BF16=0,0,BG16-BE16)","v":11},null,null,null,null,"Handicap",{"$f":"IF(BL16=0,0,BM16-BK16)","v":18},null,null,null,null,"Handicap",{"$f":"IF(BR16=0,0,BS16-BQ16)","v":0},null,null,null,null,"Handicap",{"$f":"IF(BX16=0,0,BY16-BW16)","v":0},null,null,null,null,"Handicap",{"$f":"IF(CD16=0,0,CE16-CC16)","v":11},null,null,null,null,"Handicap",{"$f":"IF(CJ16=0,0,CK16-CI16)","v":14}]
[]
[null,null,null,null,null,{"$f":"IF(D16<>0,IF(F16>4.5,\"W\",IF(F16=4.5,\"T\",IF(F16<4.5,\"L\"))),0)","v":"L"},null,null,null,null,null,{"$f":"IF(J16<>0,IF(L16>4.5,\"W\",IF(L16=4.5,\"T\",IF(L16<4.5,\"L\"))),0)","v":"W"},null,null,null,null,null,{"$f":"IF(P16<>0,IF(R16>4.5,\"W\",IF(R16=4.5,\"T\",IF(R16<4.5,\"L\"))),0)","v":"L"},null,null,null,null,null,{"$f":"IF(V16<>0,IF(X16>4.5,\"W\",IF(X16=4.5,\"T\",IF(X16<4.5,\"L\"))),0)","v":0},null,null,null,null,null,{"$f":"IF(AB16<>0,IF(AD16>4.5,\"W\",IF(AD16=4.5,\"T\",IF(AD16<4.5,\"L\"))),0)","v":"L"},null,null,null,null,null,{"$f":"IF(AH16<>0,IF(AJ16>4.5,\"W\",IF(AJ16=4.5,\"T\",IF(AJ16<4.5,\"L\"))),0)","v":"L"},null,null,null,null,null,{"$f":"IF(AN16<>0,IF(AP16>4.5,\"W\",IF(AP16=4.5,\"T\",IF(AP16<4.5,\"L\"))),0)","v":"L"},null,null,null,null,null,{"$f":"IF(AT16<>0,IF(AV16>4.5,\"W\",IF(AV16=4.5,\"T\",IF(AV16<4.5,\"L\"))),0)","v":"W"},null,null,null,null,null,{"$f":"IF(AZ16<>0,IF(BB16>4.5,\"W\",IF(BB16=4.5,\"T\",IF(BB16<4.5,\"L\"))),0)","v":"W"},null,null,null,null,null,{"$f":"IF(BF16<>0,IF(BH16>4.5,\"W\",IF(BH16=4.5,\"T\",IF(BH16<4.5,\"L\"))),0)","v":"W"},null,null,null,null,null,{"$f":"IF(BL16<>0,IF(BN16>4.5,\"W\",IF(BN16=4.5,\"T\",IF(BN16<4.5,\"L\"))),0)","v":"L"},null,null,null,null,null,{"$f":"IF(BR16<>0,IF(BT16>4.5,\"W\",IF(BT16=4.5,\"T\",IF(BT16<4.5,\"L\"))),0)","v":0},null,null,null,null,null,{"$f":"IF(BX16<>0,IF(BZ16>4.5,\"W\",IF(BZ16=4.5,\"T\",IF(BZ16<4.5,\"L\"))),0)","v":0},null,null,null,null,null,{"$f":"IF(CD16<>0,IF(CF16>4.5,\"W\",IF(CF16=4.5,\"T\",IF(CF16<4.5,\"L\"))),0)","v":"W"},null,null,null,null,null,{"$f":"IF(CJ16<>0,IF(CL16>4.5,\"W\",IF(CL16=4.5,\"T\",IF(CL16<4.5,\"L\"))),0)","v":"L"}]
[]
[null,"Summary",null,{"$f":"COUNT(D29:D43)","v":10}]
[null,null,null,"Adj",null,"Adj",null,null,null,"Avg Score"]
[null,null,"Points","Points","Matches","Matches",null,null,"Hole #","by Hole","Best","Worst"]
[null,"Week #1",{"$f":"F20","v":5},{"$f":"C29","v":5},{"$f":"IF(D16>0,1,0)","v":1},{"$f":"E29","v":1},null,null,1,{"$f":"IFERROR(AVERAGE(D7,P7,AB7,AN7,AZ7,BL7,BX7,CD7),0)","v":5.8571428571428568},{"$f":"IFERROR(MIN(D7,P7,AB7,AN7,AZ7,BL7,BX7,CD7),0)","v":5},{"$f":"IFERROR(MAX(D7,P7,AB7,AN7,AZ7,BL7,BX7,CD7),0)","v":8}]
[null,"Week #2",{"$f":"L20","v":7},7,{"$f":"IF(J16>0,1,0)","v":1},1,null,null,2,{"$f":"IFERROR(AVERAGE(D8,P8,AB8,AN8,AZ8,BL8,BX8,CD8),0)","v":6.2857142857142856},{"$f":"IFERROR(MIN(D8,P8,AB8,AN8,AZ8,BL8,BX8,CD8),0)","v":5},{"$f":"IFERROR(MAX(D8,P8,AB8,AN8,AZ8,BL8,BX8,CD8),0)","v":8}]
[null,"Week #3",{"$f":"R20","v":3},3,{"$f":"IF(P16>0,1,0)","v":1},1,null,null,3,4.1428571428571432,4,5]
[null,"Week #4",{"$f":"X20","v":0},null,{"$f":"IF(V16>0,1,0)","v":0},0,null,null,4,6,5,8]
[null,"Week #5",{"$f":"AD20","v":3},3,{"$f":"IF(AB16>0,1,0)","v":1},1,null,null,5,6.5714285714285712,6,8]
[null,"Week #6",{"$f":"AJ20","v":2},null,{"$f":"IF(AH16>0,1,0)","v":1},1,null,null,6,4.5714285714285712,4,6]
[null,"Week #7",{"$f":"AP20","v":4},4,{"$f":"IF(AN16>0,1,0)","v":1},1,null,null,7,5.4285714285714288,4,7]
[null,"Week #8",{"$f":"AV20","v":7.5},7.5,{"$f":"IF(AT16>0,1,0)","v":1},1,null,null,8,6.5714285714285712,5,9]
[null,"Week #9",{"$f":"BB20","v":6},6,{"$f":"IF(AZ16>0,1,0)","v":1},1,null,null,9,6.7142857142857144,6,8]
[null,"Week #10",{"$f":"BH20","v":6.5},6.5,{"$f":"IF(BF16>0,1,0)","v":1},1,null,null,"Front",{"$f":"SUM(J29:J37)","v":52.142857142857139},{"$f":"SUM(K29:K37)","v":44},67]
[null,"Week #11",{"$f":"BN20","v":2.5},null,{"$f":"IF(BL16>0,1,0)","v":1},1]
[null,"Week #12",{"$f":"BT20","v":0},null,{"$f":"IF(BR16>0,1,0)","v":0},0,null,null,10,{"$f":"IFERROR(AVERAGE(J7,V7,AH7,AT7,BF7,BR7,CJ7),0)","v":5.6},{"$f":"IFERROR(MIN(J7,V7,AH7,AT7,BF7,BR7,CJ7),0)","v":5},{"$f":"IFERROR(MAX(J7,V7,AH7,AT7,BF7,BR7,CJ7),0)","v":6}]
[null,"Week #13",{"$f":"BZ20","v":0},null,{"$f":"IF(BX16>0,1,0)","v":0},0,null,null,11,{"$f":"IFERROR(AVERAGE(J8,V8,AH8,AT8,BF8,BR8,CJ8),0)","v":5.6},{"$f":"IFERROR(MIN(J8,V8,AH8,AT8,BF8,BR8,CJ8),0)","v":5},{"$f":"IFERROR(MAX(J8,V8,AH8,AT8,BF8,BR8,CJ8),0)","v":7}]
[null,"Week #14",{"$f":"CF20","v":7.5},7.5,{"$f":"IF(CD16>0,1,0)","v":1},1,null,null,12,5.4,4,6]
[null,"Week #15",{"$f":"CL20","v":4},4,{"$f":"IF(CJ16>0,1,0)","v":1},1,null,null,13,7.2,6,9]
[null,"Total",{"$f":"SUM(C29:C43)","v":58},{"$f":"SUM(D29:D43)","v":53.5},{"$f":"SUM(E29:E43)","v":12},{"$f":"SUM(F29:F43)","v":12},null,null,14,4.5999999999999996,4,5]
[null,null,null,null,null,null,null,null,15,5.8,5,7]
[null,"Summary",null,null,null,null,null,null,16,5.4,4,6]
[null,"Eagles",{"$f":"I57+I68+I79+I90+I101+I112+I123+I134+I145+I156+I167+I178+I189+I200+I211","v":0},null,null,null,null,null,17,4.5999999999999996,4,6]
[null,"Birdies",0,null,null,null,null,null,18,7.4,6,9]
[null,"Pars",{"$f":"I59+I70+I81+I92+I103+I114+I125+I136+I147+I158+I169+I180+I191+I202+I213","v":3},null,null,null,null,null,"Back",{"$f":"SUM(J40:J48)","v":51.599999999999994},{"$f":"SUM(K40:K48)","v":43},61]
[null,"bogeys",46]
[null,"Double bogeys",39]
[null,"Other",20]
[null,"Total",{"$f":"SUM(C47:C52)","v":108}]
[]
[null,{"$f":"D4","v":"2024-04-26"},"Par","Score"]
[null,{"$f":"B7","v":1},4,6,{"$f":"IF(D56<>0,IF((D56-C56)=-1,\"Birdie\",IF((D56-C56)=-2,\"Eagle\",IF((D56-C56)=0,\"Par\",IF((D56-C56)=1,\"bogey\",IF((D56-C56)=2,\"Double bogey\",\"Other\"))))),\"  \")","v":"Double bogey"},null,null,"Count"]
[null,2,4,8,"Other",null,null,"Eagle",{"$f":"COUNTIF(E56:E64,\"Eagle\")","v":0}]
[null,3,3,4,"bogey",null,null,"Birdie",{"$f":"COUNTIF(E56:E64,\"Birdie\")","v":0}]
[null,4,4,6,"Double bogey",null,null,"Par",{"$f":"COUNTIF(E56:E64,\"Par\")","v":0}]
[null,5,5,6,"bogey",null,null,"bogey",{"$f":"COUNTIF(E56:E64,\"bogey\")","v":3}]
[null,6,3,4,"bogey",null,null,"Double bogey",{"$f":"COUNTIF(E56:E64,\"Double bogey\")","v":4}]
[null,7,4,6,"Double bogey",null,null,"Other",{"$f":"COUNTIF(E56:E64,\"Other\")","v":2}]
[null,8,4,6,"Double bogey"]
[null,9,5,8,"Other"]
[]
[null,{"$f":"J4","v":"2024-05-03"}]
[null,{"$f":"H7","v":10},4,6,{"$f":"IF(D67<>0,IF((D67-C67)=-1,\"Birdie\",IF((D67-C67)=-2,\"Eagle\",IF((D67-C67)=0,\"Par\",IF((D67-C67)=1,\"bogey\",IF((D67-C67)=2,\"Double bogey\",\"Other\"))))),\"  \")","v":"Double bogey"},null,null,"Count"]
[null,11,4,7,"Other",null,null,"Eagle",{"$f":"COUNTIF(E67:E75,\"Eagle\")","v":0}]
[null,12,4,5,"bogey",null,null,"Birdie",{"$f":"COUNTIF(E67:E75,\"Birdie\")","v":0}]
[null,13,5,6,"bogey",null,null,"Par",{"$f":"COUNTIF(E67:E75,\"Par\")","v":0}]
[null,14,3,4,"bogey",null,null,"bogey",{"$f":"COUNTIF(E67:E75,\"bogey\")","v":4}]
[null,15,4,6,"Double bogey",null,null,"Double bogey",{"$f":"COUNTIF(E67:E75,\"Double bogey\")","v":4}]
[null,16,4,6,"Double bogey",null,null,"Other",{"$f":"COUNTIF(E67:E75,\"Other\")","v":1}]
[null,17,3,4,"bogey"]
[null,18,5,7,"Double bogey"]
[]
[null,{"$f":"P4","v":"2024-05-10"}]
[null,{"$f":"N7","v":1},4,7,{"$f":"IF(D78<>0,IF((D78-C78)=-1,\"Birdie\",IF((D78-C78)=-2,\"Eagle\",IF((D78-C78)=0,\"Par\",IF((D78-C78)=1,\"bogey\",IF((D78-C78)=2,\"Double bogey\",\"Other\"))))),\"  \")","v":"Other"},null,null,"Count"]
[null,2,4,6,"Double bogey",null,null,"Eagle",{"$f":"COUNTIF(E78:E86,\"Eagle\")","v":0}]
[null,3,3,4,"bogey",null,null,"Birdie",{"$f":"COUNTIF(E78:E86,\"Birdie\")","v":0}]
[null,4,4,5,"bogey",null,null,"Par",{"$f":"COUNTIF(E78:E86,\"Par\")","v":0}]
[null,5,5,8,"Other",null,null,"bogey",{"$f":"COUNTIF(E78:E86,\"bogey\")","v":3}]
[null,6,3,5,"Double bogey",null,null,"Double bogey",{"$f":"COUNTIF(E78:E86,\"Double bogey\")","v":3}]
[null,7,4,5,"bogey",null,null,"Other",{"$f":"COUNTIF(E78:E86,\"Other\")","v":3}]
[null,8,4,7,"Other"]
[null,9,5,7,"Double bogey"]
[]
[null,{"$f":"V4","v":"2024-05-17"}]
[null,{"$f":"T7","v":10},4,0,{"$f":"IF(D89<>0,IF((D89-C89)=-1,\"Birdie\",IF((D89-C89)=-2,\"Eagle\",IF((D89-C89)=0,\"Par\",IF((D89-C89)=1,\"bogey\",IF((D89-C89)=2,\"Double bogey\",\"Other\"))))),\"  \")","v":"  "},null,null,"Count"]
[null,11,4,0,"  ",null,null,"Eagle",{"$f":"COUNTIF(E89:E97,\"Eagle\")","v":0}]
[null,12,4,0,"  ",null,null,"Birdie",{"$f":"COUNTIF(E89:E97,\"Birdie\")","v":0}]
[null,13,5,0,"  ",null,null,"Par",{"$f":"COUNTIF(E89:E97,\"Par\")","v":0}]
[null,14,3,0,"  ",null,null,"bogey",{"$f":"COUNTIF(E89:E97,\"bogey\")","v":0}]
[null,15,4,0,"  ",null,null,"Double bogey",{"$f":"COUNTIF(E89:E97,\"Double bogey\")","v":0}]
[null,16,4,0,"  ",null,null,"Other",{"$f":"COUNTIF(E89:E97,\"Other\")","v":0}]
[null,17,3,0,"  "]
[null,18,5,0,"  "]
[]
[null,{"$f":"AB4","v":"2024-05-24"}]
[null,{"$f":"Z7","v":1},4,5,{"$f":"IF(D100<>0,IF((D100-C100)=-1,\"Birdie\",IF((D100-C100)=-2,\"Eagle\",IF((D100-C100)=0,\"Par\",IF((D100-C100)=1,\"bogey\",IF((D100-C100)=2,\"Double bogey\",\"Other\"))))),\"  \")","v":"bogey"},null,null,"Count"]
[null,2,4,5,"bogey",null,null,"Eagle",{"$f":"COUNTIF(E100:E108,\"Eagle\")","v":0}]
[null,3,3,4,"bogey",null,null,"Birdie",{"$f":"COUNTIF(E100:E108,\"Birdie\")","v":0}]
[null,4,4,8,"Other",null,null,"Par",{"$f":"COUNTIF(E100:E108,\"Par\")","v":0}]
[null,5,5,7,"Double bogey",null,null,"bogey",{"$f":"COUNTIF(E100:E108,\"bogey\")","v":4}]
[null,6,3,5,"Double bogey",null,null,"Double bogey",{"$f":"COUNTIF(E100:E108,\"Double bogey\")","v":2}]
[null,7,4,7,"Other",null,null,"Other",{"$f":"COUNTIF(E100:E108,\"Other\")","v":3}]
[null,8,4,9,"Other"]
[null,9,5,6,"bogey"]
[]
[null,{"$f":"AH4","v":"2024-05-31"}]
[null,{"$f":"AF7","v":10},4,6,{"$f":"IF(D111<>0,IF((D111-C111)=-1,\"Birdie\",IF((D111-C111)=-2,\"Eagle\",IF((D111-C111)=0,\"Par\",IF((D111-C111)=1,\"bogey\",IF((D111-C111)=2,\"Double bogey\",\"Other\"))))),\"  \")","v":"Double bogey"},null,null,"Count"]
[null,11,4,6,"Double bogey",null,null,"Eagle",{"$f":"COUNTIF(E111:E119,\"Eagle\")","v":0}]
[null,12,4,6,"Double bogey",null,null,"Birdie",{"$f":"COUNTIF(E111:E119,\"Birdie\")","v":0}]
[null,13,5,9,"Other",null,null,"Par",{"$f":"COUNTIF(E111:E119,\"Par\")","v":0}]
[null,14,3,5,"Double bogey",null,null,"bogey",{"$f":"COUNTIF(E111:E119,\"bogey\")","v":1}]
[null,15,4,7,"Other",null,null,"Double bogey",{"$f":"COUNTIF(E111:E119,\"Double bogey\")","v":5}]
[null,16,4,6,"Double bogey",null,null,"Other",{"$f":"COUNTIF(E111:E119,\"Other\")","v":3}]
[null,17,3,4,"bogey"]
[null,18,5,9,"Other"]
[]
[null,{"$f":"AN4","v":"2024-06-07"}]
[null,{"$f":"AL7","v":1},4,5,{"$f":"IF(D122<>0,IF((D122-C122)=-1,\"Birdie\",IF((D122-C122)=-2,\"Eagle\",IF((D122-C122)=0,\"Par\",IF((D122-C122)=1,\"bogey\",IF((D122-C122)=2,\"Double bogey\",\"Other\"))))),\"  \")","v":"bogey"},null,null,"Count"]
[null,2,4,7,"Other",null,null,"Eagle",{"$f":"COUNTIF(E122:E130,\"Eagle\")","v":0}]
[null,3,3,5,"Double bogey",null,null,"Birdie",{"$f":"COUNTIF(E122:E130,\"Birdie\")","v":0}]
[null,4,4,6,"Double bogey",null,null,"Par",{"$f":"COUNTIF(E122:E130,\"Par\")","v":0}]
[null,5,5,6,"bogey",null,null,"bogey",{"$f":"COUNTIF(E122:E130,\"bogey\")","v":5}]
[null,6,3,4,"bogey",null,null,"Double bogey",{"$f":"COUNTIF(E122:E130,\"Double bogey\")","v":2}]
[null,7,4,5,"bogey",null,null,"Other",{"$f":"COUNTIF(E122:E130,\"Other\")","v":2}]
[null,8,4,7,"Other"]
[null,9,5,6,"bogey"]
[]
[null,{"$f":"AT4","v":"2024-06-14"}]
[null,{"$f":"AR7","v":10},4,5,{"$f":"IF(D133<>0,IF((D133-C133)=-1,\"Birdie\",IF((D133-C133)=-2,\"Eagle\",IF((D133-C133)=0,\"Par\",IF((D133-C133)=1,\"bogey\",IF((D133-C133)=2,\"Double bogey\",\"Other\"))))),\"  \")","v":"bogey"},null,null,"Count"]
[null,11,4,5,"bogey",null,null,"Eagle",{"$f":"COUNTIF(E133:E141,\"Eagle\")","v":0}]
[null,12,4,6,"Double bogey",null,null,"Birdie",{"$f":"COUNTIF(E133:E141,\"Birdie\")","v":0}]
[null,13,5,6,"bogey",null,null,"Par",{"$f":"COUNTIF(E133:E141,\"Par\")","v":0}]
[null,14,3,5,"Double bogey",null,null,"bogey",{"$f":"COUNTIF(E133:E141,\"bogey\")","v":3}]
[null,15,4,6,"Double bogey",null,null,"Double bogey",{"$f":"COUNTIF(E133:E141,\"Double bogey\")","v":5}]
[null,16,4,6,"Double bogey",null,null,"Other",{"$f":"COUNTIF(E133:E141,\"Other\")","v":1}]
[null,17,3,5,"Double bogey"]
[null,18,5,8,"Other"]
[]
[null,{"$f":"AZ4","v":"2024-07-05"}]
[null,{"$f":"AX7","v":1},4,5,{"$f":"IF(D144<>0,IF((D144-C144)=-1,\"Birdie\",IF((D144-C144)=-2,\"Eagle\",IF((D144-C144)=0,\"Par\",IF((D144-C144)=1,\"bogey\",IF((D144-C144)=2,\"Double bogey\",\"Other\"))))),\"  \")","v":"bogey"},null,null,"Count"]
[null,2,4,7,"Other",null,null,"Eagle",{"$f":"COUNTIF(E144:E152,\"Eagle\")","v":0}]
[null,3,3,4,"bogey",null,null,"Birdie",{"$f":"COUNTIF(E144:E152,\"Birdie\")","v":0}]
[null,4,4,6,"Double bogey",null,null,"Par",{"$f":"COUNTIF(E144:E152,\"Par\")","v":0}]
[null,5,5,6,"bogey",null,null,"bogey",{"$f":"COUNTIF(E144:E152,\"bogey\")","v":7}]
[null,6,3,4,"bogey",null,null,"Double bogey",{"$f":"COUNTIF(E144:E152,\"Double bogey\")","v":1}]
[null,7,4,5,"bogey",null,null,"Other",{"$f":"COUNTIF(E144:E152,\"Other\")","v":1}]
[null,8,4,5,"bogey"]
[null,9,5,6,"bogey"]
[]
[null,{"$f":"BF4","v":"2024-07-12"}]
[null,{"$f":"BD7","v":10},4,5,{"$f":"IF(D155<>0,IF((D155-C155)=-1,\"Birdie\",IF((D155-C155)=-2,\"Eagle\",IF((D155-C155)=0,\"Par\",IF((D155-C155)=1,\"bogey\",IF((D155-C155)=2,\"Double bogey\",\"Other\"))))),\"  \")","v":"bogey"},null,null,"Count"]
[null,11,4,5,"bogey",null,null,"Eagle",{"$f":"COUNTIF(E155:E163,\"Eagle\")","v":0}]
[null,12,4,4,"Par",null,null,"Birdie",{"$f":"COUNTIF(E155:E163,\"Birdie\")","v":0}]
[null,13,5,8,"Other",null,null,"Par",{"$f":"COUNTIF(E155:E163,\"Par\")","v":1}]
[null,14,3,4,"bogey",null,null,"bogey",{"$f":"COUNTIF(E155:E163,\"bogey\")","v":6}]
[null,15,4,5,"bogey",null,null,"Double bogey",{"$f":"COUNTIF(E155:E163,\"Double bogey\")","v":1}]
[null,16,4,5,"bogey",null,null,"Other",{"$f":"COUNTIF(E155:E163,\"Other\")","v":1}]
[null,17,3,4,"bogey"]
[null,18,5,7,"Double bogey"]
[]
[null,{"$f":"BL4","v":"2024-07-19"}]
[null,{"$f":"BJ7","v":1},4,8,{"$f":"IF(D166<>0,IF((D166-C166)=-1,\"Birdie\",IF((D166-C166)=-2,\"Eagle\",IF((D166-C166)=0,\"Par\",IF((D166-C166)=1,\"bogey\",IF((D166-C166)=2,\"Double bogey\",\"Other\"))))),\"  \")","v":"Other"},null,null,"Count"]
[null,2,4,6,"Double bogey",null,null,"Eagle",{"$f":"COUNTIF(E166:E174,\"Eagle\")","v":0}]
[null,3,3,4,"bogey",null,null,"Birdie",{"$f":"COUNTIF(E166:E174,\"Birdie\")","v":0}]
[null,4,4,6,"Double bogey",null,null,"Par",{"$f":"COUNTIF(E166:E174,\"Par\")","v":0}]
[null,5,5,6,"bogey",null,null,"bogey",{"$f":"COUNTIF(E166:E174,\"bogey\")","v":2}]
[null,6,3,6,"Other",null,null,"Double bogey",{"$f":"COUNTIF(E166:E174,\"Double bogey\")","v":5}]
[null,7,4,6,"Double bogey",null,null,"Other",{"$f":"COUNTIF(E166:E174,\"Other\")","v":2}]
[null,8,4,6,"Double bogey"]
[null,9,5,7,"Double bogey"]
[]
[null,{"$f":"BR4","v":"2024-07-26"}]
[null,{"$f":"BP7","v":10},4,0,{"$f":"IF(D177<>0,IF((D177-C177)=-1,\"Birdie\",IF((D177-C177)=-2,\"Eagle\",IF((D177-C177)=0,\"Par\",IF((D177-C177)=1,\"bogey\",IF((D177-C177)=2,\"Double bogey\",\"Other\"))))),\"  \")","v":"  "},null,null,"Count"]
[null,11,4,0,"  ",null,null,"Eagle",{"$f":"COUNTIF(E177:E185,\"Eagle\")","v":0}]
[null,12,4,0,"  ",null,null,"Birdie",{"$f":"COUNTIF(E177:E185,\"Birdie\")","v":0}]
[null,13,5,0,"  ",null,null,"Par",{"$f":"COUNTIF(E177:E185,\"Par\")","v":0}]
[null,14,3,0,"  ",null,null,"bogey",{"$f":"COUNTIF(E177:E185,\"bogey\")","v":0}]
[null,15,4,0,"  ",null,null,"Double bogey",{"$f":"COUNTIF(E177:E185,\"Double bogey\")","v":0}]
[null,16,4,0,"  ",null,null,"Other",{"$f":"COUNTIF(E177:E185,\"Other\")","v":0}]
[null,17,3,0,"  "]
[null,18,5,0,"  "]
[]
[null,{"$f":"BX4","v":"2024-08-02"}]
[null,{"$f":"BV7","v":1},4,0,{"$f":"IF(D188<>0,IF((D188-C188)=-1,\"Birdie\",IF((D188-C188)=-2,\"Eagle\",IF((D188-C188)=0,\"Par\",IF((D188-C188)=1,\"bogey\",IF((D188-C188)=2,\"Double bogey\",\"Other\"))))),\"  \")","v":"  "},null,null,"Count"]
[null,2,4,0,"  ",null,null,"Eagle",{"$f":"COUNTIF(E188:E196,\"Eagle\")","v":0}]
[null,3,3,0,"  ",null,null,"Birdie",{"$f":"COUNTIF(E188:E196,\"Birdie\")","v":0}]
[null,4,4,0,"  ",null,null,"Par",{"$f":"COUNTIF(E188:E196,\"Par\")","v":0}]
[null,5,5,0,"  ",null,null,"bogey",{"$f":"COUNTIF(E188:E196,\"bogey\")","v":0}]
[null,6,3,0,"  ",null,null,"Double bogey",{"$f":"COUNTIF(E188:E196,\"Double bogey\")","v":0}]
[null,7,4,0,"  ",null,null,"Other",{"$f":"COUNTIF(E188:E196,\"Other\")","v":0}]
[null,8,4,0,"  "]
[null,9,5,0,"  "]
[]
[null,{"$f":"CD4","v":"2024-08-16"}]
[null,{"$f":"CB7","v":1},4,5,{"$f":"IF(D199<>0,IF((D199-C199)=-1,\"Birdie\",IF((D199-C199)=-2,\"Eagle\",IF((D199-C199)=0,\"Par\",IF((D199-C199)=1,\"bogey\",IF((D199-C199)=2,\"Double bogey\",\"Other\"))))),\"  \")","v":"bogey"},null,null,"Count"]
[null,2,4,5,"bogey",null,null,"Eagle",{"$f":"COUNTIF(E199:E207,\"Eagle\")","v":0}]
[null,3,3,4,"bogey",null,null,"Birdie",{"$f":"COUNTIF(E199:E207,\"Birdie\")","v":0}]
[null,4,4,5,"bogey",null,null,"Par",{"$f":"COUNTIF(E199:E207,\"Par\")","v":1}]
[null,5,5,7,"Double bogey",null,null,"bogey",{"$f":"COUNTIF(E199:E207,\"bogey\")","v":5}]
[null,6,3,4,"bogey",null,null,"Double bogey",{"$f":"COUNTIF(E199:E207,\"Double bogey\")","v":3}]
[null,7,4,4,"Par",null,null,"Other",{"$f":"COUNTIF(E199:E207,\"Other\")","v":0}]
[null,8,4,6,"Double bogey"]
[null,9,5,7,"Double bogey"]
[]
[null,{"$f":"CJ4","v":"2024-08-23"}]
[null,{"$f":"CH7","v":10},4,6,{"$f":"IF(D210<>0,IF((D210-C210)=-1,\"Birdie\",IF((D210-C210)=-2,\"Eagle\",IF((D210-C210)=0,\"Par\",IF((D210-C210)=1,\"bogey\",IF((D210-C210)=2,\"Double bogey\",\"Other\"))))),\"  \")","v":"Double bogey"},null,null,"Count"]
[null,11,4,5,"bogey",null,null,"Eagle",{"$f":"COUNTIF(E210:E218,\"Eagle\")","v":0}]
[null,12,4,6,"Double bogey",null,null,"Birdie",{"$f":"COUNTIF(E210:E218,\"Birdie\")","v":0}]
[null,13,5,7,"Double bogey",null,null,"Par",{"$f":"COUNTIF(E210:E218,\"Par\")","v":1}]
[null,14,3,5,"Double bogey",null,null,"bogey",{"$f":"COUNTIF(E210:E218,\"bogey\")","v":3}]
[null,15,4,5,"bogey",null,null,"Double bogey",{"$f":"COUNTIF(E210:E218,\"Double bogey\")","v":4}]
[null,16,4,4,"Par",null,null,"Other",{"$f":"COUNTIF(E210:E218,\"Other\")","v":1}]
[null,17,3,6,"Other"]
[null,18,5,6,"bogey"]

{"sheet":"Michalski_P","index":10,"n_rows":218,"n_cols":90,"rows_kept":218,"cut":false,"hidden":false,"merged":[]}
["Pete Michalski"]
[]
[]
[null,null,"Date:",{"$f":"VLOOKUP(C5,Week,2)","v":"2024-04-26"},null,null,null,null,"Date:",{"$f":"VLOOKUP(I5,Week,2)","v":"2024-05-03"},null,null,null,null,"Date:",{"$f":"VLOOKUP(O5,Week,2)","v":"2024-05-10"},null,null,null,null,"Date:",{"$f":"VLOOKUP(U5,Week,2)","v":"2024-05-17"},null,null,null,null,"Date:",{"$f":"VLOOKUP(AA5,Week,2)","v":"2024-05-24"},null,null,null,null,"Date:",{"$f":"VLOOKUP(AG5,Week,2)","v":"2024-05-31"},null,null,null,null,"Date:",{"$f":"VLOOKUP(AM5,Week,2)","v":"2024-06-07"},null,null,null,null,"Date:",{"$f":"VLOOKUP(AS5,Week,2)","v":"2024-06-14"},null,null,null,null,"Date:",{"$f":"VLOOKUP(AY5,Week,2)","v":"2024-07-05"},null,null,null,null,"Date:",{"$f":"VLOOKUP(BE5,Week,2)","v":"2024-07-12"},null,null,null,null,"Date:",{"$f":"VLOOKUP(BK5,Week,2)","v":"2024-07-19"},null,null,null,null,"Date:",{"$f":"VLOOKUP(BQ5,Week,2)","v":"2024-07-26"},null,null,null,null,"Date:",{"$f":"VLOOKUP(BW5,Week,2)","v":"2024-08-02"},null,null,null,null,"Date:",{"$f":"VLOOKUP(CC5,Week,2)","v":"2024-08-16"},null,null,null,null,"Date:",{"$f":"VLOOKUP(CI5,Week,2)","v":"2024-08-23"}]
[null,"Week",1,null,null,null,null,"Week",2,null,null,null,null,"Week",3,null,null,null,null,"Week",4,null,null,null,null,"Week",5,null,null,null,null,"Week",6,null,null,null,null,"Week",7,null,null,null,null,"Week",8,null,null,null,null,"Week",9,null,null,null,null,"Week",10,null,null,null,null,"Week",11,null,null,null,null,"Week",12,null,null,null,null,"Week",13,null,null,null,null,"Week",14,null,null,null,null,"Week",15]
[null,"Hole #","Par","Score","Net","Win Hole",null,"Hole #","Par","Score","Net","Win Hole",null,"Hole #","Par","Score","Net","Win Hole",null,"Hole #","Par","Score","Net","Win Hole",null,"Hole #","Par","Score","Net","Win Hole",null,"Hole #","Par","Score","Net","Win Hole",null,"Hole #","Par","Score","Net","Win Hole",null,"Hole #","Par","Score","Net","Win Hole",null,"Hole #","Par","Score","Net","Win Hole",null,"Hole #","Par","Score","Net","Win Hole",null,"Hole #","Par","Score","Net","Win Hole",null,"Hole #","Par","Score","Net","Win Hole",null,"Hole #","Par","Score","Net","Win Hole",null,"Hole #","Par","Score","Net","Win Hole",null,"Hole #","Par","Score","Net","Win Hole"]
[null,{"$f":"VLOOKUP(C5,Week,6)","v":1},{"$f":"VLOOKUP(B7,Holes,2)","v":4},6,{"$f":"IF((D7-C7)>3,C7+3,D7)","v":6},0,null,{"$f":"VLOOKUP(I5,Week,6)","v":10},{"$f":"VLOOKUP(H7,Holes,2)","v":4},5,{"$f":"IF((J7-I7)>3,I7+3,J7)","v":5},1,null,{"$f":"VLOOKUP(O5,Week,6)","v":1},{"$f":"VLOOKUP(N7,Holes,2)","v":4},5,{"$f":"IF((P7-O7)>3,O7+3,P7)","v":5},1,null,{"$f":"VLOOKUP(U5,Week,6)","v":10},{"$f":"VLOOKUP(T7,Holes,2)","v":4},7,{"$f":"IF((V7-U7)>3,U7+3,V7)","v":7},1,null,{"$f":"VLOOKUP(AA5,Week,6)","v":1},{"$f":"VLOOKUP(Z7,Holes,2)","v":4},null,{"$f":"IF((AB7-AA7)>3,AA7+3,AB7)","v":0},null,null,{"$f":"VLOOKUP(AG5,Week,6)","v":10},{"$f":"VLOOKUP(AF7,Holes,2)","v":4},9,{"$f":"IF((AH7-AG7)>3,AG7+3,AH7)","v":7},0,null,{"$f":"VLOOKUP(AM5,Week,6)","v":1},{"$f":"VLOOKUP(AL7,Holes,2)","v":4},8,{"$f":"IF((AN7-AM7)>3,AM7+3,AN7)","v":7},0,null,{"$f":"VLOOKUP(AS5,Week,6)","v":10},{"$f":"VLOOKUP(AR7,Holes,2)","v":4},7,{"$f":"IF((AT7-AS7)>3,AS7+3,AT7)","v":7},0.5,null,{"$f":"VLOOKUP(AY5,Week,6)","v":1},{"$f":"VLOOKUP(AX7,Holes,2)","v":4},8,{"$f":"IF((AZ7-AY7)>3,AY7+3,AZ7)","v":7},0,null,{"$f":"VLOOKUP(BE5,Week,6)","v":10},{"$f":"VLOOKUP(BD7,Holes,2)","v":4},6,{"$f":"IF((BF7-BE7)>3,BE7+3,BF7)","v":6},1,null,{"$f":"VLOOKUP(BK5,Week,6)","v":1},{"$f":"VLOOKUP(BJ7,Holes,2)","v":4},6,{"$f":"IF((BL7-BK7)>3,BK7+3,BL7)","v":6},0.5,null,{"$f":"VLOOKUP(BQ5,Week,6)","v":10},{"$f":"VLOOKUP(BP7,Holes,2)","v":4},6,{"$f":"IF((BR7-BQ7)>3,BQ7+3,BR7)","v":6},1,null,{"$f":"VLOOKUP(BW5,Week,6)","v":1},{"$f":"VLOOKUP(BV7,Holes,2)","v":4},null,{"$f":"IF((BX7-BW7)>3,BW7+3,BX7)","v":0},null,null,{"$f":"VLOOKUP(CC5,Week,6)","v":1},{"$f":"VLOOKUP(CB7,Holes,2)","v":4},5,{"$f":"IF((CD7-CC7)>3,CC7+3,CD7)","v":5},0.5,null,{"$f":"VLOOKUP(CI5,Week,6)","v":10},{"$f":"VLOOKUP(CH7,Holes,2)","v":4},7,{"$f":"IF((CJ7-CI7)>3,CI7+3,CJ7)","v":7},0]
[null,{"$f":"+B7+1","v":2},4,9,7,0,null,{"$f":"+H7+1","v":11},4,5,5,1,null,{"$f":"+N7+1","v":2},4,9,7,0,null,{"$f":"+T7+1","v":11},4,9,7,0,null,{"$f":"+Z7+1","v":2},4,null,0,null,null,{"$f":"+AF7+1","v":11},4,8,7,0,null,{"$f":"+AL7+1","v":2},4,5,5,1,null,{"$f":"+AR7+1","v":11},4,7,7,0,null,{"$f":"+AX7+1","v":2},4,6,6,1,null,{"$f":"+BD7+1","v":11},4,6,6,1,null,{"$f":"+BJ7+1","v":2},4,5,5,1,null,{"$f":"+BP7+1","v":11},4,5,5,1,null,{"$f":"+BV7+1","v":2},4,null,0,null,null,{"$f":"+CB7+1","v":2},4,8,7,0,null,{"$f":"+CH7+1","v":11},4,9,7,0]
[null,3,3,5,5,0,null,12,4,5,5,1,null,3,3,6,6,0,null,12,4,7,7,0.5,null,3,3,null,0,null,null,12,4,9,7,0,null,3,3,5,5,0,null,12,4,6,6,0.5,null,3,3,6,6,0,null,12,4,5,5,0.5,null,3,3,4,4,1,null,12,4,6,6,0.5,null,3,3,null,0,null,null,3,3,6,6,0,null,12,4,9,7,0]
[null,4,4,7,7,1,null,13,5,8,8,0.5,null,4,4,8,7,0,null,13,5,11,8,0,null,4,4,null,0,null,null,13,5,9,8,0,null,4,4,6,6,1,null,13,5,10,8,0,null,4,4,8,7,0,null,13,5,9,8,0,null,4,4,5,5,0.5,null,13,5,8,8,0,null,4,4,null,0,null,null,4,4,6,6,0.5,null,13,5,6,6,1]
[null,5,5,7,7,0.5,null,14,3,6,6,0,null,5,5,8,8,0,null,14,3,6,6,0,null,5,5,null,0,null,null,14,3,4,4,1,null,5,5,11,8,0,null,14,3,6,6,0.5,null,5,5,8,8,0,null,14,3,5,5,1,null,5,5,8,8,0,null,14,3,6,6,0.5,null,5,5,null,0,null,null,5,5,7,7,0.5,null,14,3,6,6,0]
[null,6,3,6,6,0,null,15,4,9,7,0,null,6,3,6,6,0,null,15,4,7,7,0.5,null,6,3,null,0,null,null,15,4,7,7,0,null,6,3,5,5,0.5,null,15,4,9,7,0,null,6,3,3,3,1,null,15,4,9,7,0.5,null,6,3,5,5,1,null,15,4,6,6,1,null,6,3,null,0,null,null,6,3,4,4,1,null,15,4,7,7,0.5]
[null,7,4,5,5,1,null,16,4,8,7,0,null,7,4,6,6,1,null,16,4,6,6,1,null,7,4,null,0,null,null,16,4,7,7,0.5,null,7,4,6,6,1,null,16,4,6,6,1,null,7,4,5,5,1,null,16,4,7,7,0,null,7,4,6,6,1,null,16,4,7,7,0,null,7,4,null,0,null,null,7,4,7,7,0.5,null,16,4,7,7,0.5]
[null,8,4,6,6,1,null,17,3,5,5,0.5,null,8,4,8,7,0.5,null,17,3,7,6,0,null,8,4,null,0,null,null,17,3,4,4,1,null,8,4,9,7,0,null,17,3,5,5,0.5,null,8,4,5,5,1,null,17,3,4,4,1,null,8,4,9,7,0,null,17,3,5,5,0.5,null,8,4,null,0,null,null,8,4,6,6,1,null,17,3,6,6,0]
[null,9,5,9,8,1,null,18,5,9,8,0,null,9,5,11,8,0,null,18,5,10,8,0,null,9,5,null,0,null,null,18,5,8,8,0.5,null,9,5,10,8,0,null,18,5,8,8,0.5,null,9,5,8,8,0,null,18,5,8,8,0,null,9,5,8,8,0,null,18,5,6,6,1,null,9,5,null,0,null,null,9,5,7,7,1,null,18,5,8,8,0]
[null,"Total",{"$f":"SUM(C7:C15)","v":36},{"$f":"SUM(D7:D15)","v":60},{"$f":"SUM(E7:E15)","v":57},{"$f":"SUM(F7:F15)","v":4.5},null,"Total",{"$f":"SUM(I7:I15)","v":36},{"$f":"SUM(J7:J15)","v":60},{"$f":"SUM(K7:K15)","v":56},{"$f":"SUM(L7:L15)","v":4},null,"Total",{"$f":"SUM(O7:O15)","v":36},{"$f":"SUM(P7:P15)","v":67},{"$f":"SUM(Q7:Q15)","v":60},{"$f":"SUM(R7:R15)","v":2.5},null,"Total",{"$f":"SUM(U7:U15)","v":36},{"$f":"SUM(V7:V15)","v":70},{"$f":"SUM(W7:W15)","v":62},{"$f":"SUM(X7:X15)","v":3},null,"Total",{"$f":"SUM(AA7:AA15)","v":36},{"$f":"SUM(AB7:AB15)","v":0},{"$f":"SUM(AC7:AC15)","v":0},{"$f":"SUM(AD7:AD15)","v":0},null,"Total",{"$f":"SUM(AG7:AG15)","v":36},{"$f":"SUM(AH7:AH15)","v":65},{"$f":"SUM(AI7:AI15)","v":59},{"$f":"SUM(AJ7:AJ15)","v":3},null,"Total",{"$f":"SUM(AM7:AM15)","v":36},{"$f":"SUM(AN7:AN15)","v":65},{"$f":"SUM(AO7:AO15)","v":57},{"$f":"SUM(AP7:AP15)","v":3.5},null,"Total",{"$f":"SUM(AS7:AS15)","v":36},{"$f":"SUM(AT7:AT15)","v":64},{"$f":"SUM(AU7:AU15)","v":60},{"$f":"SUM(AV7:AV15)","v":3.5},null,"Total",{"$f":"SUM(AY7:AY15)","v":36},{"$f":"SUM(AZ7:AZ15)","v":57},{"$f":"SUM(BA7:BA15)","v":55},{"$f":"SUM(BB7:BB15)","v":4},null,"Total",{"$f":"SUM(BE7:BE15)","v":36},{"$f":"SUM(BF7:BF15)","v":59},{"$f":"SUM(BG7:BG15)","v":56},{"$f":"SUM(BH7:BH15)","v":5},null,"Total",{"$f":"SUM(BK7:BK15)","v":36},{"$f":"SUM(BL7:BL15)","v":56},{"$f":"SUM(BM7:BM15)","v":54},{"$f":"SUM(BN7:BN15)","v":5},null,"Total",{"$f":"SUM(BQ7:BQ15)","v":36},{"$f":"SUM(BR7:BR15)","v":55},{"$f":"SUM(BS7:BS15)","v":55},{"$f":"SUM(BT7:BT15)","v":5.5},null,"Total",{"$f":"SUM(BW7:BW15)","v":36},{"$f":"SUM(BX7:BX15)","v":0},{"$f":"SUM(BY7:BY15)","v":0},{"$f":"SUM(BZ7:BZ15)","v":0},null,"Total",{"$f":"SUM(CC7:CC15)","v":36},{"$f":"SUM(CD7:CD15)","v":56},{"$f":"SUM(CE7:CE15)","v":55},{"$f":"SUM(CF7:CF15)","v":5},null,"Total",{"$f":"SUM(CI7:CI15)","v":36},{"$f":"SUM(CJ7:CJ15)","v":65},{"$f":"SUM(CK7:CK15)","v":61},{"$f":"SUM(CL7:CL15)","v":2}]
[]
[null,null,null,null,"Low Net",1,null,null,null,null,"Low Net",0,null,null,null,null,"Low Net",0,null,null,null,null,"Low Net",0,null,null,null,null,"Low Net",null,null,null,null,null,"Low Net",0,null,null,null,null,"Low Net",0.5,null,null,null,null,"Low Net",0,null,null,null,null,"Low Net",0,null,null,null,null,"Low Net",1,null,null,null,null,"Low Net",1,null,null,null,null,"Low Net",1,null,null,null,null,"Low Net",null,null,null,null,null,"Low Net",1,null,null,null,null,"Low Net",0]
[]
[null,null,null,null,"Total Points",{"$f":"SUM(F16:F19)","v":5.5},null,null,null,null,"Total Points",{"$f":"SUM(L16:L19)","v":4},null,null,null,null,"Total Points",{"$f":"SUM(R16:R19)","v":2.5},null,null,null,null,"Total Points",{"$f":"SUM(X16:X19)","v":3},null,null,null,null,"Total Points",{"$f":"SUM(AD16:AD19)","v":0},null,null,null,null,"Total Points",{"$f":"SUM(AJ16:AJ19)","v":3},null,null,null,null,"Total Points",{"$f":"SUM(AP16:AP19)","v":4},null,null,null,null,"Total Points",{"$f":"SUM(AV16:AV19)","v":3.5},null,null,null,null,"Total Points",{"$f":"SUM(BB16:BB19)","v":4},null,null,null,null,"Total Points",{"$f":"SUM(BH16:BH19)","v":6},null,null,null,null,"Total Points",{"$f":"SUM(BN16:BN19)","v":6},null,null,null,null,"Total Points",{"$f":"SUM(BT16:BT19)","v":6.5},null,null,null,null,"Total Points",{"$f":"SUM(BZ16:BZ19)","v":0},null,null,null,null,"Total Points",{"$f":"SUM(CF16:CF19)","v":6},null,null,null,null,"Total Points",{"$f":"SUM(CL16:CL19)","v":2}]
[]
[null,null,null,null,"Handicap",{"$f":"IF(D16=0,0,E16-C16)","v":21},null,null,null,null,"Handicap",{"$f":"IF(J16=0,0,K16-I16)","v":20},null,null,null,null,"Handicap",{"$f":"IF(P16=0,0,Q16-O16)","v":24},null,null,null,null,"Handicap",{"$f":"IF(V16=0,0,W16-U16)","v":26},null,null,null,null,"Handicap",{"$f":"IF(AB16=0,0,AC16-AA16)","v":0},null,null,null,null,"Handicap",{"$f":"IF(AH16=0,0,AI16-AG16)","v":23},null,null,null,null,"Handicap",{"$f":"IF(AN16=0,0,AO16-AM16)","v":21},null,null,null,null,"Handicap",{"$f":"IF(AT16=0,0,AU16-AS16)","v":24},null,null,null,null,"Handicap",{"$f":"IF(AZ16=0,0,BA16-AY16)","v":19},null,null,null,null,"Handicap",{"$f":"IF(BF16=0,0,BG16-BE16)","v":20},null,null,null,null,"Handicap",{"$f":"IF(BL16=0,0,BM16-BK16)","v":18},null,null,null,null,"Handicap",{"$f":"IF(BR16=0,0,BS16-BQ16)","v":19},null,null,null,null,"Handicap",{"$f":"IF(BX16=0,0,BY16-BW16)","v":0},null,null,null,null,"Handicap",{"$f":"IF(CD16=0,0,CE16-CC16)","v":19},null,null,null,null,"Handicap",{"$f":"IF(CJ16=0,0,CK16-CI16)","v":25}]
[]
[null,null,null,null,null,{"$f":"IF(D16<>0,IF(F16>4.5,\"W\",IF(F16=4.5,\"T\",IF(F16<4.5,\"L\"))),0)","v":"T"},null,null,null,null,null,{"$f":"IF(J16<>0,IF(L16>4.5,\"W\",IF(L16=4.5,\"T\",IF(L16<4.5,\"L\"))),0)","v":"L"},null,null,null,null,null,{"$f":"IF(P16<>0,IF(R16>4.5,\"W\",IF(R16=4.5,\"T\",IF(R16<4.5,\"L\"))),0)","v":"L"},null,null,null,null,null,{"$f":"IF(V16<>0,IF(X16>4.5,\"W\",IF(X16=4.5,\"T\",IF(X16<4.5,\"L\"))),0)","v":"L"},null,null,null,null,null,{"$f":"IF(AB16<>0,IF(AD16>4.5,\"W\",IF(AD16=4.5,\"T\",IF(AD16<4.5,\"L\"))),0)","v":0},null,null,null,null,null,{"$f":"IF(AH16<>0,IF(AJ16>4.5,\"W\",IF(AJ16=4.5,\"T\",IF(AJ16<4.5,\"L\"))),0)","v":"L"},null,null,null,null,null,{"$f":"IF(AN16<>0,IF(AP16>4.5,\"W\",IF(AP16=4.5,\"T\",IF(AP16<4.5,\"L\"))),0)","v":"L"},null,null,null,null,null,{"$f":"IF(AT16<>0,IF(AV16>4.5,\"W\",IF(AV16=4.5,\"T\",IF(AV16<4.5,\"L\"))),0)","v":"L"},null,null,null,null,null,{"$f":"IF(AZ16<>0,IF(BB16>4.5,\"W\",IF(BB16=4.5,\"T\",IF(BB16<4.5,\"L\"))),0)","v":"L"},null,null,null,null,null,{"$f":"IF(BF16<>0,IF(BH16>4.5,\"W\",IF(BH16=4.5,\"T\",IF(BH16<4.5,\"L\"))),0)","v":"W"},null,null,null,null,null,{"$f":"IF(BL16<>0,IF(BN16>4.5,\"W\",IF(BN16=4.5,\"T\",IF(BN16<4.5,\"L\"))),0)","v":"W"},null,null,null,null,null,{"$f":"IF(BR16<>0,IF(BT16>4.5,\"W\",IF(BT16=4.5,\"T\",IF(BT16<4.5,\"L\"))),0)","v":"W"},null,null,null,null,null,{"$f":"IF(BX16<>0,IF(BZ16>4.5,\"W\",IF(BZ16=4.5,\"T\",IF(BZ16<4.5,\"L\"))),0)","v":0},null,null,null,null,null,{"$f":"IF(CD16<>0,IF(CF16>4.5,\"W\",IF(CF16=4.5,\"T\",IF(CF16<4.5,\"L\"))),0)","v":"W"},null,null,null,null,null,{"$f":"IF(CJ16<>0,IF(CL16>4.5,\"W\",IF(CL16=4.5,\"T\",IF(CL16<4.5,\"L\"))),0)","v":"L"}]
[]
[null,"Summary",null,{"$f":"COUNT(D29:D43)","v":10}]
[null,null,null,"Adj",null,"Adj",null,null,null,"Avg Score"]
[null,null,"Points","Points","Matches","Matches",null,null,"Hole #","by Hole","Best","Worst"]
[null,"Week #1",{"$f":"F20","v":5.5},{"$f":"C29","v":5.5},{"$f":"IF(D16>0,1,0)","v":1},{"$f":"E29","v":1},null,null,1,{"$f":"IFERROR(AVERAGE(D7,P7,AB7,AN7,AZ7,BL7,BX7,CD7),0)","v":6.333333333333333},{"$f":"IFERROR(MIN(D7,P7,AB7,AN7,AZ7,BL7,BX7,CD7),0)","v":5},{"$f":"IFERROR(MAX(D7,P7,AB7,AN7,AZ7,BL7,BX7,CD7),0)","v":8}]
[null,"Week #2",{"$f":"L20","v":4},4,{"$f":"IF(J16>0,1,0)","v":1},1,null,null,2,{"$f":"IFERROR(AVERAGE(D8,P8,AB8,AN8,AZ8,BL8,BX8,CD8),0)","v":7},{"$f":"IFERROR(MIN(D8,P8,AB8,AN8,AZ8,BL8,BX8,CD8),0)","v":5},{"$f":"IFERROR(MAX(D8,P8,AB8,AN8,AZ8,BL8,BX8,CD8),0)","v":9}]
[null,"Week #3",{"$f":"R20","v":2.5},null,{"$f":"IF(P16>0,1,0)","v":1},1,null,null,3,5.333333333333333,4,6]
[null,"Week #4",{"$f":"X20","v":3},null,{"$f":"IF(V16>0,1,0)","v":1},1,null,null,4,6.666666666666667,5,8]
[null,"Week #5",{"$f":"AD20","v":0},null,{"$f":"IF(AB16>0,1,0)","v":0},0,null,null,5,8.1666666666666661,7,11]
[null,"Week #6",{"$f":"AJ20","v":3},3,{"$f":"IF(AH16>0,1,0)","v":1},1,null,null,6,4.833333333333333,3,6]
[null,"Week #7",{"$f":"AP20","v":4},4,{"$f":"IF(AN16>0,1,0)","v":1},1,null,null,7,5.833333333333333,5,7]
[null,"Week #8",{"$f":"AV20","v":3.5},3.5,{"$f":"IF(AT16>0,1,0)","v":1},1,null,null,8,7.166666666666667,5,9]
[null,"Week #9",{"$f":"BB20","v":4},4,{"$f":"IF(AZ16>0,1,0)","v":1},1,null,null,9,8.8333333333333339,7,11]
[null,"Week #10",{"$f":"BH20","v":6},6,{"$f":"IF(BF16>0,1,0)","v":1},1,null,null,"Front",{"$f":"SUM(J29:J37)","v":60.166666666666671},{"$f":"SUM(K29:K37)","v":46},75]
[null,"Week #11",{"$f":"BN20","v":6},6,{"$f":"IF(BL16>0,1,0)","v":1},1]
[null,"Week #12",{"$f":"BT20","v":6.5},6.5,{"$f":"IF(BR16>0,1,0)","v":1},1,null,null,10,{"$f":"IFERROR(AVERAGE(J7,V7,AH7,AT7,BF7,BR7,CJ7),0)","v":6.7142857142857144},{"$f":"IFERROR(MIN(J7,V7,AH7,AT7,BF7,BR7,CJ7),0)","v":5},{"$f":"IFERROR(MAX(J7,V7,AH7,AT7,BF7,BR7,CJ7),0)","v":9}]
[null,"Week #13",{"$f":"BZ20","v":0},null,{"$f":"IF(BX16>0,1,0)","v":0},0,null,null,11,{"$f":"IFERROR(AVERAGE(J8,V8,AH8,AT8,BF8,BR8,CJ8),0)","v":7},{"$f":"IFERROR(MIN(J8,V8,AH8,AT8,BF8,BR8,CJ8),0)","v":5},{"$f":"IFERROR(MAX(J8,V8,AH8,AT8,BF8,BR8,CJ8),0)","v":9}]
[null,"Week #14",{"$f":"CF20","v":6},6,{"$f":"IF(CD16>0,1,0)","v":1},1,null,null,12,6.7142857142857144,5,9]
[null,"Week #15",{"$f":"CL20","v":2},null,{"$f":"IF(CJ16>0,1,0)","v":1},1,null,null,13,8.7142857142857135,6,11]
[null,"Total",{"$f":"SUM(C29:C43)","v":56},{"$f":"SUM(D29:D43)","v":48.5},{"$f":"SUM(E29:E43)","v":13},{"$f":"SUM(F29:F43)","v":13},null,null,14,5.5714285714285712,4,6]
[null,null,null,null,null,null,null,null,15,7.7142857142857144,6,9]
[null,"Summary",null,null,null,null,null,null,16,6.8571428571428568,6,8]
[null,"Eagles",{"$f":"I57+I68+I79+I90+I101+I112+I123+I134+I145+I156+I167+I178+I189+I200+I211","v":0},null,null,null,null,null,17,5.1428571428571432,4,7]
[null,"Birdies",0,null,null,null,null,null,18,8.1428571428571423,6,10]
[null,"Pars",{"$f":"I59+I70+I81+I92+I103+I114+I125+I136+I147+I158+I169+I180+I191+I202+I213","v":1},null,null,null,null,null,"Back",{"$f":"SUM(J40:J48)","v":62.571428571428569},{"$f":"SUM(K40:K48)","v":47},78]
[null,"bogeys",20]
[null,"Double bogeys",29]
[null,"Other",67]
[null,"Total",{"$f":"SUM(C47:C52)","v":117}]
[]
[null,{"$f":"D4","v":"2024-04-26"},"Par","Score"]
[null,{"$f":"B7","v":1},4,6,{"$f":"IF(D56<>0,IF((D56-C56)=-1,\"Birdie\",IF((D56-C56)=-2,\"Eagle\",IF((D56-C56)=0,\"Par\",IF((D56-C56)=1,\"bogey\",IF((D56-C56)=2,\"Double bogey\",\"Other\"))))),\"  \")","v":"Double bogey"},null,null,"Count"]
[null,2,4,9,"Other",null,null,"Eagle",{"$f":"COUNTIF(E56:E64,\"Eagle\")","v":0}]
[null,3,3,5,"Double bogey",null,null,"Birdie",{"$f":"COUNTIF(E56:E64,\"Birdie\")","v":0}]
[null,4,4,7,"Other",null,null,"Par",{"$f":"COUNTIF(E56:E64,\"Par\")","v":0}]
[null,5,5,7,"Double bogey",null,null,"bogey",{"$f":"COUNTIF(E56:E64,\"bogey\")","v":1}]
[null,6,3,6,"Other",null,null,"Double bogey",{"$f":"COUNTIF(E56:E64,\"Double bogey\")","v":4}]
[null,7,4,5,"bogey",null,null,"Other",{"$f":"COUNTIF(E56:E64,\"Other\")","v":4}]
[null,8,4,6,"Double bogey"]
[null,9,5,9,"Other"]
[]
[null,{"$f":"J4","v":"2024-05-03"}]
[null,{"$f":"H7","v":10},4,5,{"$f":"IF(D67<>0,IF((D67-C67)=-1,\"Birdie\",IF((D67-C67)=-2,\"Eagle\",IF((D67-C67)=0,\"Par\",IF((D67-C67)=1,\"bogey\",IF((D67-C67)=2,\"Double bogey\",\"Other\"))))),\"  \")","v":"bogey"},null,null,"Count"]
[null,11,4,5,"bogey",null,null,"Eagle",{"$f":"COUNTIF(E67:E75,\"Eagle\")","v":0}]
[null,12,4,5,"bogey",null,null,"Birdie",{"$f":"COUNTIF(E67:E75,\"Birdie\")","v":0}]
[null,13,5,8,"Other",null,null,"Par",{"$f":"COUNTIF(E67:E75,\"Par\")","v":0}]
[null,14,3,6,"Other",null,null,"bogey",{"$f":"COUNTIF(E67:E75,\"bogey\")","v":3}]
[null,15,4,9,"Other",null,null,"Double bogey",{"$f":"COUNTIF(E67:E75,\"Double bogey\")","v":1}]
[null,16,4,8,"Other",null,null,"Other",{"$f":"COUNTIF(E67:E75,\"Other\")","v":5}]
[null,17,3,5,"Double bogey"]
[null,18,5,9,"Other"]
[]
[null,{"$f":"P4","v":"2024-05-10"}]
[null,{"$f":"N7","v":1},4,5,{"$f":"IF(D78<>0,IF((D78-C78)=-1,\"Birdie\",IF((D78-C78)=-2,\"Eagle\",IF((D78-C78)=0,\"Par\",IF((D78-C78)=1,\"bogey\",IF((D78-C78)=2,\"Double bogey\",\"Other\"))))),\"  \")","v":"bogey"},null,null,"Count"]
[null,2,4,9,"Other",null,null,"Eagle",{"$f":"COUNTIF(E78:E86,\"Eagle\")","v":0}]
[null,3,3,6,"Other",null,null,"Birdie",{"$f":"COUNTIF(E78:E86,\"Birdie\")","v":0}]
[null,4,4,8,"Other",null,null,"Par",{"$f":"COUNTIF(E78:E86,\"Par\")","v":0}]
[null,5,5,8,"Other",null,null,"bogey",{"$f":"COUNTIF(E78:E86,\"bogey\")","v":1}]
[null,6,3,6,"Other",null,null,"Double bogey",{"$f":"COUNTIF(E78:E86,\"Double bogey\")","v":1}]
[null,7,4,6,"Double bogey",null,null,"Other",{"$f":"COUNTIF(E78:E86,\"Other\")","v":7}]
[null,8,4,8,"Other"]
[null,9,5,11,"Other"]
[]
[null,{"$f":"V4","v":"2024-05-17"}]
[null,{"$f":"T7","v":10},4,7,{"$f":"IF(D89<>0,IF((D89-C89)=-1,\"Birdie\",IF((D89-C89)=-2,\"Eagle\",IF((D89-C89)=0,\"Par\",IF((D89-C89)=1,\"bogey\",IF((D89-C89)=2,\"Double bogey\",\"Other\"))))),\"  \")","v":"Other"},null,null,"Count"]
[null,11,4,9,"Other",null,null,"Eagle",{"$f":"COUNTIF(E89:E97,\"Eagle\")","v":0}]
[null,12,4,7,"Other",null,null,"Birdie",{"$f":"COUNTIF(E89:E97,\"Birdie\")","v":0}]
[null,13,5,11,"Other",null,null,"Par",{"$f":"COUNTIF(E89:E97,\"Par\")","v":0}]
[null,14,3,6,"Other",null,null,"bogey",{"$f":"COUNTIF(E89:E97,\"bogey\")","v":0}]
[null,15,4,7,"Other",null,null,"Double bogey",{"$f":"COUNTIF(E89:E97,\"Double bogey\")","v":1}]
[null,16,4,6,"Double bogey",null,null,"Other",{"$f":"COUNTIF(E89:E97,\"Other\")","v":8}]
[null,17,3,7,"Other"]
[null,18,5,10,"Other"]
[]
[null,{"$f":"AB4","v":"2024-05-24"}]
[null,{"$f":"Z7","v":1},4,0,{"$f":"IF(D100<>0,IF((D100-C100)=-1,\"Birdie\",IF((D100-C100)=-2,\"Eagle\",IF((D100-C100)=0,\"Par\",IF((D100-C100)=1,\"bogey\",IF((D100-C100)=2,\"Double bogey\",\"Other\"))))),\"  \")","v":"  "},null,null,"Count"]
[null,2,4,0,"  ",null,null,"Eagle",{"$f":"COUNTIF(E100:E108,\"Eagle\")","v":0}]
[null,3,3,0,"  ",null,null,"Birdie",{"$f":"COUNTIF(E100:E108,\"Birdie\")","v":0}]
[null,4,4,0,"  ",null,null,"Par",{"$f":"COUNTIF(E100:E108,\"Par\")","v":0}]
[null,5,5,0,"  ",null,null,"bogey",{"$f":"COUNTIF(E100:E108,\"bogey\")","v":0}]
[null,6,3,0,"  ",null,null,"Double bogey",{"$f":"COUNTIF(E100:E108,\"Double bogey\")","v":0}]
[null,7,4,0,"  ",null,null,"Other",{"$f":"COUNTIF(E100:E108,\"Other\")","v":0}]
[null,8,4,0,"  "]
[null,9,5,0,"  "]
[]
[null,{"$f":"AH4","v":"2024-05-31"}]
[null,{"$f":"AF7","v":10},4,9,{"$f":"IF(D111<>0,IF((D111-C111)=-1,\"Birdie\",IF((D111-C111)=-2,\"Eagle\",IF((D111-C111)=0,\"Par\",IF((D111-C111)=1,\"bogey\",IF((D111-C111)=2,\"Double bogey\",\"Other\"))))),\"  \")","v":"Other"},null,null,"Count"]
[null,11,4,8,"Other",null,null,"Eagle",{"$f":"COUNTIF(E111:E119,\"Eagle\")","v":0}]
[null,12,4,9,"Other",null,null,"Birdie",{"$f":"COUNTIF(E111:E119,\"Birdie\")","v":0}]
[null,13,5,9,"Other",null,null,"Par",{"$f":"COUNTIF(E111:E119,\"Par\")","v":0}]
[null,14,3,4,"bogey",null,null,"bogey",{"$f":"COUNTIF(E111:E119,\"bogey\")","v":2}]
[null,15,4,7,"Other",null,null,"Double bogey",{"$f":"COUNTIF(E111:E119,\"Double bogey\")","v":0}]
[null,16,4,7,"Other",null,null,"Other",{"$f":"COUNTIF(E111:E119,\"Other\")","v":7}]
[null,17,3,4,"bogey"]
[null,18,5,8,"Other"]
[]
[null,{"$f":"AN4","v":"2024-06-07"}]
[null,{"$f":"AL7","v":1},4,8,{"$f":"IF(D122<>0,IF((D122-C122)=-1,\"Birdie\",IF((D122-C122)=-2,\"Eagle\",IF((D122-C122)=0,\"Par\",IF((D122-C122)=1,\"bogey\",IF((D122-C122)=2,\"Double bogey\",\"Other\"))))),\"  \")","v":"Other"},null,null,"Count"]
[null,2,4,5,"bogey",null,null,"Eagle",{"$f":"COUNTIF(E122:E130,\"Eagle\")","v":0}]
[null,3,3,5,"Double bogey",null,null,"Birdie",{"$f":"COUNTIF(E122:E130,\"Birdie\")","v":0}]
[null,4,4,6,"Double bogey",null,null,"Par",{"$f":"COUNTIF(E122:E130,\"Par\")","v":0}]
[null,5,5,11,"Other",null,null,"bogey",{"$f":"COUNTIF(E122:E130,\"bogey\")","v":1}]
[null,6,3,5,"Double bogey",null,null,"Double bogey",{"$f":"COUNTIF(E122:E130,\"Double bogey\")","v":4}]
[null,7,4,6,"Double bogey",null,null,"Other",{"$f":"COUNTIF(E122:E130,\"Other\")","v":4}]
[null,8,4,9,"Other"]
[null,9,5,10,"Other"]
[]
[null,{"$f":"AT4","v":"2024-06-14"}]
[null,{"$f":"AR7","v":10},4,7,{"$f":"IF(D133<>0,IF((D133-C133)=-1,\"Birdie\",IF((D133-C133)=-2,\"Eagle\",IF((D133-C133)=0,\"Par\",IF((D133-C133)=1,\"bogey\",IF((D133-C133)=2,\"Double bogey\",\"Other\"))))),\"  \")","v":"Other"},null,null,"Count"]
[null,11,4,7,"Other",null,null,"Eagle",{"$f":"COUNTIF(E133:E141,\"Eagle\")","v":0}]
[null,12,4,6,"Double bogey",null,null,"Birdie",{"$f":"COUNTIF(E133:E141,\"Birdie\")","v":0}]
[null,13,5,10,"Other",null,null,"Par",{"$f":"COUNTIF(E133:E141,\"Par\")","v":0}]
[null,14,3,6,"Other",null,null,"bogey",{"$f":"COUNTIF(E133:E141,\"bogey\")","v":0}]
[null,15,4,9,"Other",null,null,"Double bogey",{"$f":"COUNTIF(E133:E141,\"Double bogey\")","v":3}]
[null,16,4,6,"Double bogey",null,null,"Other",{"$f":"COUNTIF(E133:E141,\"Other\")","v":6}]
[null,17,3,5,"Double bogey"]
[null,18,5,8,"Other"]
[]
[null,{"$f":"AZ4","v":"2024-07-05"}]
[null,{"$f":"AX7","v":1},4,8,{"$f":"IF(D144<>0,IF((D144-C144)=-1,\"Birdie\",IF((D144-C144)=-2,\"Eagle\",IF((D144-C144)=0,\"Par\",IF((D144-C144)=1,\"bogey\",IF((D144-C144)=2,\"Double bogey\",\"Other\"))))),\"  \")","v":"Other"},null,null,"Count"]
[null,2,4,6,"Double bogey",null,null,"Eagle",{"$f":"COUNTIF(E144:E152,\"Eagle\")","v":0}]
[null,3,3,6,"Other",null,null,"Birdie",{"$f":"COUNTIF(E144:E152,\"Birdie\")","v":0}]
[null,4,4,8,"Other",null,null,"Par",{"$f":"COUNTIF(E144:E152,\"Par\")","v":1}]
[null,5,5,8,"Other",null,null,"bogey",{"$f":"COUNTIF(E144:E152,\"bogey\")","v":2}]
[null,6,3,3,"Par",null,null,"Double bogey",{"$f":"COUNTIF(E144:E152,\"Double bogey\")","v":1}]
[null,7,4,5,"bogey",null,null,"Other",{"$f":"COUNTIF(E144:E152,\"Other\")","v":5}]
[null,8,4,5,"bogey"]
[null,9,5,8,"Other"]
[]
[null,{"$f":"BF4","v":"2024-07-12"}]
[null,{"$f":"BD7","v":10},4,6,{"$f":"IF(D155<>0,IF((D155-C155)=-1,\"Birdie\",IF((D155-C155)=-2,\"Eagle\",IF((D155-C155)=0,\"Par\",IF((D155-C155)=1,\"bogey\",IF((D155-C155)=2,\"Double bogey\",\"Other\"))))),\"  \")","v":"Double bogey"},null,null,"Count"]
[null,11,4,6,"Double bogey",null,null,"Eagle",{"$f":"COUNTIF(E155:E163,\"Eagle\")","v":0}]
[null,12,4,5,"bogey",null,null,"Birdie",{"$f":"COUNTIF(E155:E163,\"Birdie\")","v":0}]
[null,13,5,9,"Other",null,null,"Par",{"$f":"COUNTIF(E155:E163,\"Par\")","v":0}]
[null,14,3,5,"Double bogey",null,null,"bogey",{"$f":"COUNTIF(E155:E163,\"bogey\")","v":2}]
[null,15,4,9,"Other",null,null,"Double bogey",{"$f":"COUNTIF(E155:E163,\"Double bogey\")","v":3}]
[null,16,4,7,"Other",null,null,"Other",{"$f":"COUNTIF(E155:E163,\"Other\")","v":4}]
[null,17,3,4,"bogey"]
[null,18,5,8,"Other"]
[]
[null,{"$f":"BL4","v":"2024-07-19"}]
[null,{"$f":"BJ7","v":1},4,6,{"$f":"IF(D166<>0,IF((D166-C166)=-1,\"Birdie\",IF((D166-C166)=-2,\"Eagle\",IF((D166-C166)=0,\"Par\",IF((D166-C166)=1,\"bogey\",IF((D166-C166)=2,\"Double bogey\",\"Other\"))))),\"  \")","v":"Double bogey"},null,null,"Count"]
[null,2,4,5,"bogey",null,null,"Eagle",{"$f":"COUNTIF(E166:E174,\"Eagle\")","v":0}]
[null,3,3,4,"bogey",null,null,"Birdie",{"$f":"COUNTIF(E166:E174,\"Birdie\")","v":0}]
[null,4,4,5,"bogey",null,null,"Par",{"$f":"COUNTIF(E166:E174,\"Par\")","v":0}]
[null,5,5,8,"Other",null,null,"bogey",{"$f":"COUNTIF(E166:E174,\"bogey\")","v":3}]
[null,6,3,5,"Double bogey",null,null,"Double bogey",{"$f":"COUNTIF(E166:E174,\"Double bogey\")","v":3}]
[null,7,4,6,"Double bogey",null,null,"Other",{"$f":"COUNTIF(E166:E174,\"Other\")","v":3}]
[null,8,4,9,"Other"]
[null,9,5,8,"Other"]
[]
[null,{"$f":"BR4","v":"2024-07-26"}]
[null,{"$f":"BP7","v":10},4,6,{"$f":"IF(D177<>0,IF((D177-C177)=-1,\"Birdie\",IF((D177-C177)=-2,\"Eagle\",IF((D177-C177)=0,\"Par\",IF((D177-C177)=1,\"bogey\",IF((D177-C177)=2,\"Double bogey\",\"Other\"))))),\"  \")","v":"Double bogey"},null,null,"Count"]
[null,11,4,5,"bogey",null,null,"Eagle",{"$f":"COUNTIF(E177:E185,\"Eagle\")","v":0}]
[null,12,4,6,"Double bogey",null,null,"Birdie",{"$f":"COUNTIF(E177:E185,\"Birdie\")","v":0}]
[null,13,5,8,"Other",null,null,"Par",{"$f":"COUNTIF(E177:E185,\"Par\")","v":0}]
[null,14,3,6,"Other",null,null,"bogey",{"$f":"COUNTIF(E177:E185,\"bogey\")","v":2}]
[null,15,4,6,"Double bogey",null,null,"Double bogey",{"$f":"COUNTIF(E177:E185,\"Double bogey\")","v":4}]
[null,16,4,7,"Other",null,null,"Other",{"$f":"COUNTIF(E177:E185,\"Other\")","v":3}]
[null,17,3,5,"Double bogey"]
[null,18,5,6,"bogey"]
[]
[null,{"$f":"BX4","v":"2024-08-02"}]
[null,{"$f":"BV7","v":1},4,0,{"$f":"IF(D188<>0,IF((D188-C188)=-1,\"Birdie\",IF((D188-C188)=-2,\"Eagle\",IF((D188-C188)=0,\"Par\",IF((D188-C188)=1,\"bogey\",IF((D188-C188)=2,\"Double bogey\",\"Other\"))))),\"  \")","v":"  "},null,null,"Count"]
[null,2,4,0,"  ",null,null,"Eagle",{"$f":"COUNTIF(E188:E196,\"Eagle\")","v":0}]
[null,3,3,0,"  ",null,null,"Birdie",{"$f":"COUNTIF(E188:E196,\"Birdie\")","v":0}]
[null,4,4,0,"  ",null,null,"Par",{"$f":"COUNTIF(E188:E196,\"Par\")","v":0}]
[null,5,5,0,"  ",null,null,"bogey",{"$f":"COUNTIF(E188:E196,\"bogey\")","v":0}]
[null,6,3,0,"  ",null,null,"Double bogey",{"$f":"COUNTIF(E188:E196,\"Double bogey\")","v":0}]
[null,7,4,0,"  ",null,null,"Other",{"$f":"COUNTIF(E188:E196,\"Other\")","v":0}]
[null,8,4,0,"  "]
[null,9,5,0,"  "]
[]
[null,{"$f":"CD4","v":"2024-08-16"}]
[null,{"$f":"CB7","v":1},4,5,{"$f":"IF(D199<>0,IF((D199-C199)=-1,\"Birdie\",IF((D199-C199)=-2,\"Eagle\",IF((D199-C199)=0,\"Par\",IF((D199-C199)=1,\"bogey\",IF((D199-C199)=2,\"Double bogey\",\"Other\"))))),\"  \")","v":"bogey"},null,null,"Count"]
[null,2,4,8,"Other",null,null,"Eagle",{"$f":"COUNTIF(E199:E207,\"Eagle\")","v":0}]
[null,3,3,6,"Other",null,null,"Birdie",{"$f":"COUNTIF(E199:E207,\"Birdie\")","v":0}]
[null,4,4,6,"Double bogey",null,null,"Par",{"$f":"COUNTIF(E199:E207,\"Par\")","v":0}]
[null,5,5,7,"Double bogey",null,null,"bogey",{"$f":"COUNTIF(E199:E207,\"bogey\")","v":2}]
[null,6,3,4,"bogey",null,null,"Double bogey",{"$f":"COUNTIF(E199:E207,\"Double bogey\")","v":4}]
[null,7,4,7,"Other",null,null,"Other",{"$f":"COUNTIF(E199:E207,\"Other\")","v":3}]
[null,8,4,6,"Double bogey"]
[null,9,5,7,"Double bogey"]
[]
[null,{"$f":"CJ4","v":"2024-08-23"}]
[null,{"$f":"CH7","v":10},4,7,{"$f":"IF(D210<>0,IF((D210-C210)=-1,\"Birdie\",IF((D210-C210)=-2,\"Eagle\",IF((D210-C210)=0,\"Par\",IF((D210-C210)=1,\"bogey\",IF((D210-C210)=2,\"Double bogey\",\"Other\"))))),\"  \")","v":"Other"},null,null,"Count"]
[null,11,4,9,"Other",null,null,"Eagle",{"$f":"COUNTIF(E210:E218,\"Eagle\")","v":0}]
[null,12,4,9,"Other",null,null,"Birdie",{"$f":"COUNTIF(E210:E218,\"Birdie\")","v":0}]
[null,13,5,6,"bogey",null,null,"Par",{"$f":"COUNTIF(E210:E218,\"Par\")","v":0}]
[null,14,3,6,"Other",null,null,"bogey",{"$f":"COUNTIF(E210:E218,\"bogey\")","v":1}]
[null,15,4,7,"Other",null,null,"Double bogey",{"$f":"COUNTIF(E210:E218,\"Double bogey\")","v":0}]
[null,16,4,7,"Other",null,null,"Other",{"$f":"COUNTIF(E210:E218,\"Other\")","v":8}]
[null,17,3,6,"Other"]
[null,18,5,8,"Other"]

{"sheet":"Michalski_S","index":11,"n_rows":218,"n_cols":90,"rows_kept":218,"cut":false,"hidden":false,"merged":[]}
["Sue Michalski"]
[]
[]
[null,null,"Date:",{"$f":"VLOOKUP(C5,Week,2)","v":"2024-04-26"},null,null,null,null,"Date:",{"$f":"VLOOKUP(I5,Week,2)","v":"2024-05-03"},null,null,null,null,"Date:",{"$f":"VLOOKUP(O5,Week,2)","v":"2024-05-10"},null,null,null,null,"Date:",{"$f":"VLOOKUP(U5,Week,2)","v":"2024-05-17"},null,null,null,null,"Date:",{"$f":"VLOOKUP(AA5,Week,2)","v":"2024-05-24"},null,null,null,null,"Date:",{"$f":"VLOOKUP(AG5,Week,2)","v":"2024-05-31"},null,null,null,null,"Date:",{"$f":"VLOOKUP(AM5,Week,2)","v":"2024-06-07"},null,null,null,null,"Date:",{"$f":"VLOOKUP(AS5,Week,2)","v":"2024-06-14"},null,null,null,null,"Date:",{"$f":"VLOOKUP(AY5,Week,2)","v":"2024-07-05"},null,null,null,null,"Date:",{"$f":"VLOOKUP(BE5,Week,2)","v":"2024-07-12"},null,null,null,null,"Date:",{"$f":"VLOOKUP(BK5,Week,2)","v":"2024-07-19"},null,null,null,null,"Date:",{"$f":"VLOOKUP(BQ5,Week,2)","v":"2024-07-26"},null,null,null,null,"Date:",{"$f":"VLOOKUP(BW5,Week,2)","v":"2024-08-02"},null,null,null,null,"Date:",{"$f":"VLOOKUP(CC5,Week,2)","v":"2024-08-16"},null,null,null,null,"Date:",{"$f":"VLOOKUP(CI5,Week,2)","v":"2024-08-23"}]
[null,"Week",1,null,null,null,null,"Week",2,null,null,null,null,"Week",3,null,null,null,null,"Week",4,null,null,null,null,"Week",5,null,null,null,null,"Week",6,null,null,null,null,"Week",7,null,null,null,null,"Week",8,null,null,null,null,"Week",9,null,null,null,null,"Week",10,null,null,null,null,"Week",11,null,null,null,null,"Week",12,null,null,null,null,"Week",13,null,null,null,null,"Week",14,null,null,null,null,"Week",15]
[null,"Hole #","Par","Score","Net","Win Hole",null,"Hole #","Par","Score","Net","Win Hole",null,"Hole #","Par","Score","Net","Win Hole",null,"Hole #","Par","Score","Net","Win Hole",null,"Hole #","Par","Score","Net","Win Hole",null,"Hole #","Par","Score","Net","Win Hole",null,"Hole #","Par","Score","Net","Win Hole",null,"Hole #","Par","Score","Net","Win Hole",null,"Hole #","Par","Score","Net","Win Hole",null,"Hole #","Par","Score","Net","Win Hole",null,"Hole #","Par","Score","Net","Win Hole",null,"Hole #","Par","Score","Net","Win Hole",null,"Hole #","Par","Score","Net","Win Hole",null,"Hole #","Par","Score","Net","Win Hole",null,"Hole #","Par","Score","Net","Win Hole"]
[null,{"$f":"VLOOKUP(C5,Week,6)","v":1},{"$f":"VLOOKUP(B7,Holes,2)","v":4},6,{"$f":"IF((D7-C7)>3,C7+3,D7)","v":6},1,null,{"$f":"VLOOKUP(I5,Week,6)","v":10},{"$f":"VLOOKUP(H7,Holes,2)","v":4},7,{"$f":"IF((J7-I7)>3,I7+3,J7)","v":7},0,null,{"$f":"VLOOKUP(O5,Week,6)","v":1},{"$f":"VLOOKUP(N7,Holes,2)","v":4},7,{"$f":"IF((P7-O7)>3,O7+3,P7)","v":7},0,null,{"$f":"VLOOKUP(U5,Week,6)","v":10},{"$f":"VLOOKUP(T7,Holes,2)","v":4},6,{"$f":"IF((V7-U7)>3,U7+3,V7)","v":6},0,null,{"$f":"VLOOKUP(AA5,Week,6)","v":1},{"$f":"VLOOKUP(Z7,Holes,2)","v":4},null,{"$f":"IF((AB7-AA7)>3,AA7+3,AB7)","v":0},null,null,{"$f":"VLOOKUP(AG5,Week,6)","v":10},{"$f":"VLOOKUP(AF7,Holes,2)","v":4},8,{"$f":"IF((AH7-AG7)>3,AG7+3,AH7)","v":7},0,null,{"$f":"VLOOKUP(AM5,Week,6)","v":1},{"$f":"VLOOKUP(AL7,Holes,2)","v":4},7,{"$f":"IF((AN7-AM7)>3,AM7+3,AN7)","v":7},0,null,{"$f":"VLOOKUP(AS5,Week,6)","v":10},{"$f":"VLOOKUP(AR7,Holes,2)","v":4},9,{"$f":"IF((AT7-AS7)>3,AS7+3,AT7)","v":7},0,null,{"$f":"VLOOKUP(AY5,Week,6)","v":1},{"$f":"VLOOKUP(AX7,Holes,2)","v":4},9,{"$f":"IF((AZ7-AY7)>3,AY7+3,AZ7)","v":7},0,null,{"$f":"VLOOKUP(BE5,Week,6)","v":10},{"$f":"VLOOKUP(BD7,Holes,2)","v":4},9,{"$f":"IF((BF7-BE7)>3,BE7+3,BF7)","v":7},0,null,{"$f":"VLOOKUP(BK5,Week,6)","v":1},{"$f":"VLOOKUP(BJ7,Holes,2)","v":4},6,{"$f":"IF((BL7-BK7)>3,BK7+3,BL7)","v":6},1,null,{"$f":"VLOOKUP(BQ5,Week,6)","v":10},{"$f":"VLOOKUP(BP7,Holes,2)","v":4},7,{"$f":"IF((BR7-BQ7)>3,BQ7+3,BR7)","v":7},0,null,{"$f":"VLOOKUP(BW5,Week,6)","v":1},{"$f":"VLOOKUP(BV7,Holes,2)","v":4},null,{"$f":"IF((BX7-BW7)>3,BW7+3,BX7)","v":0},null,null,{"$f":"VLOOKUP(CC5,Week,6)","v":1},{"$f":"VLOOKUP(CB7,Holes,2)","v":4},6,{"$f":"IF((CD7-CC7)>3,CC7+3,CD7)","v":6},0.5,null,{"$f":"VLOOKUP(CI5,Week,6)","v":10},{"$f":"VLOOKUP(CH7,Holes,2)","v":4},9,{"$f":"IF((CJ7-CI7)>3,CI7+3,CJ7)","v":7},0]
[null,{"$f":"+B7+1","v":2},4,5,5,1,null,{"$f":"+H7+1","v":11},4,9,7,0,null,{"$f":"+N7+1","v":2},4,8,7,0,null,{"$f":"+T7+1","v":11},4,8,7,0,null,{"$f":"+Z7+1","v":2},4,null,0,null,null,{"$f":"+AF7+1","v":11},4,8,7,0,null,{"$f":"+AL7+1","v":2},4,7,7,0.5,null,{"$f":"+AR7+1","v":11},4,7,7,0,null,{"$f":"+AX7+1","v":2},4,6,6,1,null,{"$f":"+BD7+1","v":11},4,8,7,0,null,{"$f":"+BJ7+1","v":2},4,9,7,0,null,{"$f":"+BP7+1","v":11},4,6,6,0,null,{"$f":"+BV7+1","v":2},4,null,0,null,null,{"$f":"+CB7+1","v":2},4,8,7,0,null,{"$f":"+CH7+1","v":11},4,8,7,0]
[null,3,3,4,4,1,null,12,4,7,7,1,null,3,3,4,4,1,null,12,4,8,7,0,null,3,3,null,0,null,null,12,4,6,6,0.5,null,3,3,5,5,0.5,null,12,4,7,7,0.5,null,3,3,5,5,1,null,12,4,7,7,0,null,3,3,3,3,1,null,12,4,6,6,0.5,null,3,3,null,0,null,null,3,3,3,3,1,null,12,4,9,7,0]
[null,4,4,7,7,0.5,null,13,5,8,8,1,null,4,4,8,7,0,null,13,5,8,8,1,null,4,4,null,0,null,null,13,5,8,8,0.5,null,4,4,6,6,1,null,13,5,8,8,0,null,4,4,7,7,1,null,13,5,8,8,1,null,4,4,5,5,1,null,13,5,7,7,1,null,4,4,null,0,null,null,4,4,7,7,0,null,13,5,9,8,0.5]
[null,5,5,8,8,0,null,14,3,6,6,0.5,null,5,5,9,8,0,null,14,3,5,5,1,null,5,5,null,0,null,null,14,3,6,6,0,null,5,5,8,8,1,null,14,3,5,5,0.5,null,5,5,10,8,0,null,14,3,7,6,0,null,5,5,7,7,1,null,14,3,6,6,0.5,null,5,5,null,0,null,null,5,5,10,8,0,null,14,3,6,6,1]
[null,6,3,6,6,0,null,15,4,7,7,0,null,6,3,5,5,1,null,15,4,8,7,0,null,6,3,null,0,null,null,15,4,8,7,0.5,null,6,3,6,6,0,null,15,4,7,7,0.5,null,6,3,5,5,0.5,null,15,4,8,7,0,null,6,3,7,6,0,null,15,4,9,7,0,null,6,3,null,0,null,null,6,3,5,5,1,null,15,4,9,7,1]
[null,7,4,6,6,0,null,16,4,6,6,1,null,7,4,6,6,1,null,16,4,8,7,0,null,7,4,null,0,null,null,16,4,6,6,0.5,null,7,4,5,5,1,null,16,4,9,7,0,null,7,4,7,7,0,null,16,4,8,7,0,null,7,4,7,7,0.5,null,16,4,6,6,1,null,7,4,null,0,null,null,7,4,8,7,0,null,16,4,6,6,0]
[null,8,4,8,7,0.5,null,17,3,6,6,0.5,null,8,4,10,7,0,null,17,3,6,6,0,null,8,4,null,0,null,null,17,3,6,6,0,null,8,4,7,7,0.5,null,17,3,5,5,0.5,null,8,4,6,6,0.5,null,17,3,4,4,1,null,8,4,5,5,1,null,17,3,5,5,0.5,null,8,4,null,0,null,null,8,4,9,7,0,null,17,3,6,6,0]
[null,9,5,8,8,0.5,null,18,5,8,8,1,null,9,5,8,8,1,null,18,5,10,8,0,null,9,5,null,0,null,null,18,5,7,7,1,null,9,5,7,7,1,null,18,5,9,8,0.5,null,9,5,8,8,1,null,18,5,8,8,0.5,null,9,5,8,8,0.5,null,18,5,9,8,0,null,9,5,null,0,null,null,9,5,8,8,0,null,18,5,8,8,0.5]
[null,"Total",{"$f":"SUM(C7:C15)","v":36},{"$f":"SUM(D7:D15)","v":58},{"$f":"SUM(E7:E15)","v":57},{"$f":"SUM(F7:F15)","v":4.5},null,"Total",{"$f":"SUM(I7:I15)","v":36},{"$f":"SUM(J7:J15)","v":64},{"$f":"SUM(K7:K15)","v":62},{"$f":"SUM(L7:L15)","v":5},null,"Total",{"$f":"SUM(O7:O15)","v":36},{"$f":"SUM(P7:P15)","v":65},{"$f":"SUM(Q7:Q15)","v":59},{"$f":"SUM(R7:R15)","v":4},null,"Total",{"$f":"SUM(U7:U15)","v":36},{"$f":"SUM(V7:V15)","v":67},{"$f":"SUM(W7:W15)","v":61},{"$f":"SUM(X7:X15)","v":2},null,"Total",{"$f":"SUM(AA7:AA15)","v":36},{"$f":"SUM(AB7:AB15)","v":0},{"$f":"SUM(AC7:AC15)","v":0},{"$f":"SUM(AD7:AD15)","v":0},null,"Total",{"$f":"SUM(AG7:AG15)","v":36},{"$f":"SUM(AH7:AH15)","v":63},{"$f":"SUM(AI7:AI15)","v":60},{"$f":"SUM(AJ7:AJ15)","v":3},null,"Total",{"$f":"SUM(AM7:AM15)","v":36},{"$f":"SUM(AN7:AN15)","v":58},{"$f":"SUM(AO7:AO15)","v":58},{"$f":"SUM(AP7:AP15)","v":5.5},null,"Total",{"$f":"SUM(AS7:AS15)","v":36},{"$f":"SUM(AT7:AT15)","v":66},{"$f":"SUM(AU7:AU15)","v":61},{"$f":"SUM(AV7:AV15)","v":2.5},null,"Total",{"$f":"SUM(AY7:AY15)","v":36},{"$f":"SUM(AZ7:AZ15)","v":63},{"$f":"SUM(BA7:BA15)","v":59},{"$f":"SUM(BB7:BB15)","v":5},null,"Total",{"$f":"SUM(BE7:BE15)","v":36},{"$f":"SUM(BF7:BF15)","v":67},{"$f":"SUM(BG7:BG15)","v":61},{"$f":"SUM(BH7:BH15)","v":2.5},null,"Total",{"$f":"SUM(BK7:BK15)","v":36},{"$f":"SUM(BL7:BL15)","v":57},{"$f":"SUM(BM7:BM15)","v":54},{"$f":"SUM(BN7:BN15)","v":6},null,"Total",{"$f":"SUM(BQ7:BQ15)","v":36},{"$f":"SUM(BR7:BR15)","v":61},{"$f":"SUM(BS7:BS15)","v":58},{"$f":"SUM(BT7:BT15)","v":3.5},null,"Total",{"$f":"SUM(BW7:BW15)","v":36},{"$f":"SUM(BX7:BX15)","v":0},{"$f":"SUM(BY7:BY15)","v":0},{"$f":"SUM(BZ7:BZ15)","v":0},null,"Total",{"$f":"SUM(CC7:CC15)","v":36},{"$f":"SUM(CD7:CD15)","v":64},{"$f":"SUM(CE7:CE15)","v":58},{"$f":"SUM(CF7:CF15)","v":2.5},null,"Total",{"$f":"SUM(CI7:CI15)","v":36},{"$f":"SUM(CJ7:CJ15)","v":70},{"$f":"SUM(CK7:CK15)","v":62},{"$f":"SUM(CL7:CL15)","v":3}]
[]
[null,null,null,null,"Low Net",1,null,null,null,null,"Low Net",1,null,null,null,null,"Low Net",1,null,null,null,null,"Low Net",0,null,null,null,null,"Low Net",null,null,null,null,null,"Low Net",0,null,null,null,null,"Low Net",1,null,null,null,null,"Low Net",0,null,null,null,null,"Low Net",0.5,null,null,null,null,"Low Net",0,null,null,null,null,"Low Net",1,null,null,null,null,"Low Net",0,null,null,null,null,"Low Net",null,null,null,null,null,"Low Net",0,null,null,null,null,"Low Net",0]
[]
[null,null,null,null,"Total Points",{"$f":"SUM(F16:F19)","v":5.5},null,null,null,null,"Total Points",{"$f":"SUM(L16:L19)","v":6},null,null,null,null,"Total Points",{"$f":"SUM(R16:R19)","v":5},null,null,null,null,"Total Points",{"$f":"SUM(X16:X19)","v":2},null,null,null,null,"Total Points",{"$f":"SUM(AD16:AD19)","v":0},null,null,null,null,"Total Points",{"$f":"SUM(AJ16:AJ19)","v":3},null,null,null,null,"Total Points",{"$f":"SUM(AP16:AP19)","v":6.5},null,null,null,null,"Total Points",{"$f":"SUM(AV16:AV19)","v":2.5},null,null,null,null,"Total Points",{"$f":"SUM(BB16:BB19)","v":5.5},null,null,null,null,"Total Points",{"$f":"SUM(BH16:BH19)","v":2.5},null,null,null,null,"Total Points",{"$f":"SUM(BN16:BN19)","v":7},null,null,null,null,"Total Points",{"$f":"SUM(BT16:BT19)","v":3.5},null,null,null,null,"Total Points",{"$f":"SUM(BZ16:BZ19)","v":0},null,null,null,null,"Total Points",{"$f":"SUM(CF16:CF19)","v":2.5},null,null,null,null,"Total Points",{"$f":"SUM(CL16:CL19)","v":3}]
[]
[null,null,null,null,"Handicap",{"$f":"IF(D16=0,0,E16-C16)","v":21},null,null,null,null,"Handicap",{"$f":"IF(J16=0,0,K16-I16)","v":26},null,null,null,null,"Handicap",{"$f":"IF(P16=0,0,Q16-O16)","v":23},null,null,null,null,"Handicap",{"$f":"IF(V16=0,0,W16-U16)","v":25},null,null,null,null,"Handicap",{"$f":"IF(AB16=0,0,AC16-AA16)","v":0},null,null,null,null,"Handicap",{"$f":"IF(AH16=0,0,AI16-AG16)","v":24},null,null,null,null,"Handicap",{"$f":"IF(AN16=0,0,AO16-AM16)","v":22},null,null,null,null,"Handicap",{"$f":"IF(AT16=0,0,AU16-AS16)","v":25},null,null,null,null,"Handicap",{"$f":"IF(AZ16=0,0,BA16-AY16)","v":23},null,null,null,null,"Handicap",{"$f":"IF(BF16=0,0,BG16-BE16)","v":25},null,null,null,null,"Handicap",{"$f":"IF(BL16=0,0,BM16-BK16)","v":18},null,null,null,null,"Handicap",{"$f":"IF(BR16=0,0,BS16-BQ16)","v":22},null,null,null,null,"Handicap",{"$f":"IF(BX16=0,0,BY16-BW16)","v":0},null,null,null,null,"Handicap",{"$f":"IF(CD16=0,0,CE16-CC16)","v":22},null,null,null,null,"Handicap",{"$f":"IF(CJ16=0,0,CK16-CI16)","v":26}]
[]
[null,null,null,null,null,{"$f":"IF(D16<>0,IF(F16>4.5,\"W\",IF(F16=4.5,\"T\",IF(F16<4.5,\"L\"))),0)","v":"T"},null,null,null,null,null,{"$f":"IF(J16<>0,IF(L16>4.5,\"W\",IF(L16=4.5,\"T\",IF(L16<4.5,\"L\"))),0)","v":"W"},null,null,null,null,null,{"$f":"IF(P16<>0,IF(R16>4.5,\"W\",IF(R16=4.5,\"T\",IF(R16<4.5,\"L\"))),0)","v":"L"},null,null,null,null,null,{"$f":"IF(V16<>0,IF(X16>4.5,\"W\",IF(X16=4.5,\"T\",IF(X16<4.5,\"L\"))),0)","v":"L"},null,null,null,null,null,{"$f":"IF(AB16<>0,IF(AD16>4.5,\"W\",IF(AD16=4.5,\"T\",IF(AD16<4.5,\"L\"))),0)","v":0},null,null,null,null,null,{"$f":"IF(AH16<>0,IF(AJ16>4.5,\"W\",IF(AJ16=4.5,\"T\",IF(AJ16<4.5,\"L\"))),0)","v":"L"},null,null,null,null,null,{"$f":"IF(AN16<>0,IF(AP16>4.5,\"W\",IF(AP16=4.5,\"T\",IF(AP16<4.5,\"L\"))),0)","v":"W"},null,null,null,null,null,{"$f":"IF(AT16<>0,IF(AV16>4.5,\"W\",IF(AV16=4.5,\"T\",IF(AV16<4.5,\"L\"))),0)","v":"L"},null,null,null,null,null,{"$f":"IF(AZ16<>0,IF(BB16>4.5,\"W\",IF(BB16=4.5,\"T\",IF(BB16<4.5,\"L\"))),0)","v":"W"},null,null,null,null,null,{"$f":"IF(BF16<>0,IF(BH16>4.5,\"W\",IF(BH16=4.5,\"T\",IF(BH16<4.5,\"L\"))),0)","v":"L"},null,null,null,null,null,{"$f":"IF(BL16<>0,IF(BN16>4.5,\"W\",IF(BN16=4.5,\"T\",IF(BN16<4.5,\"L\"))),0)","v":"W"},null,null,null,null,null,{"$f":"IF(BR16<>0,IF(BT16>4.5,\"W\",IF(BT16=4.5,\"T\",IF(BT16<4.5,\"L\"))),0)","v":"L"},null,null,null,null,null,{"$f":"IF(BX16<>0,IF(BZ16>4.5,\"W\",IF(BZ16=4.5,\"T\",IF(BZ16<4.5,\"L\"))),0)","v":0},null,null,null,null,null,{"$f":"IF(CD16<>0,IF(CF16>4.5,\"W\",IF(CF16=4.5,\"T\",IF(CF16<4.5,\"L\"))),0)","v":"L"},null,null,null,null,null,{"$f":"IF(CJ16<>0,IF(CL16>4.5,\"W\",IF(CL16=4.5,\"T\",IF(CL16<4.5,\"L\"))),0)","v":"L"}]
[]
[null,"Summary",null,{"$f":"COUNT(D29:D43)","v":10}]
[null,null,null,"Adj",null,"Adj",null,null,null,"Avg Score"]
[null,null,"Points","Points","Matches","Matches",null,null,"Hole #","by Hole","Best","Worst"]
[null,"Week #1",{"$f":"F20","v":5.5},{"$f":"C29","v":5.5},{"$f":"IF(D16>0,1,0)","v":1},{"$f":"E29","v":1},null,null,1,{"$f":"IFERROR(AVERAGE(D7,P7,AB7,AN7,AZ7,BL7,BX7,CD7),0)","v":6.833333333333333},{"$f":"IFERROR(MIN(D7,P7,AB7,AN7,AZ7,BL7,BX7,CD7),0)","v":6},{"$f":"IFERROR(MAX(D7,P7,AB7,AN7,AZ7,BL7,BX7,CD7),0)","v":9}]
[null,"Week #2",{"$f":"L20","v":6},6,{"$f":"IF(J16>0,1,0)","v":1},1,null,null,2,{"$f":"IFERROR(AVERAGE(D8,P8,AB8,AN8,AZ8,BL8,BX8,CD8),0)","v":7.166666666666667},{"$f":"IFERROR(MIN(D8,P8,AB8,AN8,AZ8,BL8,BX8,CD8),0)","v":5},{"$f":"IFERROR(MAX(D8,P8,AB8,AN8,AZ8,BL8,BX8,CD8),0)","v":9}]
[null,"Week #3",{"$f":"R20","v":5},5,{"$f":"IF(P16>0,1,0)","v":1},1,null,null,3,4,3,5]
[null,"Week #4",{"$f":"X20","v":2},null,{"$f":"IF(V16>0,1,0)","v":1},1,null,null,4,6.666666666666667,5,8]
[null,"Week #5",{"$f":"AD20","v":0},null,{"$f":"IF(AB16>0,1,0)","v":0},0,null,null,5,8.6666666666666661,7,10]
[null,"Week #6",{"$f":"AJ20","v":3},3,{"$f":"IF(AH16>0,1,0)","v":1},1,null,null,6,5.666666666666667,5,7]
[null,"Week #7",{"$f":"AP20","v":6.5},6.5,{"$f":"IF(AN16>0,1,0)","v":1},1,null,null,7,6.5,5,8]
[null,"Week #8",{"$f":"AV20","v":2.5},null,{"$f":"IF(AT16>0,1,0)","v":1},1,null,null,8,7.5,5,10]
[null,"Week #9",{"$f":"BB20","v":5.5},5.5,{"$f":"IF(AZ16>0,1,0)","v":1},1,null,null,9,7.833333333333333,7,8]
[null,"Week #10",{"$f":"BH20","v":2.5},null,{"$f":"IF(BF16>0,1,0)","v":1},1,null,null,"Front",{"$f":"SUM(J29:J37)","v":60.833333333333336},{"$f":"SUM(K29:K37)","v":48},74]
[null,"Week #11",{"$f":"BN20","v":7},7,{"$f":"IF(BL16>0,1,0)","v":1},1]
[null,"Week #12",{"$f":"BT20","v":3.5},3.5,{"$f":"IF(BR16>0,1,0)","v":1},1,null,null,10,{"$f":"IFERROR(AVERAGE(J7,V7,AH7,AT7,BF7,BR7,CJ7),0)","v":7.8571428571428568},{"$f":"IFERROR(MIN(J7,V7,AH7,AT7,BF7,BR7,CJ7),0)","v":6},{"$f":"IFERROR(MAX(J7,V7,AH7,AT7,BF7,BR7,CJ7),0)","v":9}]
[null,"Week #13",{"$f":"BZ20","v":0},null,{"$f":"IF(BX16>0,1,0)","v":0},0,null,null,11,{"$f":"IFERROR(AVERAGE(J8,V8,AH8,AT8,BF8,BR8,CJ8),0)","v":7.7142857142857144},{"$f":"IFERROR(MIN(J8,V8,AH8,AT8,BF8,BR8,CJ8),0)","v":6},{"$f":"IFERROR(MAX(J8,V8,AH8,AT8,BF8,BR8,CJ8),0)","v":9}]
[null,"Week #14",{"$f":"CF20","v":2.5},2.5,{"$f":"IF(CD16>0,1,0)","v":1},1,null,null,12,7.1428571428571432,6,9]
[null,"Week #15",{"$f":"CL20","v":3},3,{"$f":"IF(CJ16>0,1,0)","v":1},1,null,null,13,8,7,9]
[null,"Total",{"$f":"SUM(C29:C43)","v":54.5},{"$f":"SUM(D29:D43)","v":47.5},{"$f":"SUM(E29:E43)","v":13},{"$f":"SUM(F29:F43)","v":13},null,null,14,5.8571428571428568,5,7]
[null,null,null,null,null,null,null,null,15,8,7,9]
[null,"Summary",null,null,null,null,null,null,16,7,6,9]
[null,"Eagles",{"$f":"I57+I68+I79+I90+I101+I112+I123+I134+I145+I156+I167+I178+I189+I200+I211","v":0},null,null,null,null,null,17,5.4285714285714288,4,6]
[null,"Birdies",0,null,null,null,null,null,18,8.4285714285714288,7,10]
[null,"Pars",2,null,null,null,null,null,"Back",{"$f":"SUM(J40:J48)","v":65.428571428571431},{"$f":"SUM(K40:K48)","v":54},77]
[null,"bogeys",7]
[null,"Double bogeys",29]
[null,"Other",79]
[null,"Total",{"$f":"SUM(C47:C52)","v":117}]
[]
[null,{"$f":"D4","v":"2024-04-26"},"Par","Score"]
[null,{"$f":"B7","v":1},4,6,{"$f":"IF(D56<>0,IF((D56-C56)=-1,\"Birdie\",IF((D56-C56)=-2,\"Eagle\",IF((D56-C56)=0,\"Par\",IF((D56-C56)=1,\"bogey\",IF((D56-C56)=2,\"Double bogey\",\"Other\"))))),\"  \")","v":"Double bogey"},null,null,"Count"]
[null,2,4,5,"bogey",null,null,"Eagle",{"$f":"COUNTIF(E56:E64,\"Eagle\")","v":0}]
[null,3,3,4,"bogey",null,null,"Birdie",{"$f":"COUNTIF(E56:E64,\"Birdie\")","v":0}]
[null,4,4,7,"Other",null,null,"Par",{"$f":"COUNTIF(E56:E64,\"Par\")","v":0}]
[null,5,5,8,"Other",null,null,"bogey",{"$f":"COUNTIF(E56:E64,\"bogey\")","v":2}]
[null,6,3,6,"Other",null,null,"Double bogey",{"$f":"COUNTIF(E56:E64,\"Double bogey\")","v":2}]
[null,7,4,6,"Double bogey",null,null,"Other",{"$f":"COUNTIF(E56:E64,\"Other\")","v":5}]
[null,8,4,8,"Other"]
[null,9,5,8,"Other"]
[]
[null,{"$f":"J4","v":"2024-05-03"}]
[null,{"$f":"H7","v":10},4,7,{"$f":"IF(D67<>0,IF((D67-C67)=-1,\"Birdie\",IF((D67-C67)=-2,\"Eagle\",IF((D67-C67)=0,\"Par\",IF((D67-C67)=1,\"bogey\",IF((D67-C67)=2,\"Double bogey\",\"Other\"))))),\"  \")","v":"Other"},null,null,"Count"]
[null,11,4,9,"Other",null,null,"Eagle",{"$f":"COUNTIF(E67:E75,\"Eagle\")","v":0}]
[null,12,4,7,"Other",null,null,"Birdie",{"$f":"COUNTIF(E67:E75,\"Birdie\")","v":0}]
[null,13,5,8,"Other",null,null,"Par",{"$f":"COUNTIF(E67:E75,\"Par\")","v":0}]
[null,14,3,6,"Other",null,null,"bogey",{"$f":"COUNTIF(E67:E75,\"bogey\")","v":0}]
[null,15,4,7,"Other",null,null,"Double bogey",{"$f":"COUNTIF(E67:E75,\"Double bogey\")","v":1}]
[null,16,4,6,"Double bogey",null,null,"Other",{"$f":"COUNTIF(E67:E75,\"Other\")","v":8}]
[null,17,3,6,"Other"]
[null,18,5,8,"Other"]
[]
[null,{"$f":"P4","v":"2024-05-10"}]
[null,{"$f":"N7","v":1},4,7,{"$f":"IF(D78<>0,IF((D78-C78)=-1,\"Birdie\",IF((D78-C78)=-2,\"Eagle\",IF((D78-C78)=0,\"Par\",IF((D78-C78)=1,\"bogey\",IF((D78-C78)=2,\"Double bogey\",\"Other\"))))),\"  \")","v":"Other"},null,null,"Count"]
[null,2,4,8,"Other",null,null,"Eagle",{"$f":"COUNTIF(E78:E86,\"Eagle\")","v":0}]
[null,3,3,4,"bogey",null,null,"Birdie",{"$f":"COUNTIF(E78:E86,\"Birdie\")","v":0}]
[null,4,4,8,"Other",null,null,"Par",{"$f":"COUNTIF(E78:E86,\"Par\")","v":0}]
[null,5,5,9,"Other",null,null,"bogey",{"$f":"COUNTIF(E78:E86,\"bogey\")","v":1}]
[null,6,3,5,"Double bogey",null,null,"Double bogey",{"$f":"COUNTIF(E78:E86,\"Double bogey\")","v":2}]
[null,7,4,6,"Double bogey",null,null,"Other",{"$f":"COUNTIF(E78:E86,\"Other\")","v":6}]
[null,8,4,10,"Other"]
[null,9,5,8,"Other"]
[]
[null,{"$f":"V4","v":"2024-05-17"}]
[null,{"$f":"T7","v":10},4,6,{"$f":"IF(D89<>0,IF((D89-C89)=-1,\"Birdie\",IF((D89-C89)=-2,\"Eagle\",IF((D89-C89)=0,\"Par\",IF((D89-C89)=1,\"bogey\",IF((D89-C89)=2,\"Double bogey\",\"Other\"))))),\"  \")","v":"Double bogey"},null,null,"Count"]
[null,11,4,8,"Other",null,null,"Eagle",{"$f":"COUNTIF(E89:E97,\"Eagle\")","v":0}]
[null,12,4,8,"Other",null,null,"Birdie",{"$f":"COUNTIF(E89:E97,\"Birdie\")","v":0}]
[null,13,5,8,"Other",null,null,"Par",{"$f":"COUNTIF(E89:E97,\"Par\")","v":0}]
[null,14,3,5,"Double bogey",null,null,"bogey",{"$f":"COUNTIF(E89:E97,\"bogey\")","v":0}]
[null,15,4,8,"Other",null,null,"Double bogey",{"$f":"COUNTIF(E89:E97,\"Double bogey\")","v":2}]
[null,16,4,8,"Other",null,null,"Other",{"$f":"COUNTIF(E89:E97,\"Other\")","v":7}]
[null,17,3,6,"Other"]
[null,18,5,10,"Other"]
[]
[null,{"$f":"AB4","v":"2024-05-24"}]
[null,{"$f":"Z7","v":1},4,0,{"$f":"IF(D100<>0,IF((D100-C100)=-1,\"Birdie\",IF((D100-C100)=-2,\"Eagle\",IF((D100-C100)=0,\"Par\",IF((D100-C100)=1,\"bogey\",IF((D100-C100)=2,\"Double bogey\",\"Other\"))))),\"  \")","v":"  "},null,null,"Count"]
[null,2,4,0,"  ",null,null,"Eagle",{"$f":"COUNTIF(E100:E108,\"Eagle\")","v":0}]
[null,3,3,0,"  ",null,null,"Birdie",{"$f":"COUNTIF(E100:E108,\"Birdie\")","v":0}]
[null,4,4,0,"  ",null,null,"Par",{"$f":"COUNTIF(E100:E108,\"Par\")","v":0}]
[null,5,5,0,"  ",null,null,"bogey",{"$f":"COUNTIF(E100:E108,\"bogey\")","v":0}]
[null,6,3,0,"  ",null,null,"Double bogey",{"$f":"COUNTIF(E100:E108,\"Double bogey\")","v":0}]
[null,7,4,0,"  ",null,null,"Other",{"$f":"COUNTIF(E100:E108,\"Other\")","v":0}]
[null,8,4,0,"  "]
[null,9,5,0,"  "]
[]
[null,{"$f":"AH4","v":"2024-05-31"}]
[null,{"$f":"AF7","v":10},4,8,{"$f":"IF(D111<>0,IF((D111-C111)=-1,\"Birdie\",IF((D111-C111)=-2,\"Eagle\",IF((D111-C111)=0,\"Par\",IF((D111-C111)=1,\"bogey\",IF((D111-C111)=2,\"Double bogey\",\"Other\"))))),\"  \")","v":"Other"},null,null,"Count"]
[null,11,4,8,"Other",null,null,"Eagle",{"$f":"COUNTIF(E111:E119,\"Eagle\")","v":0}]
[null,12,4,6,"Double bogey",null,null,"Birdie",{"$f":"COUNTIF(E111:E119,\"Birdie\")","v":0}]
[null,13,5,8,"Other",null,null,"Par",{"$f":"COUNTIF(E111:E119,\"Par\")","v":0}]
[null,14,3,6,"Other",null,null,"bogey",{"$f":"COUNTIF(E111:E119,\"bogey\")","v":0}]
[null,15,4,8,"Other",null,null,"Double bogey",{"$f":"COUNTIF(E111:E119,\"Double bogey\")","v":3}]
[null,16,4,6,"Double bogey",null,null,"Other",{"$f":"COUNTIF(E111:E119,\"Other\")","v":6}]
[null,17,3,6,"Other"]
[null,18,5,7,"Double bogey"]
[]
[null,{"$f":"AN4","v":"2024-06-07"}]
[null,{"$f":"AL7","v":1},4,7,{"$f":"IF(D122<>0,IF((D122-C122)=-1,\"Birdie\",IF((D122-C122)=-2,\"Eagle\",IF((D122-C122)=0,\"Par\",IF((D122-C122)=1,\"bogey\",IF((D122-C122)=2,\"Double bogey\",\"Other\"))))),\"  \")","v":"Other"},null,null,"Count"]
[null,2,4,7,"Other",null,null,"Eagle",{"$f":"COUNTIF(E122:E130,\"Eagle\")","v":0}]
[null,3,3,5,"Double bogey",null,null,"Birdie",{"$f":"COUNTIF(E122:E130,\"Birdie\")","v":0}]
[null,4,4,6,"Double bogey",null,null,"Par",{"$f":"COUNTIF(E122:E130,\"Par\")","v":0}]
[null,5,5,8,"Other",null,null,"bogey",{"$f":"COUNTIF(E122:E130,\"bogey\")","v":1}]
[null,6,3,6,"Other",null,null,"Double bogey",{"$f":"COUNTIF(E122:E130,\"Double bogey\")","v":3}]
[null,7,4,5,"bogey",null,null,"Other",{"$f":"COUNTIF(E122:E130,\"Other\")","v":5}]
[null,8,4,7,"Other"]
[null,9,5,7,"Double bogey"]
[]
[null,{"$f":"AT4","v":"2024-06-14"}]
[null,{"$f":"AR7","v":10},4,9,{"$f":"IF(D133<>0,IF((D133-C133)=-1,\"Birdie\",IF((D133-C133)=-2,\"Eagle\",IF((D133-C133)=0,\"Par\",IF((D133-C133)=1,\"bogey\",IF((D133-C133)=2,\"Double bogey\",\"Other\"))))),\"  \")","v":"Other"},null,null,"Count"]
[null,11,4,7,"Other",null,null,"Eagle",{"$f":"COUNTIF(E133:E141,\"Eagle\")","v":0}]
[null,12,4,7,"Other",null,null,"Birdie",{"$f":"COUNTIF(E133:E141,\"Birdie\")","v":0}]
[null,13,5,8,"Other",null,null,"Par",{"$f":"COUNTIF(E133:E141,\"Par\")","v":0}]
[null,14,3,5,"Double bogey",null,null,"bogey",{"$f":"COUNTIF(E133:E141,\"bogey\")","v":0}]
[null,15,4,7,"Other",null,null,"Double bogey",{"$f":"COUNTIF(E133:E141,\"Double bogey\")","v":2}]
[null,16,4,9,"Other",null,null,"Other",{"$f":"COUNTIF(E133:E141,\"Other\")","v":7}]
[null,17,3,5,"Double bogey"]
[null,18,5,9,"Other"]
[]
[null,{"$f":"AZ4","v":"2024-07-05"}]
[null,{"$f":"AX7","v":1},4,9,{"$f":"IF(D144<>0,IF((D144-C144)=-1,\"Birdie\",IF((D144-C144)=-2,\"Eagle\",IF((D144-C144)=0,\"Par\",IF((D144-C144)=1,\"bogey\",IF((D144-C144)=2,\"Double bogey\",\"Other\"))))),\"  \")","v":"Other"},null,null,"Count"]
[null,2,4,6,"Double bogey",null,null,"Eagle",{"$f":"COUNTIF(E144:E152,\"Eagle\")","v":0}]
[null,3,3,5,"Double bogey",null,null,"Birdie",{"$f":"COUNTIF(E144:E152,\"Birdie\")","v":0}]
[null,4,4,7,"Other",null,null,"Par",{"$f":"COUNTIF(E144:E152,\"Par\")","v":0}]
[null,5,5,10,"Other",null,null,"bogey",{"$f":"COUNTIF(E144:E152,\"bogey\")","v":0}]
[null,6,3,5,"Double bogey",null,null,"Double bogey",{"$f":"COUNTIF(E144:E152,\"Double bogey\")","v":4}]
[null,7,4,7,"Other",null,null,"Other",{"$f":"COUNTIF(E144:E152,\"Other\")","v":5}]
[null,8,4,6,"Double bogey"]
[null,9,5,8,"Other"]
[]
[null,{"$f":"BF4","v":"2024-07-12"}]
[null,{"$f":"BD7","v":10},4,9,{"$f":"IF(D155<>0,IF((D155-C155)=-1,\"Birdie\",IF((D155-C155)=-2,\"Eagle\",IF((D155-C155)=0,\"Par\",IF((D155-C155)=1,\"bogey\",IF((D155-C155)=2,\"Double bogey\",\"Other\"))))),\"  \")","v":"Other"},null,null,"Count"]
[null,11,4,8,"Other",null,null,"Eagle",{"$f":"COUNTIF(E155:E163,\"Eagle\")","v":0}]
[null,12,4,7,"Other",null,null,"Birdie",{"$f":"COUNTIF(E155:E163,\"Birdie\")","v":0}]
[null,13,5,8,"Other",null,null,"Par",{"$f":"COUNTIF(E155:E163,\"Par\")","v":0}]
[null,14,3,7,"Other",null,null,"bogey",{"$f":"COUNTIF(E155:E163,\"bogey\")","v":1}]
[null,15,4,8,"Other",null,null,"Double bogey",{"$f":"COUNTIF(E155:E163,\"Double bogey\")","v":0}]
[null,16,4,8,"Other",null,null,"Other",{"$f":"COUNTIF(E155:E163,\"Other\")","v":8}]
[null,17,3,4,"bogey"]
[null,18,5,8,"Other"]
[]
[null,{"$f":"BL4","v":"2024-07-19"}]
[null,{"$f":"BJ7","v":1},4,6,{"$f":"IF(D166<>0,IF((D166-C166)=-1,\"Birdie\",IF((D166-C166)=-2,\"Eagle\",IF((D166-C166)=0,\"Par\",IF((D166-C166)=1,\"bogey\",IF((D166-C166)=2,\"Double bogey\",\"Other\"))))),\"  \")","v":"Double bogey"},null,null,"Count"]
[null,2,4,9,"Other",null,null,"Eagle",{"$f":"COUNTIF(E166:E174,\"Eagle\")","v":0}]
[null,3,3,3,"Par",null,null,"Birdie",{"$f":"COUNTIF(E166:E174,\"Birdie\")","v":0}]
[null,4,4,5,"bogey",null,null,"Par",{"$f":"COUNTIF(E166:E174,\"Par\")","v":1}]
[null,5,5,7,"Double bogey",null,null,"bogey",{"$f":"COUNTIF(E166:E174,\"bogey\")","v":2}]
[null,6,3,7,"Other",null,null,"Double bogey",{"$f":"COUNTIF(E166:E174,\"Double bogey\")","v":2}]
[null,7,4,7,"Other",null,null,"Other",{"$f":"COUNTIF(E166:E174,\"Other\")","v":4}]
[null,8,4,5,"bogey"]
[null,9,5,8,"Other"]
[]
[null,{"$f":"BR4","v":"2024-07-26"}]
[null,{"$f":"BP7","v":10},4,7,{"$f":"IF(D177<>0,IF((D177-C177)=-1,\"Birdie\",IF((D177-C177)=-2,\"Eagle\",IF((D177-C177)=0,\"Par\",IF((D177-C177)=1,\"bogey\",IF((D177-C177)=2,\"Double bogey\",\"Other\"))))),\"  \")","v":"Other"},null,null,"Count"]
[null,11,4,6,"Double bogey",null,null,"Eagle",{"$f":"COUNTIF(E177:E185,\"Eagle\")","v":0}]
[null,12,4,6,"Double bogey",null,null,"Birdie",{"$f":"COUNTIF(E177:E185,\"Birdie\")","v":0}]
[null,13,5,7,"Double bogey",null,null,"Par",{"$f":"COUNTIF(E177:E185,\"Par\")","v":0}]
[null,14,3,6,"Other",null,null,"bogey",{"$f":"COUNTIF(E177:E185,\"bogey\")","v":0}]
[null,15,4,9,"Other",null,null,"Double bogey",{"$f":"COUNTIF(E177:E185,\"Double bogey\")","v":5}]
[null,16,4,6,"Double bogey",null,null,"Other",{"$f":"COUNTIF(E177:E185,\"Other\")","v":4}]
[null,17,3,5,"Double bogey"]
[null,18,5,9,"Other"]
[]
[null,{"$f":"BX4","v":"2024-08-02"}]
[null,{"$f":"BV7","v":1},4,0,{"$f":"IF(D188<>0,IF((D188-C188)=-1,\"Birdie\",IF((D188-C188)=-2,\"Eagle\",IF((D188-C188)=0,\"Par\",IF((D188-C188)=1,\"bogey\",IF((D188-C188)=2,\"Double bogey\",\"Other\"))))),\"  \")","v":"  "},null,null,"Count"]
[null,2,4,0,"  ",null,null,"Eagle",{"$f":"COUNTIF(E188:E196,\"Eagle\")","v":0}]
[null,3,3,0,"  ",null,null,"Birdie",{"$f":"COUNTIF(E188:E196,\"Birdie\")","v":0}]
[null,4,4,0,"  ",null,null,"Par",{"$f":"COUNTIF(E188:E196,\"Par\")","v":0}]
[null,5,5,0,"  ",null,null,"bogey",{"$f":"COUNTIF(E188:E196,\"bogey\")","v":0}]
[null,6,3,0,"  ",null,null,"Double bogey",{"$f":"COUNTIF(E188:E196,\"Double bogey\")","v":0}]
[null,7,4,0,"  ",null,null,"Other",{"$f":"COUNTIF(E188:E196,\"Other\")","v":0}]
[null,8,4,0,"  "]
[null,9,5,0,"  "]
[]
[null,{"$f":"CD4","v":"2024-08-16"}]
[null,{"$f":"CB7","v":1},4,6,{"$f":"IF(D199<>0,IF((D199-C199)=-1,\"Birdie\",IF((D199-C199)=-2,\"Eagle\",IF((D199-C199)=0,\"Par\",IF((D199-C199)=1,\"bogey\",IF((D199-C199)=2,\"Double bogey\",\"Other\"))))),\"  \")","v":"Double bogey"},null,null,"Count"]
[null,2,4,8,"Other",null,null,"Eagle",{"$f":"COUNTIF(E199:E207,\"Eagle\")","v":0}]
[null,3,3,3,"Par",null,null,"Birdie",{"$f":"COUNTIF(E199:E207,\"Birdie\")","v":0}]
[null,4,4,7,"Other",null,null,"Par",{"$f":"COUNTIF(E199:E207,\"Par\")","v":1}]
[null,5,5,10,"Other",null,null,"bogey",{"$f":"COUNTIF(E199:E207,\"bogey\")","v":0}]
[null,6,3,5,"Double bogey",null,null,"Double bogey",{"$f":"COUNTIF(E199:E207,\"Double bogey\")","v":2}]
[null,7,4,8,"Other",null,null,"Other",{"$f":"COUNTIF(E199:E207,\"Other\")","v":6}]
[null,8,4,9,"Other"]
[null,9,5,8,"Other"]
[]
[null,{"$f":"CJ4","v":"2024-08-23"}]
[null,{"$f":"CH7","v":10},4,9,{"$f":"IF(D210<>0,IF((D210-C210)=-1,\"Birdie\",IF((D210-C210)=-2,\"Eagle\",IF((D210-C210)=0,\"Par\",IF((D210-C210)=1,\"bogey\",IF((D210-C210)=2,\"Double bogey\",\"Other\"))))),\"  \")","v":"Other"},null,null,"Count"]
[null,11,4,8,"Other",null,null,"Eagle",{"$f":"COUNTIF(E210:E218,\"Eagle\")","v":0}]
[null,12,4,9,"Other",null,null,"Birdie",{"$f":"COUNTIF(E210:E218,\"Birdie\")","v":0}]
[null,13,5,9,"Other",null,null,"Par",{"$f":"COUNTIF(E210:E218,\"Par\")","v":0}]
[null,14,3,6,"Other",null,null,"bogey",{"$f":"COUNTIF(E210:E218,\"bogey\")","v":0}]
[null,15,4,9,"Other",null,null,"Double bogey",{"$f":"COUNTIF(E210:E218,\"Double bogey\")","v":1}]
[null,16,4,6,"Double bogey",null,null,"Other",{"$f":"COUNTIF(E210:E218,\"Other\")","v":8}]
[null,17,3,6,"Other"]
[null,18,5,8,"Other"]

{"sheet":"Mohsinger_B","index":12,"n_rows":218,"n_cols":90,"rows_kept":218,"cut":false,"hidden":false,"merged":[]}
["Bette Mohsinger"]
[]
[]
[null,null,"Date:",{"$f":"VLOOKUP(C5,Week,2)","v":"2024-04-26"},null,null,null,null,"Date:",{"$f":"VLOOKUP(I5,Week,2)","v":"2024-05-03"},null,null,null,null,"Date:",{"$f":"VLOOKUP(O5,Week,2)","v":"2024-05-10"},null,null,null,null,"Date:",{"$f":"VLOOKUP(U5,Week,2)","v":"2024-05-17"},null,null,null,null,"Date:",{"$f":"VLOOKUP(AA5,Week,2)","v":"2024-05-24"},null,null,null,null,"Date:",{"$f":"VLOOKUP(AG5,Week,2)","v":"2024-05-31"},null,null,null,null,"Date:",{"$f":"VLOOKUP(AM5,Week,2)","v":"2024-06-07"},null,null,null,null,"Date:",{"$f":"VLOOKUP(AS5,Week,2)","v":"2024-06-14"},null,null,null,null,"Date:",{"$f":"VLOOKUP(AY5,Week,2)","v":"2024-07-05"},null,null,null,null,"Date:",{"$f":"VLOOKUP(BE5,Week,2)","v":"2024-07-12"},null,null,null,null,"Date:",{"$f":"VLOOKUP(BK5,Week,2)","v":"2024-07-19"},null,null,null,null,"Date:",{"$f":"VLOOKUP(BQ5,Week,2)","v":"2024-07-26"},null,null,null,null,"Date:",{"$f":"VLOOKUP(BW5,Week,2)","v":"2024-08-02"},null,null,null,null,"Date:",{"$f":"VLOOKUP(CC5,Week,2)","v":"2024-08-16"},null,null,null,null,"Date:",{"$f":"VLOOKUP(CI5,Week,2)","v":"2024-08-23"}]
[null,"Week",1,null,null,null,null,"Week",2,null,null,null,null,"Week",3,null,null,null,null,"Week",4,null,null,null,null,"Week",5,null,null,null,null,"Week",6,null,null,null,null,"Week",7,null,null,null,null,"Week",8,null,null,null,null,"Week",9,null,null,null,null,"Week",10,null,null,null,null,"Week",11,null,null,null,null,"Week",12,null,null,null,null,"Week",13,null,null,null,null,"Week",14,null,null,null,null,"Week",15]
[null,"Hole #","Par","Score","Net","Win Hole",null,"Hole #","Par","Score","Net","Win Hole",null,"Hole #","Par","Score","Net","Win Hole",null,"Hole #","Par","Score","Net","Win Hole",null,"Hole #","Par","Score","Net","Win Hole",null,"Hole #","Par","Score","Net","Win Hole",null,"Hole #","Par","Score","Net","Win Hole",null,"Hole #","Par","Score","Net","Win Hole",null,"Hole #","Par","Score","Net","Win Hole",null,"Hole #","Par","Score","Net","Win Hole",null,"Hole #","Par","Score","Net","Win Hole",null,"Hole #","Par","Score","Net","Win Hole",null,"Hole #","Par","Score","Net","Win Hole",null,"Hole #","Par","Score","Net","Win Hole",null,"Hole #","Par","Score","Net","Win Hole"]
[null,{"$f":"VLOOKUP(C5,Week,6)","v":1},{"$f":"VLOOKUP(B7,Holes,2)","v":4},6,{"$f":"IF((D7-C7)>3,C7+3,D7)","v":6},1,null,{"$f":"VLOOKUP(I5,Week,6)","v":10},{"$f":"VLOOKUP(H7,Holes,2)","v":4},6,{"$f":"IF((J7-I7)>3,I7+3,J7)","v":6},0.5,null,{"$f":"VLOOKUP(O5,Week,6)","v":1},{"$f":"VLOOKUP(N7,Holes,2)","v":4},7,{"$f":"IF((P7-O7)>3,O7+3,P7)","v":7},0,null,{"$f":"VLOOKUP(U5,Week,6)","v":10},{"$f":"VLOOKUP(T7,Holes,2)","v":4},7,{"$f":"IF((V7-U7)>3,U7+3,V7)","v":7},1,null,{"$f":"VLOOKUP(AA5,Week,6)","v":1},{"$f":"VLOOKUP(Z7,Holes,2)","v":4},6,{"$f":"IF((AB7-AA7)>3,AA7+3,AB7)","v":6},0,null,{"$f":"VLOOKUP(AG5,Week,6)","v":10},{"$f":"VLOOKUP(AF7,Holes,2)","v":4},6,{"$f":"IF((AH7-AG7)>3,AG7+3,AH7)","v":6},0.5,null,{"$f":"VLOOKUP(AM5,Week,6)","v":1},{"$f":"VLOOKUP(AL7,Holes,2)","v":4},4,{"$f":"IF((AN7-AM7)>3,AM7+3,AN7)","v":4},1,null,{"$f":"VLOOKUP(AS5,Week,6)","v":10},{"$f":"VLOOKUP(AR7,Holes,2)","v":4},7,{"$f":"IF((AT7-AS7)>3,AS7+3,AT7)","v":7},0.5,null,{"$f":"VLOOKUP(AY5,Week,6)","v":1},{"$f":"VLOOKUP(AX7,Holes,2)","v":4},7,{"$f":"IF((AZ7-AY7)>3,AY7+3,AZ7)","v":7},0,null,{"$f":"VLOOKUP(BE5,Week,6)","v":10},{"$f":"VLOOKUP(BD7,Holes,2)","v":4},6,{"$f":"IF((BF7-BE7)>3,BE7+3,BF7)","v":6},1,null,{"$f":"VLOOKUP(BK5,Week,6)","v":1},{"$f":"VLOOKUP(BJ7,Holes,2)","v":4},4,{"$f":"IF((BL7-BK7)>3,BK7+3,BL7)","v":4},0.5,null,{"$f":"VLOOKUP(BQ5,Week,6)","v":10},{"$f":"VLOOKUP(BP7,Holes,2)","v":4},null,{"$f":"IF((BR7-BQ7)>3,BQ7+3,BR7)","v":0},null,null,{"$f":"VLOOKUP(BW5,Week,6)","v":1},{"$f":"VLOOKUP(BV7,Holes,2)","v":4},5,{"$f":"IF((BX7-BW7)>3,BW7+3,BX7)","v":5},0.5,null,{"$f":"VLOOKUP(CC5,Week,6)","v":1},{"$f":"VLOOKUP(CB7,Holes,2)","v":4},null,{"$f":"IF((CD7-CC7)>3,CC7+3,CD7)","v":0},null,null,{"$f":"VLOOKUP(CI5,Week,6)","v":10},{"$f":"VLOOKUP(CH7,Holes,2)","v":4},null,{"$f":"IF((CJ7-CI7)>3,CI7+3,CJ7)","v":0}]
[null,{"$f":"+B7+1","v":2},4,4,4,1,null,{"$f":"+H7+1","v":11},4,7,7,0.5,null,{"$f":"+N7+1","v":2},4,5,5,1,null,{"$f":"+T7+1","v":11},4,6,6,0.5,null,{"$f":"+Z7+1","v":2},4,7,7,1,null,{"$f":"+AF7+1","v":11},4,4,4,1,null,{"$f":"+AL7+1","v":2},4,5,5,1,null,{"$f":"+AR7+1","v":11},4,4,4,1,null,{"$f":"+AX7+1","v":2},4,5,5,1,null,{"$f":"+BD7+1","v":11},4,5,5,1,null,{"$f":"+BJ7+1","v":2},4,5,5,1,null,{"$f":"+BP7+1","v":11},4,null,0,null,null,{"$f":"+BV7+1","v":2},4,6,6,0.5,null,{"$f":"+CB7+1","v":2},4,null,0,null,null,{"$f":"+CH7+1","v":11},4,null,0]
[null,3,3,2,2,1,null,12,4,5,5,0.5,null,3,3,4,4,0,null,12,4,7,7,0,null,3,3,4,4,0,null,12,4,5,5,1,null,3,3,6,6,0,null,12,4,6,6,0.5,null,3,3,5,5,0.5,null,12,4,5,5,1,null,3,3,4,4,1,null,12,4,null,0,null,null,3,3,5,5,0,null,3,3,null,0,null,null,12,4,null,0]
[null,4,4,7,7,1,null,13,5,9,8,0,null,4,4,5,5,1,null,13,5,8,8,1,null,4,4,8,7,0,null,13,5,6,6,1,null,4,4,6,6,0.5,null,13,5,7,7,1,null,4,4,4,4,1,null,13,5,8,8,0,null,4,4,4,4,1,null,13,5,null,0,null,null,4,4,5,5,0.5,null,4,4,null,0,null,null,13,5,null,0]
[null,5,5,7,7,1,null,14,3,5,5,0,null,5,5,9,8,0,null,14,3,5,5,0,null,5,5,6,6,0.5,null,14,3,3,3,1,null,5,5,6,6,0.5,null,14,3,6,6,0,null,5,5,7,7,0,null,14,3,5,5,1,null,5,5,8,8,0,null,14,3,null,0,null,null,5,5,7,7,0,null,5,5,null,0,null,null,14,3,null,0]
[null,6,3,7,6,0,null,15,4,7,7,0,null,6,3,6,6,0,null,15,4,8,7,0,null,6,3,4,4,0.5,null,15,4,7,7,0,null,6,3,3,3,0.5,null,15,4,7,7,0,null,6,3,3,3,1,null,15,4,6,6,1,null,6,3,3,3,1,null,15,4,null,0,null,null,6,3,4,4,0,null,6,3,null,0,null,null,15,4,null,0]
[null,7,4,6,6,0,null,16,4,5,5,1,null,7,4,5,5,1,null,16,4,6,6,0,null,7,4,4,4,1,null,16,4,6,6,0.5,null,7,4,4,4,1,null,16,4,5,5,1,null,7,4,5,5,0.5,null,16,4,6,6,1,null,7,4,6,6,0,null,16,4,null,0,null,null,7,4,4,4,1,null,7,4,null,0,null,null,16,4,null,0]
[null,8,4,5,5,1,null,17,3,4,4,0.5,null,8,4,7,7,0,null,17,3,5,5,0,null,8,4,5,5,1,null,17,3,4,4,0.5,null,8,4,6,6,1,null,17,3,6,6,0,null,8,4,5,5,0.5,null,17,3,6,6,0,null,8,4,5,5,0.5,null,17,3,null,0,null,null,8,4,6,6,0.5,null,8,4,null,0,null,null,17,3,null,0]
[null,9,5,9,8,0,null,18,5,8,8,0,null,9,5,7,7,1,null,18,5,7,7,0.5,null,9,5,7,7,0,null,18,5,8,8,0,null,9,5,7,7,1,null,18,5,8,8,0,null,9,5,7,7,0,null,18,5,7,7,0.5,null,9,5,7,7,0.5,null,18,5,null,0,null,null,9,5,7,7,0,null,9,5,null,0,null,null,18,5,null,0]
[null,"Total",{"$f":"SUM(C7:C15)","v":36},{"$f":"SUM(D7:D15)","v":53},{"$f":"SUM(E7:E15)","v":51},{"$f":"SUM(F7:F15)","v":6},null,"Total",{"$f":"SUM(I7:I15)","v":36},{"$f":"SUM(J7:J15)","v":56},{"$f":"SUM(K7:K15)","v":55},{"$f":"SUM(L7:L15)","v":3},null,"Total",{"$f":"SUM(O7:O15)","v":36},{"$f":"SUM(P7:P15)","v":55},{"$f":"SUM(Q7:Q15)","v":54},{"$f":"SUM(R7:R15)","v":4},null,"Total",{"$f":"SUM(U7:U15)","v":36},{"$f":"SUM(V7:V15)","v":59},{"$f":"SUM(W7:W15)","v":58},{"$f":"SUM(X7:X15)","v":3},null,"Total",{"$f":"SUM(AA7:AA15)","v":36},{"$f":"SUM(AB7:AB15)","v":51},{"$f":"SUM(AC7:AC15)","v":50},{"$f":"SUM(AD7:AD15)","v":4},null,"Total",{"$f":"SUM(AG7:AG15)","v":36},{"$f":"SUM(AH7:AH15)","v":49},{"$f":"SUM(AI7:AI15)","v":49},{"$f":"SUM(AJ7:AJ15)","v":5.5},null,"Total",{"$f":"SUM(AM7:AM15)","v":36},{"$f":"SUM(AN7:AN15)","v":47},{"$f":"SUM(AO7:AO15)","v":47},{"$f":"SUM(AP7:AP15)","v":6.5},null,"Total",{"$f":"SUM(AS7:AS15)","v":36},{"$f":"SUM(AT7:AT15)","v":56},{"$f":"SUM(AU7:AU15)","v":56},{"$f":"SUM(AV7:AV15)","v":4},null,"Total",{"$f":"SUM(AY7:AY15)","v":36},{"$f":"SUM(AZ7:AZ15)","v":48},{"$f":"SUM(BA7:BA15)","v":48},{"$f":"SUM(BB7:BB15)","v":4.5},null,"Total",{"$f":"SUM(BE7:BE15)","v":36},{"$f":"SUM(BF7:BF15)","v":54},{"$f":"SUM(BG7:BG15)","v":54},{"$f":"SUM(BH7:BH15)","v":6.5},null,"Total",{"$f":"SUM(BK7:BK15)","v":36},{"$f":"SUM(BL7:BL15)","v":46},{"$f":"SUM(BM7:BM15)","v":46},{"$f":"SUM(BN7:BN15)","v":5.5},null,"Total",{"$f":"SUM(BQ7:BQ15)","v":36},{"$f":"SUM(BR7:BR15)","v":0},{"$f":"SUM(BS7:BS15)","v":0},{"$f":"SUM(BT7:BT15)","v":0},null,"Total",{"$f":"SUM(BW7:BW15)","v":36},{"$f":"SUM(BX7:BX15)","v":49},{"$f":"SUM(BY7:BY15)","v":49},{"$f":"SUM(BZ7:BZ15)","v":3},null,"Total",{"$f":"SUM(CC7:CC15)","v":36},{"$f":"SUM(CD7:CD15)","v":0},{"$f":"SUM(CE7:CE15)","v":0},{"$f":"SUM(CF7:CF15)","v":0},null,"Total",{"$f":"SUM(CI7:CI15)","v":36},{"$f":"SUM(CJ7:CJ15)","v":0},{"$f":"SUM(CK7:CK15)","v":0},{"$f":"SUM(CL7:CL15)","v":0}]
[]
[null,null,null,null,"Low Net",1,null,null,null,null,"Low Net",0,null,null,null,null,"Low Net",0,null,null,null,null,"Low Net",0,null,null,null,null,"Low Net",null,null,null,null,null,"Low Net",1,null,null,null,null,"Low Net",1,null,null,null,null,"Low Net",0,null,null,null,null,"Low Net",0,null,null,null,null,"Low Net",1,null,null,null,null,"Low Net",1,null,null,null,null,"Low Net",null,null,null,null,null,"Low Net",0,null,null,null,null,"Low Net",null,null,null,null,null,"Low Net"]
[]
[null,null,null,null,"Total Points",{"$f":"SUM(F16:F19)","v":7},null,null,null,null,"Total Points",{"$f":"SUM(L16:L19)","v":3},null,null,null,null,"Total Points",{"$f":"SUM(R16:R19)","v":4},null,null,null,null,"Total Points",{"$f":"SUM(X16:X19)","v":3},null,null,null,null,"Total Points",{"$f":"SUM(AD16:AD19)","v":4},null,null,null,null,"Total Points",{"$f":"SUM(AJ16:AJ19)","v":6.5},null,null,null,null,"Total Points",{"$f":"SUM(AP16:AP19)","v":7.5},null,null,null,null,"Total Points",{"$f":"SUM(AV16:AV19)","v":4},null,null,null,null,"Total Points",{"$f":"SUM(BB16:BB19)","v":4.5},null,null,null,null,"Total Points",{"$f":"SUM(BH16:BH19)","v":7.5},null,null,null,null,"Total Points",{"$f":"SUM(BN16:BN19)","v":6.5},null,null,null,null,"Total Points",{"$f":"SUM(BT16:BT19)","v":0},null,null,null,null,"Total Points",{"$f":"SUM(BZ16:BZ19)","v":3},null,null,null,null,"Total Points",{"$f":"SUM(CF16:CF19)","v":0},null,null,null,null,"Total Points",{"$f":"SUM(CL16:CL19)","v":0}]
[]
[null,null,null,null,"Handicap",{"$f":"IF(D16=0,0,E16-C16)","v":15},null,null,null,null,"Handicap",{"$f":"IF(J16=0,0,K16-I16)","v":19},null,null,null,null,"Handicap",{"$f":"IF(P16=0,0,Q16-O16)","v":18},null,null,null,null,"Handicap",{"$f":"IF(V16=0,0,W16-U16)","v":22},null,null,null,null,"Handicap",{"$f":"IF(AB16=0,0,AC16-AA16)","v":14},null,null,null,null,"Handicap",{"$f":"IF(AH16=0,0,AI16-AG16)","v":13},null,null,null,null,"Handicap",{"$f":"IF(AN16=0,0,AO16-AM16)","v":11},null,null,null,null,"Handicap",{"$f":"IF(AT16=0,0,AU16-AS16)","v":20},null,null,null,null,"Handicap",{"$f":"IF(AZ16=0,0,BA16-AY16)","v":12},null,null,null,null,"Handicap",{"$f":"IF(BF16=0,0,BG16-BE16)","v":18},null,null,null,null,"Handicap",{"$f":"IF(BL16=0,0,BM16-BK16)","v":10},null,null,null,null,"Handicap",{"$f":"IF(BR16=0,0,BS16-BQ16)","v":0},null,null,null,null,"Handicap",{"$f":"IF(BX16=0,0,BY16-BW16)","v":13},null,null,null,null,"Handicap",{"$f":"IF(CD16=0,0,CE16-CC16)","v":0},null,null,null,null,"Handicap",{"$f":"IF(CJ16=0,0,CK16-CI16)","v":0}]
[]
[null,null,null,null,null,{"$f":"IF(D16<>0,IF(F16>4.5,\"W\",IF(F16=4.5,\"T\",IF(F16<4.5,\"L\"))),0)","v":"W"},null,null,null,null,null,{"$f":"IF(J16<>0,IF(L16>4.5,\"W\",IF(L16=4.5,\"T\",IF(L16<4.5,\"L\"))),0)","v":"L"},null,null,null,null,null,{"$f":"IF(P16<>0,IF(R16>4.5,\"W\",IF(R16=4.5,\"T\",IF(R16<4.5,\"L\"))),0)","v":"L"},null,null,null,null,null,{"$f":"IF(V16<>0,IF(X16>4.5,\"W\",IF(X16=4.5,\"T\",IF(X16<4.5,\"L\"))),0)","v":"L"},null,null,null,null,null,{"$f":"IF(AB16<>0,IF(AD16>4.5,\"W\",IF(AD16=4.5,\"T\",IF(AD16<4.5,\"L\"))),0)","v":"L"},null,null,null,null,null,{"$f":"IF(AH16<>0,IF(AJ16>4.5,\"W\",IF(AJ16=4.5,\"T\",IF(AJ16<4.5,\"L\"))),0)","v":"W"},null,null,null,null,null,{"$f":"IF(AN16<>0,IF(AP16>4.5,\"W\",IF(AP16=4.5,\"T\",IF(AP16<4.5,\"L\"))),0)","v":"W"},null,null,null,null,null,{"$f":"IF(AT16<>0,IF(AV16>4.5,\"W\",IF(AV16=4.5,\"T\",IF(AV16<4.5,\"L\"))),0)","v":"L"},null,null,null,null,null,{"$f":"IF(AZ16<>0,IF(BB16>4.5,\"W\",IF(BB16=4.5,\"T\",IF(BB16<4.5,\"L\"))),0)","v":"T"},null,null,null,null,null,{"$f":"IF(BF16<>0,IF(BH16>4.5,\"W\",IF(BH16=4.5,\"T\",IF(BH16<4.5,\"L\"))),0)","v":"W"},null,null,null,null,null,{"$f":"IF(BL16<>0,IF(BN16>4.5,\"W\",IF(BN16=4.5,\"T\",IF(BN16<4.5,\"L\"))),0)","v":"W"},null,null,null,null,null,{"$f":"IF(BR16<>0,IF(BT16>4.5,\"W\",IF(BT16=4.5,\"T\",IF(BT16<4.5,\"L\"))),0)","v":0},null,null,null,null,null,{"$f":"IF(BX16<>0,IF(BZ16>4.5,\"W\",IF(BZ16=4.5,\"T\",IF(BZ16<4.5,\"L\"))),0)","v":"L"},null,null,null,null,null,{"$f":"IF(CD16<>0,IF(CF16>4.5,\"W\",IF(CF16=4.5,\"T\",IF(CF16<4.5,\"L\"))),0)","v":0},null,null,null,null,null,{"$f":"IF(CJ16<>0,IF(CL16>4.5,\"W\",IF(CL16=4.5,\"T\",IF(CL16<4.5,\"L\"))),0)","v":0}]
[]
[null,"Summary",null,{"$f":"COUNT(D29:D43)","v":10}]
[null,null,null,"Adj",null,"Adj",null,null,null,"Avg Score"]
[null,null,"Points","Points","Matches","Matches",null,null,"Hole #","by Hole","Best","Worst"]
[null,"Week #1",{"$f":"F20","v":7},{"$f":"C29","v":7},{"$f":"IF(D16>0,1,0)","v":1},{"$f":"E29","v":1},null,null,1,{"$f":"IFERROR(AVERAGE(D7,P7,AB7,AN7,AZ7,BL7,BX7,CD7),0)","v":5.5714285714285712},{"$f":"IFERROR(MIN(D7,P7,AB7,AN7,AZ7,BL7,BX7,CD7),0)","v":4},{"$f":"IFERROR(MAX(D7,P7,AB7,AN7,AZ7,BL7,BX7,CD7),0)","v":7}]
[null,"Week #2",{"$f":"L20","v":3},null,1,1,null,null,2,{"$f":"IFERROR(AVERAGE(D8,P8,AB8,AN8,AZ8,BL8,BX8,CD8),0)","v":5.2857142857142856},{"$f":"IFERROR(MIN(D8,P8,AB8,AN8,AZ8,BL8,BX8,CD8),0)","v":4},{"$f":"IFERROR(MAX(D8,P8,AB8,AN8,AZ8,BL8,BX8,CD8),0)","v":7}]
[null,"Week #3",{"$f":"R20","v":4},4,{"$f":"IF(P16>0,1,0)","v":1},1,null,null,3,4.2857142857142856,2,6]
[null,"Week #4",{"$f":"X20","v":3},null,{"$f":"IF(V16>0,1,0)","v":1},1,null,null,4,5.5714285714285712,4,8]
[null,"Week #5",{"$f":"AD20","v":4},4,{"$f":"IF(AB16>0,1,0)","v":1},1,null,null,5,7.1428571428571432,6,9]
[null,"Week #6",{"$f":"AJ20","v":6.5},6.5,{"$f":"IF(AH16>0,1,0)","v":1},1,null,null,6,4.2857142857142856,3,7]
[null,"Week #7",{"$f":"AP20","v":7.5},7.5,{"$f":"IF(AN16>0,1,0)","v":1},1,null,null,7,4.8571428571428568,4,6]
[null,"Week #8",{"$f":"AV20","v":4},4,{"$f":"IF(AT16>0,1,0)","v":1},1,null,null,8,5.5714285714285712,5,7]
[null,"Week #9",{"$f":"BB20","v":4.5},4.5,{"$f":"IF(AZ16>0,1,0)","v":1},1,null,null,9,7.2857142857142856,7,9]
[null,"Week #10",{"$f":"BH20","v":7.5},7.5,{"$f":"IF(BF16>0,1,0)","v":1},1,null,null,"Front",{"$f":"SUM(J29:J37)","v":49.857142857142854},{"$f":"SUM(K29:K37)","v":39},66]
[null,"Week #11",{"$f":"BN20","v":6.5},6.5,{"$f":"IF(BL16>0,1,0)","v":1},1]
[null,"Week #12",{"$f":"BT20","v":0},null,{"$f":"IF(BR16>0,1,0)","v":0},0,null,null,10,{"$f":"IFERROR(AVERAGE(J7,V7,AH7,AT7,BF7,BR7,CJ7),0)","v":6.4},{"$f":"IFERROR(MIN(J7,V7,AH7,AT7,BF7,BR7,CJ7),0)","v":6},{"$f":"IFERROR(MAX(J7,V7,AH7,AT7,BF7,BR7,CJ7),0)","v":7}]
[null,"Week #13",{"$f":"BZ20","v":3},3,{"$f":"IF(BX16>0,1,0)","v":1},1,null,null,11,{"$f":"IFERROR(AVERAGE(J8,V8,AH8,AT8,BF8,BR8,CJ8),0)","v":5.2},{"$f":"IFERROR(MIN(J8,V8,AH8,AT8,BF8,BR8,CJ8),0)","v":4},{"$f":"IFERROR(MAX(J8,V8,AH8,AT8,BF8,BR8,CJ8),0)","v":7}]
[null,"Week #14",{"$f":"CF20","v":0},null,{"$f":"IF(CD16>0,1,0)","v":0},0,null,null,12,5.6,5,7]
[null,"Week #15",{"$f":"CL20","v":0},null,{"$f":"IF(CJ16>0,1,0)","v":0},0,null,null,13,7.6,6,9]
[null,"Total",{"$f":"SUM(C29:C43)","v":60.5},{"$f":"SUM(D29:D43)","v":54.5},{"$f":"SUM(E29:E43)","v":12},{"$f":"SUM(F29:F43)","v":12},null,null,14,4.8,3,6]
[null,null,null,null,null,null,null,null,15,7,6,8]
[null,"Summary",null,null,null,null,null,null,16,5.6,5,6]
[null,"Eagles",{"$f":"I57+I68+I79+I90+I101+I112+I123+I134+I145+I156+I167+I178+I189+I200+I211","v":0},null,null,null,null,null,17,5,4,6]
[null,"Birdies",1,null,null,null,null,null,18,7.6,7,8]
[null,"Pars",14,null,null,null,null,null,"Back",{"$f":"SUM(J40:J48)","v":54.800000000000011},{"$f":"SUM(K40:K48)","v":46},64]
[null,"bogeys",29]
[null,"Double bogeys",35]
[null,"Other",29]
[null,"Total",{"$f":"SUM(C47:C52)","v":108}]
[]
[null,{"$f":"D4","v":"2024-04-26"},"Par","Score"]
[null,{"$f":"B7","v":1},4,6,{"$f":"IF(D56<>0,IF((D56-C56)=-1,\"Birdie\",IF((D56-C56)=-2,\"Eagle\",IF((D56-C56)=0,\"Par\",IF((D56-C56)=1,\"bogey\",IF((D56-C56)=2,\"Double bogey\",\"Other\"))))),\"  \")","v":"Double bogey"},null,null,"Count"]
[null,2,4,4,"Par",null,null,"Eagle",{"$f":"COUNTIF(E56:E64,\"Eagle\")","v":0}]
[null,3,3,2,"Birdie",null,null,"Birdie",{"$f":"COUNTIF(E56:E64,\"Birdie\")","v":1}]
[null,4,4,7,"Other",null,null,"Par",{"$f":"COUNTIF(E56:E64,\"Par\")","v":1}]
[null,5,5,7,"Double bogey",null,null,"bogey",{"$f":"COUNTIF(E56:E64,\"bogey\")","v":1}]
[null,6,3,7,"Other",null,null,"Double bogey",{"$f":"COUNTIF(E56:E64,\"Double bogey\")","v":3}]
[null,7,4,6,"Double bogey",null,null,"Other",{"$f":"COUNTIF(E56:E64,\"Other\")","v":3}]
[null,8,4,5,"bogey"]
[null,9,5,9,"Other"]
[]
[null,{"$f":"J4","v":"2024-05-03"}]
[null,{"$f":"H7","v":10},4,6,{"$f":"IF(D67<>0,IF((D67-C67)=-1,\"Birdie\",IF((D67-C67)=-2,\"Eagle\",IF((D67-C67)=0,\"Par\",IF((D67-C67)=1,\"bogey\",IF((D67-C67)=2,\"Double bogey\",\"Other\"))))),\"  \")","v":"Double bogey"},null,null,"Count"]
[null,11,4,7,"Other",null,null,"Eagle",{"$f":"COUNTIF(E67:E75,\"Eagle\")","v":0}]
[null,12,4,5,"bogey",null,null,"Birdie",{"$f":"COUNTIF(E67:E75,\"Birdie\")","v":0}]
[null,13,5,9,"Other",null,null,"Par",{"$f":"COUNTIF(E67:E75,\"Par\")","v":0}]
[null,14,3,5,"Double bogey",null,null,"bogey",{"$f":"COUNTIF(E67:E75,\"bogey\")","v":3}]
[null,15,4,7,"Other",null,null,"Double bogey",{"$f":"COUNTIF(E67:E75,\"Double bogey\")","v":2}]
[null,16,4,5,"bogey",null,null,"Other",{"$f":"COUNTIF(E67:E75,\"Other\")","v":4}]
[null,17,3,4,"bogey"]
[null,18,5,8,"Other"]
[]
[null,{"$f":"P4","v":"2024-05-10"}]
[null,{"$f":"N7","v":1},4,7,{"$f":"IF(D78<>0,IF((D78-C78)=-1,\"Birdie\",IF((D78-C78)=-2,\"Eagle\",IF((D78-C78)=0,\"Par\",IF((D78-C78)=1,\"bogey\",IF((D78-C78)=2,\"Double bogey\",\"Other\"))))),\"  \")","v":"Other"},null,null,"Count"]
[null,2,4,5,"bogey",null,null,"Eagle",{"$f":"COUNTIF(E78:E86,\"Eagle\")","v":0}]
[null,3,3,4,"bogey",null,null,"Birdie",{"$f":"COUNTIF(E78:E86,\"Birdie\")","v":0}]
[null,4,4,5,"bogey",null,null,"Par",{"$f":"COUNTIF(E78:E86,\"Par\")","v":0}]
[null,5,5,9,"Other",null,null,"bogey",{"$f":"COUNTIF(E78:E86,\"bogey\")","v":4}]
[null,6,3,6,"Other",null,null,"Double bogey",{"$f":"COUNTIF(E78:E86,\"Double bogey\")","v":1}]
[null,7,4,5,"bogey",null,null,"Other",{"$f":"COUNTIF(E78:E86,\"Other\")","v":4}]
[null,8,4,7,"Other"]
[null,9,5,7,"Double bogey"]
[]
[null,{"$f":"V4","v":"2024-05-17"}]
[null,{"$f":"T7","v":10},4,7,{"$f":"IF(D89<>0,IF((D89-C89)=-1,\"Birdie\",IF((D89-C89)=-2,\"Eagle\",IF((D89-C89)=0,\"Par\",IF((D89-C89)=1,\"bogey\",IF((D89-C89)=2,\"Double bogey\",\"Other\"))))),\"  \")","v":"Other"},null,null,"Count"]
[null,11,4,6,"Double bogey",null,null,"Eagle",{"$f":"COUNTIF(E89:E97,\"Eagle\")","v":0}]
[null,12,4,7,"Other",null,null,"Birdie",{"$f":"COUNTIF(E89:E97,\"Birdie\")","v":0}]
[null,13,5,8,"Other",null,null,"Par",{"$f":"COUNTIF(E89:E97,\"Par\")","v":0}]
[null,14,3,5,"Double bogey",null,null,"bogey",{"$f":"COUNTIF(E89:E97,\"bogey\")","v":0}]
[null,15,4,8,"Other",null,null,"Double bogey",{"$f":"COUNTIF(E89:E97,\"Double bogey\")","v":5}]
[null,16,4,6,"Double bogey",null,null,"Other",{"$f":"COUNTIF(E89:E97,\"Other\")","v":4}]
[null,17,3,5,"Double bogey"]
[null,18,5,7,"Double bogey"]
[]
[null,{"$f":"AB4","v":"2024-05-24"}]
[null,{"$f":"Z7","v":1},4,6,{"$f":"IF(D100<>0,IF((D100-C100)=-1,\"Birdie\",IF((D100-C100)=-2,\"Eagle\",IF((D100-C100)=0,\"Par\",IF((D100-C100)=1,\"bogey\",IF((D100-C100)=2,\"Double bogey\",\"Other\"))))),\"  \")","v":"Double bogey"},null,null,"Count"]
[null,2,4,7,"Other",null,null,"Eagle",{"$f":"COUNTIF(E100:E108,\"Eagle\")","v":0}]
[null,3,3,4,"bogey",null,null,"Birdie",{"$f":"COUNTIF(E100:E108,\"Birdie\")","v":0}]
[null,4,4,8,"Other",null,null,"Par",{"$f":"COUNTIF(E100:E108,\"Par\")","v":1}]
[null,5,5,6,"bogey",null,null,"bogey",{"$f":"COUNTIF(E100:E108,\"bogey\")","v":4}]
[null,6,3,4,"bogey",null,null,"Double bogey",{"$f":"COUNTIF(E100:E108,\"Double bogey\")","v":2}]
[null,7,4,4,"Par",null,null,"Other",{"$f":"COUNTIF(E100:E108,\"Other\")","v":2}]
[null,8,4,5,"bogey"]
[null,9,5,7,"Double bogey"]
[]
[null,{"$f":"AH4","v":"2024-05-31"}]
[null,{"$f":"AF7","v":10},4,6,{"$f":"IF(D111<>0,IF((D111-C111)=-1,\"Birdie\",IF((D111-C111)=-2,\"Eagle\",IF((D111-C111)=0,\"Par\",IF((D111-C111)=1,\"bogey\",IF((D111-C111)=2,\"Double bogey\",\"Other\"))))),\"  \")","v":"Double bogey"},null,null,"Count"]
[null,11,4,4,"Par",null,null,"Eagle",{"$f":"COUNTIF(E111:E119,\"Eagle\")","v":0}]
[null,12,4,5,"bogey",null,null,"Birdie",{"$f":"COUNTIF(E111:E119,\"Birdie\")","v":0}]
[null,13,5,6,"bogey",null,null,"Par",{"$f":"COUNTIF(E111:E119,\"Par\")","v":2}]
[null,14,3,3,"Par",null,null,"bogey",{"$f":"COUNTIF(E111:E119,\"bogey\")","v":3}]
[null,15,4,7,"Other",null,null,"Double bogey",{"$f":"COUNTIF(E111:E119,\"Double bogey\")","v":2}]
[null,16,4,6,"Double bogey",null,null,"Other",{"$f":"COUNTIF(E111:E119,\"Other\")","v":2}]
[null,17,3,4,"bogey"]
[null,18,5,8,"Other"]
[]
[null,{"$f":"AN4","v":"2024-06-07"}]
[null,{"$f":"AL7","v":1},4,4,{"$f":"IF(D122<>0,IF((D122-C122)=-1,\"Birdie\",IF((D122-C122)=-2,\"Eagle\",IF((D122-C122)=0,\"Par\",IF((D122-C122)=1,\"bogey\",IF((D122-C122)=2,\"Double bogey\",\"Other\"))))),\"  \")","v":"Par"},null,null,"Count"]
[null,2,4,5,"bogey",null,null,"Eagle",{"$f":"COUNTIF(E122:E130,\"Eagle\")","v":0}]
[null,3,3,6,"Other",null,null,"Birdie",{"$f":"COUNTIF(E122:E130,\"Birdie\")","v":0}]
[null,4,4,6,"Double bogey",null,null,"Par",{"$f":"COUNTIF(E122:E130,\"Par\")","v":3}]
[null,5,5,6,"bogey",null,null,"bogey",{"$f":"COUNTIF(E122:E130,\"bogey\")","v":2}]
[null,6,3,3,"Par",null,null,"Double bogey",{"$f":"COUNTIF(E122:E130,\"Double bogey\")","v":3}]
[null,7,4,4,"Par",null,null,"Other",{"$f":"COUNTIF(E122:E130,\"Other\")","v":1}]
[null,8,4,6,"Double bogey"]
[null,9,5,7,"Double bogey"]
[]
[null,{"$f":"AT4","v":"2024-06-14"}]
[null,{"$f":"AR7","v":10},4,7,{"$f":"IF(D133<>0,IF((D133-C133)=-1,\"Birdie\",IF((D133-C133)=-2,\"Eagle\",IF((D133-C133)=0,\"Par\",IF((D133-C133)=1,\"bogey\",IF((D133-C133)=2,\"Double bogey\",\"Other\"))))),\"  \")","v":"Other"},null,null,"Count"]
[null,11,4,4,"Par",null,null,"Eagle",{"$f":"COUNTIF(E133:E141,\"Eagle\")","v":0}]
[null,12,4,6,"Double bogey",null,null,"Birdie",{"$f":"COUNTIF(E133:E141,\"Birdie\")","v":0}]
[null,13,5,7,"Double bogey",null,null,"Par",{"$f":"COUNTIF(E133:E141,\"Par\")","v":1}]
[null,14,3,6,"Other",null,null,"bogey",{"$f":"COUNTIF(E133:E141,\"bogey\")","v":1}]
[null,15,4,7,"Other",null,null,"Double bogey",{"$f":"COUNTIF(E133:E141,\"Double bogey\")","v":2}]
[null,16,4,5,"bogey",null,null,"Other",{"$f":"COUNTIF(E133:E141,\"Other\")","v":5}]
[null,17,3,6,"Other"]
[null,18,5,8,"Other"]
[]
[null,{"$f":"AZ4","v":"2024-07-05"}]
[null,{"$f":"AX7","v":1},4,7,{"$f":"IF(D144<>0,IF((D144-C144)=-1,\"Birdie\",IF((D144-C144)=-2,\"Eagle\",IF((D144-C144)=0,\"Par\",IF((D144-C144)=1,\"bogey\",IF((D144-C144)=2,\"Double bogey\",\"Other\"))))),\"  \")","v":"Other"},null,null,"Count"]
[null,2,4,5,"bogey",null,null,"Eagle",{"$f":"COUNTIF(E144:E152,\"Eagle\")","v":0}]
[null,3,3,5,"Double bogey",null,null,"Birdie",{"$f":"COUNTIF(E144:E152,\"Birdie\")","v":0}]
[null,4,4,4,"Par",null,null,"Par",{"$f":"COUNTIF(E144:E152,\"Par\")","v":2}]
[null,5,5,7,"Double bogey",null,null,"bogey",{"$f":"COUNTIF(E144:E152,\"bogey\")","v":3}]
[null,6,3,3,"Par",null,null,"Double bogey",{"$f":"COUNTIF(E144:E152,\"Double bogey\")","v":3}]
[null,7,4,5,"bogey",null,null,"Other",{"$f":"COUNTIF(E144:E152,\"Other\")","v":1}]
[null,8,4,5,"bogey"]
[null,9,5,7,"Double bogey"]
[]
[null,{"$f":"BF4","v":"2024-07-12"}]
[null,{"$f":"BD7","v":10},4,6,{"$f":"IF(D155<>0,IF((D155-C155)=-1,\"Birdie\",IF((D155-C155)=-2,\"Eagle\",IF((D155-C155)=0,\"Par\",IF((D155-C155)=1,\"bogey\",IF((D155-C155)=2,\"Double bogey\",\"Other\"))))),\"  \")","v":"Double bogey"},null,null,"Count"]
[null,11,4,5,"bogey",null,null,"Eagle",{"$f":"COUNTIF(E155:E163,\"Eagle\")","v":0}]
[null,12,4,5,"bogey",null,null,"Birdie",{"$f":"COUNTIF(E155:E163,\"Birdie\")","v":0}]
[null,13,5,8,"Other",null,null,"Par",{"$f":"COUNTIF(E155:E163,\"Par\")","v":0}]
[null,14,3,5,"Double bogey",null,null,"bogey",{"$f":"COUNTIF(E155:E163,\"bogey\")","v":2}]
[null,15,4,6,"Double bogey",null,null,"Double bogey",{"$f":"COUNTIF(E155:E163,\"Double bogey\")","v":5}]
[null,16,4,6,"Double bogey",null,null,"Other",{"$f":"COUNTIF(E155:E163,\"Other\")","v":2}]
[null,17,3,6,"Other"]
[null,18,5,7,"Double bogey"]
[]
[null,{"$f":"BL4","v":"2024-07-19"}]
[null,{"$f":"BJ7","v":1},4,4,{"$f":"IF(D166<>0,IF((D166-C166)=-1,\"Birdie\",IF((D166-C166)=-2,\"Eagle\",IF((D166-C166)=0,\"Par\",IF((D166-C166)=1,\"bogey\",IF((D166-C166)=2,\"Double bogey\",\"Other\"))))),\"  \")","v":"Par"},null,null,"Count"]
[null,2,4,5,"bogey",null,null,"Eagle",{"$f":"COUNTIF(E166:E174,\"Eagle\")","v":0}]
[null,3,3,4,"bogey",null,null,"Birdie",{"$f":"COUNTIF(E166:E174,\"Birdie\")","v":0}]
[null,4,4,4,"Par",null,null,"Par",{"$f":"COUNTIF(E166:E174,\"Par\")","v":3}]
[null,5,5,8,"Other",null,null,"bogey",{"$f":"COUNTIF(E166:E174,\"bogey\")","v":3}]
[null,6,3,3,"Par",null,null,"Double bogey",{"$f":"COUNTIF(E166:E174,\"Double bogey\")","v":2}]
[null,7,4,6,"Double bogey",null,null,"Other",{"$f":"COUNTIF(E166:E174,\"Other\")","v":1}]
[null,8,4,5,"bogey"]
[null,9,5,7,"Double bogey"]
[]
[null,{"$f":"BR4","v":"2024-07-26"}]
[null,{"$f":"BP7","v":10},4,0,{"$f":"IF(D177<>0,IF((D177-C177)=-1,\"Birdie\",IF((D177-C177)=-2,\"Eagle\",IF((D177-C177)=0,\"Par\",IF((D177-C177)=1,\"bogey\",IF((D177-C177)=2,\"Double bogey\",\"Other\"))))),\"  \")","v":"  "},null,null,"Count"]
[null,11,4,0,"  ",null,null,"Eagle",{"$f":"COUNTIF(E177:E185,\"Eagle\")","v":0}]
[null,12,4,0,"  ",null,null,"Birdie",{"$f":"COUNTIF(E177:E185,\"Birdie\")","v":0}]
[null,13,5,0,"  ",null,null,"Par",{"$f":"COUNTIF(E177:E185,\"Par\")","v":0}]
[null,14,3,0,"  ",null,null,"bogey",{"$f":"COUNTIF(E177:E185,\"bogey\")","v":0}]
[null,15,4,0,"  ",null,null,"Double bogey",{"$f":"COUNTIF(E177:E185,\"Double bogey\")","v":0}]
[null,16,4,0,"  ",null,null,"Other",{"$f":"COUNTIF(E177:E185,\"Other\")","v":0}]
[null,17,3,0,"  "]
[null,18,5,0,"  "]
[]
[null,{"$f":"BX4","v":"2024-08-02"}]
[null,{"$f":"BV7","v":1},4,5,{"$f":"IF(D188<>0,IF((D188-C188)=-1,\"Birdie\",IF((D188-C188)=-2,\"Eagle\",IF((D188-C188)=0,\"Par\",IF((D188-C188)=1,\"bogey\",IF((D188-C188)=2,\"Double bogey\",\"Other\"))))),\"  \")","v":"bogey"},null,null,"Count"]
[null,2,4,6,"Double bogey",null,null,"Eagle",{"$f":"COUNTIF(E188:E196,\"Eagle\")","v":0}]
[null,3,3,5,"Double bogey",null,null,"Birdie",{"$f":"COUNTIF(E188:E196,\"Birdie\")","v":0}]
[null,4,4,5,"bogey",null,null,"Par",{"$f":"COUNTIF(E188:E196,\"Par\")","v":1}]
[null,5,5,7,"Double bogey",null,null,"bogey",{"$f":"COUNTIF(E188:E196,\"bogey\")","v":3}]
[null,6,3,4,"bogey",null,null,"Double bogey",{"$f":"COUNTIF(E188:E196,\"Double bogey\")","v":5}]
[null,7,4,4,"Par",null,null,"Other",{"$f":"COUNTIF(E188:E196,\"Other\")","v":0}]
[null,8,4,6,"Double bogey"]
[null,9,5,7,"Double bogey"]
[]
[null,{"$f":"CD4","v":"2024-08-16"}]
[null,{"$f":"CB7","v":1},4,0,{"$f":"IF(D199<>0,IF((D199-C199)=-1,\"Birdie\",IF((D199-C199)=-2,\"Eagle\",IF((D199-C199)=0,\"Par\",IF((D199-C199)=1,\"bogey\",IF((D199-C199)=2,\"Double bogey\",\"Other\"))))),\"  \")","v":"  "},null,null,"Count"]
[null,2,4,0,"  ",null,null,"Eagle",{"$f":"COUNTIF(E199:E207,\"Eagle\")","v":0}]
[null,3,3,0,"  ",null,null,"Birdie",{"$f":"COUNTIF(E199:E207,\"Birdie\")","v":0}]
[null,4,4,0,"  ",null,null,"Par",{"$f":"COUNTIF(E199:E207,\"Par\")","v":0}]
[null,5,5,0,"  ",null,null,"bogey",{"$f":"COUNTIF(E199:E207,\"bogey\")","v":0}]
[null,6,3,0,"  ",null,null,"Double bogey",{"$f":"COUNTIF(E199:E207,\"Double bogey\")","v":0}]
[null,7,4,0,"  ",null,null,"Other",{"$f":"COUNTIF(E199:E207,\"Other\")","v":0}]
[null,8,4,0,"  "]
[null,9,5,0,"  "]
[]
[null,{"$f":"CJ4","v":"2024-08-23"}]
[null,{"$f":"CH7","v":10},4,0,{"$f":"IF(D210<>0,IF((D210-C210)=-1,\"Birdie\",IF((D210-C210)=-2,\"Eagle\",IF((D210-C210)=0,\"Par\",IF((D210-C210)=1,\"bogey\",IF((D210-C210)=2,\"Double bogey\",\"Other\"))))),\"  \")","v":"  "},null,null,"Count"]
[null,11,4,0,"  ",null,null,"Eagle",{"$f":"COUNTIF(E210:E218,\"Eagle\")","v":0}]
[null,12,4,0,"  ",null,null,"Birdie",{"$f":"COUNTIF(E210:E218,\"Birdie\")","v":0}]
[null,13,5,0,"  ",null,null,"Par",{"$f":"COUNTIF(E210:E218,\"Par\")","v":0}]
[null,14,3,0,"  ",null,null,"bogey",{"$f":"COUNTIF(E210:E218,\"bogey\")","v":0}]
[null,15,4,0,"  ",null,null,"Double bogey",{"$f":"COUNTIF(E210:E218,\"Double bogey\")","v":0}]
[null,16,4,0,"  ",null,null,"Other",{"$f":"COUNTIF(E210:E218,\"Other\")","v":0}]
[null,17,3,0,"  "]
[null,18,5,0,"  "]

{"sheet":"Mohsinger_T","index":13,"n_rows":218,"n_cols":90,"rows_kept":218,"cut":false,"hidden":false,"merged":[]}
["Tom Mohsinger"]
[]
[]
[null,null,"Date:",{"$f":"VLOOKUP(C5,Week,2)","v":"2024-04-26"},null,null,null,null,"Date:",{"$f":"VLOOKUP(I5,Week,2)","v":"2024-05-03"},null,null,null,null,"Date:",{"$f":"VLOOKUP(O5,Week,2)","v":"2024-05-10"},null,null,null,null,"Date:",{"$f":"VLOOKUP(U5,Week,2)","v":"2024-05-17"},null,null,null,null,"Date:",{"$f":"VLOOKUP(AA5,Week,2)","v":"2024-05-24"},null,null,null,null,"Date:",{"$f":"VLOOKUP(AG5,Week,2)","v":"2024-05-31"},null,null,null,null,"Date:",{"$f":"VLOOKUP(AM5,Week,2)","v":"2024-06-07"},null,null,null,null,"Date:",{"$f":"VLOOKUP(AS5,Week,2)","v":"2024-06-14"},null,null,null,null,"Date:",{"$f":"VLOOKUP(AY5,Week,2)","v":"2024-07-05"},null,null,null,null,"Date:",{"$f":"VLOOKUP(BE5,Week,2)","v":"2024-07-12"},null,null,null,null,"Date:",{"$f":"VLOOKUP(BK5,Week,2)","v":"2024-07-19"},null,null,null,null,"Date:",{"$f":"VLOOKUP(BQ5,Week,2)","v":"2024-07-26"},null,null,null,null,"Date:",{"$f":"VLOOKUP(BW5,Week,2)","v":"2024-08-02"},null,null,null,null,"Date:",{"$f":"VLOOKUP(CC5,Week,2)","v":"2024-08-16"},null,null,null,null,"Date:",{"$f":"VLOOKUP(CI5,Week,2)","v":"2024-08-23"}]
[null,"Week",1,null,null,null,null,"Week",2,null,null,null,null,"Week",3,null,null,null,null,"Week",4,null,null,null,null,"Week",5,null,null,null,null,"Week",6,null,null,null,null,"Week",7,null,null,null,null,"Week",8,null,null,null,null,"Week",9,null,null,null,null,"Week",10,null,null,null,null,"Week",11,null,null,null,null,"Week",12,null,null,null,null,"Week",13,null,null,null,null,"Week",14,null,null,null,null,"Week",15]
[null,"Hole #","Par","Score","Net","Win Hole",null,"Hole #","Par","Score","Net","Win Hole",null,"Hole #","Par","Score","Net","Win Hole",null,"Hole #","Par","Score","Net","Win Hole",null,"Hole #","Par","Score","Net","Win Hole",null,"Hole #","Par","Score","Net","Win Hole",null,"Hole #","Par","Score","Net","Win Hole",null,"Hole #","Par","Score","Net","Win Hole",null,"Hole #","Par","Score","Net","Win Hole",null,"Hole #","Par","Score","Net","Win Hole",null,"Hole #","Par","Score","Net","Win Hole",null,"Hole #","Par","Score","Net","Win Hole",null,"Hole #","Par","Score","Net","Win Hole",null,"Hole #","Par","Score","Net","Win Hole",null,"Hole #","Par","Score","Net","Win Hole"]
[null,{"$f":"VLOOKUP(C5,Week,6)","v":1},{"$f":"VLOOKUP(B7,Holes,2)","v":4},6,{"$f":"IF((D7-C7)>3,C7+3,D7)","v":6},0.5,null,{"$f":"VLOOKUP(I5,Week,6)","v":10},{"$f":"VLOOKUP(H7,Holes,2)","v":4},6,{"$f":"IF((J7-I7)>3,I7+3,J7)","v":6},0,null,{"$f":"VLOOKUP(O5,Week,6)","v":1},{"$f":"VLOOKUP(N7,Holes,2)","v":4},6,{"$f":"IF((P7-O7)>3,O7+3,P7)","v":6},1,null,{"$f":"VLOOKUP(U5,Week,6)","v":10},{"$f":"VLOOKUP(T7,Holes,2)","v":4},6,{"$f":"IF((V7-U7)>3,U7+3,V7)","v":6},0.5,null,{"$f":"VLOOKUP(AA5,Week,6)","v":1},{"$f":"VLOOKUP(Z7,Holes,2)","v":4},null,{"$f":"IF((AB7-AA7)>3,AA7+3,AB7)","v":0},null,null,{"$f":"VLOOKUP(AG5,Week,6)","v":10},{"$f":"VLOOKUP(AF7,Holes,2)","v":4},null,{"$f":"IF((AH7-AG7)>3,AG7+3,AH7)","v":0},null,null,{"$f":"VLOOKUP(AM5,Week,6)","v":1},{"$f":"VLOOKUP(AL7,Holes,2)","v":4},7,{"$f":"IF((AN7-AM7)>3,AM7+3,AN7)","v":7},1,null,{"$f":"VLOOKUP(AS5,Week,6)","v":10},{"$f":"VLOOKUP(AR7,Holes,2)","v":4},6,{"$f":"IF((AT7-AS7)>3,AS7+3,AT7)","v":6},1,null,{"$f":"VLOOKUP(AY5,Week,6)","v":1},{"$f":"VLOOKUP(AX7,Holes,2)","v":4},7,{"$f":"IF((AZ7-AY7)>3,AY7+3,AZ7)","v":7},0,null,{"$f":"VLOOKUP(BE5,Week,6)","v":10},{"$f":"VLOOKUP(BD7,Holes,2)","v":4},5,{"$f":"IF((BF7-BE7)>3,BE7+3,BF7)","v":5},1,null,{"$f":"VLOOKUP(BK5,Week,6)","v":1},{"$f":"VLOOKUP(BJ7,Holes,2)","v":4},5,{"$f":"IF((BL7-BK7)>3,BK7+3,BL7)","v":5},1,null,{"$f":"VLOOKUP(BQ5,Week,6)","v":10},{"$f":"VLOOKUP(BP7,Holes,2)","v":4},5,{"$f":"IF((BR7-BQ7)>3,BQ7+3,BR7)","v":5},1,null,{"$f":"VLOOKUP(BW5,Week,6)","v":1},{"$f":"VLOOKUP(BV7,Holes,2)","v":4},5,{"$f":"IF((BX7-BW7)>3,BW7+3,BX7)","v":5},0.5,null,{"$f":"VLOOKUP(CC5,Week,6)","v":1},{"$f":"VLOOKUP(CB7,Holes,2)","v":4},6,{"$f":"IF((CD7-CC7)>3,CC7+3,CD7)","v":6},1,null,{"$f":"VLOOKUP(CI5,Week,6)","v":10},{"$f":"VLOOKUP(CH7,Holes,2)","v":4},7,{"$f":"IF((CJ7-CI7)>3,CI7+3,CJ7)","v":7},1]
[null,{"$f":"+B7+1","v":2},4,6,6,0.5,null,{"$f":"+H7+1","v":11},4,6,6,0,null,{"$f":"+N7+1","v":2},4,7,7,0,null,{"$f":"+T7+1","v":11},4,7,7,0.5,null,{"$f":"+Z7+1","v":2},4,null,0,null,null,{"$f":"+AF7+1","v":11},4,null,0,null,null,{"$f":"+AL7+1","v":2},4,8,7,0,null,{"$f":"+AR7+1","v":11},4,6,6,1,null,{"$f":"+AX7+1","v":2},4,5,5,1,null,{"$f":"+BD7+1","v":11},4,6,6,0,null,{"$f":"+BJ7+1","v":2},4,6,6,1,null,{"$f":"+BP7+1","v":11},4,5,5,0.5,null,{"$f":"+BV7+1","v":2},4,6,6,1,null,{"$f":"+CB7+1","v":2},4,7,7,0,null,{"$f":"+CH7+1","v":11},4,7,7,0]
[null,3,3,3,3,0.5,null,12,4,5,5,0.5,null,3,3,3,3,1,null,12,4,6,6,0.5,null,3,3,null,0,null,null,12,4,null,0,null,null,3,3,4,4,1,null,12,4,5,5,1,null,3,3,2,2,1,null,12,4,5,5,0.5,null,3,3,6,6,0,null,12,4,5,5,1,null,3,3,4,4,0.5,null,3,3,5,5,0.5,null,12,4,5,5,1]
[null,4,4,6,6,0.5,null,13,5,10,8,0,null,4,4,7,7,0,null,13,5,7,7,0.5,null,4,4,null,0,null,null,13,5,null,0,null,null,4,4,6,6,0,null,13,5,8,8,0,null,4,4,5,5,1,null,13,5,6,6,1,null,4,4,6,6,0.5,null,13,5,7,7,0.5,null,4,4,5,5,0.5,null,4,4,8,7,0,null,13,5,7,7,0.5]
[null,5,5,8,8,0,null,14,3,6,6,0,null,5,5,6,6,1,null,14,3,5,5,0.5,null,5,5,null,0,null,null,14,3,null,0,null,null,5,5,8,8,1,null,14,3,5,5,0.5,null,5,5,6,6,0.5,null,14,3,4,4,1,null,5,5,7,7,0,null,14,3,6,6,0,null,5,5,8,8,0,null,5,5,7,7,0,null,14,3,4,4,0]
[null,6,3,4,4,1,null,15,4,6,6,1,null,6,3,5,5,1,null,15,4,6,6,1,null,6,3,null,0,null,null,15,4,null,0,null,null,6,3,5,5,0.5,null,15,4,8,7,0,null,6,3,4,4,0.5,null,15,4,7,7,0.5,null,6,3,5,5,1,null,15,4,5,5,0.5,null,6,3,4,4,1,null,6,3,6,6,0,null,15,4,5,5,1]
[null,7,4,6,6,0,null,16,4,5,5,1,null,7,4,6,6,0,null,16,4,7,7,0,null,7,4,null,0,null,null,16,4,null,0,null,null,7,4,6,6,0,null,16,4,5,5,1,null,7,4,6,6,0,null,16,4,5,5,1,null,7,4,5,5,1,null,16,4,7,7,0.5,null,7,4,5,5,0.5,null,7,4,5,5,0.5,null,16,4,7,7,0.5]
[null,8,4,6,6,0.5,null,17,3,5,5,0,null,8,4,6,6,1,null,17,3,4,4,1,null,8,4,null,0,null,null,17,3,null,0,null,null,8,4,7,7,1,null,17,3,3,3,1,null,8,4,6,6,0,null,17,3,4,4,1,null,8,4,5,5,1,null,17,3,4,4,0.5,null,8,4,5,5,1,null,8,4,5,5,1,null,17,3,4,4,0.5]
[null,9,5,8,8,0.5,null,18,5,6,6,1,null,9,5,8,8,0,null,18,5,8,8,0.5,null,9,5,null,0,null,null,18,5,null,0,null,null,9,5,8,8,1,null,18,5,7,7,1,null,9,5,6,6,1,null,18,5,7,7,0,null,9,5,6,6,1,null,18,5,7,7,0.5,null,9,5,7,7,0.5,null,9,5,8,8,0,null,18,5,7,7,0]
[null,"Total",{"$f":"SUM(C7:C15)","v":36},{"$f":"SUM(D7:D15)","v":53},{"$f":"SUM(E7:E15)","v":53},{"$f":"SUM(F7:F15)","v":4},null,"Total",{"$f":"SUM(I7:I15)","v":36},{"$f":"SUM(J7:J15)","v":55},{"$f":"SUM(K7:K15)","v":53},{"$f":"SUM(L7:L15)","v":3.5},null,"Total",{"$f":"SUM(O7:O15)","v":36},{"$f":"SUM(P7:P15)","v":54},{"$f":"SUM(Q7:Q15)","v":54},{"$f":"SUM(R7:R15)","v":5},null,"Total",{"$f":"SUM(U7:U15)","v":36},{"$f":"SUM(V7:V15)","v":56},{"$f":"SUM(W7:W15)","v":56},{"$f":"SUM(X7:X15)","v":5},null,"Total",{"$f":"SUM(AA7:AA15)","v":36},{"$f":"SUM(AB7:AB15)","v":0},{"$f":"SUM(AC7:AC15)","v":0},{"$f":"SUM(AD7:AD15)","v":0},null,"Total",{"$f":"SUM(AG7:AG15)","v":36},{"$f":"SUM(AH7:AH15)","v":0},{"$f":"SUM(AI7:AI15)","v":0},{"$f":"SUM(AJ7:AJ15)","v":0},null,"Total",{"$f":"SUM(AM7:AM15)","v":36},{"$f":"SUM(AN7:AN15)","v":59},{"$f":"SUM(AO7:AO15)","v":58},{"$f":"SUM(AP7:AP15)","v":5.5},null,"Total",{"$f":"SUM(AS7:AS15)","v":36},{"$f":"SUM(AT7:AT15)","v":53},{"$f":"SUM(AU7:AU15)","v":52},{"$f":"SUM(AV7:AV15)","v":6.5},null,"Total",{"$f":"SUM(AY7:AY15)","v":36},{"$f":"SUM(AZ7:AZ15)","v":47},{"$f":"SUM(BA7:BA15)","v":47},{"$f":"SUM(BB7:BB15)","v":5},null,"Total",{"$f":"SUM(BE7:BE15)","v":36},{"$f":"SUM(BF7:BF15)","v":49},{"$f":"SUM(BG7:BG15)","v":49},{"$f":"SUM(BH7:BH15)","v":6},null,"Total",{"$f":"SUM(BK7:BK15)","v":36},{"$f":"SUM(BL7:BL15)","v":51},{"$f":"SUM(BM7:BM15)","v":51},{"$f":"SUM(BN7:BN15)","v":6.5},null,"Total",{"$f":"SUM(BQ7:BQ15)","v":36},{"$f":"SUM(BR7:BR15)","v":51},{"$f":"SUM(BS7:BS15)","v":51},{"$f":"SUM(BT7:BT15)","v":5},null,"Total",{"$f":"SUM(BW7:BW15)","v":36},{"$f":"SUM(BX7:BX15)","v":49},{"$f":"SUM(BY7:BY15)","v":49},{"$f":"SUM(BZ7:BZ15)","v":5.5},null,"Total",{"$f":"SUM(CC7:CC15)","v":36},{"$f":"SUM(CD7:CD15)","v":57},{"$f":"SUM(CE7:CE15)","v":56},{"$f":"SUM(CF7:CF15)","v":3},null,"Total",{"$f":"SUM(CI7:CI15)","v":36},{"$f":"SUM(CJ7:CJ15)","v":53},{"$f":"SUM(CK7:CK15)","v":53},{"$f":"SUM(CL7:CL15)","v":4.5}]
[]
[null,null,null,null,"Low Net",0,null,null,null,null,"Low Net",0,null,null,null,null,"Low Net",1,null,null,null,null,"Low Net",0.5,null,null,null,null,"Low Net",null,null,null,null,null,"Low Net",null,null,null,null,null,"Low Net",0.5,null,null,null,null,"Low Net",1,null,null,null,null,"Low Net",1,null,null,null,null,"Low Net",1,null,null,null,null,"Low Net",1,null,null,null,null,"Low Net",1,null,null,null,null,"Low Net",1,null,null,null,null,"Low Net",0,null,null,null,null,"Low Net",1]
[]
[null,null,null,null,"Total Points",{"$f":"SUM(F16:F19)","v":4},null,null,null,null,"Total Points",{"$f":"SUM(L16:L19)","v":3.5},null,null,null,null,"Total Points",{"$f":"SUM(R16:R19)","v":6},null,null,null,null,"Total Points",{"$f":"SUM(X16:X19)","v":5.5},null,null,null,null,"Total Points",{"$f":"SUM(AD16:AD19)","v":0},null,null,null,null,"Total Points",{"$f":"SUM(AJ16:AJ19)","v":0},null,null,null,null,"Total Points",{"$f":"SUM(AP16:AP19)","v":6},null,null,null,null,"Total Points",{"$f":"SUM(AV16:AV19)","v":7.5},null,null,null,null,"Total Points",{"$f":"SUM(BB16:BB19)","v":6},null,null,null,null,"Total Points",{"$f":"SUM(BH16:BH19)","v":7},null,null,null,null,"Total Points",{"$f":"SUM(BN16:BN19)","v":7.5},null,null,null,null,"Total Points",{"$f":"SUM(BT16:BT19)","v":6},null,null,null,null,"Total Points",{"$f":"SUM(BZ16:BZ19)","v":6.5},null,null,null,null,"Total Points",{"$f":"SUM(CF16:CF19)","v":3},null,null,null,null,"Total Points",{"$f":"SUM(CL16:CL19)","v":5.5}]
[]
[null,null,null,null,"Handicap",{"$f":"IF(D16=0,0,E16-C16)","v":17},null,null,null,null,"Handicap",{"$f":"IF(J16=0,0,K16-I16)","v":17},null,null,null,null,"Handicap",{"$f":"IF(P16=0,0,Q16-O16)","v":18},null,null,null,null,"Handicap",{"$f":"IF(V16=0,0,W16-U16)","v":20},null,null,null,null,"Handicap",{"$f":"IF(AB16=0,0,AC16-AA16)","v":0},null,null,null,null,"Handicap",{"$f":"IF(AH16=0,0,AI16-AG16)","v":0},null,null,null,null,"Handicap",{"$f":"IF(AN16=0,0,AO16-AM16)","v":22},null,null,null,null,"Handicap",{"$f":"IF(AT16=0,0,AU16-AS16)","v":16},null,null,null,null,"Handicap",{"$f":"IF(AZ16=0,0,BA16-AY16)","v":11},null,null,null,null,"Handicap",{"$f":"IF(BF16=0,0,BG16-BE16)","v":13},null,null,null,null,"Handicap",{"$f":"IF(BL16=0,0,BM16-BK16)","v":15},null,null,null,null,"Handicap",{"$f":"IF(BR16=0,0,BS16-BQ16)","v":15},null,null,null,null,"Handicap",{"$f":"IF(BX16=0,0,BY16-BW16)","v":13},null,null,null,null,"Handicap",{"$f":"IF(CD16=0,0,CE16-CC16)","v":20},null,null,null,null,"Handicap",{"$f":"IF(CJ16=0,0,CK16-CI16)","v":17}]
[]
[null,null,null,null,null,{"$f":"IF(D16<>0,IF(F16>4.5,\"W\",IF(F16=4.5,\"T\",IF(F16<4.5,\"L\"))),0)","v":"L"},null,null,null,null,null,{"$f":"IF(J16<>0,IF(L16>4.5,\"W\",IF(L16=4.5,\"T\",IF(L16<4.5,\"L\"))),0)","v":"L"},null,null,null,null,null,{"$f":"IF(P16<>0,IF(R16>4.5,\"W\",IF(R16=4.5,\"T\",IF(R16<4.5,\"L\"))),0)","v":"W"},null,null,null,null,null,{"$f":"IF(V16<>0,IF(X16>4.5,\"W\",IF(X16=4.5,\"T\",IF(X16<4.5,\"L\"))),0)","v":"W"},null,null,null,null,null,{"$f":"IF(AB16<>0,IF(AD16>4.5,\"W\",IF(AD16=4.5,\"T\",IF(AD16<4.5,\"L\"))),0)","v":0},null,null,null,null,null,{"$f":"IF(AH16<>0,IF(AJ16>4.5,\"W\",IF(AJ16=4.5,\"T\",IF(AJ16<4.5,\"L\"))),0)","v":0},null,null,null,null,null,{"$f":"IF(AN16<>0,IF(AP16>4.5,\"W\",IF(AP16=4.5,\"T\",IF(AP16<4.5,\"L\"))),0)","v":"W"},null,null,null,null,null,{"$f":"IF(AT16<>0,IF(AV16>4.5,\"W\",IF(AV16=4.5,\"T\",IF(AV16<4.5,\"L\"))),0)","v":"W"},null,null,null,null,null,{"$f":"IF(AZ16<>0,IF(BB16>4.5,\"W\",IF(BB16=4.5,\"T\",IF(BB16<4.5,\"L\"))),0)","v":"W"},null,null,null,null,null,{"$f":"IF(BF16<>0,IF(BH16>4.5,\"W\",IF(BH16=4.5,\"T\",IF(BH16<4.5,\"L\"))),0)","v":"W"},null,null,null,null,null,{"$f":"IF(BL16<>0,IF(BN16>4.5,\"W\",IF(BN16=4.5,\"T\",IF(BN16<4.5,\"L\"))),0)","v":"W"},null,null,null,null,null,{"$f":"IF(BR16<>0,IF(BT16>4.5,\"W\",IF(BT16=4.5,\"T\",IF(BT16<4.5,\"L\"))),0)","v":"W"},null,null,null,null,null,{"$f":"IF(BX16<>0,IF(BZ16>4.5,\"W\",IF(BZ16=4.5,\"T\",IF(BZ16<4.5,\"L\"))),0)","v":"W"},null,null,null,null,null,{"$f":"IF(CD16<>0,IF(CF16>4.5,\"W\",IF(CF16=4.5,\"T\",IF(CF16<4.5,\"L\"))),0)","v":"L"},null,null,null,null,null,{"$f":"IF(CJ16<>0,IF(CL16>4.5,\"W\",IF(CL16=4.5,\"T\",IF(CL16<4.5,\"L\"))),0)","v":"T"}]
[]
[null,"Summary",null,{"$f":"COUNT(D29:D43)","v":10}]
[null,null,null,"Adj",null,"Adj",null,null,null,"Avg Score"]
[null,null,"Points","Points","Matches","Matches",null,null,"Hole #","by Hole","Best","Worst"]
[null,"Week #1",{"$f":"F20","v":4},null,{"$f":"IF(D16>0,1,0)","v":1},{"$f":"E29","v":1},null,null,1,{"$f":"IFERROR(AVERAGE(D7,P7,AB7,AN7,AZ7,BL7,BX7,CD7),0)","v":6},{"$f":"IFERROR(MIN(D7,P7,AB7,AN7,AZ7,BL7,BX7,CD7),0)","v":5},{"$f":"IFERROR(MAX(D7,P7,AB7,AN7,AZ7,BL7,BX7,CD7),0)","v":7}]
[null,"Week #2",{"$f":"L20","v":3.5},null,{"$f":"IF(J16>0,1,0)","v":1},1,null,null,2,{"$f":"IFERROR(AVERAGE(D8,P8,AB8,AN8,AZ8,BL8,BX8,CD8),0)","v":6.4285714285714288},{"$f":"IFERROR(MIN(D8,P8,AB8,AN8,AZ8,BL8,BX8,CD8),0)","v":5},{"$f":"IFERROR(MAX(D8,P8,AB8,AN8,AZ8,BL8,BX8,CD8),0)","v":8}]
[null,"Week #3",{"$f":"R20","v":6},{"$f":"C31","v":6},{"$f":"IF(P16>0,1,0)","v":1},1,null,null,3,3.8571428571428572,2,6]
[null,"Week #4",{"$f":"X20","v":5.5},5.5,{"$f":"IF(V16>0,1,0)","v":1},1,null,null,4,6.1428571428571432,5,8]
[null,"Week #5",{"$f":"AD20","v":0},null,{"$f":"IF(AB16>0,1,0)","v":0},0,null,null,5,7.1428571428571432,6,8]
[null,"Week #6",{"$f":"AJ20","v":0},null,{"$f":"IF(AH16>0,1,0)","v":0},0,null,null,6,4.7142857142857144,4,6]
[null,"Week #7",{"$f":"AP20","v":6},6,{"$f":"IF(AN16>0,1,0)","v":1},1,null,null,7,5.5714285714285712,5,6]
[null,"Week #8",{"$f":"AV20","v":7.5},7.5,{"$f":"IF(AT16>0,1,0)","v":1},1,null,null,8,5.7142857142857144,5,7]
[null,"Week #9",{"$f":"BB20","v":6},6,{"$f":"IF(AZ16>0,1,0)","v":1},1,null,null,9,7.2857142857142856,6,8]
[null,"Week #10",{"$f":"BH20","v":7},7,{"$f":"IF(BF16>0,1,0)","v":1},1,null,null,"Front",{"$f":"SUM(J29:J37)","v":52.857142857142854},{"$f":"SUM(K29:K37)","v":43},64]
[null,"Week #11",{"$f":"BN20","v":7.5},7.5,{"$f":"IF(BL16>0,1,0)","v":1},1]
[null,"Week #12",{"$f":"BT20","v":6},6,{"$f":"IF(BR16>0,1,0)","v":1},1,null,null,10,{"$f":"IFERROR(AVERAGE(J7,V7,AH7,AT7,BF7,BR7,CJ7),0)","v":5.833333333333333},{"$f":"IFERROR(MIN(J7,V7,AH7,AT7,BF7,BR7,CJ7),0)","v":5},{"$f":"IFERROR(MAX(J7,V7,AH7,AT7,BF7,BR7,CJ7),0)","v":7}]
[null,"Week #13",{"$f":"BZ20","v":6.5},6.5,{"$f":"IF(BX16>0,1,0)","v":1},1,null,null,11,{"$f":"IFERROR(AVERAGE(J8,V8,AH8,AT8,BF8,BR8,CJ8),0)","v":6.166666666666667},{"$f":"IFERROR(MIN(J8,V8,AH8,AT8,BF8,BR8,CJ8),0)","v":5},{"$f":"IFERROR(MAX(J8,V8,AH8,AT8,BF8,BR8,CJ8),0)","v":7}]
[null,"Week #14",{"$f":"CF20","v":3},null,{"$f":"IF(CD16>0,1,0)","v":1},1,null,null,12,5.166666666666667,5,6]
[null,"Week #15",{"$f":"CL20","v":5.5},5.5,{"$f":"IF(CJ16>0,1,0)","v":1},1,null,null,13,7.5,6,10]
[null,"Total",{"$f":"SUM(C29:C43)","v":74},{"$f":"SUM(D29:D43)","v":63.5},{"$f":"SUM(E29:E43)","v":13},{"$f":"SUM(F29:F43)","v":13},null,null,14,5,4,6]
[null,null,null,null,null,null,null,null,15,6.166666666666667,5,8]
[null,"Summary",null,null,null,null,null,null,16,6,5,7]
[null,"Eagles",{"$f":"I57+I68+I79+I90+I101+I112+I123+I134+I145+I156+I167+I178+I189+I200+I211","v":0},null,null,null,null,null,17,4,3,5]
[null,"Birdies",1,null,null,null,null,null,18,7,6,8]
[null,"Pars",{"$f":"I59+I70+I81+I92+I103+I114+I125+I136+I147+I158+I169+I180+I191+I202+I213","v":3},null,null,null,null,null,"Back",{"$f":"SUM(J40:J48)","v":52.833333333333336},{"$f":"SUM(K40:K48)","v":44},64]
[null,"bogeys",41]
[null,"Double bogeys",42]
[null,"Other",30]
[null,"Total",{"$f":"SUM(C47:C52)","v":117}]
[]
[null,{"$f":"D4","v":"2024-04-26"},"Par","Score"]
[null,{"$f":"B7","v":1},4,6,{"$f":"IF(D56<>0,IF((D56-C56)=-1,\"Birdie\",IF((D56-C56)=-2,\"Eagle\",IF((D56-C56)=0,\"Par\",IF((D56-C56)=1,\"bogey\",IF((D56-C56)=2,\"Double bogey\",\"Other\"))))),\"  \")","v":"Double bogey"},null,null,"Count"]
[null,2,4,6,"Double bogey",null,null,"Eagle",{"$f":"COUNTIF(E56:E64,\"Eagle\")","v":0}]
[null,3,3,3,"Par",null,null,"Birdie",{"$f":"COUNTIF(E56:E64,\"Birdie\")","v":0}]
[null,4,4,6,"Double bogey",null,null,"Par",{"$f":"COUNTIF(E56:E64,\"Par\")","v":1}]
[null,5,5,8,"Other",null,null,"bogey",{"$f":"COUNTIF(E56:E64,\"bogey\")","v":1}]
[null,6,3,4,"bogey",null,null,"Double bogey",{"$f":"COUNTIF(E56:E64,\"Double bogey\")","v":5}]
[null,7,4,6,"Double bogey",null,null,"Other",{"$f":"COUNTIF(E56:E64,\"Other\")","v":2}]
[null,8,4,6,"Double bogey"]
[null,9,5,8,"Other"]
[]
[null,{"$f":"J4","v":"2024-05-03"}]
[null,{"$f":"H7","v":10},4,6,{"$f":"IF(D67<>0,IF((D67-C67)=-1,\"Birdie\",IF((D67-C67)=-2,\"Eagle\",IF((D67-C67)=0,\"Par\",IF((D67-C67)=1,\"bogey\",IF((D67-C67)=2,\"Double bogey\",\"Other\"))))),\"  \")","v":"Double bogey"},null,null,"Count"]
[null,11,4,6,"Double bogey",null,null,"Eagle",{"$f":"COUNTIF(E67:E75,\"Eagle\")","v":0}]
[null,12,4,5,"bogey",null,null,"Birdie",{"$f":"COUNTIF(E67:E75,\"Birdie\")","v":0}]
[null,13,5,10,"Other",null,null,"Par",{"$f":"COUNTIF(E67:E75,\"Par\")","v":0}]
[null,14,3,6,"Other",null,null,"bogey",{"$f":"COUNTIF(E67:E75,\"bogey\")","v":3}]
[null,15,4,6,"Double bogey",null,null,"Double bogey",{"$f":"COUNTIF(E67:E75,\"Double bogey\")","v":4}]
[null,16,4,5,"bogey",null,null,"Other",{"$f":"COUNTIF(E67:E75,\"Other\")","v":2}]
[null,17,3,5,"Double bogey"]
[null,18,5,6,"bogey"]
[]
[null,{"$f":"P4","v":"2024-05-10"}]
[null,{"$f":"N7","v":1},4,6,{"$f":"IF(D78<>0,IF((D78-C78)=-1,\"Birdie\",IF((D78-C78)=-2,\"Eagle\",IF((D78-C78)=0,\"Par\",IF((D78-C78)=1,\"bogey\",IF((D78-C78)=2,\"Double bogey\",\"Other\"))))),\"  \")","v":"Double bogey"},null,null,"Count"]
[null,2,4,7,"Other",null,null,"Eagle",{"$f":"COUNTIF(E78:E86,\"Eagle\")","v":0}]
[null,3,3,3,"Par",null,null,"Birdie",{"$f":"COUNTIF(E78:E86,\"Birdie\")","v":0}]
[null,4,4,7,"Other",null,null,"Par",{"$f":"COUNTIF(E78:E86,\"Par\")","v":1}]
[null,5,5,6,"bogey",null,null,"bogey",{"$f":"COUNTIF(E78:E86,\"bogey\")","v":1}]
[null,6,3,5,"Double bogey",null,null,"Double bogey",{"$f":"COUNTIF(E78:E86,\"Double bogey\")","v":4}]
[null,7,4,6,"Double bogey",null,null,"Other",{"$f":"COUNTIF(E78:E86,\"Other\")","v":3}]
[null,8,4,6,"Double bogey"]
[null,9,5,8,"Other"]
[]
[null,{"$f":"V4","v":"2024-05-17"}]
[null,{"$f":"T7","v":10},4,6,{"$f":"IF(D89<>0,IF((D89-C89)=-1,\"Birdie\",IF((D89-C89)=-2,\"Eagle\",IF((D89-C89)=0,\"Par\",IF((D89-C89)=1,\"bogey\",IF((D89-C89)=2,\"Double bogey\",\"Other\"))))),\"  \")","v":"Double bogey"},null,null,"Count"]
[null,11,4,7,"Other",null,null,"Eagle",{"$f":"COUNTIF(E89:E97,\"Eagle\")","v":0}]
[null,12,4,6,"Double bogey",null,null,"Birdie",{"$f":"COUNTIF(E89:E97,\"Birdie\")","v":0}]
[null,13,5,7,"Double bogey",null,null,"Par",{"$f":"COUNTIF(E89:E97,\"Par\")","v":0}]
[null,14,3,5,"Double bogey",null,null,"bogey",{"$f":"COUNTIF(E89:E97,\"bogey\")","v":1}]
[null,15,4,6,"Double bogey",null,null,"Double bogey",{"$f":"COUNTIF(E89:E97,\"Double bogey\")","v":5}]
[null,16,4,7,"Other",null,null,"Other",{"$f":"COUNTIF(E89:E97,\"Other\")","v":3}]
[null,17,3,4,"bogey"]
[null,18,5,8,"Other"]
[]
[null,{"$f":"AB4","v":"2024-05-24"}]
[null,{"$f":"Z7","v":1},4,0,{"$f":"IF(D100<>0,IF((D100-C100)=-1,\"Birdie\",IF((D100-C100)=-2,\"Eagle\",IF((D100-C100)=0,\"Par\",IF((D100-C100)=1,\"bogey\",IF((D100-C100)=2,\"Double bogey\",\"Other\"))))),\"  \")","v":"  "},null,null,"Count"]
[null,2,4,0,"  ",null,null,"Eagle",{"$f":"COUNTIF(E100:E108,\"Eagle\")","v":0}]
[null,3,3,0,"  ",null,null,"Birdie",{"$f":"COUNTIF(E100:E108,\"Birdie\")","v":0}]
[null,4,4,0,"  ",null,null,"Par",{"$f":"COUNTIF(E100:E108,\"Par\")","v":0}]
[null,5,5,0,"  ",null,null,"bogey",{"$f":"COUNTIF(E100:E108,\"bogey\")","v":0}]
[null,6,3,0,"  ",null,null,"Double bogey",{"$f":"COUNTIF(E100:E108,\"Double bogey\")","v":0}]
[null,7,4,0,"  ",null,null,"Other",{"$f":"COUNTIF(E100:E108,\"Other\")","v":0}]
[null,8,4,0,"  "]
[null,9,5,0,"  "]
[]
[null,{"$f":"AH4","v":"2024-05-31"}]
[null,{"$f":"AF7","v":10},4,0,{"$f":"IF(D111<>0,IF((D111-C111)=-1,\"Birdie\",IF((D111-C111)=-2,\"Eagle\",IF((D111-C111)=0,\"Par\",IF((D111-C111)=1,\"bogey\",IF((D111-C111)=2,\"Double bogey\",\"Other\"))))),\"  \")","v":"  "},null,null,"Count"]
[null,11,4,0,"  ",null,null,"Eagle",{"$f":"COUNTIF(E111:E119,\"Eagle\")","v":0}]
[null,12,4,0,"  ",null,null,"Birdie",{"$f":"COUNTIF(E111:E119,\"Birdie\")","v":0}]
[null,13,5,0,"  ",null,null,"Par",{"$f":"COUNTIF(E111:E119,\"Par\")","v":0}]
[null,14,3,0,"  ",null,null,"bogey",{"$f":"COUNTIF(E111:E119,\"bogey\")","v":0}]
[null,15,4,0,"  ",null,null,"Double bogey",{"$f":"COUNTIF(E111:E119,\"Double bogey\")","v":0}]
[null,16,4,0,"  ",null,null,"Other",{"$f":"COUNTIF(E111:E119,\"Other\")","v":0}]
[null,17,3,0,"  "]
[null,18,5,0,"  "]
[]
[null,{"$f":"AN4","v":"2024-06-07"}]
[null,{"$f":"AL7","v":1},4,7,{"$f":"IF(D122<>0,IF((D122-C122)=-1,\"Birdie\",IF((D122-C122)=-2,\"Eagle\",IF((D122-C122)=0,\"Par\",IF((D122-C122)=1,\"bogey\",IF((D122-C122)=2,\"Double bogey\",\"Other\"))))),\"  \")","v":"Other"},null,null,"Count"]
[null,2,4,8,"Other",null,null,"Eagle",{"$f":"COUNTIF(E122:E130,\"Eagle\")","v":0}]
[null,3,3,4,"bogey",null,null,"Birdie",{"$f":"COUNTIF(E122:E130,\"Birdie\")","v":0}]
[null,4,4,6,"Double bogey",null,null,"Par",{"$f":"COUNTIF(E122:E130,\"Par\")","v":0}]
[null,5,5,8,"Other",null,null,"bogey",{"$f":"COUNTIF(E122:E130,\"bogey\")","v":1}]
[null,6,3,5,"Double bogey",null,null,"Double bogey",{"$f":"COUNTIF(E122:E130,\"Double bogey\")","v":3}]
[null,7,4,6,"Double bogey",null,null,"Other",{"$f":"COUNTIF(E122:E130,\"Other\")","v":5}]
[null,8,4,7,"Other"]
[null,9,5,8,"Other"]
[]
[null,{"$f":"AT4","v":"2024-06-14"}]
[null,{"$f":"AR7","v":10},4,6,{"$f":"IF(D133<>0,IF((D133-C133)=-1,\"Birdie\",IF((D133-C133)=-2,\"Eagle\",IF((D133-C133)=0,\"Par\",IF((D133-C133)=1,\"bogey\",IF((D133-C133)=2,\"Double bogey\",\"Other\"))))),\"  \")","v":"Double bogey"},null,null,"Count"]
[null,11,4,6,"Double bogey",null,null,"Eagle",{"$f":"COUNTIF(E133:E141,\"Eagle\")","v":0}]
[null,12,4,5,"bogey",null,null,"Birdie",{"$f":"COUNTIF(E133:E141,\"Birdie\")","v":0}]
[null,13,5,8,"Other",null,null,"Par",{"$f":"COUNTIF(E133:E141,\"Par\")","v":1}]
[null,14,3,5,"Double bogey",null,null,"bogey",{"$f":"COUNTIF(E133:E141,\"bogey\")","v":2}]
[null,15,4,8,"Other",null,null,"Double bogey",{"$f":"COUNTIF(E133:E141,\"Double bogey\")","v":4}]
[null,16,4,5,"bogey",null,null,"Other",{"$f":"COUNTIF(E133:E141,\"Other\")","v":2}]
[null,17,3,3,"Par"]
[null,18,5,7,"Double bogey"]
[]
[null,{"$f":"AZ4","v":"2024-07-05"}]
[null,{"$f":"AX7","v":1},4,7,{"$f":"IF(D144<>0,IF((D144-C144)=-1,\"Birdie\",IF((D144-C144)=-2,\"Eagle\",IF((D144-C144)=0,\"Par\",IF((D144-C144)=1,\"bogey\",IF((D144-C144)=2,\"Double bogey\",\"Other\"))))),\"  \")","v":"Other"},null,null,"Count"]
[null,2,4,5,"bogey",null,null,"Eagle",{"$f":"COUNTIF(E144:E152,\"Eagle\")","v":0}]
[null,3,3,2,"Birdie",null,null,"Birdie",{"$f":"COUNTIF(E144:E152,\"Birdie\")","v":1}]
[null,4,4,5,"bogey",null,null,"Par",{"$f":"COUNTIF(E144:E152,\"Par\")","v":0}]
[null,5,5,6,"bogey",null,null,"bogey",{"$f":"COUNTIF(E144:E152,\"bogey\")","v":5}]
[null,6,3,4,"bogey",null,null,"Double bogey",{"$f":"COUNTIF(E144:E152,\"Double bogey\")","v":2}]
[null,7,4,6,"Double bogey",null,null,"Other",{"$f":"COUNTIF(E144:E152,\"Other\")","v":1}]
[null,8,4,6,"Double bogey"]
[null,9,5,6,"bogey"]
[]
[null,{"$f":"BF4","v":"2024-07-12"}]
[null,{"$f":"BD7","v":10},4,5,{"$f":"IF(D155<>0,IF((D155-C155)=-1,\"Birdie\",IF((D155-C155)=-2,\"Eagle\",IF((D155-C155)=0,\"Par\",IF((D155-C155)=1,\"bogey\",IF((D155-C155)=2,\"Double bogey\",\"Other\"))))),\"  \")","v":"bogey"},null,null,"Count"]
[null,11,4,6,"Double bogey",null,null,"Eagle",{"$f":"COUNTIF(E155:E163,\"Eagle\")","v":0}]
[null,12,4,5,"bogey",null,null,"Birdie",{"$f":"COUNTIF(E155:E163,\"Birdie\")","v":0}]
[null,13,5,6,"bogey",null,null,"Par",{"$f":"COUNTIF(E155:E163,\"Par\")","v":0}]
[null,14,3,4,"bogey",null,null,"bogey",{"$f":"COUNTIF(E155:E163,\"bogey\")","v":6}]
[null,15,4,7,"Other",null,null,"Double bogey",{"$f":"COUNTIF(E155:E163,\"Double bogey\")","v":2}]
[null,16,4,5,"bogey",null,null,"Other",{"$f":"COUNTIF(E155:E163,\"Other\")","v":1}]
[null,17,3,4,"bogey"]
[null,18,5,7,"Double bogey"]
[]
[null,{"$f":"BL4","v":"2024-07-19"}]
[null,{"$f":"BJ7","v":1},4,5,{"$f":"IF(D166<>0,IF((D166-C166)=-1,\"Birdie\",IF((D166-C166)=-2,\"Eagle\",IF((D166-C166)=0,\"Par\",IF((D166-C166)=1,\"bogey\",IF((D166-C166)=2,\"Double bogey\",\"Other\"))))),\"  \")","v":"bogey"},null,null,"Count"]
[null,2,4,6,"Double bogey",null,null,"Eagle",{"$f":"COUNTIF(E166:E174,\"Eagle\")","v":0}]
[null,3,3,6,"Other",null,null,"Birdie",{"$f":"COUNTIF(E166:E174,\"Birdie\")","v":0}]
[null,4,4,6,"Double bogey",null,null,"Par",{"$f":"COUNTIF(E166:E174,\"Par\")","v":0}]
[null,5,5,7,"Double bogey",null,null,"bogey",{"$f":"COUNTIF(E166:E174,\"bogey\")","v":4}]
[null,6,3,5,"Double bogey",null,null,"Double bogey",{"$f":"COUNTIF(E166:E174,\"Double bogey\")","v":4}]
[null,7,4,5,"bogey",null,null,"Other",{"$f":"COUNTIF(E166:E174,\"Other\")","v":1}]
[null,8,4,5,"bogey"]
[null,9,5,6,"bogey"]
[]
[null,{"$f":"BR4","v":"2024-07-26"}]
[null,{"$f":"BP7","v":10},4,5,{"$f":"IF(D177<>0,IF((D177-C177)=-1,\"Birdie\",IF((D177-C177)=-2,\"Eagle\",IF((D177-C177)=0,\"Par\",IF((D177-C177)=1,\"bogey\",IF((D177-C177)=2,\"Double bogey\",\"Other\"))))),\"  \")","v":"bogey"},null,null,"Count"]
[null,11,4,5,"bogey",null,null,"Eagle",{"$f":"COUNTIF(E177:E185,\"Eagle\")","v":0}]
[null,12,4,5,"bogey",null,null,"Birdie",{"$f":"COUNTIF(E177:E185,\"Birdie\")","v":0}]
[null,13,5,7,"Double bogey",null,null,"Par",{"$f":"COUNTIF(E177:E185,\"Par\")","v":0}]
[null,14,3,6,"Other",null,null,"bogey",{"$f":"COUNTIF(E177:E185,\"bogey\")","v":5}]
[null,15,4,5,"bogey",null,null,"Double bogey",{"$f":"COUNTIF(E177:E185,\"Double bogey\")","v":2}]
[null,16,4,7,"Other",null,null,"Other",{"$f":"COUNTIF(E177:E185,\"Other\")","v":2}]
[null,17,3,4,"bogey"]
[null,18,5,7,"Double bogey"]
[]
[null,{"$f":"BX4","v":"2024-08-02"}]
[null,{"$f":"BV7","v":1},4,5,{"$f":"IF(D188<>0,IF((D188-C188)=-1,\"Birdie\",IF((D188-C188)=-2,\"Eagle\",IF((D188-C188)=0,\"Par\",IF((D188-C188)=1,\"bogey\",IF((D188-C188)=2,\"Double bogey\",\"Other\"))))),\"  \")","v":"bogey"},null,null,"Count"]
[null,2,4,6,"Double bogey",null,null,"Eagle",{"$f":"COUNTIF(E188:E196,\"Eagle\")","v":0}]
[null,3,3,4,"bogey",null,null,"Birdie",{"$f":"COUNTIF(E188:E196,\"Birdie\")","v":0}]
[null,4,4,5,"bogey",null,null,"Par",{"$f":"COUNTIF(E188:E196,\"Par\")","v":0}]
[null,5,5,8,"Other",null,null,"bogey",{"$f":"COUNTIF(E188:E196,\"bogey\")","v":6}]
[null,6,3,4,"bogey",null,null,"Double bogey",{"$f":"COUNTIF(E188:E196,\"Double bogey\")","v":2}]
[null,7,4,5,"bogey",null,null,"Other",{"$f":"COUNTIF(E188:E196,\"Other\")","v":1}]
[null,8,4,5,"bogey"]
[null,9,5,7,"Double bogey"]
[]
[null,{"$f":"CD4","v":"2024-08-16"}]
[null,{"$f":"CB7","v":1},4,6,{"$f":"IF(D199<>0,IF((D199-C199)=-1,\"Birdie\",IF((D199-C199)=-2,\"Eagle\",IF((D199-C199)=0,\"Par\",IF((D199-C199)=1,\"bogey\",IF((D199-C199)=2,\"Double bogey\",\"Other\"))))),\"  \")","v":"Double bogey"},null,null,"Count"]
[null,2,4,7,"Other",null,null,"Eagle",{"$f":"COUNTIF(E199:E207,\"Eagle\")","v":0}]
[null,3,3,5,"Double bogey",null,null,"Birdie",{"$f":"COUNTIF(E199:E207,\"Birdie\")","v":0}]
[null,4,4,8,"Other",null,null,"Par",{"$f":"COUNTIF(E199:E207,\"Par\")","v":0}]
[null,5,5,7,"Double bogey",null,null,"bogey",{"$f":"COUNTIF(E199:E207,\"bogey\")","v":2}]
[null,6,3,6,"Other",null,null,"Double bogey",{"$f":"COUNTIF(E199:E207,\"Double bogey\")","v":3}]
[null,7,4,5,"bogey",null,null,"Other",{"$f":"COUNTIF(E199:E207,\"Other\")","v":4}]
[null,8,4,5,"bogey"]
[null,9,5,8,"Other"]
[]
[null,{"$f":"CJ4","v":"2024-08-23"}]
[null,{"$f":"CH7","v":10},4,7,{"$f":"IF(D210<>0,IF((D210-C210)=-1,\"Birdie\",IF((D210-C210)=-2,\"Eagle\",IF((D210-C210)=0,\"Par\",IF((D210-C210)=1,\"bogey\",IF((D210-C210)=2,\"Double bogey\",\"Other\"))))),\"  \")","v":"Other"},null,null,"Count"]
[null,11,4,7,"Other",null,null,"Eagle",{"$f":"COUNTIF(E210:E218,\"Eagle\")","v":0}]
[null,12,4,5,"bogey",null,null,"Birdie",{"$f":"COUNTIF(E210:E218,\"Birdie\")","v":0}]
[null,13,5,7,"Double bogey",null,null,"Par",{"$f":"COUNTIF(E210:E218,\"Par\")","v":0}]
[null,14,3,4,"bogey",null,null,"bogey",{"$f":"COUNTIF(E210:E218,\"bogey\")","v":4}]
[null,15,4,5,"bogey",null,null,"Double bogey",{"$f":"COUNTIF(E210:E218,\"Double bogey\")","v":2}]
[null,16,4,7,"Other",null,null,"Other",{"$f":"COUNTIF(E210:E218,\"Other\")","v":3}]
[null,17,3,4,"bogey"]
[null,18,5,7,"Double bogey"]

{"sheet":"Nichols","index":14,"n_rows":218,"n_cols":90,"rows_kept":218,"cut":false,"hidden":false,"merged":[]}
["Matt Nichols"]
[]
[]
[null,null,"Date:",{"$f":"VLOOKUP(C5,Week,2)","v":"2024-04-26"},null,null,null,null,"Date:",{"$f":"VLOOKUP(I5,Week,2)","v":"2024-05-03"},null,null,null,null,"Date:",{"$f":"VLOOKUP(O5,Week,2)","v":"2024-05-10"},null,null,null,null,"Date:",{"$f":"VLOOKUP(U5,Week,2)","v":"2024-05-17"},null,null,null,null,"Date:",{"$f":"VLOOKUP(AA5,Week,2)","v":"2024-05-24"},null,null,null,null,"Date:",{"$f":"VLOOKUP(AG5,Week,2)","v":"2024-05-31"},null,null,null,null,"Date:",{"$f":"VLOOKUP(AM5,Week,2)","v":"2024-06-07"},null,null,null,null,"Date:",{"$f":"VLOOKUP(AS5,Week,2)","v":"2024-06-14"},null,null,null,null,"Date:",{"$f":"VLOOKUP(AY5,Week,2)","v":"2024-07-05"},null,null,null,null,"Date:",{"$f":"VLOOKUP(BE5,Week,2)","v":"2024-07-12"},null,null,null,null,"Date:",{"$f":"VLOOKUP(BK5,Week,2)","v":"2024-07-19"},null,null,null,null,"Date:",{"$f":"VLOOKUP(BQ5,Week,2)","v":"2024-07-26"},null,null,null,null,"Date:",{"$f":"VLOOKUP(BW5,Week,2)","v":"2024-08-02"},null,null,null,null,"Date:",{"$f":"VLOOKUP(CC5,Week,2)","v":"2024-08-16"},null,null,null,null,"Date:",{"$f":"VLOOKUP(CI5,Week,2)","v":"2024-08-23"}]
[null,"Week",1,null,null,null,null,"Week",2,null,null,null,null,"Week",3,null,null,null,null,"Week",4,null,null,null,null,"Week",5,null,null,null,null,"Week",6,null,null,null,null,"Week",7,null,null,null,null,"Week",8,null,null,null,null,"Week",9,null,null,null,null,"Week",10,null,null,null,null,"Week",11,null,null,null,null,"Week",12,null,null,null,null,"Week",13,null,null,null,null,"Week",14,null,null,null,null,"Week",15]
[null,"Hole #","Par","Score","Net","Win Hole",null,"Hole #","Par","Score","Net","Win Hole",null,"Hole #","Par","Score","Net","Win Hole",null,"Hole #","Par","Score","Net","Win Hole",null,"Hole #","Par","Score","Net","Win Hole",null,"Hole #","Par","Score","Net","Win Hole",null,"Hole #","Par","Score","Net","Win Hole",null,"Hole #","Par","Score","Net","Win Hole",null,"Hole #","Par","Score","Net","Win Hole",null,"Hole #","Par","Score","Net","Win Hole",null,"Hole #","Par","Score","Net","Win Hole",null,"Hole #","Par","Score","Net","Win Hole",null,"Hole #","Par","Score","Net","Win Hole",null,"Hole #","Par","Score","Net","Win Hole",null,"Hole #","Par","Score","Net","Win Hole"]
[null,{"$f":"VLOOKUP(C5,Week,6)","v":1},{"$f":"VLOOKUP(B7,Holes,2)","v":4},6,{"$f":"IF((D7-C7)>3,C7+3,D7)","v":6},0,null,{"$f":"VLOOKUP(I5,Week,6)","v":10},{"$f":"VLOOKUP(H7,Holes,2)","v":4},5,{"$f":"IF((J7-I7)>3,I7+3,J7)","v":5},1,null,{"$f":"VLOOKUP(O5,Week,6)","v":1},{"$f":"VLOOKUP(N7,Holes,2)","v":4},6,{"$f":"IF((P7-O7)>3,O7+3,P7)","v":6},0,null,{"$f":"VLOOKUP(U5,Week,6)","v":10},{"$f":"VLOOKUP(T7,Holes,2)","v":4},4,{"$f":"IF((V7-U7)>3,U7+3,V7)","v":4},1,null,{"$f":"VLOOKUP(AA5,Week,6)","v":1},{"$f":"VLOOKUP(Z7,Holes,2)","v":4},4,{"$f":"IF((AB7-AA7)>3,AA7+3,AB7)","v":4},1,null,{"$f":"VLOOKUP(AG5,Week,6)","v":10},{"$f":"VLOOKUP(AF7,Holes,2)","v":4},4,{"$f":"IF((AH7-AG7)>3,AG7+3,AH7)","v":4},1,null,{"$f":"VLOOKUP(AM5,Week,6)","v":1},{"$f":"VLOOKUP(AL7,Holes,2)","v":4},5,{"$f":"IF((AN7-AM7)>3,AM7+3,AN7)","v":5},1,null,{"$f":"VLOOKUP(AS5,Week,6)","v":10},{"$f":"VLOOKUP(AR7,Holes,2)","v":4},null,{"$f":"IF((AT7-AS7)>3,AS7+3,AT7)","v":0},null,null,{"$f":"VLOOKUP(AY5,Week,6)","v":1},{"$f":"VLOOKUP(AX7,Holes,2)","v":4},8,{"$f":"IF((AZ7-AY7)>3,AY7+3,AZ7)","v":7},0,null,{"$f":"VLOOKUP(BE5,Week,6)","v":10},{"$f":"VLOOKUP(BD7,Holes,2)","v":4},5,{"$f":"IF((BF7-BE7)>3,BE7+3,BF7)","v":5},0.5,null,{"$f":"VLOOKUP(BK5,Week,6)","v":1},{"$f":"VLOOKUP(BJ7,Holes,2)","v":4},null,{"$f":"IF((BL7-BK7)>3,BK7+3,BL7)","v":0},null,null,{"$f":"VLOOKUP(BQ5,Week,6)","v":10},{"$f":"VLOOKUP(BP7,Holes,2)","v":4},null,{"$f":"IF((BR7-BQ7)>3,BQ7+3,BR7)","v":0},null,null,{"$f":"VLOOKUP(BW5,Week,6)","v":1},{"$f":"VLOOKUP(BV7,Holes,2)","v":4},null,{"$f":"IF((BX7-BW7)>3,BW7+3,BX7)","v":0},null,null,{"$f":"VLOOKUP(CC5,Week,6)","v":1},{"$f":"VLOOKUP(CB7,Holes,2)","v":4},null,{"$f":"IF((CD7-CC7)>3,CC7+3,CD7)","v":0},null,null,{"$f":"VLOOKUP(CI5,Week,6)","v":10},{"$f":"VLOOKUP(CH7,Holes,2)","v":4},null,{"$f":"IF((CJ7-CI7)>3,CI7+3,CJ7)","v":0}]
[null,{"$f":"+B7+1","v":2},4,5,5,0.5,null,{"$f":"+H7+1","v":11},4,6,6,0,null,{"$f":"+N7+1","v":2},4,8,7,0,null,{"$f":"+T7+1","v":11},4,5,5,0.5,null,{"$f":"+Z7+1","v":2},4,6,6,1,null,{"$f":"+AF7+1","v":11},4,4,4,1,null,{"$f":"+AL7+1","v":2},4,5,5,0.5,null,{"$f":"+AR7+1","v":11},4,null,0,null,null,{"$f":"+AX7+1","v":2},4,5,5,0.5,null,{"$f":"+BD7+1","v":11},4,7,7,0,null,{"$f":"+BJ7+1","v":2},4,null,0,null,null,{"$f":"+BP7+1","v":11},4,null,0,null,null,{"$f":"+BV7+1","v":2},4,null,0,null,null,{"$f":"+CB7+1","v":2},4,null,0,null,null,{"$f":"+CH7+1","v":11},4,null,0]
[null,3,3,5,5,0,null,12,4,7,7,0.5,null,3,3,5,5,0,null,12,4,7,7,0.5,null,3,3,4,4,1,null,12,4,6,6,0.5,null,3,3,5,5,0,null,12,4,null,0,null,null,3,3,7,6,0,null,12,4,8,7,0,null,3,3,null,0,null,null,12,4,null,0,null,null,3,3,null,0,null,null,3,3,null,0,null,null,12,4,null,0]
[null,4,4,6,6,0.5,null,13,5,7,7,0.5,null,4,4,4,4,1,null,13,5,5,5,1,null,4,4,5,5,1,null,13,5,8,8,0,null,4,4,8,7,0,null,13,5,null,0,null,null,4,4,6,6,0,null,13,5,7,7,1,null,4,4,null,0,null,null,13,5,null,0,null,null,4,4,null,0,null,null,4,4,null,0,null,null,13,5,null,0]
[null,5,5,6,6,1,null,14,3,4,4,0.5,null,5,5,6,6,1,null,14,3,4,4,0,null,5,5,7,7,0,null,14,3,7,6,0,null,5,5,5,5,1,null,14,3,null,0,null,null,5,5,9,8,0,null,14,3,4,4,0.5,null,5,5,null,0,null,null,14,3,null,0,null,null,5,5,null,0,null,null,5,5,null,0,null,null,14,3,null,0]
[null,6,3,4,4,1,null,15,4,6,6,0.5,null,6,3,4,4,1,null,15,4,7,7,0.5,null,6,3,6,6,0,null,15,4,6,6,1,null,6,3,3,3,1,null,15,4,null,0,null,null,6,3,4,4,0.5,null,15,4,4,4,0.5,null,6,3,null,0,null,null,15,4,null,0,null,null,6,3,null,0,null,null,6,3,null,0,null,null,15,4,null,0]
[null,7,4,5,5,1,null,16,4,6,6,1,null,7,4,5,5,0,null,16,4,7,7,0.5,null,7,4,4,4,1,null,16,4,6,6,0,null,7,4,7,7,0,null,16,4,null,0,null,null,7,4,5,5,0,null,16,4,6,6,0,null,7,4,null,0,null,null,16,4,null,0,null,null,7,4,null,0,null,null,7,4,null,0,null,null,16,4,null,0]
[null,8,4,6,6,0.5,null,17,3,4,4,1,null,8,4,7,7,0,null,17,3,4,4,0.5,null,8,4,7,7,0,null,17,3,4,4,0.5,null,8,4,7,7,0,null,17,3,null,0,null,null,8,4,4,4,0.5,null,17,3,5,5,0,null,8,4,null,0,null,null,17,3,null,0,null,null,8,4,null,0,null,null,8,4,null,0,null,null,17,3,null,0]
[null,9,5,9,8,0,null,18,5,8,8,0,null,9,5,6,6,0.5,null,18,5,6,6,1,null,9,5,6,6,0,null,18,5,5,5,1,null,9,5,7,7,0.5,null,18,5,null,0,null,null,9,5,7,7,0,null,18,5,5,5,1,null,9,5,null,0,null,null,18,5,null,0,null,null,9,5,null,0,null,null,9,5,null,0,null,null,18,5,null,0]
[null,"Total",{"$f":"SUM(C7:C15)","v":36},{"$f":"SUM(D7:D15)","v":52},{"$f":"SUM(E7:E15)","v":51},{"$f":"SUM(F7:F15)","v":4.5},null,"Total",{"$f":"SUM(I7:I15)","v":36},{"$f":"SUM(J7:J15)","v":53},{"$f":"SUM(K7:K15)","v":53},{"$f":"SUM(L7:L15)","v":5},null,"Total",{"$f":"SUM(O7:O15)","v":36},{"$f":"SUM(P7:P15)","v":51},{"$f":"SUM(Q7:Q15)","v":50},{"$f":"SUM(R7:R15)","v":3.5},null,"Total",{"$f":"SUM(U7:U15)","v":36},{"$f":"SUM(V7:V15)","v":49},{"$f":"SUM(W7:W15)","v":49},{"$f":"SUM(X7:X15)","v":5.5},null,"Total",{"$f":"SUM(AA7:AA15)","v":36},{"$f":"SUM(AB7:AB15)","v":49},{"$f":"SUM(AC7:AC15)","v":49},{"$f":"SUM(AD7:AD15)","v":5},null,"Total",{"$f":"SUM(AG7:AG15)","v":36},{"$f":"SUM(AH7:AH15)","v":50},{"$f":"SUM(AI7:AI15)","v":49},{"$f":"SUM(AJ7:AJ15)","v":5},null,"Total",{"$f":"SUM(AM7:AM15)","v":36},{"$f":"SUM(AN7:AN15)","v":52},{"$f":"SUM(AO7:AO15)","v":51},{"$f":"SUM(AP7:AP15)","v":4},null,"Total",{"$f":"SUM(AS7:AS15)","v":36},{"$f":"SUM(AT7:AT15)","v":0},{"$f":"SUM(AU7:AU15)","v":0},{"$f":"SUM(AV7:AV15)","v":0},null,"Total",{"$f":"SUM(AY7:AY15)","v":36},{"$f":"SUM(AZ7:AZ15)","v":55},{"$f":"SUM(BA7:BA15)","v":52},{"$f":"SUM(BB7:BB15)","v":1.5},null,"Total",{"$f":"SUM(BE7:BE15)","v":36},{"$f":"SUM(BF7:BF15)","v":51},{"$f":"SUM(BG7:BG15)","v":50},{"$f":"SUM(BH7:BH15)","v":3.5},null,"Total",{"$f":"SUM(BK7:BK15)","v":36},{"$f":"SUM(BL7:BL15)","v":0},{"$f":"SUM(BM7:BM15)","v":0},{"$f":"SUM(BN7:BN15)","v":0},null,"Total",{"$f":"SUM(BQ7:BQ15)","v":36},{"$f":"SUM(BR7:BR15)","v":0},{"$f":"SUM(BS7:BS15)","v":0},{"$f":"SUM(BT7:BT15)","v":0},null,"Total",{"$f":"SUM(BW7:BW15)","v":36},{"$f":"SUM(BX7:BX15)","v":0},{"$f":"SUM(BY7:BY15)","v":0},{"$f":"SUM(BZ7:BZ15)","v":0},null,"Total",{"$f":"SUM(CC7:CC15)","v":36},{"$f":"SUM(CD7:CD15)","v":0},{"$f":"SUM(CE7:CE15)","v":0},{"$f":"SUM(CF7:CF15)","v":0},null,"Total",{"$f":"SUM(CI7:CI15)","v":36},{"$f":"SUM(CJ7:CJ15)","v":0},{"$f":"SUM(CK7:CK15)","v":0},{"$f":"SUM(CL7:CL15)","v":0}]
[]
[null,null,null,null,"Low Net",0.5,null,null,null,null,"Low Net",0,null,null,null,null,"Low Net",0.5,null,null,null,null,"Low Net",1,null,null,null,null,"Low Net",1,null,null,null,null,"Low Net",0,null,null,null,null,"Low Net",0,null,null,null,null,"Low Net",null,null,null,null,null,"Low Net",0,null,null,null,null,"Low Net",0,null,null,null,null,"Low Net",null,null,null,null,null,"Low Net",null,null,null,null,null,"Low Net",null,null,null,null,null,"Low Net",null,null,null,null,null,"Low Net"]
[]
[null,null,null,null,"Total Points",{"$f":"SUM(F16:F19)","v":5},null,null,null,null,"Total Points",{"$f":"SUM(L16:L19)","v":5},null,null,null,null,"Total Points",{"$f":"SUM(R16:R19)","v":4},null,null,null,null,"Total Points",{"$f":"SUM(X16:X19)","v":6.5},null,null,null,null,"Total Points",{"$f":"SUM(AD16:AD19)","v":6},null,null,null,null,"Total Points",{"$f":"SUM(AJ16:AJ19)","v":5},null,null,null,null,"Total Points",{"$f":"SUM(AP16:AP19)","v":4},null,null,null,null,"Total Points",{"$f":"SUM(AV16:AV19)","v":0},null,null,null,null,"Total Points",{"$f":"SUM(BB16:BB19)","v":1.5},null,null,null,null,"Total Points",{"$f":"SUM(BH16:BH19)","v":3.5},null,null,null,null,"Total Points",{"$f":"SUM(BN16:BN19)","v":0},null,null,null,null,"Total Points",{"$f":"SUM(BT16:BT19)","v":0},null,null,null,null,"Total Points",{"$f":"SUM(BZ16:BZ19)","v":0},null,null,null,null,"Total Points",{"$f":"SUM(CF16:CF19)","v":0},null,null,null,null,"Total Points",{"$f":"SUM(CL16:CL19)","v":0}]
[]
[null,null,null,null,"Handicap",{"$f":"IF(D16=0,0,E16-C16)","v":15},null,null,null,null,"Handicap",{"$f":"IF(J16=0,0,K16-I16)","v":17},null,null,null,null,"Handicap",{"$f":"IF(P16=0,0,Q16-O16)","v":14},null,null,null,null,"Handicap",{"$f":"IF(V16=0,0,W16-U16)","v":13},null,null,null,null,"Handicap",{"$f":"IF(AB16=0,0,AC16-AA16)","v":13},null,null,null,null,"Handicap",{"$f":"IF(AH16=0,0,AI16-AG16)","v":13},null,null,null,null,"Handicap",{"$f":"IF(AN16=0,0,AO16-AM16)","v":15},null,null,null,null,"Handicap",{"$f":"IF(AT16=0,0,AU16-AS16)","v":0},null,null,null,null,"Handicap",{"$f":"IF(AZ16=0,0,BA16-AY16)","v":16},null,null,null,null,"Handicap",{"$f":"IF(BF16=0,0,BG16-BE16)","v":14},null,null,null,null,"Handicap",{"$f":"IF(BL16=0,0,BM16-BK16)","v":0},null,null,null,null,"Handicap",{"$f":"IF(BR16=0,0,BS16-BQ16)","v":0},null,null,null,null,"Handicap",{"$f":"IF(BX16=0,0,BY16-BW16)","v":0},null,null,null,null,"Handicap",{"$f":"IF(CD16=0,0,CE16-CC16)","v":0},null,null,null,null,"Handicap",{"$f":"IF(CJ16=0,0,CK16-CI16)","v":0}]
[]
[null,null,null,null,null,{"$f":"IF(D16<>0,IF(F16>4.5,\"W\",IF(F16=4.5,\"T\",IF(F16<4.5,\"L\"))),0)","v":"T"},null,null,null,null,null,{"$f":"IF(J16<>0,IF(L16>4.5,\"W\",IF(L16=4.5,\"T\",IF(L16<4.5,\"L\"))),0)","v":"W"},null,null,null,null,null,{"$f":"IF(P16<>0,IF(R16>4.5,\"W\",IF(R16=4.5,\"T\",IF(R16<4.5,\"L\"))),0)","v":"L"},null,null,null,null,null,{"$f":"IF(V16<>0,IF(X16>4.5,\"W\",IF(X16=4.5,\"T\",IF(X16<4.5,\"L\"))),0)","v":"W"},null,null,null,null,null,{"$f":"IF(AB16<>0,IF(AD16>4.5,\"W\",IF(AD16=4.5,\"T\",IF(AD16<4.5,\"L\"))),0)","v":"W"},null,null,null,null,null,{"$f":"IF(AH16<>0,IF(AJ16>4.5,\"W\",IF(AJ16=4.5,\"T\",IF(AJ16<4.5,\"L\"))),0)","v":"W"},null,null,null,null,null,{"$f":"IF(AN16<>0,IF(AP16>4.5,\"W\",IF(AP16=4.5,\"T\",IF(AP16<4.5,\"L\"))),0)","v":"L"},null,null,null,null,null,{"$f":"IF(AT16<>0,IF(AV16>4.5,\"W\",IF(AV16=4.5,\"T\",IF(AV16<4.5,\"L\"))),0)","v":0},null,null,null,null,null,{"$f":"IF(AZ16<>0,IF(BB16>4.5,\"W\",IF(BB16=4.5,\"T\",IF(BB16<4.5,\"L\"))),0)","v":"L"},null,null,null,null,null,{"$f":"IF(BF16<>0,IF(BH16>4.5,\"W\",IF(BH16=4.5,\"T\",IF(BH16<4.5,\"L\"))),0)","v":"L"},null,null,null,null,null,{"$f":"IF(BL16<>0,IF(BN16>4.5,\"W\",IF(BN16=4.5,\"T\",IF(BN16<4.5,\"L\"))),0)","v":0},null,null,null,null,null,{"$f":"IF(BR16<>0,IF(BT16>4.5,\"W\",IF(BT16=4.5,\"T\",IF(BT16<4.5,\"L\"))),0)","v":0},null,null,null,null,null,{"$f":"IF(BX16<>0,IF(BZ16>4.5,\"W\",IF(BZ16=4.5,\"T\",IF(BZ16<4.5,\"L\"))),0)","v":0},null,null,null,null,null,{"$f":"IF(CD16<>0,IF(CF16>4.5,\"W\",IF(CF16=4.5,\"T\",IF(CF16<4.5,\"L\"))),0)","v":0},null,null,null,null,null,{"$f":"IF(CJ16<>0,IF(CL16>4.5,\"W\",IF(CL16=4.5,\"T\",IF(CL16<4.5,\"L\"))),0)","v":0}]
[]
[null,"Summary",null,{"$f":"COUNT(D29:D43)","v":9}]
[null,null,null,"Adj",null,"Adj",null,null,null,"Avg Score"]
[null,null,"Points","Points","Matches","Matches",null,null,"Hole #","by Hole","Best","Worst"]
[null,"Week #1",{"$f":"F20","v":5},{"$f":"C29","v":5},{"$f":"IF(D16>0,1,0)","v":1},{"$f":"E29","v":1},null,null,1,{"$f":"IFERROR(AVERAGE(D7,P7,AB7,AN7,AZ7,BL7,BX7,CD7),0)","v":5.8},{"$f":"IFERROR(MIN(D7,P7,AB7,AN7,AZ7,BL7,BX7,CD7),0)","v":4},{"$f":"IFERROR(MAX(D7,P7,AB7,AN7,AZ7,BL7,BX7,CD7),0)","v":8}]
[null,"Week #2",{"$f":"L20","v":5},5,{"$f":"IF(J16>0,1,0)","v":1},1,null,null,2,{"$f":"IFERROR(AVERAGE(D8,P8,AB8,AN8,AZ8,BL8,BX8,CD8),0)","v":5.8},{"$f":"IFERROR(MIN(D8,P8,AB8,AN8,AZ8,BL8,BX8,CD8),0)","v":5},{"$f":"IFERROR(MAX(D8,P8,AB8,AN8,AZ8,BL8,BX8,CD8),0)","v":8}]
[null,"Week #3",{"$f":"R20","v":4},4,{"$f":"IF(P16>0,1,0)","v":1},1,null,null,3,5.2,4,7]
[null,"Week #4",{"$f":"X20","v":6.5},6.5,{"$f":"IF(V16>0,1,0)","v":1},1,null,null,4,5.8,4,8]
[null,"Week #5",{"$f":"AD20","v":6},6,{"$f":"IF(AB16>0,1,0)","v":1},1,null,null,5,6.6,5,9]
[null,"Week #6",{"$f":"AJ20","v":5},5,{"$f":"IF(AH16>0,1,0)","v":1},1,null,null,6,4.2,3,6]
[null,"Week #7",{"$f":"AP20","v":4},4,{"$f":"IF(AN16>0,1,0)","v":1},1,null,null,7,5.2,4,7]
[null,"Week #8",{"$f":"AV20","v":0},null,{"$f":"IF(AT16>0,1,0)","v":0},0,null,null,8,6.2,4,7]
[null,"Week #9",{"$f":"BB20","v":1.5},1.5,{"$f":"IF(AZ16>0,1,0)","v":1},1,null,null,9,7,6,9]
[null,"Week #10",{"$f":"BH20","v":3.5},3.5,{"$f":"IF(BF16>0,1,0)","v":1},1,null,null,"Front",{"$f":"SUM(J29:J37)","v":51.800000000000011},{"$f":"SUM(K29:K37)","v":39},69]
[null,"Week #11",{"$f":"BN20","v":0},null,{"$f":"IF(BL16>0,1,0)","v":0},0]
[null,"Week #12",{"$f":"BT20","v":0},null,{"$f":"IF(BR16>0,1,0)","v":0},0,null,null,10,{"$f":"IFERROR(AVERAGE(J7,V7,AH7,AT7,BF7,BR7,CJ7),0)","v":4.5},{"$f":"IFERROR(MIN(J7,V7,AH7,AT7,BF7,BR7,CJ7),0)","v":4},{"$f":"IFERROR(MAX(J7,V7,AH7,AT7,BF7,BR7,CJ7),0)","v":5}]
[null,"Week #13",{"$f":"BZ20","v":0},null,{"$f":"IF(BX16>0,1,0)","v":0},0,null,null,11,{"$f":"IFERROR(AVERAGE(J8,V8,AH8,AT8,BF8,BR8,CJ8),0)","v":5.5},{"$f":"IFERROR(MIN(J8,V8,AH8,AT8,BF8,BR8,CJ8),0)","v":4},{"$f":"IFERROR(MAX(J8,V8,AH8,AT8,BF8,BR8,CJ8),0)","v":7}]
[null,"Week #14",{"$f":"CF20","v":0},null,{"$f":"IF(CD16>0,1,0)","v":0},0,null,null,12,7,6,8]
[null,"Week #15",{"$f":"CL20","v":0},null,{"$f":"IF(CJ16>0,1,0)","v":0},0,null,null,13,6.75,5,8]
[null,"Total",{"$f":"SUM(C29:C43)","v":40.5},{"$f":"SUM(D29:D43)","v":40.5},{"$f":"SUM(E29:E43)","v":9},{"$f":"SUM(F29:F43)","v":9},null,null,14,4.75,4,7]
[null,null,null,null,null,null,null,null,15,5.75,4,7]
[null,"Summary",null,null,null,null,null,null,16,6.25,6,7]
[null,"Eagles",{"$f":"I57+I68+I79+I90+I101+I112+I123+I134+I145+I156+I167+I178+I189+I200+I211","v":0},null,null,null,null,null,17,4.25,4,5]
[null,"Birdies",0,null,null,null,null,null,18,6,5,8]
[null,"Pars",13,null,null,null,null,null,"Back",{"$f":"SUM(J40:J48)","v":50.75},{"$f":"SUM(K40:K48)","v":42},62]
[null,"bogeys",26]
[null,"Double bogeys",22]
[null,"Other",20]
[null,"Total",{"$f":"SUM(C47:C52)","v":81}]
[]
[null,{"$f":"D4","v":"2024-04-26"},"Par","Score"]
[null,{"$f":"B7","v":1},4,6,{"$f":"IF(D56<>0,IF((D56-C56)=-1,\"Birdie\",IF((D56-C56)=-2,\"Eagle\",IF((D56-C56)=0,\"Par\",IF((D56-C56)=1,\"bogey\",IF((D56-C56)=2,\"Double bogey\",\"Other\"))))),\"  \")","v":"Double bogey"},null,null,"Count"]
[null,2,4,5,"bogey",null,null,"Eagle",{"$f":"COUNTIF(E56:E64,\"Eagle\")","v":0}]
[null,3,3,5,"Double bogey",null,null,"Birdie",{"$f":"COUNTIF(E56:E64,\"Birdie\")","v":0}]
[null,4,4,6,"Double bogey",null,null,"Par",{"$f":"COUNTIF(E56:E64,\"Par\")","v":0}]
[null,5,5,6,"bogey",null,null,"bogey",{"$f":"COUNTIF(E56:E64,\"bogey\")","v":4}]
[null,6,3,4,"bogey",null,null,"Double bogey",{"$f":"COUNTIF(E56:E64,\"Double bogey\")","v":4}]
[null,7,4,5,"bogey",null,null,"Other",{"$f":"COUNTIF(E56:E64,\"Other\")","v":1}]
[null,8,4,6,"Double bogey"]
[null,9,5,9,"Other"]
[]
[null,{"$f":"J4","v":"2024-05-03"}]
[null,{"$f":"H7","v":10},4,5,{"$f":"IF(D67<>0,IF((D67-C67)=-1,\"Birdie\",IF((D67-C67)=-2,\"Eagle\",IF((D67-C67)=0,\"Par\",IF((D67-C67)=1,\"bogey\",IF((D67-C67)=2,\"Double bogey\",\"Other\"))))),\"  \")","v":"bogey"},null,null,"Count"]
[null,11,4,6,"Double bogey",null,null,"Eagle",{"$f":"COUNTIF(E67:E75,\"Eagle\")","v":0}]
[null,12,4,7,"Other",null,null,"Birdie",{"$f":"COUNTIF(E67:E75,\"Birdie\")","v":0}]
[null,13,5,7,"Double bogey",null,null,"Par",{"$f":"COUNTIF(E67:E75,\"Par\")","v":0}]
[null,14,3,4,"bogey",null,null,"bogey",{"$f":"COUNTIF(E67:E75,\"bogey\")","v":3}]
[null,15,4,6,"Double bogey",null,null,"Double bogey",{"$f":"COUNTIF(E67:E75,\"Double bogey\")","v":4}]
[null,16,4,6,"Double bogey",null,null,"Other",{"$f":"COUNTIF(E67:E75,\"Other\")","v":2}]
[null,17,3,4,"bogey"]
[null,18,5,8,"Other"]
[]
[null,{"$f":"P4","v":"2024-05-10"}]
[null,{"$f":"N7","v":1},4,6,{"$f":"IF(D78<>0,IF((D78-C78)=-1,\"Birdie\",IF((D78-C78)=-2,\"Eagle\",IF((D78-C78)=0,\"Par\",IF((D78-C78)=1,\"bogey\",IF((D78-C78)=2,\"Double bogey\",\"Other\"))))),\"  \")","v":"Double bogey"},null,null,"Count"]
[null,2,4,8,"Other",null,null,"Eagle",{"$f":"COUNTIF(E78:E86,\"Eagle\")","v":0}]
[null,3,3,5,"Double bogey",null,null,"Birdie",{"$f":"COUNTIF(E78:E86,\"Birdie\")","v":0}]
[null,4,4,4,"Par",null,null,"Par",{"$f":"COUNTIF(E78:E86,\"Par\")","v":1}]
[null,5,5,6,"bogey",null,null,"bogey",{"$f":"COUNTIF(E78:E86,\"bogey\")","v":4}]
[null,6,3,4,"bogey",null,null,"Double bogey",{"$f":"COUNTIF(E78:E86,\"Double bogey\")","v":2}]
[null,7,4,5,"bogey",null,null,"Other",{"$f":"COUNTIF(E78:E86,\"Other\")","v":2}]
[null,8,4,7,"Other"]
[null,9,5,6,"bogey"]
[]
[null,{"$f":"V4","v":"2024-05-17"}]
[null,{"$f":"T7","v":10},4,4,{"$f":"IF(D89<>0,IF((D89-C89)=-1,\"Birdie\",IF((D89-C89)=-2,\"Eagle\",IF((D89-C89)=0,\"Par\",IF((D89-C89)=1,\"bogey\",IF((D89-C89)=2,\"Double bogey\",\"Other\"))))),\"  \")","v":"Par"},null,null,"Count"]
[null,11,4,5,"bogey",null,null,"Eagle",{"$f":"COUNTIF(E89:E97,\"Eagle\")","v":0}]
[null,12,4,7,"Other",null,null,"Birdie",{"$f":"COUNTIF(E89:E97,\"Birdie\")","v":0}]
[null,13,5,5,"Par",null,null,"Par",{"$f":"COUNTIF(E89:E97,\"Par\")","v":2}]
[null,14,3,4,"bogey",null,null,"bogey",{"$f":"COUNTIF(E89:E97,\"bogey\")","v":4}]
[null,15,4,7,"Other",null,null,"Double bogey",{"$f":"COUNTIF(E89:E97,\"Double bogey\")","v":0}]
[null,16,4,7,"Other",null,null,"Other",{"$f":"COUNTIF(E89:E97,\"Other\")","v":3}]
[null,17,3,4,"bogey"]
[null,18,5,6,"bogey"]
[]
[null,{"$f":"AB4","v":"2024-05-24"}]
[null,{"$f":"Z7","v":1},4,4,{"$f":"IF(D100<>0,IF((D100-C100)=-1,\"Birdie\",IF((D100-C100)=-2,\"Eagle\",IF((D100-C100)=0,\"Par\",IF((D100-C100)=1,\"bogey\",IF((D100-C100)=2,\"Double bogey\",\"Other\"))))),\"  \")","v":"Par"},null,null,"Count"]
[null,2,4,6,"Double bogey",null,null,"Eagle",{"$f":"COUNTIF(E100:E108,\"Eagle\")","v":0}]
[null,3,3,4,"bogey",null,null,"Birdie",{"$f":"COUNTIF(E100:E108,\"Birdie\")","v":0}]
[null,4,4,5,"bogey",null,null,"Par",{"$f":"COUNTIF(E100:E108,\"Par\")","v":2}]
[null,5,5,7,"Double bogey",null,null,"bogey",{"$f":"COUNTIF(E100:E108,\"bogey\")","v":3}]
[null,6,3,6,"Other",null,null,"Double bogey",{"$f":"COUNTIF(E100:E108,\"Double bogey\")","v":2}]
[null,7,4,4,"Par",null,null,"Other",{"$f":"COUNTIF(E100:E108,\"Other\")","v":2}]
[null,8,4,7,"Other"]
[null,9,5,6,"bogey"]
[]
[null,{"$f":"AH4","v":"2024-05-31"}]
[null,{"$f":"AF7","v":10},4,4,{"$f":"IF(D111<>0,IF((D111-C111)=-1,\"Birdie\",IF((D111-C111)=-2,\"Eagle\",IF((D111-C111)=0,\"Par\",IF((D111-C111)=1,\"bogey\",IF((D111-C111)=2,\"Double bogey\",\"Other\"))))),\"  \")","v":"Par"},null,null,"Count"]
[null,11,4,4,"Par",null,null,"Eagle",{"$f":"COUNTIF(E111:E119,\"Eagle\")","v":0}]
[null,12,4,6,"Double bogey",null,null,"Birdie",{"$f":"COUNTIF(E111:E119,\"Birdie\")","v":0}]
[null,13,5,8,"Other",null,null,"Par",{"$f":"COUNTIF(E111:E119,\"Par\")","v":3}]
[null,14,3,7,"Other",null,null,"bogey",{"$f":"COUNTIF(E111:E119,\"bogey\")","v":1}]
[null,15,4,6,"Double bogey",null,null,"Double bogey",{"$f":"COUNTIF(E111:E119,\"Double bogey\")","v":3}]
[null,16,4,6,"Double bogey",null,null,"Other",{"$f":"COUNTIF(E111:E119,\"Other\")","v":2}]
[null,17,3,4,"bogey"]
[null,18,5,5,"Par"]
[]
[null,{"$f":"AN4","v":"2024-06-07"}]
[null,{"$f":"AL7","v":1},4,5,{"$f":"IF(D122<>0,IF((D122-C122)=-1,\"Birdie\",IF((D122-C122)=-2,\"Eagle\",IF((D122-C122)=0,\"Par\",IF((D122-C122)=1,\"bogey\",IF((D122-C122)=2,\"Double bogey\",\"Other\"))))),\"  \")","v":"bogey"},null,null,"Count"]
[null,2,4,5,"bogey",null,null,"Eagle",{"$f":"COUNTIF(E122:E130,\"Eagle\")","v":0}]
[null,3,3,5,"Double bogey",null,null,"Birdie",{"$f":"COUNTIF(E122:E130,\"Birdie\")","v":0}]
[null,4,4,8,"Other",null,null,"Par",{"$f":"COUNTIF(E122:E130,\"Par\")","v":2}]
[null,5,5,5,"Par",null,null,"bogey",{"$f":"COUNTIF(E122:E130,\"bogey\")","v":2}]
[null,6,3,3,"Par",null,null,"Double bogey",{"$f":"COUNTIF(E122:E130,\"Double bogey\")","v":2}]
[null,7,4,7,"Other",null,null,"Other",{"$f":"COUNTIF(E122:E130,\"Other\")","v":3}]
[null,8,4,7,"Other"]
[null,9,5,7,"Double bogey"]
[]
[null,{"$f":"AT4","v":"2024-06-14"}]
[null,{"$f":"AR7","v":10},4,0,{"$f":"IF(D133<>0,IF((D133-C133)=-1,\"Birdie\",IF((D133-C133)=-2,\"Eagle\",IF((D133-C133)=0,\"Par\",IF((D133-C133)=1,\"bogey\",IF((D133-C133)=2,\"Double bogey\",\"Other\"))))),\"  \")","v":"  "},null,null,"Count"]
[null,11,4,0,"  ",null,null,"Eagle",{"$f":"COUNTIF(E133:E141,\"Eagle\")","v":0}]
[null,12,4,0,"  ",null,null,"Birdie",{"$f":"COUNTIF(E133:E141,\"Birdie\")","v":0}]
[null,13,5,0,"  ",null,null,"Par",{"$f":"COUNTIF(E133:E141,\"Par\")","v":0}]
[null,14,3,0,"  ",null,null,"bogey",{"$f":"COUNTIF(E133:E141,\"bogey\")","v":0}]
[null,15,4,0,"  ",null,null,"Double bogey",{"$f":"COUNTIF(E133:E141,\"Double bogey\")","v":0}]
[null,16,4,0,"  ",null,null,"Other",{"$f":"COUNTIF(E133:E141,\"Other\")","v":0}]
[null,17,3,0,"  "]
[null,18,5,0,"  "]
[]
[null,{"$f":"AZ4","v":"2024-07-05"}]
[null,{"$f":"AX7","v":1},4,8,{"$f":"IF(D144<>0,IF((D144-C144)=-1,\"Birdie\",IF((D144-C144)=-2,\"Eagle\",IF((D144-C144)=0,\"Par\",IF((D144-C144)=1,\"bogey\",IF((D144-C144)=2,\"Double bogey\",\"Other\"))))),\"  \")","v":"Other"},null,null,"Count"]
[null,2,4,5,"bogey",null,null,"Eagle",{"$f":"COUNTIF(E144:E152,\"Eagle\")","v":0}]
[null,3,3,7,"Other",null,null,"Birdie",{"$f":"COUNTIF(E144:E152,\"Birdie\")","v":0}]
[null,4,4,6,"Double bogey",null,null,"Par",{"$f":"COUNTIF(E144:E152,\"Par\")","v":1}]
[null,5,5,9,"Other",null,null,"bogey",{"$f":"COUNTIF(E144:E152,\"bogey\")","v":3}]
[null,6,3,4,"bogey",null,null,"Double bogey",{"$f":"COUNTIF(E144:E152,\"Double bogey\")","v":2}]
[null,7,4,5,"bogey",null,null,"Other",{"$f":"COUNTIF(E144:E152,\"Other\")","v":3}]
[null,8,4,4,"Par"]
[null,9,5,7,"Double bogey"]
[]
[null,{"$f":"BF4","v":"2024-07-12"}]
[null,{"$f":"BD7","v":10},4,5,{"$f":"IF(D155<>0,IF((D155-C155)=-1,\"Birdie\",IF((D155-C155)=-2,\"Eagle\",IF((D155-C155)=0,\"Par\",IF((D155-C155)=1,\"bogey\",IF((D155-C155)=2,\"Double bogey\",\"Other\"))))),\"  \")","v":"bogey"},null,null,"Count"]
[null,11,4,7,"Other",null,null,"Eagle",{"$f":"COUNTIF(E155:E163,\"Eagle\")","v":0}]
[null,12,4,8,"Other",null,null,"Birdie",{"$f":"COUNTIF(E155:E163,\"Birdie\")","v":0}]
[null,13,5,7,"Double bogey",null,null,"Par",{"$f":"COUNTIF(E155:E163,\"Par\")","v":2}]
[null,14,3,4,"bogey",null,null,"bogey",{"$f":"COUNTIF(E155:E163,\"bogey\")","v":2}]
[null,15,4,4,"Par",null,null,"Double bogey",{"$f":"COUNTIF(E155:E163,\"Double bogey\")","v":3}]
[null,16,4,6,"Double bogey",null,null,"Other",{"$f":"COUNTIF(E155:E163,\"Other\")","v":2}]
[null,17,3,5,"Double bogey"]
[null,18,5,5,"Par"]
[]
[null,{"$f":"BL4","v":"2024-07-19"}]
[null,{"$f":"BJ7","v":1},4,0,{"$f":"IF(D166<>0,IF((D166-C166)=-1,\"Birdie\",IF((D166-C166)=-2,\"Eagle\",IF((D166-C166)=0,\"Par\",IF((D166-C166)=1,\"bogey\",IF((D166-C166)=2,\"Double bogey\",\"Other\"))))),\"  \")","v":"  "},null,null,"Count"]
[null,2,4,0,"  ",null,null,"Eagle",{"$f":"COUNTIF(E166:E174,\"Eagle\")","v":0}]
[null,3,3,0,"  ",null,null,"Birdie",{"$f":"COUNTIF(E166:E174,\"Birdie\")","v":0}]
[null,4,4,0,"  ",null,null,"Par",{"$f":"COUNTIF(E166:E174,\"Par\")","v":0}]
[null,5,5,0,"  ",null,null,"bogey",{"$f":"COUNTIF(E166:E174,\"bogey\")","v":0}]
[null,6,3,0,"  ",null,null,"Double bogey",{"$f":"COUNTIF(E166:E174,\"Double bogey\")","v":0}]
[null,7,4,0,"  ",null,null,"Other",{"$f":"COUNTIF(E166:E174,\"Other\")","v":0}]
[null,8,4,0,"  "]
[null,9,5,0,"  "]
[]
[null,{"$f":"BR4","v":"2024-07-26"}]
[null,{"$f":"BP7","v":10},4,0,{"$f":"IF(D177<>0,IF((D177-C177)=-1,\"Birdie\",IF((D177-C177)=-2,\"Eagle\",IF((D177-C177)=0,\"Par\",IF((D177-C177)=1,\"bogey\",IF((D177-C177)=2,\"Double bogey\",\"Other\"))))),\"  \")","v":"  "},null,null,"Count"]
[null,11,4,0,"  ",null,null,"Eagle",{"$f":"COUNTIF(E177:E185,\"Eagle\")","v":0}]
[null,12,4,0,"  ",null,null,"Birdie",{"$f":"COUNTIF(E177:E185,\"Birdie\")","v":0}]
[null,13,5,0,"  ",null,null,"Par",{"$f":"COUNTIF(E177:E185,\"Par\")","v":0}]
[null,14,3,0,"  ",null,null,"bogey",{"$f":"COUNTIF(E177:E185,\"bogey\")","v":0}]
[null,15,4,0,"  ",null,null,"Double bogey",{"$f":"COUNTIF(E177:E185,\"Double bogey\")","v":0}]
[null,16,4,0,"  ",null,null,"Other",{"$f":"COUNTIF(E177:E185,\"Other\")","v":0}]
[null,17,3,0,"  "]
[null,18,5,0,"  "]
[]
[null,{"$f":"BX4","v":"2024-08-02"}]
[null,{"$f":"BV7","v":1},4,0,{"$f":"IF(D188<>0,IF((D188-C188)=-1,\"Birdie\",IF((D188-C188)=-2,\"Eagle\",IF((D188-C188)=0,\"Par\",IF((D188-C188)=1,\"bogey\",IF((D188-C188)=2,\"Double bogey\",\"Other\"))))),\"  \")","v":"  "},null,null,"Count"]
[null,2,4,0,"  ",null,null,"Eagle",{"$f":"COUNTIF(E188:E196,\"Eagle\")","v":0}]
[null,3,3,0,"  ",null,null,"Birdie",{"$f":"COUNTIF(E188:E196,\"Birdie\")","v":0}]
[null,4,4,0,"  ",null,null,"Par",{"$f":"COUNTIF(E188:E196,\"Par\")","v":0}]
[null,5,5,0,"  ",null,null,"bogey",{"$f":"COUNTIF(E188:E196,\"bogey\")","v":0}]
[null,6,3,0,"  ",null,null,"Double bogey",{"$f":"COUNTIF(E188:E196,\"Double bogey\")","v":0}]
[null,7,4,0,"  ",null,null,"Other",{"$f":"COUNTIF(E188:E196,\"Other\")","v":0}]
[null,8,4,0,"  "]
[null,9,5,0,"  "]
[]
[null,{"$f":"CD4","v":"2024-08-16"}]
[null,{"$f":"CB7","v":1},4,0,{"$f":"IF(D199<>0,IF((D199-C199)=-1,\"Birdie\",IF((D199-C199)=-2,\"Eagle\",IF((D199-C199)=0,\"Par\",IF((D199-C199)=1,\"bogey\",IF((D199-C199)=2,\"Double bogey\",\"Other\"))))),\"  \")","v":"  "},null,null,"Count"]
[null,2,4,0,"  ",null,null,"Eagle",{"$f":"COUNTIF(E199:E207,\"Eagle\")","v":0}]
[null,3,3,0,"  ",null,null,"Birdie",{"$f":"COUNTIF(E199:E207,\"Birdie\")","v":0}]
[null,4,4,0,"  ",null,null,"Par",{"$f":"COUNTIF(E199:E207,\"Par\")","v":0}]
[null,5,5,0,"  ",null,null,"bogey",{"$f":"COUNTIF(E199:E207,\"bogey\")","v":0}]
[null,6,3,0,"  ",null,null,"Double bogey",{"$f":"COUNTIF(E199:E207,\"Double bogey\")","v":0}]
[null,7,4,0,"  ",null,null,"Other",{"$f":"COUNTIF(E199:E207,\"Other\")","v":0}]
[null,8,4,0,"  "]
[null,9,5,0,"  "]
[]
[null,{"$f":"CJ4","v":"2024-08-23"}]
[null,{"$f":"CH7","v":10},4,0,{"$f":"IF(D210<>0,IF((D210-C210)=-1,\"Birdie\",IF((D210-C210)=-2,\"Eagle\",IF((D210-C210)=0,\"Par\",IF((D210-C210)=1,\"bogey\",IF((D210-C210)=2,\"Double bogey\",\"Other\"))))),\"  \")","v":"  "},null,null,"Count"]
[null,11,4,0,"  ",null,null,"Eagle",{"$f":"COUNTIF(E210:E218,\"Eagle\")","v":0}]
[null,12,4,0,"  ",null,null,"Birdie",{"$f":"COUNTIF(E210:E218,\"Birdie\")","v":0}]
[null,13,5,0,"  ",null,null,"Par",{"$f":"COUNTIF(E210:E218,\"Par\")","v":0}]
[null,14,3,0,"  ",null,null,"bogey",{"$f":"COUNTIF(E210:E218,\"bogey\")","v":0}]
[null,15,4,0,"  ",null,null,"Double bogey",{"$f":"COUNTIF(E210:E218,\"Double bogey\")","v":0}]
[null,16,4,0,"  ",null,null,"Other",{"$f":"COUNTIF(E210:E218,\"Other\")","v":0}]
[null,17,3,0,"  "]
[null,18,5,0,"  "]

{"sheet":"Palmerino","index":15,"n_rows":218,"n_cols":90,"rows_kept":218,"cut":false,"hidden":false,"merged":[]}
["Dan Palmerino"]
[]
[]
[null,null,"Date:",{"$f":"VLOOKUP(C5,Week,2)","v":"2024-04-26"},null,null,null,null,"Date:",{"$f":"VLOOKUP(I5,Week,2)","v":"2024-05-03"},null,null,null,null,"Date:",{"$f":"VLOOKUP(O5,Week,2)","v":"2024-05-10"},null,null,null,null,"Date:",{"$f":"VLOOKUP(U5,Week,2)","v":"2024-05-17"},null,null,null,null,"Date:",{"$f":"VLOOKUP(AA5,Week,2)","v":"2024-05-24"},null,null,null,null,"Date:",{"$f":"VLOOKUP(AG5,Week,2)","v":"2024-05-31"},null,null,null,null,"Date:",{"$f":"VLOOKUP(AM5,Week,2)","v":"2024-06-07"},null,null,null,null,"Date:",{"$f":"VLOOKUP(AS5,Week,2)","v":"2024-06-14"},null,null,null,null,"Date:",{"$f":"VLOOKUP(AY5,Week,2)","v":"2024-07-05"},null,null,null,null,"Date:",{"$f":"VLOOKUP(BE5,Week,2)","v":"2024-07-12"},null,null,null,null,"Date:",{"$f":"VLOOKUP(BK5,Week,2)","v":"2024-07-19"},null,null,null,null,"Date:",{"$f":"VLOOKUP(BQ5,Week,2)","v":"2024-07-26"},null,null,null,null,"Date:",{"$f":"VLOOKUP(BW5,Week,2)","v":"2024-08-02"},null,null,null,null,"Date:",{"$f":"VLOOKUP(CC5,Week,2)","v":"2024-08-16"},null,null,null,null,"Date:",{"$f":"VLOOKUP(CI5,Week,2)","v":"2024-08-23"}]
[null,"Week",1,null,null,null,null,"Week",2,null,null,null,null,"Week",3,null,null,null,null,"Week",4,null,null,null,null,"Week",5,null,null,null,null,"Week",6,null,null,null,null,"Week",7,null,null,null,null,"Week",8,null,null,null,null,"Week",9,null,null,null,null,"Week",10,null,null,null,null,"Week",11,null,null,null,null,"Week",12,null,null,null,null,"Week",13,null,null,null,null,"Week",14,null,null,null,null,"Week",15]
[null,"Hole #","Par","Score","Net","Win Hole",null,"Hole #","Par","Score","Net","Win Hole",null,"Hole #","Par","Score","Net","Win Hole",null,"Hole #","Par","Score","Net","Win Hole",null,"Hole #","Par","Score","Net","Win Hole",null,"Hole #","Par","Score","Net","Win Hole",null,"Hole #","Par","Score","Net","Win Hole",null,"Hole #","Par","Score","Net","Win Hole",null,"Hole #","Par","Score","Net","Win Hole",null,"Hole #","Par","Score","Net","Win Hole",null,"Hole #","Par","Score","Net","Win Hole",null,"Hole #","Par","Score","Net","Win Hole",null,"Hole #","Par","Score","Net","Win Hole",null,"Hole #","Par","Score","Net","Win Hole",null,"Hole #","Par","Score","Net","Win Hole"]
[null,{"$f":"VLOOKUP(C5,Week,6)","v":1},{"$f":"VLOOKUP(B7,Holes,2)","v":4},4,{"$f":"IF((D7-C7)>3,C7+3,D7)","v":4},1,null,{"$f":"VLOOKUP(I5,Week,6)","v":10},{"$f":"VLOOKUP(H7,Holes,2)","v":4},6,{"$f":"IF((J7-I7)>3,I7+3,J7)","v":6},0,null,{"$f":"VLOOKUP(O5,Week,6)","v":1},{"$f":"VLOOKUP(N7,Holes,2)","v":4},null,{"$f":"IF((P7-O7)>3,O7+3,P7)","v":0},null,null,{"$f":"VLOOKUP(U5,Week,6)","v":10},{"$f":"VLOOKUP(T7,Holes,2)","v":4},5,{"$f":"IF((V7-U7)>3,U7+3,V7)","v":5},1,null,{"$f":"VLOOKUP(AA5,Week,6)","v":1},{"$f":"VLOOKUP(Z7,Holes,2)","v":4},5,{"$f":"IF((AB7-AA7)>3,AA7+3,AB7)","v":5},0.5,null,{"$f":"VLOOKUP(AG5,Week,6)","v":10},{"$f":"VLOOKUP(AF7,Holes,2)","v":4},4,{"$f":"IF((AH7-AG7)>3,AG7+3,AH7)","v":4},0.5,null,{"$f":"VLOOKUP(AM5,Week,6)","v":1},{"$f":"VLOOKUP(AL7,Holes,2)","v":4},5,{"$f":"IF((AN7-AM7)>3,AM7+3,AN7)","v":5},0,null,{"$f":"VLOOKUP(AS5,Week,6)","v":10},{"$f":"VLOOKUP(AR7,Holes,2)","v":4},5,{"$f":"IF((AT7-AS7)>3,AS7+3,AT7)","v":5},1,null,{"$f":"VLOOKUP(AY5,Week,6)","v":1},{"$f":"VLOOKUP(AX7,Holes,2)","v":4},5,{"$f":"IF((AZ7-AY7)>3,AY7+3,AZ7)","v":5},0.5,null,{"$f":"VLOOKUP(BE5,Week,6)","v":10},{"$f":"VLOOKUP(BD7,Holes,2)","v":4},null,{"$f":"IF((BF7-BE7)>3,BE7+3,BF7)","v":0},null,null,{"$f":"VLOOKUP(BK5,Week,6)","v":1},{"$f":"VLOOKUP(BJ7,Holes,2)","v":4},6,{"$f":"IF((BL7-BK7)>3,BK7+3,BL7)","v":6},0,null,{"$f":"VLOOKUP(BQ5,Week,6)","v":10},{"$f":"VLOOKUP(BP7,Holes,2)","v":4},5,{"$f":"IF((BR7-BQ7)>3,BQ7+3,BR7)","v":5},0,null,{"$f":"VLOOKUP(BW5,Week,6)","v":1},{"$f":"VLOOKUP(BV7,Holes,2)","v":4},5,{"$f":"IF((BX7-BW7)>3,BW7+3,BX7)","v":5},0,null,{"$f":"VLOOKUP(CC5,Week,6)","v":1},{"$f":"VLOOKUP(CB7,Holes,2)","v":4},6,{"$f":"IF((CD7-CC7)>3,CC7+3,CD7)","v":6},0.5,null,{"$f":"VLOOKUP(CI5,Week,6)","v":10},{"$f":"VLOOKUP(CH7,Holes,2)","v":4},6,{"$f":"IF((CJ7-CI7)>3,CI7+3,CJ7)","v":6},0.5]
[null,{"$f":"+B7+1","v":2},4,6,6,1,null,{"$f":"+H7+1","v":11},4,4,4,1,null,{"$f":"+N7+1","v":2},4,null,0,null,null,{"$f":"+T7+1","v":11},4,4,4,1,null,{"$f":"+Z7+1","v":2},4,5,5,0,null,{"$f":"+AF7+1","v":11},4,5,5,0.5,null,{"$f":"+AL7+1","v":2},4,6,6,0,null,{"$f":"+AR7+1","v":11},4,6,6,0,null,{"$f":"+AX7+1","v":2},4,5,5,1,null,{"$f":"+BD7+1","v":11},4,null,0,null,null,{"$f":"+BJ7+1","v":2},4,6,6,0.5,null,{"$f":"+BP7+1","v":11},4,5,5,0.5,null,{"$f":"+BV7+1","v":2},4,7,7,0,null,{"$f":"+CB7+1","v":2},4,5,5,0.5,null,{"$f":"+CH7+1","v":11},4,5,5,1]
[null,3,3,2,2,1,null,12,4,6,6,0.5,null,3,3,null,0,null,null,12,4,7,7,0,null,3,3,5,5,0,null,12,4,6,6,0,null,3,3,3,3,1,null,12,4,6,6,0,null,3,3,4,4,0.5,null,12,4,null,0,null,null,3,3,3,3,1,null,12,4,6,6,0,null,3,3,4,4,0,null,3,3,5,5,0.5,null,12,4,5,5,0]
[null,4,4,7,7,0,null,13,5,6,6,0.5,null,4,4,null,0,null,null,13,5,6,6,0,null,4,4,5,5,1,null,13,5,6,6,1,null,4,4,5,5,0.5,null,13,5,6,6,1,null,4,4,5,5,0.5,null,13,5,null,0,null,null,4,4,6,6,0.5,null,13,5,6,6,0.5,null,4,4,4,4,1,null,4,4,5,5,0,null,13,5,6,6,1]
[null,5,5,6,6,0.5,null,14,3,4,4,0.5,null,5,5,null,0,null,null,14,3,5,5,1,null,5,5,6,6,1,null,14,3,6,6,0,null,5,5,5,5,0.5,null,14,3,4,4,0,null,5,5,5,5,1,null,14,3,null,0,null,null,5,5,6,6,1,null,14,3,4,4,1,null,5,5,5,5,0.5,null,5,5,6,6,1,null,14,3,4,4,0.5]
[null,6,3,4,4,1,null,15,4,5,5,0.5,null,6,3,null,0,null,null,15,4,6,6,1,null,6,3,4,4,1,null,15,4,6,6,1,null,6,3,3,3,0.5,null,15,4,4,4,1,null,6,3,4,4,0.5,null,15,4,null,0,null,null,6,3,4,4,1,null,15,4,4,4,0.5,null,6,3,3,3,1,null,6,3,5,5,0,null,15,4,5,5,1]
[null,7,4,6,6,0,null,16,4,6,6,0,null,7,4,null,0,null,null,16,4,5,5,0.5,null,7,4,5,5,1,null,16,4,5,5,0,null,7,4,5,5,0,null,16,4,6,6,0.5,null,7,4,4,4,1,null,16,4,null,0,null,null,7,4,4,4,1,null,16,4,6,6,0.5,null,7,4,4,4,0.5,null,7,4,4,4,1,null,16,4,5,5,1]
[null,8,4,5,5,0,null,17,3,5,5,0,null,8,4,null,0,null,null,17,3,6,6,0,null,8,4,4,4,1,null,17,3,5,5,0.5,null,8,4,6,6,0,null,17,3,5,5,0.5,null,8,4,4,4,1,null,17,3,null,0,null,null,8,4,5,5,1,null,17,3,4,4,0.5,null,8,4,5,5,0.5,null,8,4,6,6,0,null,17,3,5,5,0]
[null,9,5,8,8,0,null,18,5,5,5,1,null,9,5,null,0,null,null,18,5,7,7,0,null,9,5,5,5,0.5,null,18,5,7,7,0.5,null,9,5,7,7,0,null,18,5,8,8,0,null,9,5,6,6,0,null,18,5,null,0,null,null,9,5,5,5,1,null,18,5,6,6,0.5,null,9,5,7,7,0.5,null,9,5,6,6,0,null,18,5,6,6,1]
[null,"Total",{"$f":"SUM(C7:C15)","v":36},{"$f":"SUM(D7:D15)","v":48},{"$f":"SUM(E7:E15)","v":48},{"$f":"SUM(F7:F15)","v":4.5},null,"Total",{"$f":"SUM(I7:I15)","v":36},{"$f":"SUM(J7:J15)","v":47},{"$f":"SUM(K7:K15)","v":47},{"$f":"SUM(L7:L15)","v":4},null,"Total",{"$f":"SUM(O7:O15)","v":36},{"$f":"SUM(P7:P15)","v":0},{"$f":"SUM(Q7:Q15)","v":0},{"$f":"SUM(R7:R15)","v":0},null,"Total",{"$f":"SUM(U7:U15)","v":36},{"$f":"SUM(V7:V15)","v":51},{"$f":"SUM(W7:W15)","v":51},{"$f":"SUM(X7:X15)","v":4.5},null,"Total",{"$f":"SUM(AA7:AA15)","v":36},{"$f":"SUM(AB7:AB15)","v":44},{"$f":"SUM(AC7:AC15)","v":44},{"$f":"SUM(AD7:AD15)","v":6},null,"Total",{"$f":"SUM(AG7:AG15)","v":36},{"$f":"SUM(AH7:AH15)","v":50},{"$f":"SUM(AI7:AI15)","v":50},{"$f":"SUM(AJ7:AJ15)","v":4},null,"Total",{"$f":"SUM(AM7:AM15)","v":36},{"$f":"SUM(AN7:AN15)","v":45},{"$f":"SUM(AO7:AO15)","v":45},{"$f":"SUM(AP7:AP15)","v":2.5},null,"Total",{"$f":"SUM(AS7:AS15)","v":36},{"$f":"SUM(AT7:AT15)","v":50},{"$f":"SUM(AU7:AU15)","v":50},{"$f":"SUM(AV7:AV15)","v":4},null,"Total",{"$f":"SUM(AY7:AY15)","v":36},{"$f":"SUM(AZ7:AZ15)","v":42},{"$f":"SUM(BA7:BA15)","v":42},{"$f":"SUM(BB7:BB15)","v":6},null,"Total",{"$f":"SUM(BE7:BE15)","v":36},{"$f":"SUM(BF7:BF15)","v":0},{"$f":"SUM(BG7:BG15)","v":0},{"$f":"SUM(BH7:BH15)","v":0},null,"Total",{"$f":"SUM(BK7:BK15)","v":36},{"$f":"SUM(BL7:BL15)","v":45},{"$f":"SUM(BM7:BM15)","v":45},{"$f":"SUM(BN7:BN15)","v":7},null,"Total",{"$f":"SUM(BQ7:BQ15)","v":36},{"$f":"SUM(BR7:BR15)","v":46},{"$f":"SUM(BS7:BS15)","v":46},{"$f":"SUM(BT7:BT15)","v":4},null,"Total",{"$f":"SUM(BW7:BW15)","v":36},{"$f":"SUM(BX7:BX15)","v":44},{"$f":"SUM(BY7:BY15)","v":44},{"$f":"SUM(BZ7:BZ15)","v":4},null,"Total",{"$f":"SUM(CC7:CC15)","v":36},{"$f":"SUM(CD7:CD15)","v":48},{"$f":"SUM(CE7:CE15)","v":48},{"$f":"SUM(CF7:CF15)","v":3.5},null,"Total",{"$f":"SUM(CI7:CI15)","v":36},{"$f":"SUM(CJ7:CJ15)","v":47},{"$f":"SUM(CK7:CK15)","v":47},{"$f":"SUM(CL7:CL15)","v":6}]
[]
[null,null,null,null,"Low Net",0,null,null,null,null,"Low Net",1,null,null,null,null,"Low Net",null,null,null,null,null,"Low Net",0,null,null,null,null,"Low Net",1,null,null,null,null,"Low Net",1,null,null,null,null,"Low Net",0,null,null,null,null,"Low Net",0,null,null,null,null,"Low Net",1,null,null,null,null,"Low Net",null,null,null,null,null,"Low Net",1,null,null,null,null,"Low Net",0,null,null,null,null,"Low Net",0.5,null,null,null,null,"Low Net",1,null,null,null,null,"Low Net",1]
[]
[null,null,null,null,"Total Points",{"$f":"SUM(F16:F19)","v":4.5},null,null,null,null,"Total Points",{"$f":"SUM(L16:L19)","v":5},null,null,null,null,"Total Points",{"$f":"SUM(R16:R19)","v":0},null,null,null,null,"Total Points",{"$f":"SUM(X16:X19)","v":4.5},null,null,null,null,"Total Points",{"$f":"SUM(AD16:AD19)","v":7},null,null,null,null,"Total Points",{"$f":"SUM(AJ16:AJ19)","v":5},null,null,null,null,"Total Points",{"$f":"SUM(AP16:AP19)","v":2.5},null,null,null,null,"Total Points",{"$f":"SUM(AV16:AV19)","v":4},null,null,null,null,"Total Points",{"$f":"SUM(BB16:BB19)","v":7},null,null,null,null,"Total Points",{"$f":"SUM(BH16:BH19)","v":0},null,null,null,null,"Total Points",{"$f":"SUM(BN16:BN19)","v":8},null,null,null,null,"Total Points",{"$f":"SUM(BT16:BT19)","v":4},null,null,null,null,"Total Points",{"$f":"SUM(BZ16:BZ19)","v":4.5},null,null,null,null,"Total Points",{"$f":"SUM(CF16:CF19)","v":4.5},null,null,null,null,"Total Points",{"$f":"SUM(CL16:CL19)","v":7}]
[]
[null,null,null,null,"Handicap",{"$f":"IF(D16=0,0,E16-C16)","v":12},null,null,null,null,"Handicap",{"$f":"IF(J16=0,0,K16-I16)","v":11},null,null,null,null,"Handicap",{"$f":"IF(P16=0,0,Q16-O16)","v":0},null,null,null,null,"Handicap",{"$f":"IF(V16=0,0,W16-U16)","v":15},null,null,null,null,"Handicap",{"$f":"IF(AB16=0,0,AC16-AA16)","v":8},null,null,null,null,"Handicap",{"$f":"IF(AH16=0,0,AI16-AG16)","v":14},null,null,null,null,"Handicap",{"$f":"IF(AN16=0,0,AO16-AM16)","v":9},null,null,null,null,"Handicap",{"$f":"IF(AT16=0,0,AU16-AS16)","v":14},null,null,null,null,"Handicap",{"$f":"IF(AZ16=0,0,BA16-AY16)","v":6},null,null,null,null,"Handicap",{"$f":"IF(BF16=0,0,BG16-BE16)","v":0},null,null,null,null,"Handicap",{"$f":"IF(BL16=0,0,BM16-BK16)","v":9},null,null,null,null,"Handicap",{"$f":"IF(BR16=0,0,BS16-BQ16)","v":10},null,null,null,null,"Handicap",{"$f":"IF(BX16=0,0,BY16-BW16)","v":8},null,null,null,null,"Handicap",{"$f":"IF(CD16=0,0,CE16-CC16)","v":12},null,null,null,null,"Handicap",{"$f":"IF(CJ16=0,0,CK16-CI16)","v":11}]
[]
[null,null,null,null,null,{"$f":"IF(D16<>0,IF(F16>4.5,\"W\",IF(F16=4.5,\"T\",IF(F16<4.5,\"L\"))),0)","v":"T"},null,null,null,null,null,{"$f":"IF(J16<>0,IF(L16>4.5,\"W\",IF(L16=4.5,\"T\",IF(L16<4.5,\"L\"))),0)","v":"L"},null,null,null,null,null,{"$f":"IF(P16<>0,IF(R16>4.5,\"W\",IF(R16=4.5,\"T\",IF(R16<4.5,\"L\"))),0)","v":0},null,null,null,null,null,{"$f":"IF(V16<>0,IF(X16>4.5,\"W\",IF(X16=4.5,\"T\",IF(X16<4.5,\"L\"))),0)","v":"T"},null,null,null,null,null,{"$f":"IF(AB16<>0,IF(AD16>4.5,\"W\",IF(AD16=4.5,\"T\",IF(AD16<4.5,\"L\"))),0)","v":"W"},null,null,null,null,null,{"$f":"IF(AH16<>0,IF(AJ16>4.5,\"W\",IF(AJ16=4.5,\"T\",IF(AJ16<4.5,\"L\"))),0)","v":"L"},null,null,null,null,null,{"$f":"IF(AN16<>0,IF(AP16>4.5,\"W\",IF(AP16=4.5,\"T\",IF(AP16<4.5,\"L\"))),0)","v":"L"},null,null,null,null,null,{"$f":"IF(AT16<>0,IF(AV16>4.5,\"W\",IF(AV16=4.5,\"T\",IF(AV16<4.5,\"L\"))),0)","v":"L"},null,null,null,null,null,{"$f":"IF(AZ16<>0,IF(BB16>4.5,\"W\",IF(BB16=4.5,\"T\",IF(BB16<4.5,\"L\"))),0)","v":"W"},null,null,null,null,null,{"$f":"IF(BF16<>0,IF(BH16>4.5,\"W\",IF(BH16=4.5,\"T\",IF(BH16<4.5,\"L\"))),0)","v":0},null,null,null,null,null,{"$f":"IF(BL16<>0,IF(BN16>4.5,\"W\",IF(BN16=4.5,\"T\",IF(BN16<4.5,\"L\"))),0)","v":"W"},null,null,null,null,null,{"$f":"IF(BR16<>0,IF(BT16>4.5,\"W\",IF(BT16=4.5,\"T\",IF(BT16<4.5,\"L\"))),0)","v":"L"},null,null,null,null,null,{"$f":"IF(BX16<>0,IF(BZ16>4.5,\"W\",IF(BZ16=4.5,\"T\",IF(BZ16<4.5,\"L\"))),0)","v":"L"},null,null,null,null,null,{"$f":"IF(CD16<>0,IF(CF16>4.5,\"W\",IF(CF16=4.5,\"T\",IF(CF16<4.5,\"L\"))),0)","v":"L"},null,null,null,null,null,{"$f":"IF(CJ16<>0,IF(CL16>4.5,\"W\",IF(CL16=4.5,\"T\",IF(CL16<4.5,\"L\"))),0)","v":"W"}]
[]
[null,"Summary",null,{"$f":"COUNT(D29:D43)","v":10}]
[null,null,null,"Adj",null,"Adj",null,null,null,"Avg Score"]
[null,null,"Points","Points","Matches","Matches",null,null,"Hole #","by Hole","Best","Worst"]
[null,"Week #1",{"$f":"F20","v":4.5},{"$f":"C29","v":4.5},{"$f":"IF(D16>0,1,0)","v":1},{"$f":"E29","v":1},null,null,1,{"$f":"IFERROR(AVERAGE(D7,P7,AB7,AN7,AZ7,BL7,BX7,CD7),0)","v":5.1428571428571432},{"$f":"IFERROR(MIN(D7,P7,AB7,AN7,AZ7,BL7,BX7,CD7),0)","v":4},{"$f":"IFERROR(MAX(D7,P7,AB7,AN7,AZ7,BL7,BX7,CD7),0)","v":6}]
[null,"Week #2",{"$f":"L20","v":5},5,{"$f":"IF(J16>0,1,0)","v":1},1,null,null,2,{"$f":"IFERROR(AVERAGE(D8,P8,AB8,AN8,AZ8,BL8,BX8,CD8),0)","v":5.7142857142857144},{"$f":"IFERROR(MIN(D8,P8,AB8,AN8,AZ8,BL8,BX8,CD8),0)","v":5},{"$f":"IFERROR(MAX(D8,P8,AB8,AN8,AZ8,BL8,BX8,CD8),0)","v":7}]
[null,"Week #3",{"$f":"R20","v":0},null,{"$f":"IF(P16>0,1,0)","v":0},0,null,null,3,3.7142857142857144,2,5]
[null,"Week #4",{"$f":"X20","v":4.5},4.5,{"$f":"IF(V16>0,1,0)","v":1},1,null,null,4,5.2857142857142856,4,7]
[null,"Week #5",{"$f":"AD20","v":7},7,{"$f":"IF(AB16>0,1,0)","v":1},1,null,null,5,5.5714285714285712,5,6]
[null,"Week #6",{"$f":"AJ20","v":5},5,{"$f":"IF(AH16>0,1,0)","v":1},1,null,null,6,3.8571428571428572,3,5]
[null,"Week #7",{"$f":"AP20","v":2.5},null,{"$f":"IF(AN16>0,1,0)","v":1},1,null,null,7,4.5714285714285712,4,6]
[null,"Week #8",{"$f":"AV20","v":4},null,{"$f":"IF(AT16>0,1,0)","v":1},1,null,null,8,5,4,6]
[null,"Week #9",{"$f":"BB20","v":7},7,{"$f":"IF(AZ16>0,1,0)","v":1},1,null,null,9,6.2857142857142856,5,8]
[null,"Week #10",{"$f":"BH20","v":0},null,{"$f":"IF(BF16>0,1,0)","v":0},0,null,null,"Front",{"$f":"SUM(J29:J37)","v":45.142857142857146},{"$f":"SUM(K29:K37)","v":36},56]
[null,"Week #11",{"$f":"BN20","v":8},8,{"$f":"IF(BL16>0,1,0)","v":1},1]
[null,"Week #12",{"$f":"BT20","v":4},null,{"$f":"IF(BR16>0,1,0)","v":1},1,null,null,10,{"$f":"IFERROR(AVERAGE(J7,V7,AH7,AT7,BF7,BR7,CJ7),0)","v":5.166666666666667},{"$f":"IFERROR(MIN(J7,V7,AH7,AT7,BF7,BR7,CJ7),0)","v":4},{"$f":"IFERROR(MAX(J7,V7,AH7,AT7,BF7,BR7,CJ7),0)","v":6}]
[null,"Week #13",{"$f":"BZ20","v":4.5},4.5,{"$f":"IF(BX16>0,1,0)","v":1},1,null,null,11,{"$f":"IFERROR(AVERAGE(J8,V8,AH8,AT8,BF8,BR8,CJ8),0)","v":4.833333333333333},{"$f":"IFERROR(MIN(J8,V8,AH8,AT8,BF8,BR8,CJ8),0)","v":4},{"$f":"IFERROR(MAX(J8,V8,AH8,AT8,BF8,BR8,CJ8),0)","v":6}]
[null,"Week #14",{"$f":"CF20","v":4.5},4.5,{"$f":"IF(CD16>0,1,0)","v":1},1,null,null,12,6,5,7]
[null,"Week #15",{"$f":"CL20","v":7},7,{"$f":"IF(CJ16>0,1,0)","v":1},1,null,null,13,6,6,6]
[null,"Total",{"$f":"SUM(C29:C43)","v":67.5},{"$f":"SUM(D29:D43)","v":57},{"$f":"SUM(E29:E43)","v":13},{"$f":"SUM(F29:F43)","v":13},null,null,14,4.5,4,6]
[null,null,null,null,null,null,null,null,15,5,4,6]
[null,"Summary",null,null,null,null,null,null,16,5.5,5,6]
[null,"Eagles",{"$f":"I57+I68+I79+I90+I101+I112+I123+I134+I145+I156+I167+I178+I189+I200+I211","v":0},null,null,null,null,null,17,5,4,6]
[null,"Birdies",1,null,null,null,null,null,18,6.5,5,8]
[null,"Pars",23,null,null,null,null,null,"Back",{"$f":"SUM(J40:J48)","v":48.5},{"$f":"SUM(K40:K48)","v":41},57]
[null,"bogeys",53]
[null,"Double bogeys",33]
[null,"Other",7]
[null,"Total",{"$f":"SUM(C47:C52)","v":117}]
[]
[null,{"$f":"D4","v":"2024-04-26"},"Par","Score"]
[null,{"$f":"B7","v":1},4,4,{"$f":"IF(D56<>0,IF((D56-C56)=-1,\"Birdie\",IF((D56-C56)=-2,\"Eagle\",IF((D56-C56)=0,\"Par\",IF((D56-C56)=1,\"bogey\",IF((D56-C56)=2,\"Double bogey\",\"Other\"))))),\"  \")","v":"Par"},null,null,"Count"]
[null,2,4,6,"Double bogey",null,null,"Eagle",{"$f":"COUNTIF(E56:E64,\"Eagle\")","v":0}]
[null,3,3,2,"Birdie",null,null,"Birdie",{"$f":"COUNTIF(E56:E64,\"Birdie\")","v":1}]
[null,4,4,7,"Other",null,null,"Par",{"$f":"COUNTIF(E56:E64,\"Par\")","v":1}]
[null,5,5,6,"bogey",null,null,"bogey",{"$f":"COUNTIF(E56:E64,\"bogey\")","v":3}]
[null,6,3,4,"bogey",null,null,"Double bogey",{"$f":"COUNTIF(E56:E64,\"Double bogey\")","v":2}]
[null,7,4,6,"Double bogey",null,null,"Other",{"$f":"COUNTIF(E56:E64,\"Other\")","v":2}]
[null,8,4,5,"bogey"]
[null,9,5,8,"Other"]
[]
[null,{"$f":"J4","v":"2024-05-03"}]
[null,{"$f":"H7","v":10},4,6,{"$f":"IF(D67<>0,IF((D67-C67)=-1,\"Birdie\",IF((D67-C67)=-2,\"Eagle\",IF((D67-C67)=0,\"Par\",IF((D67-C67)=1,\"bogey\",IF((D67-C67)=2,\"Double bogey\",\"Other\"))))),\"  \")","v":"Double bogey"},null,null,"Count"]
[null,11,4,4,"Par",null,null,"Eagle",{"$f":"COUNTIF(E67:E75,\"Eagle\")","v":0}]
[null,12,4,6,"Double bogey",null,null,"Birdie",{"$f":"COUNTIF(E67:E75,\"Birdie\")","v":0}]
[null,13,5,6,"bogey",null,null,"Par",{"$f":"COUNTIF(E67:E75,\"Par\")","v":2}]
[null,14,3,4,"bogey",null,null,"bogey",{"$f":"COUNTIF(E67:E75,\"bogey\")","v":3}]
[null,15,4,5,"bogey",null,null,"Double bogey",{"$f":"COUNTIF(E67:E75,\"Double bogey\")","v":4}]
[null,16,4,6,"Double bogey",null,null,"Other",{"$f":"COUNTIF(E67:E75,\"Other\")","v":0}]
[null,17,3,5,"Double bogey"]
[null,18,5,5,"Par"]
[]
[null,{"$f":"P4","v":"2024-05-10"}]
[null,{"$f":"N7","v":1},4,0,{"$f":"IF(D78<>0,IF((D78-C78)=-1,\"Birdie\",IF((D78-C78)=-2,\"Eagle\",IF((D78-C78)=0,\"Par\",IF((D78-C78)=1,\"bogey\",IF((D78-C78)=2,\"Double bogey\",\"Other\"))))),\"  \")","v":"  "},null,null,"Count"]
[null,2,4,0,"  ",null,null,"Eagle",{"$f":"COUNTIF(E78:E86,\"Eagle\")","v":0}]
[null,3,3,0,"  ",null,null,"Birdie",{"$f":"COUNTIF(E78:E86,\"Birdie\")","v":0}]
[null,4,4,0,"  ",null,null,"Par",{"$f":"COUNTIF(E78:E86,\"Par\")","v":0}]
[null,5,5,0,"  ",null,null,"bogey",{"$f":"COUNTIF(E78:E86,\"bogey\")","v":0}]
[null,6,3,0,"  ",null,null,"Double bogey",{"$f":"COUNTIF(E78:E86,\"Double bogey\")","v":0}]
[null,7,4,0,"  ",null,null,"Other",{"$f":"COUNTIF(E78:E86,\"Other\")","v":0}]
[null,8,4,0,"  "]
[null,9,5,0,"  "]
[]
[null,{"$f":"V4","v":"2024-05-17"}]
[null,{"$f":"T7","v":10},4,5,{"$f":"IF(D89<>0,IF((D89-C89)=-1,\"Birdie\",IF((D89-C89)=-2,\"Eagle\",IF((D89-C89)=0,\"Par\",IF((D89-C89)=1,\"bogey\",IF((D89-C89)=2,\"Double bogey\",\"Other\"))))),\"  \")","v":"bogey"},null,null,"Count"]
[null,11,4,4,"Par",null,null,"Eagle",{"$f":"COUNTIF(E89:E97,\"Eagle\")","v":0}]
[null,12,4,7,"Other",null,null,"Birdie",{"$f":"COUNTIF(E89:E97,\"Birdie\")","v":0}]
[null,13,5,6,"bogey",null,null,"Par",{"$f":"COUNTIF(E89:E97,\"Par\")","v":1}]
[null,14,3,5,"Double bogey",null,null,"bogey",{"$f":"COUNTIF(E89:E97,\"bogey\")","v":3}]
[null,15,4,6,"Double bogey",null,null,"Double bogey",{"$f":"COUNTIF(E89:E97,\"Double bogey\")","v":3}]
[null,16,4,5,"bogey",null,null,"Other",{"$f":"COUNTIF(E89:E97,\"Other\")","v":2}]
[null,17,3,6,"Other"]
[null,18,5,7,"Double bogey"]
[]
[null,{"$f":"AB4","v":"2024-05-24"}]
[null,{"$f":"Z7","v":1},4,5,{"$f":"IF(D100<>0,IF((D100-C100)=-1,\"Birdie\",IF((D100-C100)=-2,\"Eagle\",IF((D100-C100)=0,\"Par\",IF((D100-C100)=1,\"bogey\",IF((D100-C100)=2,\"Double bogey\",\"Other\"))))),\"  \")","v":"bogey"},null,null,"Count"]
[null,2,4,5,"bogey",null,null,"Eagle",{"$f":"COUNTIF(E100:E108,\"Eagle\")","v":0}]
[null,3,3,5,"Double bogey",null,null,"Birdie",{"$f":"COUNTIF(E100:E108,\"Birdie\")","v":0}]
[null,4,4,5,"bogey",null,null,"Par",{"$f":"COUNTIF(E100:E108,\"Par\")","v":2}]
[null,5,5,6,"bogey",null,null,"bogey",{"$f":"COUNTIF(E100:E108,\"bogey\")","v":6}]
[null,6,3,4,"bogey",null,null,"Double bogey",{"$f":"COUNTIF(E100:E108,\"Double bogey\")","v":1}]
[null,7,4,5,"bogey",null,null,"Other",{"$f":"COUNTIF(E100:E108,\"Other\")","v":0}]
[null,8,4,4,"Par"]
[null,9,5,5,"Par"]
[]
[null,{"$f":"AH4","v":"2024-05-31"}]
[null,{"$f":"AF7","v":10},4,4,{"$f":"IF(D111<>0,IF((D111-C111)=-1,\"Birdie\",IF((D111-C111)=-2,\"Eagle\",IF((D111-C111)=0,\"Par\",IF((D111-C111)=1,\"bogey\",IF((D111-C111)=2,\"Double bogey\",\"Other\"))))),\"  \")","v":"Par"},null,null,"Count"]
[null,11,4,5,"bogey",null,null,"Eagle",{"$f":"COUNTIF(E111:E119,\"Eagle\")","v":0}]
[null,12,4,6,"Double bogey",null,null,"Birdie",{"$f":"COUNTIF(E111:E119,\"Birdie\")","v":0}]
[null,13,5,6,"bogey",null,null,"Par",{"$f":"COUNTIF(E111:E119,\"Par\")","v":1}]
[null,14,3,6,"Other",null,null,"bogey",{"$f":"COUNTIF(E111:E119,\"bogey\")","v":3}]
[null,15,4,6,"Double bogey",null,null,"Double bogey",{"$f":"COUNTIF(E111:E119,\"Double bogey\")","v":4}]
[null,16,4,5,"bogey",null,null,"Other",{"$f":"COUNTIF(E111:E119,\"Other\")","v":1}]
[null,17,3,5,"Double bogey"]
[null,18,5,7,"Double bogey"]
[]
[null,{"$f":"AN4","v":"2024-06-07"}]
[null,{"$f":"AL7","v":1},4,5,{"$f":"IF(D122<>0,IF((D122-C122)=-1,\"Birdie\",IF((D122-C122)=-2,\"Eagle\",IF((D122-C122)=0,\"Par\",IF((D122-C122)=1,\"bogey\",IF((D122-C122)=2,\"Double bogey\",\"Other\"))))),\"  \")","v":"bogey"},null,null,"Count"]
[null,2,4,6,"Double bogey",null,null,"Eagle",{"$f":"COUNTIF(E122:E130,\"Eagle\")","v":0}]
[null,3,3,3,"Par",null,null,"Birdie",{"$f":"COUNTIF(E122:E130,\"Birdie\")","v":0}]
[null,4,4,5,"bogey",null,null,"Par",{"$f":"COUNTIF(E122:E130,\"Par\")","v":3}]
[null,5,5,5,"Par",null,null,"bogey",{"$f":"COUNTIF(E122:E130,\"bogey\")","v":3}]
[null,6,3,3,"Par",null,null,"Double bogey",{"$f":"COUNTIF(E122:E130,\"Double bogey\")","v":3}]
[null,7,4,5,"bogey",null,null,"Other",{"$f":"COUNTIF(E122:E130,\"Other\")","v":0}]
[null,8,4,6,"Double bogey"]
[null,9,5,7,"Double bogey"]
[]
[null,{"$f":"AT4","v":"2024-06-14"}]
[null,{"$f":"AR7","v":10},4,5,{"$f":"IF(D133<>0,IF((D133-C133)=-1,\"Birdie\",IF((D133-C133)=-2,\"Eagle\",IF((D133-C133)=0,\"Par\",IF((D133-C133)=1,\"bogey\",IF((D133-C133)=2,\"Double bogey\",\"Other\"))))),\"  \")","v":"bogey"},null,null,"Count"]
[null,11,4,6,"Double bogey",null,null,"Eagle",{"$f":"COUNTIF(E133:E141,\"Eagle\")","v":0}]
[null,12,4,6,"Double bogey",null,null,"Birdie",{"$f":"COUNTIF(E133:E141,\"Birdie\")","v":0}]
[null,13,5,6,"bogey",null,null,"Par",{"$f":"COUNTIF(E133:E141,\"Par\")","v":1}]
[null,14,3,4,"bogey",null,null,"bogey",{"$f":"COUNTIF(E133:E141,\"bogey\")","v":3}]
[null,15,4,4,"Par",null,null,"Double bogey",{"$f":"COUNTIF(E133:E141,\"Double bogey\")","v":4}]
[null,16,4,6,"Double bogey",null,null,"Other",{"$f":"COUNTIF(E133:E141,\"Other\")","v":1}]
[null,17,3,5,"Double bogey"]
[null,18,5,8,"Other"]
[]
[null,{"$f":"AZ4","v":"2024-07-05"}]
[null,{"$f":"AX7","v":1},4,5,{"$f":"IF(D144<>0,IF((D144-C144)=-1,\"Birdie\",IF((D144-C144)=-2,\"Eagle\",IF((D144-C144)=0,\"Par\",IF((D144-C144)=1,\"bogey\",IF((D144-C144)=2,\"Double bogey\",\"Other\"))))),\"  \")","v":"bogey"},null,null,"Count"]
[null,2,4,5,"bogey",null,null,"Eagle",{"$f":"COUNTIF(E144:E152,\"Eagle\")","v":0}]
[null,3,3,4,"bogey",null,null,"Birdie",{"$f":"COUNTIF(E144:E152,\"Birdie\")","v":0}]
[null,4,4,5,"bogey",null,null,"Par",{"$f":"COUNTIF(E144:E152,\"Par\")","v":3}]
[null,5,5,5,"Par",null,null,"bogey",{"$f":"COUNTIF(E144:E152,\"bogey\")","v":6}]
[null,6,3,4,"bogey",null,null,"Double bogey",{"$f":"COUNTIF(E144:E152,\"Double bogey\")","v":0}]
[null,7,4,4,"Par",null,null,"Other",{"$f":"COUNTIF(E144:E152,\"Other\")","v":0}]
[null,8,4,4,"Par"]
[null,9,5,6,"bogey"]
[]
[null,{"$f":"BF4","v":"2024-07-12"}]
[null,{"$f":"BD7","v":10},4,0,{"$f":"IF(D155<>0,IF((D155-C155)=-1,\"Birdie\",IF((D155-C155)=-2,\"Eagle\",IF((D155-C155)=0,\"Par\",IF((D155-C155)=1,\"bogey\",IF((D155-C155)=2,\"Double bogey\",\"Other\"))))),\"  \")","v":"  "},null,null,"Count"]
[null,11,4,0,"  ",null,null,"Eagle",{"$f":"COUNTIF(E155:E163,\"Eagle\")","v":0}]
[null,12,4,0,"  ",null,null,"Birdie",{"$f":"COUNTIF(E155:E163,\"Birdie\")","v":0}]
[null,13,5,0,"  ",null,null,"Par",{"$f":"COUNTIF(E155:E163,\"Par\")","v":0}]
[null,14,3,0,"  ",null,null,"bogey",{"$f":"COUNTIF(E155:E163,\"bogey\")","v":0}]
[null,15,4,0,"  ",null,null,"Double bogey",{"$f":"COUNTIF(E155:E163,\"Double bogey\")","v":0}]
[null,16,4,0,"  ",null,null,"Other",{"$f":"COUNTIF(E155:E163,\"Other\")","v":0}]
[null,17,3,0,"  "]
[null,18,5,0,"  "]
[]
[null,{"$f":"BL4","v":"2024-07-19"}]
[null,{"$f":"BJ7","v":1},4,6,{"$f":"IF(D166<>0,IF((D166-C166)=-1,\"Birdie\",IF((D166-C166)=-2,\"Eagle\",IF((D166-C166)=0,\"Par\",IF((D166-C166)=1,\"bogey\",IF((D166-C166)=2,\"Double bogey\",\"Other\"))))),\"  \")","v":"Double bogey"},null,null,"Count"]
[null,2,4,6,"Double bogey",null,null,"Eagle",{"$f":"COUNTIF(E166:E174,\"Eagle\")","v":0}]
[null,3,3,3,"Par",null,null,"Birdie",{"$f":"COUNTIF(E166:E174,\"Birdie\")","v":0}]
[null,4,4,6,"Double bogey",null,null,"Par",{"$f":"COUNTIF(E166:E174,\"Par\")","v":3}]
[null,5,5,6,"bogey",null,null,"bogey",{"$f":"COUNTIF(E166:E174,\"bogey\")","v":3}]
[null,6,3,4,"bogey",null,null,"Double bogey",{"$f":"COUNTIF(E166:E174,\"Double bogey\")","v":3}]
[null,7,4,4,"Par",null,null,"Other",{"$f":"COUNTIF(E166:E174,\"Other\")","v":0}]
[null,8,4,5,"bogey"]
[null,9,5,5,"Par"]
[]
[null,{"$f":"BR4","v":"2024-07-26"}]
[null,{"$f":"BP7","v":10},4,5,{"$f":"IF(D177<>0,IF((D177-C177)=-1,\"Birdie\",IF((D177-C177)=-2,\"Eagle\",IF((D177-C177)=0,\"Par\",IF((D177-C177)=1,\"bogey\",IF((D177-C177)=2,\"Double bogey\",\"Other\"))))),\"  \")","v":"bogey"},null,null,"Count"]
[null,11,4,5,"bogey",null,null,"Eagle",{"$f":"COUNTIF(E177:E185,\"Eagle\")","v":0}]
[null,12,4,6,"Double bogey",null,null,"Birdie",{"$f":"COUNTIF(E177:E185,\"Birdie\")","v":0}]
[null,13,5,6,"bogey",null,null,"Par",{"$f":"COUNTIF(E177:E185,\"Par\")","v":1}]
[null,14,3,4,"bogey",null,null,"bogey",{"$f":"COUNTIF(E177:E185,\"bogey\")","v":6}]
[null,15,4,4,"Par",null,null,"Double bogey",{"$f":"COUNTIF(E177:E185,\"Double bogey\")","v":2}]
[null,16,4,6,"Double bogey",null,null,"Other",{"$f":"COUNTIF(E177:E185,\"Other\")","v":0}]
[null,17,3,4,"bogey"]
[null,18,5,6,"bogey"]
[]
[null,{"$f":"BX4","v":"2024-08-02"}]
[null,{"$f":"BV7","v":1},4,5,{"$f":"IF(D188<>0,IF((D188-C188)=-1,\"Birdie\",IF((D188-C188)=-2,\"Eagle\",IF((D188-C188)=0,\"Par\",IF((D188-C188)=1,\"bogey\",IF((D188-C188)=2,\"Double bogey\",\"Other\"))))),\"  \")","v":"bogey"},null,null,"Count"]
[null,2,4,7,"Other",null,null,"Eagle",{"$f":"COUNTIF(E188:E196,\"Eagle\")","v":0}]
[null,3,3,4,"bogey",null,null,"Birdie",{"$f":"COUNTIF(E188:E196,\"Birdie\")","v":0}]
[null,4,4,4,"Par",null,null,"Par",{"$f":"COUNTIF(E188:E196,\"Par\")","v":4}]
[null,5,5,5,"Par",null,null,"bogey",{"$f":"COUNTIF(E188:E196,\"bogey\")","v":3}]
[null,6,3,3,"Par",null,null,"Double bogey",{"$f":"COUNTIF(E188:E196,\"Double bogey\")","v":1}]
[null,7,4,4,"Par",null,null,"Other",{"$f":"COUNTIF(E188:E196,\"Other\")","v":1}]
[null,8,4,5,"bogey"]
[null,9,5,7,"Double bogey"]
[]
[null,{"$f":"CD4","v":"2024-08-16"}]
[null,{"$f":"CB7","v":1},4,6,{"$f":"IF(D199<>0,IF((D199-C199)=-1,\"Birdie\",IF((D199-C199)=-2,\"Eagle\",IF((D199-C199)=0,\"Par\",IF((D199-C199)=1,\"bogey\",IF((D199-C199)=2,\"Double bogey\",\"Other\"))))),\"  \")","v":"Double bogey"},null,null,"Count"]
[null,2,4,5,"bogey",null,null,"Eagle",{"$f":"COUNTIF(E199:E207,\"Eagle\")","v":0}]
[null,3,3,5,"Double bogey",null,null,"Birdie",{"$f":"COUNTIF(E199:E207,\"Birdie\")","v":0}]
[null,4,4,5,"bogey",null,null,"Par",{"$f":"COUNTIF(E199:E207,\"Par\")","v":1}]
[null,5,5,6,"bogey",null,null,"bogey",{"$f":"COUNTIF(E199:E207,\"bogey\")","v":4}]
[null,6,3,5,"Double bogey",null,null,"Double bogey",{"$f":"COUNTIF(E199:E207,\"Double bogey\")","v":4}]
[null,7,4,4,"Par",null,null,"Other",{"$f":"COUNTIF(E199:E207,\"Other\")","v":0}]
[null,8,4,6,"Double bogey"]
[null,9,5,6,"bogey"]
[]
[null,{"$f":"CJ4","v":"2024-08-23"}]
[null,{"$f":"CH7","v":10},4,6,{"$f":"IF(D210<>0,IF((D210-C210)=-1,\"Birdie\",IF((D210-C210)=-2,\"Eagle\",IF((D210-C210)=0,\"Par\",IF((D210-C210)=1,\"bogey\",IF((D210-C210)=2,\"Double bogey\",\"Other\"))))),\"  \")","v":"Double bogey"},null,null,"Count"]
[null,11,4,5,"bogey",null,null,"Eagle",{"$f":"COUNTIF(E210:E218,\"Eagle\")","v":0}]
[null,12,4,5,"bogey",null,null,"Birdie",{"$f":"COUNTIF(E210:E218,\"Birdie\")","v":0}]
[null,13,5,6,"bogey",null,null,"Par",{"$f":"COUNTIF(E210:E218,\"Par\")","v":0}]
[null,14,3,4,"bogey",null,null,"bogey",{"$f":"COUNTIF(E210:E218,\"bogey\")","v":7}]
[null,15,4,5,"bogey",null,null,"Double bogey",{"$f":"COUNTIF(E210:E218,\"Double bogey\")","v":2}]
[null,16,4,5,"bogey",null,null,"Other",{"$f":"COUNTIF(E210:E218,\"Other\")","v":0}]
[null,17,3,5,"Double bogey"]
[null,18,5,6,"bogey"]

{"sheet":"Poston","index":16,"n_rows":218,"n_cols":90,"rows_kept":218,"cut":false,"hidden":false,"merged":[]}
["Gloria Poston"]
[]
[]
[null,null,"Date:",{"$f":"VLOOKUP(C5,Week,2)","v":"2024-04-26"},null,null,null,null,"Date:",{"$f":"VLOOKUP(I5,Week,2)","v":"2024-05-03"},null,null,null,null,"Date:",{"$f":"VLOOKUP(O5,Week,2)","v":"2024-05-10"},null,null,null,null,"Date:",{"$f":"VLOOKUP(U5,Week,2)","v":"2024-05-17"},null,null,null,null,"Date:",{"$f":"VLOOKUP(AA5,Week,2)","v":"2024-05-24"},null,null,null,null,"Date:",{"$f":"VLOOKUP(AG5,Week,2)","v":"2024-05-31"},null,null,null,null,"Date:",{"$f":"VLOOKUP(AM5,Week,2)","v":"2024-06-07"},null,null,null,null,"Date:",{"$f":"VLOOKUP(AS5,Week,2)","v":"2024-06-14"},null,null,null,null,"Date:",{"$f":"VLOOKUP(AY5,Week,2)","v":"2024-07-05"},null,null,null,null,"Date:",{"$f":"VLOOKUP(BE5,Week,2)","v":"2024-07-12"},null,null,null,null,"Date:",{"$f":"VLOOKUP(BK5,Week,2)","v":"2024-07-19"},null,null,null,null,"Date:",{"$f":"VLOOKUP(BQ5,Week,2)","v":"2024-07-26"},null,null,null,null,"Date:",{"$f":"VLOOKUP(BW5,Week,2)","v":"2024-08-02"},null,null,null,null,"Date:",{"$f":"VLOOKUP(CC5,Week,2)","v":"2024-08-16"},null,null,null,null,"Date:",{"$f":"VLOOKUP(CI5,Week,2)","v":"2024-08-23"}]
[null,"Week",1,null,null,null,null,"Week",2,null,null,null,null,"Week",3,null,null,null,null,"Week",4,null,null,null,null,"Week",5,null,null,null,null,"Week",6,null,null,null,null,"Week",7,null,null,null,null,"Week",8,null,null,null,null,"Week",9,null,null,null,null,"Week",10,null,null,null,null,"Week",11,null,null,null,null,"Week",12,null,null,null,null,"Week",13,null,null,null,null,"Week",14,null,null,null,null,"Week",15]
[null,"Hole #","Par","Score","Net","Win Hole",null,"Hole #","Par","Score","Net","Win Hole",null,"Hole #","Par","Score","Net","Win Hole",null,"Hole #","Par","Score","Net","Win Hole",null,"Hole #","Par","Score","Net","Win Hole",null,"Hole #","Par","Score","Net","Win Hole",null,"Hole #","Par","Score","Net","Win Hole",null,"Hole #","Par","Score","Net","Win Hole",null,"Hole #","Par","Score","Net","Win Hole",null,"Hole #","Par","Score","Net","Win Hole",null,"Hole #","Par","Score","Net","Win Hole",null,"Hole #","Par","Score","Net","Win Hole",null,"Hole #","Par","Score","Net","Win Hole",null,"Hole #","Par","Score","Net","Win Hole",null,"Hole #","Par","Score","Net","Win Hole"]
[null,{"$f":"VLOOKUP(C5,Week,6)","v":1},{"$f":"VLOOKUP(B7,Holes,2)","v":4},6,{"$f":"IF((D7-C7)>3,C7+3,D7)","v":6},0.5,null,{"$f":"VLOOKUP(I5,Week,6)","v":10},{"$f":"VLOOKUP(H7,Holes,2)","v":4},7,{"$f":"IF((J7-I7)>3,I7+3,J7)","v":7},0,null,{"$f":"VLOOKUP(O5,Week,6)","v":1},{"$f":"VLOOKUP(N7,Holes,2)","v":4},null,{"$f":"IF((P7-O7)>3,O7+3,P7)","v":0},null,null,{"$f":"VLOOKUP(U5,Week,6)","v":10},{"$f":"VLOOKUP(T7,Holes,2)","v":4},null,{"$f":"IF((V7-U7)>3,U7+3,V7)","v":0},null,null,{"$f":"VLOOKUP(AA5,Week,6)","v":1},{"$f":"VLOOKUP(Z7,Holes,2)","v":4},5,{"$f":"IF((AB7-AA7)>3,AA7+3,AB7)","v":5},0,null,{"$f":"VLOOKUP(AG5,Week,6)","v":10},{"$f":"VLOOKUP(AF7,Holes,2)","v":4},6,{"$f":"IF((AH7-AG7)>3,AG7+3,AH7)","v":6},0,null,{"$f":"VLOOKUP(AM5,Week,6)","v":1},{"$f":"VLOOKUP(AL7,Holes,2)","v":4},5,{"$f":"IF((AN7-AM7)>3,AM7+3,AN7)","v":5},1,null,{"$f":"VLOOKUP(AS5,Week,6)","v":10},{"$f":"VLOOKUP(AR7,Holes,2)","v":4},6,{"$f":"IF((AT7-AS7)>3,AS7+3,AT7)","v":6},0,null,{"$f":"VLOOKUP(AY5,Week,6)","v":1},{"$f":"VLOOKUP(AX7,Holes,2)","v":4},null,{"$f":"IF((AZ7-AY7)>3,AY7+3,AZ7)","v":0},null,null,{"$f":"VLOOKUP(BE5,Week,6)","v":10},{"$f":"VLOOKUP(BD7,Holes,2)","v":4},5,{"$f":"IF((BF7-BE7)>3,BE7+3,BF7)","v":5},0.5,null,{"$f":"VLOOKUP(BK5,Week,6)","v":1},{"$f":"VLOOKUP(BJ7,Holes,2)","v":4},5,{"$f":"IF((BL7-BK7)>3,BK7+3,BL7)","v":5},0.5,null,{"$f":"VLOOKUP(BQ5,Week,6)","v":10},{"$f":"VLOOKUP(BP7,Holes,2)","v":4},6,{"$f":"IF((BR7-BQ7)>3,BQ7+3,BR7)","v":6},0.5,null,{"$f":"VLOOKUP(BW5,Week,6)","v":1},{"$f":"VLOOKUP(BV7,Holes,2)","v":4},null,{"$f":"IF((BX7-BW7)>3,BW7+3,BX7)","v":0},null,null,{"$f":"VLOOKUP(CC5,Week,6)","v":1},{"$f":"VLOOKUP(CB7,Holes,2)","v":4},5,{"$f":"IF((CD7-CC7)>3,CC7+3,CD7)","v":5},0.5,null,{"$f":"VLOOKUP(CI5,Week,6)","v":10},{"$f":"VLOOKUP(CH7,Holes,2)","v":4},null,{"$f":"IF((CJ7-CI7)>3,CI7+3,CJ7)","v":0}]
[null,{"$f":"+B7+1","v":2},4,5,5,0.5,null,{"$f":"+H7+1","v":11},4,5,5,1,null,{"$f":"+N7+1","v":2},4,null,0,null,null,{"$f":"+T7+1","v":11},4,null,0,null,null,{"$f":"+Z7+1","v":2},4,5,5,1,null,{"$f":"+AF7+1","v":11},4,4,4,1,null,{"$f":"+AL7+1","v":2},4,6,6,0,null,{"$f":"+AR7+1","v":11},4,5,5,1,null,{"$f":"+AX7+1","v":2},4,null,0,null,null,{"$f":"+BD7+1","v":11},4,4,4,0.5,null,{"$f":"+BJ7+1","v":2},4,6,6,0,null,{"$f":"+BP7+1","v":11},4,6,6,0.5,null,{"$f":"+BV7+1","v":2},4,null,0,null,null,{"$f":"+CB7+1","v":2},4,5,5,1,null,{"$f":"+CH7+1","v":11},4,null,0]
[null,3,3,3,3,0.5,null,12,4,5,5,1,null,3,3,null,0,null,null,12,4,null,0,null,null,3,3,4,4,0,null,12,4,5,5,0,null,3,3,3,3,0.5,null,12,4,5,5,1,null,3,3,null,0,null,null,12,4,7,7,0,null,3,3,7,6,0,null,12,4,6,6,0,null,3,3,null,0,null,null,3,3,5,5,0,null,12,4,null,0]
[null,4,4,5,5,0.5,null,13,5,5,5,0.5,null,4,4,null,0,null,null,13,5,null,0,null,null,4,4,6,6,1,null,13,5,6,6,1,null,4,4,6,6,0,null,13,5,8,8,0,null,4,4,null,0,null,null,13,5,6,6,1,null,4,4,4,4,0.5,null,13,5,6,6,1,null,4,4,null,0,null,null,4,4,4,4,1,null,13,5,null,0]
[null,5,5,6,6,1,null,14,3,4,4,0,null,5,5,null,0,null,null,14,3,null,0,null,null,5,5,5,5,1,null,14,3,6,6,0,null,5,5,6,6,0.5,null,14,3,3,3,1,null,5,5,null,0,null,null,14,3,4,4,0,null,5,5,6,6,1,null,14,3,4,4,0.5,null,5,5,null,0,null,null,5,5,7,7,1,null,14,3,null,0]
[null,6,3,6,6,0,null,15,4,5,5,1,null,6,3,null,0,null,null,15,4,null,0,null,null,6,3,6,6,0,null,15,4,6,6,0,null,6,3,6,6,0,null,15,4,6,6,0,null,6,3,null,0,null,null,15,4,4,4,1,null,6,3,5,5,0,null,15,4,7,7,0,null,6,3,null,0,null,null,6,3,7,6,0,null,15,4,null,0]
[null,7,4,4,4,1,null,16,4,6,6,0.5,null,7,4,null,0,null,null,16,4,null,0,null,null,7,4,5,5,0.5,null,16,4,5,5,0.5,null,7,4,5,5,0.5,null,16,4,6,6,0.5,null,7,4,null,0,null,null,16,4,5,5,1,null,7,4,7,7,0,null,16,4,7,7,0,null,7,4,null,0,null,null,7,4,5,5,1,null,16,4,null,0]
[null,8,4,5,5,0.5,null,17,3,5,5,0,null,8,4,null,0,null,null,17,3,null,0,null,null,8,4,5,5,0,null,17,3,3,3,1,null,8,4,5,5,1,null,17,3,5,5,0.5,null,8,4,null,0,null,null,17,3,5,5,0.5,null,8,4,6,6,1,null,17,3,6,6,0,null,8,4,null,0,null,null,8,4,5,5,1,null,17,3,null,0]
[null,9,5,7,7,0.5,null,18,5,7,7,0,null,9,5,null,0,null,null,18,5,null,0,null,null,9,5,5,5,1,null,18,5,6,6,0,null,9,5,5,5,1,null,18,5,6,6,1,null,9,5,null,0,null,null,18,5,6,6,1,null,9,5,6,6,1,null,18,5,5,5,1,null,9,5,null,0,null,null,9,5,6,6,1,null,18,5,null,0]
[null,"Total",{"$f":"SUM(C7:C15)","v":36},{"$f":"SUM(D7:D15)","v":47},{"$f":"SUM(E7:E15)","v":47},{"$f":"SUM(F7:F15)","v":5},null,"Total",{"$f":"SUM(I7:I15)","v":36},{"$f":"SUM(J7:J15)","v":49},{"$f":"SUM(K7:K15)","v":49},{"$f":"SUM(L7:L15)","v":4},null,"Total",{"$f":"SUM(O7:O15)","v":36},{"$f":"SUM(P7:P15)","v":0},{"$f":"SUM(Q7:Q15)","v":0},{"$f":"SUM(R7:R15)","v":0},null,"Total",{"$f":"SUM(U7:U15)","v":36},{"$f":"SUM(V7:V15)","v":0},{"$f":"SUM(W7:W15)","v":0},{"$f":"SUM(X7:X15)","v":0},null,"Total",{"$f":"SUM(AA7:AA15)","v":36},{"$f":"SUM(AB7:AB15)","v":46},{"$f":"SUM(AC7:AC15)","v":46},{"$f":"SUM(AD7:AD15)","v":4.5},null,"Total",{"$f":"SUM(AG7:AG15)","v":36},{"$f":"SUM(AH7:AH15)","v":47},{"$f":"SUM(AI7:AI15)","v":47},{"$f":"SUM(AJ7:AJ15)","v":3.5},null,"Total",{"$f":"SUM(AM7:AM15)","v":36},{"$f":"SUM(AN7:AN15)","v":47},{"$f":"SUM(AO7:AO15)","v":47},{"$f":"SUM(AP7:AP15)","v":4.5},null,"Total",{"$f":"SUM(AS7:AS15)","v":36},{"$f":"SUM(AT7:AT15)","v":50},{"$f":"SUM(AU7:AU15)","v":50},{"$f":"SUM(AV7:AV15)","v":5},null,"Total",{"$f":"SUM(AY7:AY15)","v":36},{"$f":"SUM(AZ7:AZ15)","v":0},{"$f":"SUM(BA7:BA15)","v":0},{"$f":"SUM(BB7:BB15)","v":0},null,"Total",{"$f":"SUM(BE7:BE15)","v":36},{"$f":"SUM(BF7:BF15)","v":46},{"$f":"SUM(BG7:BG15)","v":46},{"$f":"SUM(BH7:BH15)","v":5.5},null,"Total",{"$f":"SUM(BK7:BK15)","v":36},{"$f":"SUM(BL7:BL15)","v":52},{"$f":"SUM(BM7:BM15)","v":51},{"$f":"SUM(BN7:BN15)","v":4},null,"Total",{"$f":"SUM(BQ7:BQ15)","v":36},{"$f":"SUM(BR7:BR15)","v":53},{"$f":"SUM(BS7:BS15)","v":53},{"$f":"SUM(BT7:BT15)","v":3.5},null,"Total",{"$f":"SUM(BW7:BW15)","v":36},{"$f":"SUM(BX7:BX15)","v":0},{"$f":"SUM(BY7:BY15)","v":0},{"$f":"SUM(BZ7:BZ15)","v":0},null,"Total",{"$f":"SUM(CC7:CC15)","v":36},{"$f":"SUM(CD7:CD15)","v":49},{"$f":"SUM(CE7:CE15)","v":48},{"$f":"SUM(CF7:CF15)","v":6.5},null,"Total",{"$f":"SUM(CI7:CI15)","v":36},{"$f":"SUM(CJ7:CJ15)","v":0},{"$f":"SUM(CK7:CK15)","v":0},{"$f":"SUM(CL7:CL15)","v":0}]
[]
[null,null,null,null,"Low Net",1,null,null,null,null,"Low Net",0,null,null,null,null,"Low Net",null,null,null,null,null,"Low Net",null,null,null,null,null,"Low Net",1,null,null,null,null,"Low Net",1,null,null,null,null,"Low Net",0,null,null,null,null,"Low Net",1,null,null,null,null,"Low Net",null,null,null,null,null,"Low Net",1,null,null,null,null,"Low Net",0,null,null,null,null,"Low Net",0,null,null,null,null,"Low Net",null,null,null,null,null,"Low Net",1,null,null,null,null,"Low Net"]
[]
[null,null,null,null,"Total Points",{"$f":"SUM(F16:F19)","v":6},null,null,null,null,"Total Points",{"$f":"SUM(L16:L19)","v":4},null,null,null,null,"Total Points",{"$f":"SUM(R16:R19)","v":0},null,null,null,null,"Total Points",{"$f":"SUM(X16:X19)","v":0},null,null,null,null,"Total Points",{"$f":"SUM(AD16:AD19)","v":5.5},null,null,null,null,"Total Points",{"$f":"SUM(AJ16:AJ19)","v":4.5},null,null,null,null,"Total Points",{"$f":"SUM(AP16:AP19)","v":4.5},null,null,null,null,"Total Points",{"$f":"SUM(AV16:AV19)","v":6},null,null,null,null,"Total Points",{"$f":"SUM(BB16:BB19)","v":0},null,null,null,null,"Total Points",{"$f":"SUM(BH16:BH19)","v":6.5},null,null,null,null,"Total Points",{"$f":"SUM(BN16:BN19)","v":4},null,null,null,null,"Total Points",{"$f":"SUM(BT16:BT19)","v":3.5},null,null,null,null,"Total Points",{"$f":"SUM(BZ16:BZ19)","v":0},null,null,null,null,"Total Points",{"$f":"SUM(CF16:CF19)","v":7.5},null,null,null,null,"Total Points",{"$f":"SUM(CL16:CL19)","v":0}]
[]
[null,null,null,null,"Handicap",{"$f":"IF(D16=0,0,E16-C16)","v":11},null,null,null,null,"Handicap",{"$f":"IF(J16=0,0,K16-I16)","v":13},null,null,null,null,"Handicap",{"$f":"IF(P16=0,0,Q16-O16)","v":0},null,null,null,null,"Handicap",{"$f":"IF(V16=0,0,W16-U16)","v":0},null,null,null,null,"Handicap",{"$f":"IF(AB16=0,0,AC16-AA16)","v":10},null,null,null,null,"Handicap",{"$f":"IF(AH16=0,0,AI16-AG16)","v":11},null,null,null,null,"Handicap",{"$f":"IF(AN16=0,0,AO16-AM16)","v":11},null,null,null,null,"Handicap",{"$f":"IF(AT16=0,0,AU16-AS16)","v":14},null,null,null,null,"Handicap",{"$f":"IF(AZ16=0,0,BA16-AY16)","v":0},null,null,null,null,"Handicap",{"$f":"IF(BF16=0,0,BG16-BE16)","v":10},null,null,null,null,"Handicap",{"$f":"IF(BL16=0,0,BM16-BK16)","v":15},null,null,null,null,"Handicap",{"$f":"IF(BR16=0,0,BS16-BQ16)","v":17},null,null,null,null,"Handicap",{"$f":"IF(BX16=0,0,BY16-BW16)","v":0},null,null,null,null,"Handicap",{"$f":"IF(CD16=0,0,CE16-CC16)","v":12},null,null,null,null,"Handicap",{"$f":"IF(CJ16=0,0,CK16-CI16)","v":0}]
[]
[null,null,null,null,null,{"$f":"IF(D16<>0,IF(F16>4.5,\"W\",IF(F16=4.5,\"T\",IF(F16<4.5,\"L\"))),0)","v":"W"},null,null,null,null,null,{"$f":"IF(J16<>0,IF(L16>4.5,\"W\",IF(L16=4.5,\"T\",IF(L16<4.5,\"L\"))),0)","v":"L"},null,null,null,null,null,{"$f":"IF(P16<>0,IF(R16>4.5,\"W\",IF(R16=4.5,\"T\",IF(R16<4.5,\"L\"))),0)","v":0},null,null,null,null,null,{"$f":"IF(V16<>0,IF(X16>4.5,\"W\",IF(X16=4.5,\"T\",IF(X16<4.5,\"L\"))),0)","v":0},null,null,null,null,null,{"$f":"IF(AB16<>0,IF(AD16>4.5,\"W\",IF(AD16=4.5,\"T\",IF(AD16<4.5,\"L\"))),0)","v":"T"},null,null,null,null,null,{"$f":"IF(AH16<>0,IF(AJ16>4.5,\"W\",IF(AJ16=4.5,\"T\",IF(AJ16<4.5,\"L\"))),0)","v":"L"},null,null,null,null,null,{"$f":"IF(AN16<>0,IF(AP16>4.5,\"W\",IF(AP16=4.5,\"T\",IF(AP16<4.5,\"L\"))),0)","v":"T"},null,null,null,null,null,{"$f":"IF(AT16<>0,IF(AV16>4.5,\"W\",IF(AV16=4.5,\"T\",IF(AV16<4.5,\"L\"))),0)","v":"W"},null,null,null,null,null,{"$f":"IF(AZ16<>0,IF(BB16>4.5,\"W\",IF(BB16=4.5,\"T\",IF(BB16<4.5,\"L\"))),0)","v":0},null,null,null,null,null,{"$f":"IF(BF16<>0,IF(BH16>4.5,\"W\",IF(BH16=4.5,\"T\",IF(BH16<4.5,\"L\"))),0)","v":"W"},null,null,null,null,null,{"$f":"IF(BL16<>0,IF(BN16>4.5,\"W\",IF(BN16=4.5,\"T\",IF(BN16<4.5,\"L\"))),0)","v":"L"},null,null,null,null,null,{"$f":"IF(BR16<>0,IF(BT16>4.5,\"W\",IF(BT16=4.5,\"T\",IF(BT16<4.5,\"L\"))),0)","v":"L"},null,null,null,null,null,{"$f":"IF(BX16<>0,IF(BZ16>4.5,\"W\",IF(BZ16=4.5,\"T\",IF(BZ16<4.5,\"L\"))),0)","v":0},null,null,null,null,null,{"$f":"IF(CD16<>0,IF(CF16>4.5,\"W\",IF(CF16=4.5,\"T\",IF(CF16<4.5,\"L\"))),0)","v":"W"},null,null,null,null,null,{"$f":"IF(CJ16<>0,IF(CL16>4.5,\"W\",IF(CL16=4.5,\"T\",IF(CL16<4.5,\"L\"))),0)","v":0}]
[]
[null,"Summary",null,{"$f":"COUNT(D29:D43)","v":11}]
[null,null,null,"Adj",null,"Adj",null,null,null,"Avg Score"]
[null,null,"Points","Points","Matches","Matches",null,null,"Hole #","by Hole","Best","Worst"]
[null,"Week #1",{"$f":"F20","v":6},{"$f":"C29","v":6},{"$f":"IF(D16>0,1,0)","v":1},{"$f":"E29","v":1},null,null,1,{"$f":"IFERROR(AVERAGE(D7,P7,AB7,AN7,AZ7,BL7,BX7,CD7),0)","v":5.2},{"$f":"IFERROR(MIN(D7,P7,AB7,AN7,AZ7,BL7,BX7,CD7),0)","v":5},{"$f":"IFERROR(MAX(D7,P7,AB7,AN7,AZ7,BL7,BX7,CD7),0)","v":6}]
[null,"Week #2",{"$f":"L20","v":4},4,{"$f":"IF(J16>0,1,0)","v":1},1,null,null,2,{"$f":"IFERROR(AVERAGE(D8,P8,AB8,AN8,AZ8,BL8,BX8,CD8),0)","v":5.4},{"$f":"IFERROR(MIN(D8,P8,AB8,AN8,AZ8,BL8,BX8,CD8),0)","v":5},{"$f":"IFERROR(MAX(D8,P8,AB8,AN8,AZ8,BL8,BX8,CD8),0)","v":6}]
[null,"Week #3",{"$f":"R20","v":0},null,{"$f":"IF(P16>0,1,0)","v":0},0,null,null,3,4.4000000000000004,3,7]
[null,"Week #4",{"$f":"X20","v":0},null,{"$f":"IF(V16>0,1,0)","v":0},0,null,null,4,5,4,6]
[null,"Week #5",{"$f":"AD20","v":5.5},5.5,{"$f":"IF(AB16>0,1,0)","v":1},1,null,null,5,6,5,7]
[null,"Week #6",{"$f":"AJ20","v":4.5},4.5,{"$f":"IF(AH16>0,1,0)","v":1},1,null,null,6,6,5,7]
[null,"Week #7",{"$f":"AP20","v":4.5},4.5,{"$f":"IF(AN16>0,1,0)","v":1},1,null,null,7,5.2,4,7]
[null,"Week #8",{"$f":"AV20","v":6},6,{"$f":"IF(AT16>0,1,0)","v":1},1,null,null,8,5.2,5,6]
[null,"Week #9",{"$f":"BB20","v":0},null,{"$f":"IF(AZ16>0,1,0)","v":0},0,null,null,9,5.8,5,7]
[null,"Week #10",{"$f":"BH20","v":6.5},6.5,{"$f":"IF(BF16>0,1,0)","v":1},1,null,null,"Front",{"$f":"SUM(J29:J37)","v":48.2},{"$f":"SUM(K29:K37)","v":41},59]
[null,"Week #11",{"$f":"BN20","v":4},4,{"$f":"IF(BL16>0,1,0)","v":1},1]
[null,"Week #12",{"$f":"BT20","v":3.5},3.5,{"$f":"IF(BR16>0,1,0)","v":1},1,null,null,10,{"$f":"IFERROR(AVERAGE(J7,V7,AH7,AT7,BF7,BR7,CJ7),0)","v":6},{"$f":"IFERROR(MIN(J7,V7,AH7,AT7,BF7,BR7,CJ7),0)","v":5},{"$f":"IFERROR(MAX(J7,V7,AH7,AT7,BF7,BR7,CJ7),0)","v":7}]
[null,"Week #13",{"$f":"BZ20","v":0},null,{"$f":"IF(BX16>0,1,0)","v":0},0,null,null,11,{"$f":"IFERROR(AVERAGE(J8,V8,AH8,AT8,BF8,BR8,CJ8),0)","v":4.8},{"$f":"IFERROR(MIN(J8,V8,AH8,AT8,BF8,BR8,CJ8),0)","v":4},{"$f":"IFERROR(MAX(J8,V8,AH8,AT8,BF8,BR8,CJ8),0)","v":6}]
[null,"Week #14",{"$f":"CF20","v":7.5},7.5,{"$f":"IF(CD16>0,1,0)","v":1},1,null,null,12,5.6,5,7]
[null,"Week #15",{"$f":"CL20","v":0},0,{"$f":"IF(CJ16>0,1,0)","v":0},0,null,null,13,6.2,5,8]
[null,"Total",{"$f":"SUM(C29:C43)","v":52},{"$f":"SUM(D29:D43)","v":52},{"$f":"SUM(E29:E43)","v":10},{"$f":"SUM(F29:F43)","v":10},null,null,14,4.2,3,6]
[null,null,null,null,null,null,null,null,15,5.6,4,7]
[null,"Summary",null,null,null,null,null,null,16,5.8,5,7]
[null,"Eagles",{"$f":"I57+I68+I79+I90+I101+I112+I123+I134+I145+I156+I167+I178+I189+I200+I211","v":0},null,null,null,null,null,17,4.8,3,6]
[null,"Birdies",0,null,null,null,null,null,18,6,5,7]
[null,"Pars",15,null,null,null,null,null,"Back",{"$f":"SUM(J40:J48)","v":48.999999999999993},{"$f":"SUM(K40:K48)","v":39},61]
[null,"bogeys",39]
[null,"Double bogeys",23]
[null,"Other",13]
[null,"Total",{"$f":"SUM(C47:C52)","v":90}]
[]
[null,{"$f":"D4","v":"2024-04-26"},"Par","Score"]
[null,{"$f":"B7","v":1},4,6,{"$f":"IF(D56<>0,IF((D56-C56)=-1,\"Birdie\",IF((D56-C56)=-2,\"Eagle\",IF((D56-C56)=0,\"Par\",IF((D56-C56)=1,\"bogey\",IF((D56-C56)=2,\"Double bogey\",\"Other\"))))),\"  \")","v":"Double bogey"},null,null,"Count"]
[null,2,4,5,"bogey",null,null,"Eagle",{"$f":"COUNTIF(E56:E64,\"Eagle\")","v":0}]
[null,3,3,3,"Par",null,null,"Birdie",{"$f":"COUNTIF(E56:E64,\"Birdie\")","v":0}]
[null,4,4,5,"bogey",null,null,"Par",{"$f":"COUNTIF(E56:E64,\"Par\")","v":2}]
[null,5,5,6,"bogey",null,null,"bogey",{"$f":"COUNTIF(E56:E64,\"bogey\")","v":4}]
[null,6,3,6,"Other",null,null,"Double bogey",{"$f":"COUNTIF(E56:E64,\"Double bogey\")","v":2}]
[null,7,4,4,"Par",null,null,"Other",{"$f":"COUNTIF(E56:E64,\"Other\")","v":1}]
[null,8,4,5,"bogey"]
[null,9,5,7,"Double bogey"]
[]
[null,{"$f":"J4","v":"2024-05-03"}]
[null,{"$f":"H7","v":10},4,7,{"$f":"IF(D67<>0,IF((D67-C67)=-1,\"Birdie\",IF((D67-C67)=-2,\"Eagle\",IF((D67-C67)=0,\"Par\",IF((D67-C67)=1,\"bogey\",IF((D67-C67)=2,\"Double bogey\",\"Other\"))))),\"  \")","v":"Other"},null,null,"Count"]
[null,11,4,5,"bogey",null,null,"Eagle",{"$f":"COUNTIF(E67:E75,\"Eagle\")","v":0}]
[null,12,4,5,"bogey",null,null,"Birdie",{"$f":"COUNTIF(E67:E75,\"Birdie\")","v":0}]
[null,13,5,5,"Par",null,null,"Par",{"$f":"COUNTIF(E67:E75,\"Par\")","v":1}]
[null,14,3,4,"bogey",null,null,"bogey",{"$f":"COUNTIF(E67:E75,\"bogey\")","v":4}]
[null,15,4,5,"bogey",null,null,"Double bogey",{"$f":"COUNTIF(E67:E75,\"Double bogey\")","v":3}]
[null,16,4,6,"Double bogey",null,null,"Other",{"$f":"COUNTIF(E67:E75,\"Other\")","v":1}]
[null,17,3,5,"Double bogey"]
[null,18,5,7,"Double bogey"]
[]
[null,{"$f":"P4","v":"2024-05-10"}]
[null,{"$f":"N7","v":1},4,0,{"$f":"IF(D78<>0,IF((D78-C78)=-1,\"Birdie\",IF((D78-C78)=-2,\"Eagle\",IF((D78-C78)=0,\"Par\",IF((D78-C78)=1,\"bogey\",IF((D78-C78)=2,\"Double bogey\",\"Other\"))))),\"  \")","v":"  "},null,null,"Count"]
[null,2,4,0,"  ",null,null,"Eagle",{"$f":"COUNTIF(E78:E86,\"Eagle\")","v":0}]
[null,3,3,0,"  ",null,null,"Birdie",{"$f":"COUNTIF(E78:E86,\"Birdie\")","v":0}]
[null,4,4,0,"  ",null,null,"Par",{"$f":"COUNTIF(E78:E86,\"Par\")","v":0}]
[null,5,5,0,"  ",null,null,"bogey",{"$f":"COUNTIF(E78:E86,\"bogey\")","v":0}]
[null,6,3,0,"  ",null,null,"Double bogey",{"$f":"COUNTIF(E78:E86,\"Double bogey\")","v":0}]
[null,7,4,0,"  ",null,null,"Other",{"$f":"COUNTIF(E78:E86,\"Other\")","v":0}]
[null,8,4,0,"  "]
[null,9,5,0,"  "]
[]
[null,{"$f":"V4","v":"2024-05-17"}]
[null,{"$f":"T7","v":10},4,0,{"$f":"IF(D89<>0,IF((D89-C89)=-1,\"Birdie\",IF((D89-C89)=-2,\"Eagle\",IF((D89-C89)=0,\"Par\",IF((D89-C89)=1,\"bogey\",IF((D89-C89)=2,\"Double bogey\",\"Other\"))))),\"  \")","v":"  "},null,null,"Count"]
[null,11,4,0,"  ",null,null,"Eagle",{"$f":"COUNTIF(E89:E97,\"Eagle\")","v":0}]
[null,12,4,0,"  ",null,null,"Birdie",{"$f":"COUNTIF(E89:E97,\"Birdie\")","v":0}]
[null,13,5,0,"  ",null,null,"Par",{"$f":"COUNTIF(E89:E97,\"Par\")","v":0}]
[null,14,3,0,"  ",null,null,"bogey",{"$f":"COUNTIF(E89:E97,\"bogey\")","v":0}]
[null,15,4,0,"  ",null,null,"Double bogey",{"$f":"COUNTIF(E89:E97,\"Double bogey\")","v":0}]
[null,16,4,0,"  ",null,null,"Other",{"$f":"COUNTIF(E89:E97,\"Other\")","v":0}]
[null,17,3,0,"  "]
[null,18,5,0,"  "]
[]
[null,{"$f":"AB4","v":"2024-05-24"}]
[null,{"$f":"Z7","v":1},4,5,{"$f":"IF(D100<>0,IF((D100-C100)=-1,\"Birdie\",IF((D100-C100)=-2,\"Eagle\",IF((D100-C100)=0,\"Par\",IF((D100-C100)=1,\"bogey\",IF((D100-C100)=2,\"Double bogey\",\"Other\"))))),\"  \")","v":"bogey"},null,null,"Count"]
[null,2,4,5,"bogey",null,null,"Eagle",{"$f":"COUNTIF(E100:E108,\"Eagle\")","v":0}]
[null,3,3,4,"bogey",null,null,"Birdie",{"$f":"COUNTIF(E100:E108,\"Birdie\")","v":0}]
[null,4,4,6,"Double bogey",null,null,"Par",{"$f":"COUNTIF(E100:E108,\"Par\")","v":2}]
[null,5,5,5,"Par",null,null,"bogey",{"$f":"COUNTIF(E100:E108,\"bogey\")","v":5}]
[null,6,3,6,"Other",null,null,"Double bogey",{"$f":"COUNTIF(E100:E108,\"Double bogey\")","v":1}]
[null,7,4,5,"bogey",null,null,"Other",{"$f":"COUNTIF(E100:E108,\"Other\")","v":1}]
[null,8,4,5,"bogey"]
[null,9,5,5,"Par"]
[]
[null,{"$f":"AH4","v":"2024-05-31"}]
[null,{"$f":"AF7","v":10},4,6,{"$f":"IF(D111<>0,IF((D111-C111)=-1,\"Birdie\",IF((D111-C111)=-2,\"Eagle\",IF((D111-C111)=0,\"Par\",IF((D111-C111)=1,\"bogey\",IF((D111-C111)=2,\"Double bogey\",\"Other\"))))),\"  \")","v":"Double bogey"},null,null,"Count"]
[null,11,4,4,"Par",null,null,"Eagle",{"$f":"COUNTIF(E111:E119,\"Eagle\")","v":0}]
[null,12,4,5,"bogey",null,null,"Birdie",{"$f":"COUNTIF(E111:E119,\"Birdie\")","v":0}]
[null,13,5,6,"bogey",null,null,"Par",{"$f":"COUNTIF(E111:E119,\"Par\")","v":2}]
[null,14,3,6,"Other",null,null,"bogey",{"$f":"COUNTIF(E111:E119,\"bogey\")","v":4}]
[null,15,4,6,"Double bogey",null,null,"Double bogey",{"$f":"COUNTIF(E111:E119,\"Double bogey\")","v":2}]
[null,16,4,5,"bogey",null,null,"Other",{"$f":"COUNTIF(E111:E119,\"Other\")","v":1}]
[null,17,3,3,"Par"]
[null,18,5,6,"bogey"]
[]
[null,{"$f":"AN4","v":"2024-06-07"}]
[null,{"$f":"AL7","v":1},4,5,{"$f":"IF(D122<>0,IF((D122-C122)=-1,\"Birdie\",IF((D122-C122)=-2,\"Eagle\",IF((D122-C122)=0,\"Par\",IF((D122-C122)=1,\"bogey\",IF((D122-C122)=2,\"Double bogey\",\"Other\"))))),\"  \")","v":"bogey"},null,null,"Count"]
[null,2,4,6,"Double bogey",null,null,"Eagle",{"$f":"COUNTIF(E122:E130,\"Eagle\")","v":0}]
[null,3,3,3,"Par",null,null,"Birdie",{"$f":"COUNTIF(E122:E130,\"Birdie\")","v":0}]
[null,4,4,6,"Double bogey",null,null,"Par",{"$f":"COUNTIF(E122:E130,\"Par\")","v":2}]
[null,5,5,6,"bogey",null,null,"bogey",{"$f":"COUNTIF(E122:E130,\"bogey\")","v":4}]
[null,6,3,6,"Other",null,null,"Double bogey",{"$f":"COUNTIF(E122:E130,\"Double bogey\")","v":2}]
[null,7,4,5,"bogey",null,null,"Other",{"$f":"COUNTIF(E122:E130,\"Other\")","v":1}]
[null,8,4,5,"bogey"]
[null,9,5,5,"Par"]
[]
[null,{"$f":"AT4","v":"2024-06-14"}]
[null,{"$f":"AR7","v":10},4,6,{"$f":"IF(D133<>0,IF((D133-C133)=-1,\"Birdie\",IF((D133-C133)=-2,\"Eagle\",IF((D133-C133)=0,\"Par\",IF((D133-C133)=1,\"bogey\",IF((D133-C133)=2,\"Double bogey\",\"Other\"))))),\"  \")","v":"Double bogey"},null,null,"Count"]
[null,11,4,5,"bogey",null,null,"Eagle",{"$f":"COUNTIF(E133:E141,\"Eagle\")","v":0}]
[null,12,4,5,"bogey",null,null,"Birdie",{"$f":"COUNTIF(E133:E141,\"Birdie\")","v":0}]
[null,13,5,8,"Other",null,null,"Par",{"$f":"COUNTIF(E133:E141,\"Par\")","v":1}]
[null,14,3,3,"Par",null,null,"bogey",{"$f":"COUNTIF(E133:E141,\"bogey\")","v":3}]
[null,15,4,6,"Double bogey",null,null,"Double bogey",{"$f":"COUNTIF(E133:E141,\"Double bogey\")","v":4}]
[null,16,4,6,"Double bogey",null,null,"Other",{"$f":"COUNTIF(E133:E141,\"Other\")","v":1}]
[null,17,3,5,"Double bogey"]
[null,18,5,6,"bogey"]
[]
[null,{"$f":"AZ4","v":"2024-07-05"}]
[null,{"$f":"AX7","v":1},4,0,{"$f":"IF(D144<>0,IF((D144-C144)=-1,\"Birdie\",IF((D144-C144)=-2,\"Eagle\",IF((D144-C144)=0,\"Par\",IF((D144-C144)=1,\"bogey\",IF((D144-C144)=2,\"Double bogey\",\"Other\"))))),\"  \")","v":"  "},null,null,"Count"]
[null,2,4,0,"  ",null,null,"Eagle",{"$f":"COUNTIF(E144:E152,\"Eagle\")","v":0}]
[null,3,3,0,"  ",null,null,"Birdie",{"$f":"COUNTIF(E144:E152,\"Birdie\")","v":0}]
[null,4,4,0,"  ",null,null,"Par",{"$f":"COUNTIF(E144:E152,\"Par\")","v":0}]
[null,5,5,0,"  ",null,null,"bogey",{"$f":"COUNTIF(E144:E152,\"bogey\")","v":0}]
[null,6,3,0,"  ",null,null,"Double bogey",{"$f":"COUNTIF(E144:E152,\"Double bogey\")","v":0}]
[null,7,4,0,"  ",null,null,"Other",{"$f":"COUNTIF(E144:E152,\"Other\")","v":0}]
[null,8,4,0,"  "]
[null,9,5,0,"  "]
[]
[null,{"$f":"BF4","v":"2024-07-12"}]
[null,{"$f":"BD7","v":10},4,5,{"$f":"IF(D155<>0,IF((D155-C155)=-1,\"Birdie\",IF((D155-C155)=-2,\"Eagle\",IF((D155-C155)=0,\"Par\",IF((D155-C155)=1,\"bogey\",IF((D155-C155)=2,\"Double bogey\",\"Other\"))))),\"  \")","v":"bogey"},null,null,"Count"]
[null,11,4,4,"Par",null,null,"Eagle",{"$f":"COUNTIF(E155:E163,\"Eagle\")","v":0}]
[null,12,4,7,"Other",null,null,"Birdie",{"$f":"COUNTIF(E155:E163,\"Birdie\")","v":0}]
[null,13,5,6,"bogey",null,null,"Par",{"$f":"COUNTIF(E155:E163,\"Par\")","v":2}]
[null,14,3,4,"bogey",null,null,"bogey",{"$f":"COUNTIF(E155:E163,\"bogey\")","v":5}]
[null,15,4,4,"Par",null,null,"Double bogey",{"$f":"COUNTIF(E155:E163,\"Double bogey\")","v":1}]
[null,16,4,5,"bogey",null,null,"Other",{"$f":"COUNTIF(E155:E163,\"Other\")","v":1}]
[null,17,3,5,"Double bogey"]
[null,18,5,6,"bogey"]
[]
[null,{"$f":"BL4","v":"2024-07-19"}]
[null,{"$f":"BJ7","v":1},4,5,{"$f":"IF(D166<>0,IF((D166-C166)=-1,\"Birdie\",IF((D166-C166)=-2,\"Eagle\",IF((D166-C166)=0,\"Par\",IF((D166-C166)=1,\"bogey\",IF((D166-C166)=2,\"Double bogey\",\"Other\"))))),\"  \")","v":"bogey"},null,null,"Count"]
[null,2,4,6,"Double bogey",null,null,"Eagle",{"$f":"COUNTIF(E166:E174,\"Eagle\")","v":0}]
[null,3,3,7,"Other",null,null,"Birdie",{"$f":"COUNTIF(E166:E174,\"Birdie\")","v":0}]
[null,4,4,4,"Par",null,null,"Par",{"$f":"COUNTIF(E166:E174,\"Par\")","v":1}]
[null,5,5,6,"bogey",null,null,"bogey",{"$f":"COUNTIF(E166:E174,\"bogey\")","v":3}]
[null,6,3,5,"Double bogey",null,null,"Double bogey",{"$f":"COUNTIF(E166:E174,\"Double bogey\")","v":3}]
[null,7,4,7,"Other",null,null,"Other",{"$f":"COUNTIF(E166:E174,\"Other\")","v":2}]
[null,8,4,6,"Double bogey"]
[null,9,5,6,"bogey"]
[]
[null,{"$f":"BR4","v":"2024-07-26"}]
[null,{"$f":"BP7","v":10},4,6,{"$f":"IF(D177<>0,IF((D177-C177)=-1,\"Birdie\",IF((D177-C177)=-2,\"Eagle\",IF((D177-C177)=0,\"Par\",IF((D177-C177)=1,\"bogey\",IF((D177-C177)=2,\"Double bogey\",\"Other\"))))),\"  \")","v":"Double bogey"},null,null,"Count"]
[null,11,4,6,"Double bogey",null,null,"Eagle",{"$f":"COUNTIF(E177:E185,\"Eagle\")","v":0}]
[null,12,4,6,"Double bogey",null,null,"Birdie",{"$f":"COUNTIF(E177:E185,\"Birdie\")","v":0}]
[null,13,5,6,"bogey",null,null,"Par",{"$f":"COUNTIF(E177:E185,\"Par\")","v":1}]
[null,14,3,4,"bogey",null,null,"bogey",{"$f":"COUNTIF(E177:E185,\"bogey\")","v":2}]
[null,15,4,7,"Other",null,null,"Double bogey",{"$f":"COUNTIF(E177:E185,\"Double bogey\")","v":3}]
[null,16,4,7,"Other",null,null,"Other",{"$f":"COUNTIF(E177:E185,\"Other\")","v":3}]
[null,17,3,6,"Other"]
[null,18,5,5,"Par"]
[]
[null,{"$f":"BX4","v":"2024-08-02"}]
[null,{"$f":"BV7","v":1},4,0,{"$f":"IF(D188<>0,IF((D188-C188)=-1,\"Birdie\",IF((D188-C188)=-2,\"Eagle\",IF((D188-C188)=0,\"Par\",IF((D188-C188)=1,\"bogey\",IF((D188-C188)=2,\"Double bogey\",\"Other\"))))),\"  \")","v":"  "},null,null,"Count"]
[null,2,4,0,"  ",null,null,"Eagle",{"$f":"COUNTIF(E188:E196,\"Eagle\")","v":0}]
[null,3,3,0,"  ",null,null,"Birdie",{"$f":"COUNTIF(E188:E196,\"Birdie\")","v":0}]
[null,4,4,0,"  ",null,null,"Par",{"$f":"COUNTIF(E188:E196,\"Par\")","v":0}]
[null,5,5,0,"  ",null,null,"bogey",{"$f":"COUNTIF(E188:E196,\"bogey\")","v":0}]
[null,6,3,0,"  ",null,null,"Double bogey",{"$f":"COUNTIF(E188:E196,\"Double bogey\")","v":0}]
[null,7,4,0,"  ",null,null,"Other",{"$f":"COUNTIF(E188:E196,\"Other\")","v":0}]
[null,8,4,0,"  "]
[null,9,5,0,"  "]
[]
[null,{"$f":"CD4","v":"2024-08-16"}]
[null,{"$f":"CB7","v":1},4,5,{"$f":"IF(D199<>0,IF((D199-C199)=-1,\"Birdie\",IF((D199-C199)=-2,\"Eagle\",IF((D199-C199)=0,\"Par\",IF((D199-C199)=1,\"bogey\",IF((D199-C199)=2,\"Double bogey\",\"Other\"))))),\"  \")","v":"bogey"},null,null,"Count"]
[null,2,4,5,"bogey",null,null,"Eagle",{"$f":"COUNTIF(E199:E207,\"Eagle\")","v":0}]
[null,3,3,5,"Double bogey",null,null,"Birdie",{"$f":"COUNTIF(E199:E207,\"Birdie\")","v":0}]
[null,4,4,4,"Par",null,null,"Par",{"$f":"COUNTIF(E199:E207,\"Par\")","v":1}]
[null,5,5,7,"Double bogey",null,null,"bogey",{"$f":"COUNTIF(E199:E207,\"bogey\")","v":5}]
[null,6,3,7,"Other",null,null,"Double bogey",{"$f":"COUNTIF(E199:E207,\"Double bogey\")","v":2}]
[null,7,4,5,"bogey",null,null,"Other",{"$f":"COUNTIF(E199:E207,\"Other\")","v":1}]
[null,8,4,5,"bogey"]
[null,9,5,6,"bogey"]
[]
[null,{"$f":"CJ4","v":"2024-08-23"}]
[null,{"$f":"CH7","v":10},4,0,{"$f":"IF(D210<>0,IF((D210-C210)=-1,\"Birdie\",IF((D210-C210)=-2,\"Eagle\",IF((D210-C210)=0,\"Par\",IF((D210-C210)=1,\"bogey\",IF((D210-C210)=2,\"Double bogey\",\"Other\"))))),\"  \")","v":"  "},null,null,"Count"]
[null,11,4,0,"  ",null,null,"Eagle",{"$f":"COUNTIF(E210:E218,\"Eagle\")","v":0}]
[null,12,4,0,"  ",null,null,"Birdie",{"$f":"COUNTIF(E210:E218,\"Birdie\")","v":0}]
[null,13,5,0,"  ",null,null,"Par",{"$f":"COUNTIF(E210:E218,\"Par\")","v":0}]
[null,14,3,0,"  ",null,null,"bogey",{"$f":"COUNTIF(E210:E218,\"bogey\")","v":0}]
[null,15,4,0,"  ",null,null,"Double bogey",{"$f":"COUNTIF(E210:E218,\"Double bogey\")","v":0}]
[null,16,4,0,"  ",null,null,"Other",{"$f":"COUNTIF(E210:E218,\"Other\")","v":0}]
[null,17,3,0,"  "]
[null,18,5,0,"  "]

{"sheet":"Reed","index":17,"n_rows":218,"n_cols":90,"rows_kept":218,"cut":false,"hidden":false,"merged":[]}
["Marty Reed"]
[]
[]
[null,null,"Date:",{"$f":"VLOOKUP(C5,Week,2)","v":"2024-04-26"},null,null,null,null,"Date:",{"$f":"VLOOKUP(I5,Week,2)","v":"2024-05-03"},null,null,null,null,"Date:",{"$f":"VLOOKUP(O5,Week,2)","v":"2024-05-10"},null,null,null,null,"Date:",{"$f":"VLOOKUP(U5,Week,2)","v":"2024-05-17"},null,null,null,null,"Date:",{"$f":"VLOOKUP(AA5,Week,2)","v":"2024-05-24"},null,null,null,null,"Date:",{"$f":"VLOOKUP(AG5,Week,2)","v":"2024-05-31"},null,null,null,null,"Date:",{"$f":"VLOOKUP(AM5,Week,2)","v":"2024-06-07"},null,null,null,null,"Date:",{"$f":"VLOOKUP(AS5,Week,2)","v":"2024-06-14"},null,null,null,null,"Date:",{"$f":"VLOOKUP(AY5,Week,2)","v":"2024-07-05"},null,null,null,null,"Date:",{"$f":"VLOOKUP(BE5,Week,2)","v":"2024-07-12"},null,null,null,null,"Date:",{"$f":"VLOOKUP(BK5,Week,2)","v":"2024-07-19"},null,null,null,null,"Date:",{"$f":"VLOOKUP(BQ5,Week,2)","v":"2024-07-26"},null,null,null,null,"Date:",{"$f":"VLOOKUP(BW5,Week,2)","v":"2024-08-02"},null,null,null,null,"Date:",{"$f":"VLOOKUP(CC5,Week,2)","v":"2024-08-16"},null,null,null,null,"Date:",{"$f":"VLOOKUP(CI5,Week,2)","v":"2024-08-23"}]
[null,"Week",1,null,null,null,null,"Week",2,null,null,null,null,"Week",3,null,null,null,null,"Week",4,null,null,null,null,"Week",5,null,null,null,null,"Week",6,null,null,null,null,"Week",7,null,null,null,null,"Week",8,null,null,null,null,"Week",9,null,null,null,null,"Week",10,null,null,null,null,"Week",11,null,null,null,null,"Week",12,null,null,null,null,"Week",13,null,null,null,null,"Week",14,null,null,null,null,"Week",15]
[null,"Hole #","Par","Score","Net","Win Hole",null,"Hole #","Par","Score","Net","Win Hole",null,"Hole #","Par","Score","Net","Win Hole",null,"Hole #","Par","Score","Net","Win Hole",null,"Hole #","Par","Score","Net","Win Hole",null,"Hole #","Par","Score","Net","Win Hole",null,"Hole #","Par","Score","Net","Win Hole",null,"Hole #","Par","Score","Net","Win Hole",null,"Hole #","Par","Score","Net","Win Hole",null,"Hole #","Par","Score","Net","Win Hole",null,"Hole #","Par","Score","Net","Win Hole",null,"Hole #","Par","Score","Net","Win Hole",null,"Hole #","Par","Score","Net","Win Hole",null,"Hole #","Par","Score","Net","Win Hole",null,"Hole #","Par","Score","Net","Win Hole"]
[null,{"$f":"VLOOKUP(C5,Week,6)","v":1},{"$f":"VLOOKUP(B7,Holes,2)","v":4},null,{"$f":"IF((D7-C7)>3,C7+3,D7)","v":0},null,null,{"$f":"VLOOKUP(I5,Week,6)","v":10},{"$f":"VLOOKUP(H7,Holes,2)","v":4},null,{"$f":"IF((J7-I7)>3,I7+3,J7)","v":0},null,null,{"$f":"VLOOKUP(O5,Week,6)","v":1},{"$f":"VLOOKUP(N7,Holes,2)","v":4},null,{"$f":"IF((P7-O7)>3,O7+3,P7)","v":0},null,null,{"$f":"VLOOKUP(U5,Week,6)","v":10},{"$f":"VLOOKUP(T7,Holes,2)","v":4},3,{"$f":"IF((V7-U7)>3,U7+3,V7)","v":3},1,null,{"$f":"VLOOKUP(AA5,Week,6)","v":1},{"$f":"VLOOKUP(Z7,Holes,2)","v":4},4,{"$f":"IF((AB7-AA7)>3,AA7+3,AB7)","v":4},1,null,{"$f":"VLOOKUP(AG5,Week,6)","v":10},{"$f":"VLOOKUP(AF7,Holes,2)","v":4},4,{"$f":"IF((AH7-AG7)>3,AG7+3,AH7)","v":4},0,null,{"$f":"VLOOKUP(AM5,Week,6)","v":1},{"$f":"VLOOKUP(AL7,Holes,2)","v":4},4,{"$f":"IF((AN7-AM7)>3,AM7+3,AN7)","v":4},1,null,{"$f":"VLOOKUP(AS5,Week,6)","v":10},{"$f":"VLOOKUP(AR7,Holes,2)","v":4},5,{"$f":"IF((AT7-AS7)>3,AS7+3,AT7)","v":5},0.5,null,{"$f":"VLOOKUP(AY5,Week,6)","v":1},{"$f":"VLOOKUP(AX7,Holes,2)","v":4},4,{"$f":"IF((AZ7-AY7)>3,AY7+3,AZ7)","v":4},1,null,{"$f":"VLOOKUP(BE5,Week,6)","v":10},{"$f":"VLOOKUP(BD7,Holes,2)","v":4},5,{"$f":"IF((BF7-BE7)>3,BE7+3,BF7)","v":5},0,null,{"$f":"VLOOKUP(BK5,Week,6)","v":1},{"$f":"VLOOKUP(BJ7,Holes,2)","v":4},5,{"$f":"IF((BL7-BK7)>3,BK7+3,BL7)","v":5},1,null,{"$f":"VLOOKUP(BQ5,Week,6)","v":10},{"$f":"VLOOKUP(BP7,Holes,2)","v":4},5,{"$f":"IF((BR7-BQ7)>3,BQ7+3,BR7)","v":5},0.5,null,{"$f":"VLOOKUP(BW5,Week,6)","v":1},{"$f":"VLOOKUP(BV7,Holes,2)","v":4},4,{"$f":"IF((BX7-BW7)>3,BW7+3,BX7)","v":4},0.5,null,{"$f":"VLOOKUP(CC5,Week,6)","v":1},{"$f":"VLOOKUP(CB7,Holes,2)","v":4},null,{"$f":"IF((CD7-CC7)>3,CC7+3,CD7)","v":0},null,null,{"$f":"VLOOKUP(CI5,Week,6)","v":10},{"$f":"VLOOKUP(CH7,Holes,2)","v":4},4,{"$f":"IF((CJ7-CI7)>3,CI7+3,CJ7)","v":4},1]
[null,{"$f":"+B7+1","v":2},4,null,0,null,null,{"$f":"+H7+1","v":11},4,null,0,null,null,{"$f":"+N7+1","v":2},4,null,0,null,null,{"$f":"+T7+1","v":11},4,5,5,1,null,{"$f":"+Z7+1","v":2},4,5,5,0,null,{"$f":"+AF7+1","v":11},4,5,5,0,null,{"$f":"+AL7+1","v":2},4,4,4,1,null,{"$f":"+AR7+1","v":11},4,5,5,0,null,{"$f":"+AX7+1","v":2},4,6,6,0,null,{"$f":"+BD7+1","v":11},4,4,4,1,null,{"$f":"+BJ7+1","v":2},4,6,6,0.5,null,{"$f":"+BP7+1","v":11},4,4,4,1,null,{"$f":"+BV7+1","v":2},4,4,4,0.5,null,{"$f":"+CB7+1","v":2},4,null,0,null,null,{"$f":"+CH7+1","v":11},4,7,7,1]
[null,3,3,null,0,null,null,12,4,null,0,null,null,3,3,null,0,null,null,12,4,4,4,1,null,3,3,3,3,1,null,12,4,5,5,0.5,null,3,3,3,3,1,null,12,4,4,4,1,null,3,3,3,3,0.5,null,12,4,4,4,0.5,null,3,3,3,3,0.5,null,12,4,5,5,0.5,null,3,3,3,3,1,null,3,3,null,0,null,null,12,4,5,5,1]
[null,4,4,null,0,null,null,13,5,null,0,null,null,4,4,null,0,null,null,13,5,8,8,0,null,4,4,6,6,0,null,13,5,5,5,1,null,4,4,6,6,0,null,13,5,6,6,0,null,4,4,4,4,1,null,13,5,6,6,0,null,4,4,5,5,0,null,13,5,4,4,1,null,4,4,5,5,0,null,4,4,null,0,null,null,13,5,7,7,0]
[null,5,5,null,0,null,null,14,3,null,0,null,null,5,5,null,0,null,null,14,3,5,5,0,null,5,5,7,7,0,null,14,3,3,3,1,null,5,5,6,6,0.5,null,14,3,3,3,1,null,5,5,6,6,0.5,null,14,3,4,4,0,null,5,5,6,6,1,null,14,3,4,4,0.5,null,5,5,6,6,0.5,null,5,5,null,0,null,null,14,3,4,4,1]
[null,6,3,null,0,null,null,15,4,null,0,null,null,6,3,null,0,null,null,15,4,5,5,1,null,6,3,4,4,1,null,15,4,6,6,0,null,6,3,4,4,0,null,15,4,6,6,1,null,6,3,4,4,0.5,null,15,4,5,5,0.5,null,6,3,5,5,0,null,15,4,4,4,1,null,6,3,3,3,0.5,null,6,3,null,0,null,null,15,4,5,5,0.5]
[null,7,4,null,0,null,null,16,4,null,0,null,null,7,4,null,0,null,null,16,4,4,4,1,null,7,4,5,5,0.5,null,16,4,4,4,1,null,7,4,4,4,0.5,null,16,4,5,5,0.5,null,7,4,6,6,0,null,16,4,6,6,0,null,7,4,5,5,1,null,16,4,5,5,0,null,7,4,4,4,0.5,null,7,4,null,0,null,null,16,4,5,5,0.5]
[null,8,4,null,0,null,null,17,3,null,0,null,null,8,4,null,0,null,null,17,3,3,3,1,null,8,4,4,4,1,null,17,3,4,4,0.5,null,8,4,6,6,0,null,17,3,3,3,0.5,null,8,4,4,4,1,null,17,3,4,4,0,null,8,4,5,5,1,null,17,3,4,4,1,null,8,4,4,4,1,null,8,4,null,0,null,null,17,3,4,4,1]
[null,9,5,null,0,null,null,18,5,null,0,null,null,9,5,null,0,null,null,18,5,4,4,1,null,9,5,6,6,0,null,18,5,6,6,0,null,9,5,5,5,0,null,18,5,8,8,0,null,9,5,6,6,0,null,18,5,5,5,1,null,9,5,5,5,0.5,null,18,5,5,5,1,null,9,5,5,5,1,null,9,5,null,0,null,null,18,5,6,6,1]
[null,"Total",{"$f":"SUM(C7:C15)","v":36},{"$f":"SUM(D7:D15)","v":0},{"$f":"SUM(E7:E15)","v":0},{"$f":"SUM(F7:F15)","v":0},null,"Total",{"$f":"SUM(I7:I15)","v":36},{"$f":"SUM(J7:J15)","v":0},{"$f":"SUM(K7:K15)","v":0},{"$f":"SUM(L7:L15)","v":0},null,"Total",{"$f":"SUM(O7:O15)","v":36},{"$f":"SUM(P7:P15)","v":0},{"$f":"SUM(Q7:Q15)","v":0},{"$f":"SUM(R7:R15)","v":0},null,"Total",{"$f":"SUM(U7:U15)","v":36},{"$f":"SUM(V7:V15)","v":41},{"$f":"SUM(W7:W15)","v":41},{"$f":"SUM(X7:X15)","v":7},null,"Total",{"$f":"SUM(AA7:AA15)","v":36},{"$f":"SUM(AB7:AB15)","v":44},{"$f":"SUM(AC7:AC15)","v":44},{"$f":"SUM(AD7:AD15)","v":4.5},null,"Total",{"$f":"SUM(AG7:AG15)","v":36},{"$f":"SUM(AH7:AH15)","v":42},{"$f":"SUM(AI7:AI15)","v":42},{"$f":"SUM(AJ7:AJ15)","v":4},null,"Total",{"$f":"SUM(AM7:AM15)","v":36},{"$f":"SUM(AN7:AN15)","v":42},{"$f":"SUM(AO7:AO15)","v":42},{"$f":"SUM(AP7:AP15)","v":4},null,"Total",{"$f":"SUM(AS7:AS15)","v":36},{"$f":"SUM(AT7:AT15)","v":45},{"$f":"SUM(AU7:AU15)","v":45},{"$f":"SUM(AV7:AV15)","v":4.5},null,"Total",{"$f":"SUM(AY7:AY15)","v":36},{"$f":"SUM(AZ7:AZ15)","v":43},{"$f":"SUM(BA7:BA15)","v":43},{"$f":"SUM(BB7:BB15)","v":4.5},null,"Total",{"$f":"SUM(BE7:BE15)","v":36},{"$f":"SUM(BF7:BF15)","v":43},{"$f":"SUM(BG7:BG15)","v":43},{"$f":"SUM(BH7:BH15)","v":3},null,"Total",{"$f":"SUM(BK7:BK15)","v":36},{"$f":"SUM(BL7:BL15)","v":45},{"$f":"SUM(BM7:BM15)","v":45},{"$f":"SUM(BN7:BN15)","v":5.5},null,"Total",{"$f":"SUM(BQ7:BQ15)","v":36},{"$f":"SUM(BR7:BR15)","v":40},{"$f":"SUM(BS7:BS15)","v":40},{"$f":"SUM(BT7:BT15)","v":6.5},null,"Total",{"$f":"SUM(BW7:BW15)","v":36},{"$f":"SUM(BX7:BX15)","v":38},{"$f":"SUM(BY7:BY15)","v":38},{"$f":"SUM(BZ7:BZ15)","v":5.5},null,"Total",{"$f":"SUM(CC7:CC15)","v":36},{"$f":"SUM(CD7:CD15)","v":0},{"$f":"SUM(CE7:CE15)","v":0},{"$f":"SUM(CF7:CF15)","v":0},null,"Total",{"$f":"SUM(CI7:CI15)","v":36},{"$f":"SUM(CJ7:CJ15)","v":47},{"$f":"SUM(CK7:CK15)","v":47},{"$f":"SUM(CL7:CL15)","v":7}]
[]
[null,null,null,null,"Low Net",null,null,null,null,null,"Low Net",0,null,null,null,null,"Low Net",0,null,null,null,null,"Low Net",1,null,null,null,null,"Low Net",0,null,null,null,null,"Low Net",1,null,null,null,null,"Low Net",0.5,null,null,null,null,"Low Net",null,null,null,null,null,"Low Net",1,null,null,null,null,"Low Net",0,null,null,null,null,"Low Net",1,null,null,null,null,"Low Net",1,null,null,null,null,"Low Net",1,null,null,null,null,"Low Net",null,null,null,null,null,"Low Net",1]
[]
[null,null,null,null,"Total Points",{"$f":"SUM(F16:F19)","v":0},null,null,null,null,"Total Points",{"$f":"SUM(L16:L19)","v":0},null,null,null,null,"Total Points",{"$f":"SUM(R16:R19)","v":0},null,null,null,null,"Total Points",{"$f":"SUM(X16:X19)","v":8},null,null,null,null,"Total Points",{"$f":"SUM(AD16:AD19)","v":4.5},null,null,null,null,"Total Points",{"$f":"SUM(AJ16:AJ19)","v":5},null,null,null,null,"Total Points",{"$f":"SUM(AP16:AP19)","v":4.5},null,null,null,null,"Total Points",{"$f":"SUM(AV16:AV19)","v":4.5},null,null,null,null,"Total Points",{"$f":"SUM(BB16:BB19)","v":5.5},null,null,null,null,"Total Points",{"$f":"SUM(BH16:BH19)","v":3},null,null,null,null,"Total Points",{"$f":"SUM(BN16:BN19)","v":6.5},null,null,null,null,"Total Points",{"$f":"SUM(BT16:BT19)","v":7.5},null,null,null,null,"Total Points",{"$f":"SUM(BZ16:BZ19)","v":6.5},null,null,null,null,"Total Points",{"$f":"SUM(CF16:CF19)","v":0},null,null,null,null,"Total Points",{"$f":"SUM(CL16:CL19)","v":8}]
[]
[null,null,null,null,"Handicap",{"$f":"IF(D16=0,0,E16-C16)","v":0},null,null,null,null,"Handicap",{"$f":"IF(J16=0,0,K16-I16)","v":0},null,null,null,null,"Handicap",{"$f":"IF(P16=0,0,Q16-O16)","v":0},null,null,null,null,"Handicap",{"$f":"IF(V16=0,0,W16-U16)","v":5},null,null,null,null,"Handicap",{"$f":"IF(AB16=0,0,AC16-AA16)","v":8},null,null,null,null,"Handicap",{"$f":"IF(AH16=0,0,AI16-AG16)","v":6},null,null,null,null,"Handicap",{"$f":"IF(AN16=0,0,AO16-AM16)","v":6},null,null,null,null,"Handicap",{"$f":"IF(AT16=0,0,AU16-AS16)","v":9},null,null,null,null,"Handicap",{"$f":"IF(AZ16=0,0,BA16-AY16)","v":7},null,null,null,null,"Handicap",{"$f":"IF(BF16=0,0,BG16-BE16)","v":7},null,null,null,null,"Handicap",{"$f":"IF(BL16=0,0,BM16-BK16)","v":9},null,null,null,null,"Handicap",{"$f":"IF(BR16=0,0,BS16-BQ16)","v":4},null,null,null,null,"Handicap",{"$f":"IF(BX16=0,0,BY16-BW16)","v":2},null,null,null,null,"Handicap",{"$f":"IF(CD16=0,0,CE16-CC16)","v":0},null,null,null,null,"Handicap",{"$f":"IF(CJ16=0,0,CK16-CI16)","v":11}]
[]
[null,null,null,null,null,{"$f":"IF(D16<>0,IF(F16>4.5,\"W\",IF(F16=4.5,\"T\",IF(F16<4.5,\"L\"))),0)","v":0},null,null,null,null,null,{"$f":"IF(J16<>0,IF(L16>4.5,\"W\",IF(L16=4.5,\"T\",IF(L16<4.5,\"L\"))),0)","v":0},null,null,null,null,null,{"$f":"IF(P16<>0,IF(R16>4.5,\"W\",IF(R16=4.5,\"T\",IF(R16<4.5,\"L\"))),0)","v":0},null,null,null,null,null,{"$f":"IF(V16<>0,IF(X16>4.5,\"W\",IF(X16=4.5,\"T\",IF(X16<4.5,\"L\"))),0)","v":"W"},null,null,null,null,null,{"$f":"IF(AB16<>0,IF(AD16>4.5,\"W\",IF(AD16=4.5,\"T\",IF(AD16<4.5,\"L\"))),0)","v":"T"},null,null,null,null,null,{"$f":"IF(AH16<>0,IF(AJ16>4.5,\"W\",IF(AJ16=4.5,\"T\",IF(AJ16<4.5,\"L\"))),0)","v":"L"},null,null,null,null,null,{"$f":"IF(AN16<>0,IF(AP16>4.5,\"W\",IF(AP16=4.5,\"T\",IF(AP16<4.5,\"L\"))),0)","v":"L"},null,null,null,null,null,{"$f":"IF(AT16<>0,IF(AV16>4.5,\"W\",IF(AV16=4.5,\"T\",IF(AV16<4.5,\"L\"))),0)","v":"T"},null,null,null,null,null,{"$f":"IF(AZ16<>0,IF(BB16>4.5,\"W\",IF(BB16=4.5,\"T\",IF(BB16<4.5,\"L\"))),0)","v":"T"},null,null,null,null,null,{"$f":"IF(BF16<>0,IF(BH16>4.5,\"W\",IF(BH16=4.5,\"T\",IF(BH16<4.5,\"L\"))),0)","v":"L"},null,null,null,null,null,{"$f":"IF(BL16<>0,IF(BN16>4.5,\"W\",IF(BN16=4.5,\"T\",IF(BN16<4.5,\"L\"))),0)","v":"W"},null,null,null,null,null,{"$f":"IF(BR16<>0,IF(BT16>4.5,\"W\",IF(BT16=4.5,\"T\",IF(BT16<4.5,\"L\"))),0)","v":"W"},null,null,null,null,null,{"$f":"IF(BX16<>0,IF(BZ16>4.5,\"W\",IF(BZ16=4.5,\"T\",IF(BZ16<4.5,\"L\"))),0)","v":"W"},null,null,null,null,null,{"$f":"IF(CD16<>0,IF(CF16>4.5,\"W\",IF(CF16=4.5,\"T\",IF(CF16<4.5,\"L\"))),0)","v":0},null,null,null,null,null,{"$f":"IF(CJ16<>0,IF(CL16>4.5,\"W\",IF(CL16=4.5,\"T\",IF(CL16<4.5,\"L\"))),0)","v":"W"}]
[]
[null,"Summary",null,{"$f":"COUNT(D29:D43)","v":10}]
[null,null,null,"Adj",null,"Adj",null,null,null,"Avg Score"]
[null,null,"Points","Points","Matches","Matches",null,null,"Hole #","by Hole","Best","Worst"]
[null,"Week #1",{"$f":"F20","v":0},null,{"$f":"IF(D16>0,1,0)","v":0},{"$f":"E29","v":0},null,null,1,{"$f":"IFERROR(AVERAGE(D7,P7,AB7,AN7,AZ7,BL7,BX7,CD7),0)","v":4.2},{"$f":"IFERROR(MIN(D7,P7,AB7,AN7,AZ7,BL7,BX7,CD7),0)","v":4},{"$f":"IFERROR(MAX(D7,P7,AB7,AN7,AZ7,BL7,BX7,CD7),0)","v":5}]
[null,"Week #2",{"$f":"L20","v":0},null,{"$f":"IF(J16>0,1,0)","v":0},0,null,null,2,{"$f":"IFERROR(AVERAGE(D8,P8,AB8,AN8,AZ8,BL8,BX8,CD8),0)","v":5},{"$f":"IFERROR(MIN(D8,P8,AB8,AN8,AZ8,BL8,BX8,CD8),0)","v":4},{"$f":"IFERROR(MAX(D8,P8,AB8,AN8,AZ8,BL8,BX8,CD8),0)","v":6}]
[null,"Week #3",{"$f":"R20","v":0},null,{"$f":"IF(P16>0,1,0)","v":0},0,null,null,3,3,3,3]
[null,"Week #4",{"$f":"X20","v":8},{"$f":"C32","v":8},{"$f":"IF(V16>0,1,0)","v":1},1,null,null,4,5.2,4,6]
[null,"Week #5",{"$f":"AD20","v":4.5},4.5,{"$f":"IF(AB16>0,1,0)","v":1},1,null,null,5,6.2,6,7]
[null,"Week #6",{"$f":"AJ20","v":5},5,{"$f":"IF(AH16>0,1,0)","v":1},1,null,null,6,4,3,5]
[null,"Week #7",{"$f":"AP20","v":4.5},4.5,{"$f":"IF(AN16>0,1,0)","v":1},1,null,null,7,4.8,4,6]
[null,"Week #8",{"$f":"AV20","v":4.5},4.5,{"$f":"IF(AT16>0,1,0)","v":1},1,null,null,8,4.5999999999999996,4,6]
[null,"Week #9",{"$f":"BB20","v":5.5},5.5,{"$f":"IF(AZ16>0,1,0)","v":1},1,null,null,9,5.4,5,6]
[null,"Week #10",{"$f":"BH20","v":3},null,{"$f":"IF(BF16>0,1,0)","v":1},1,null,null,"Front",{"$f":"SUM(J29:J37)","v":42.4},{"$f":"SUM(K29:K37)","v":37},50]
[null,"Week #11",{"$f":"BN20","v":6.5},6.5,{"$f":"IF(BL16>0,1,0)","v":1},1]
[null,"Week #12",{"$f":"BT20","v":7.5},7.5,{"$f":"IF(BR16>0,1,0)","v":1},1,null,null,10,{"$f":"IFERROR(AVERAGE(J7,V7,AH7,AT7,BF7,BR7,CJ7),0)","v":4.333333333333333},{"$f":"IFERROR(MIN(J7,V7,AH7,AT7,BF7,BR7,CJ7),0)","v":3},{"$f":"IFERROR(MAX(J7,V7,AH7,AT7,BF7,BR7,CJ7),0)","v":5}]
[null,"Week #13",{"$f":"BZ20","v":6.5},6.5,{"$f":"IF(BX16>0,1,0)","v":1},1,null,null,11,{"$f":"IFERROR(AVERAGE(J8,V8,AH8,AT8,BF8,BR8,CJ8),0)","v":5},{"$f":"IFERROR(MIN(J8,V8,AH8,AT8,BF8,BR8,CJ8),0)","v":4},{"$f":"IFERROR(MAX(J8,V8,AH8,AT8,BF8,BR8,CJ8),0)","v":7}]
[null,"Week #14",{"$f":"CF20","v":0},null,{"$f":"IF(CD16>0,1,0)","v":0},0,null,null,12,4.5,4,5]
[null,"Week #15",{"$f":"CL20","v":8},8,{"$f":"IF(CJ16>0,1,0)","v":1},1,null,null,13,6,4,8]
[null,"Total",{"$f":"SUM(C29:C43)","v":63.5},{"$f":"SUM(D29:D43)","v":60.5},{"$f":"SUM(E29:E43)","v":11},{"$f":"SUM(F29:F43)","v":11},null,null,14,3.8333333333333335,3,5]
[null,null,null,null,null,null,null,null,15,5.166666666666667,4,6]
[null,"Summary",null,null,null,null,null,null,16,4.833333333333333,4,6]
[null,"Eagles",{"$f":"I57+I68+I79+I90+I101+I112+I123+I134+I145+I156+I167+I178+I189+I200+I211","v":0},null,null,null,null,null,17,3.6666666666666665,3,4]
[null,"Birdies",3,null,null,null,null,null,18,5.666666666666667,4,8]
[null,"Pars",{"$f":"I59+I70+I81+I92+I103+I114+I125+I136+I147+I158+I169+I180+I191+I202+I213","v":38},null,null,null,null,null,"Back",{"$f":"SUM(J40:J48)","v":42.999999999999993},{"$f":"SUM(K40:K48)","v":33},54]
[null,"bogeys",42]
[null,"Double bogeys",13]
[null,"Other",3]
[null,"Total",{"$f":"SUM(C47:C52)","v":99}]
[]
[null,{"$f":"D4","v":"2024-04-26"},"Par","Score"]
[null,{"$f":"B7","v":1},4,0,{"$f":"IF(D56<>0,IF((D56-C56)=-1,\"Birdie\",IF((D56-C56)=-2,\"Eagle\",IF((D56-C56)=0,\"Par\",IF((D56-C56)=1,\"bogey\",IF((D56-C56)=2,\"Double bogey\",\"Other\"))))),\"  \")","v":"  "},null,null,"Count"]
[null,2,4,0,"  ",null,null,"Eagle",{"$f":"COUNTIF(E56:E64,\"Eagle\")","v":0}]
[null,3,3,0,"  ",null,null,"Birdie",{"$f":"COUNTIF(E56:E64,\"Birdie\")","v":0}]
[null,4,4,0,"  ",null,null,"Par",{"$f":"COUNTIF(E56:E64,\"Par\")","v":0}]
[null,5,5,0,"  ",null,null,"bogey",{"$f":"COUNTIF(E56:E64,\"bogey\")","v":0}]
[null,6,3,0,"  ",null,null,"Double bogey",{"$f":"COUNTIF(E56:E64,\"Double bogey\")","v":0}]
[null,7,4,0,"  ",null,null,"Other",{"$f":"COUNTIF(E56:E64,\"Other\")","v":0}]
[null,8,4,0,"  "]
[null,9,5,0,"  "]
[]
[null,{"$f":"J4","v":"2024-05-03"}]
[null,{"$f":"H7","v":10},4,0,{"$f":"IF(D67<>0,IF((D67-C67)=-1,\"Birdie\",IF((D67-C67)=-2,\"Eagle\",IF((D67-C67)=0,\"Par\",IF((D67-C67)=1,\"bogey\",IF((D67-C67)=2,\"Double bogey\",\"Other\"))))),\"  \")","v":"  "},null,null,"Count"]
[null,11,4,0,"  ",null,null,"Eagle",{"$f":"COUNTIF(E67:E75,\"Eagle\")","v":0}]
[null,12,4,0,"  ",null,null,"Birdie",{"$f":"COUNTIF(E67:E75,\"Birdie\")","v":0}]
[null,13,5,0,"  ",null,null,"Par",{"$f":"COUNTIF(E67:E75,\"Par\")","v":0}]
[null,14,3,0,"  ",null,null,"bogey",{"$f":"COUNTIF(E67:E75,\"bogey\")","v":0}]
[null,15,4,0,"  ",null,null,"Double bogey",{"$f":"COUNTIF(E67:E75,\"Double bogey\")","v":0}]
[null,16,4,0,"  ",null,null,"Other",{"$f":"COUNTIF(E67:E75,\"Other\")","v":0}]
[null,17,3,0,"  "]
[null,18,5,0,"  "]
[]
[null,{"$f":"P4","v":"2024-05-10"}]
[null,{"$f":"N7","v":1},4,0,{"$f":"IF(D78<>0,IF((D78-C78)=-1,\"Birdie\",IF((D78-C78)=-2,\"Eagle\",IF((D78-C78)=0,\"Par\",IF((D78-C78)=1,\"bogey\",IF((D78-C78)=2,\"Double bogey\",\"Other\"))))),\"  \")","v":"  "},null,null,"Count"]
[null,2,4,0,"  ",null,null,"Eagle",{"$f":"COUNTIF(E78:E86,\"Eagle\")","v":0}]
[null,3,3,0,"  ",null,null,"Birdie",{"$f":"COUNTIF(E78:E86,\"Birdie\")","v":0}]
[null,4,4,0,"  ",null,null,"Par",{"$f":"COUNTIF(E78:E86,\"Par\")","v":0}]
[null,5,5,0,"  ",null,null,"bogey",{"$f":"COUNTIF(E78:E86,\"bogey\")","v":0}]
[null,6,3,0,"  ",null,null,"Double bogey",{"$f":"COUNTIF(E78:E86,\"Double bogey\")","v":0}]
[null,7,4,0,"  ",null,null,"Other",{"$f":"COUNTIF(E78:E86,\"Other\")","v":0}]
[null,8,4,0,"  "]
[null,9,5,0,"  "]
[]
[null,{"$f":"V4","v":"2024-05-17"}]
[null,{"$f":"T7","v":10},4,3,{"$f":"IF(D89<>0,IF((D89-C89)=-1,\"Birdie\",IF((D89-C89)=-2,\"Eagle\",IF((D89-C89)=0,\"Par\",IF((D89-C89)=1,\"bogey\",IF((D89-C89)=2,\"Double bogey\",\"Other\"))))),\"  \")","v":"Birdie"},null,null,"Count"]
[null,11,4,5,"bogey",null,null,"Eagle",{"$f":"COUNTIF(E89:E97,\"Eagle\")","v":0}]
[null,12,4,4,"Par",null,null,"Birdie",{"$f":"COUNTIF(E89:E97,\"Birdie\")","v":2}]
[null,13,5,8,"Other",null,null,"Par",{"$f":"COUNTIF(E89:E97,\"Par\")","v":3}]
[null,14,3,5,"Double bogey",null,null,"bogey",{"$f":"COUNTIF(E89:E97,\"bogey\")","v":2}]
[null,15,4,5,"bogey",null,null,"Double bogey",{"$f":"COUNTIF(E89:E97,\"Double bogey\")","v":1}]
[null,16,4,4,"Par",null,null,"Other",{"$f":"COUNTIF(E89:E97,\"Other\")","v":1}]
[null,17,3,3,"Par"]
[null,18,5,4,"Birdie"]
[]
[null,{"$f":"AB4","v":"2024-05-24"}]
[null,{"$f":"Z7","v":1},4,4,{"$f":"IF(D100<>0,IF((D100-C100)=-1,\"Birdie\",IF((D100-C100)=-2,\"Eagle\",IF((D100-C100)=0,\"Par\",IF((D100-C100)=1,\"bogey\",IF((D100-C100)=2,\"Double bogey\",\"Other\"))))),\"  \")","v":"Par"},null,null,"Count"]
[null,2,4,5,"bogey",null,null,"Eagle",{"$f":"COUNTIF(E100:E108,\"Eagle\")","v":0}]
[null,3,3,3,"Par",null,null,"Birdie",{"$f":"COUNTIF(E100:E108,\"Birdie\")","v":0}]
[null,4,4,6,"Double bogey",null,null,"Par",{"$f":"COUNTIF(E100:E108,\"Par\")","v":3}]
[null,5,5,7,"Double bogey",null,null,"bogey",{"$f":"COUNTIF(E100:E108,\"bogey\")","v":4}]
[null,6,3,4,"bogey",null,null,"Double bogey",{"$f":"COUNTIF(E100:E108,\"Double bogey\")","v":2}]
[null,7,4,5,"bogey",null,null,"Other",{"$f":"COUNTIF(E100:E108,\"Other\")","v":0}]
[null,8,4,4,"Par"]
[null,9,5,6,"bogey"]
[]
[null,{"$f":"AH4","v":"2024-05-31"}]
[null,{"$f":"AF7","v":10},4,4,{"$f":"IF(D111<>0,IF((D111-C111)=-1,\"Birdie\",IF((D111-C111)=-2,\"Eagle\",IF((D111-C111)=0,\"Par\",IF((D111-C111)=1,\"bogey\",IF((D111-C111)=2,\"Double bogey\",\"Other\"))))),\"  \")","v":"Par"},null,null,"Count"]
[null,11,4,5,"bogey",null,null,"Eagle",{"$f":"COUNTIF(E111:E119,\"Eagle\")","v":0}]
[null,12,4,5,"bogey",null,null,"Birdie",{"$f":"COUNTIF(E111:E119,\"Birdie\")","v":0}]
[null,13,5,5,"Par",null,null,"Par",{"$f":"COUNTIF(E111:E119,\"Par\")","v":4}]
[null,14,3,3,"Par",null,null,"bogey",{"$f":"COUNTIF(E111:E119,\"bogey\")","v":4}]
[null,15,4,6,"Double bogey",null,null,"Double bogey",{"$f":"COUNTIF(E111:E119,\"Double bogey\")","v":1}]
[null,16,4,4,"Par",null,null,"Other",{"$f":"COUNTIF(E111:E119,\"Other\")","v":0}]
[null,17,3,4,"bogey"]
[null,18,5,6,"bogey"]
[]
[null,{"$f":"AN4","v":"2024-06-07"}]
[null,{"$f":"AL7","v":1},4,4,{"$f":"IF(D122<>0,IF((D122-C122)=-1,\"Birdie\",IF((D122-C122)=-2,\"Eagle\",IF((D122-C122)=0,\"Par\",IF((D122-C122)=1,\"bogey\",IF((D122-C122)=2,\"Double bogey\",\"Other\"))))),\"  \")","v":"Par"},null,null,"Count"]
[null,2,4,4,"Par",null,null,"Eagle",{"$f":"COUNTIF(E122:E130,\"Eagle\")","v":0}]
[null,3,3,3,"Par",null,null,"Birdie",{"$f":"COUNTIF(E122:E130,\"Birdie\")","v":0}]
[null,4,4,6,"Double bogey",null,null,"Par",{"$f":"COUNTIF(E122:E130,\"Par\")","v":5}]
[null,5,5,6,"bogey",null,null,"bogey",{"$f":"COUNTIF(E122:E130,\"bogey\")","v":2}]
[null,6,3,4,"bogey",null,null,"Double bogey",{"$f":"COUNTIF(E122:E130,\"Double bogey\")","v":2}]
[null,7,4,4,"Par",null,null,"Other",{"$f":"COUNTIF(E122:E130,\"Other\")","v":0}]
[null,8,4,6,"Double bogey"]
[null,9,5,5,"Par"]
[]
[null,{"$f":"AT4","v":"2024-06-14"}]
[null,{"$f":"AR7","v":10},4,5,{"$f":"IF(D133<>0,IF((D133-C133)=-1,\"Birdie\",IF((D133-C133)=-2,\"Eagle\",IF((D133-C133)=0,\"Par\",IF((D133-C133)=1,\"bogey\",IF((D133-C133)=2,\"Double bogey\",\"Other\"))))),\"  \")","v":"bogey"},null,null,"Count"]
[null,11,4,5,"bogey",null,null,"Eagle",{"$f":"COUNTIF(E133:E141,\"Eagle\")","v":0}]
[null,12,4,4,"Par",null,null,"Birdie",{"$f":"COUNTIF(E133:E141,\"Birdie\")","v":0}]
[null,13,5,6,"bogey",null,null,"Par",{"$f":"COUNTIF(E133:E141,\"Par\")","v":3}]
[null,14,3,3,"Par",null,null,"bogey",{"$f":"COUNTIF(E133:E141,\"bogey\")","v":4}]
[null,15,4,6,"Double bogey",null,null,"Double bogey",{"$f":"COUNTIF(E133:E141,\"Double bogey\")","v":1}]
[null,16,4,5,"bogey",null,null,"Other",{"$f":"COUNTIF(E133:E141,\"Other\")","v":1}]
[null,17,3,3,"Par"]
[null,18,5,8,"Other"]
[]
[null,{"$f":"AZ4","v":"2024-07-05"}]
[null,{"$f":"AX7","v":1},4,4,{"$f":"IF(D144<>0,IF((D144-C144)=-1,\"Birdie\",IF((D144-C144)=-2,\"Eagle\",IF((D144-C144)=0,\"Par\",IF((D144-C144)=1,\"bogey\",IF((D144-C144)=2,\"Double bogey\",\"Other\"))))),\"  \")","v":"Par"},null,null,"Count"]
[null,2,4,6,"Double bogey",null,null,"Eagle",{"$f":"COUNTIF(E144:E152,\"Eagle\")","v":0}]
[null,3,3,3,"Par",null,null,"Birdie",{"$f":"COUNTIF(E144:E152,\"Birdie\")","v":0}]
[null,4,4,4,"Par",null,null,"Par",{"$f":"COUNTIF(E144:E152,\"Par\")","v":4}]
[null,5,5,6,"bogey",null,null,"bogey",{"$f":"COUNTIF(E144:E152,\"bogey\")","v":3}]
[null,6,3,4,"bogey",null,null,"Double bogey",{"$f":"COUNTIF(E144:E152,\"Double bogey\")","v":2}]
[null,7,4,6,"Double bogey",null,null,"Other",{"$f":"COUNTIF(E144:E152,\"Other\")","v":0}]
[null,8,4,4,"Par"]
[null,9,5,6,"bogey"]
[]
[null,{"$f":"BF4","v":"2024-07-12"}]
[null,{"$f":"BD7","v":10},4,5,{"$f":"IF(D155<>0,IF((D155-C155)=-1,\"Birdie\",IF((D155-C155)=-2,\"Eagle\",IF((D155-C155)=0,\"Par\",IF((D155-C155)=1,\"bogey\",IF((D155-C155)=2,\"Double bogey\",\"Other\"))))),\"  \")","v":"bogey"},null,null,"Count"]
[null,11,4,4,"Par",null,null,"Eagle",{"$f":"COUNTIF(E155:E163,\"Eagle\")","v":0}]
[null,12,4,4,"Par",null,null,"Birdie",{"$f":"COUNTIF(E155:E163,\"Birdie\")","v":0}]
[null,13,5,6,"bogey",null,null,"Par",{"$f":"COUNTIF(E155:E163,\"Par\")","v":3}]
[null,14,3,4,"bogey",null,null,"bogey",{"$f":"COUNTIF(E155:E163,\"bogey\")","v":5}]
[null,15,4,5,"bogey",null,null,"Double bogey",{"$f":"COUNTIF(E155:E163,\"Double bogey\")","v":1}]
[null,16,4,6,"Double bogey",null,null,"Other",{"$f":"COUNTIF(E155:E163,\"Other\")","v":0}]
[null,17,3,4,"bogey"]
[null,18,5,5,"Par"]
[]
[null,{"$f":"BL4","v":"2024-07-19"}]
[null,{"$f":"BJ7","v":1},4,5,{"$f":"IF(D166<>0,IF((D166-C166)=-1,\"Birdie\",IF((D166-C166)=-2,\"Eagle\",IF((D166-C166)=0,\"Par\",IF((D166-C166)=1,\"bogey\",IF((D166-C166)=2,\"Double bogey\",\"Other\"))))),\"  \")","v":"bogey"},null,null,"Count"]
[null,2,4,6,"Double bogey",null,null,"Eagle",{"$f":"COUNTIF(E166:E174,\"Eagle\")","v":0}]
[null,3,3,3,"Par",null,null,"Birdie",{"$f":"COUNTIF(E166:E174,\"Birdie\")","v":0}]
[null,4,4,5,"bogey",null,null,"Par",{"$f":"COUNTIF(E166:E174,\"Par\")","v":2}]
[null,5,5,6,"bogey",null,null,"bogey",{"$f":"COUNTIF(E166:E174,\"bogey\")","v":5}]
[null,6,3,5,"Double bogey",null,null,"Double bogey",{"$f":"COUNTIF(E166:E174,\"Double bogey\")","v":2}]
[null,7,4,5,"bogey",null,null,"Other",{"$f":"COUNTIF(E166:E174,\"Other\")","v":0}]
[null,8,4,5,"bogey"]
[null,9,5,5,"Par"]
[]
[null,{"$f":"BR4","v":"2024-07-26"}]
[null,{"$f":"BP7","v":10},4,5,{"$f":"IF(D177<>0,IF((D177-C177)=-1,\"Birdie\",IF((D177-C177)=-2,\"Eagle\",IF((D177-C177)=0,\"Par\",IF((D177-C177)=1,\"bogey\",IF((D177-C177)=2,\"Double bogey\",\"Other\"))))),\"  \")","v":"bogey"},null,null,"Count"]
[null,11,4,4,"Par",null,null,"Eagle",{"$f":"COUNTIF(E177:E185,\"Eagle\")","v":0}]
[null,12,4,5,"bogey",null,null,"Birdie",{"$f":"COUNTIF(E177:E185,\"Birdie\")","v":1}]
[null,13,5,4,"Birdie",null,null,"Par",{"$f":"COUNTIF(E177:E185,\"Par\")","v":3}]
[null,14,3,4,"bogey",null,null,"bogey",{"$f":"COUNTIF(E177:E185,\"bogey\")","v":5}]
[null,15,4,4,"Par",null,null,"Double bogey",{"$f":"COUNTIF(E177:E185,\"Double bogey\")","v":0}]
[null,16,4,5,"bogey",null,null,"Other",{"$f":"COUNTIF(E177:E185,\"Other\")","v":0}]
[null,17,3,4,"bogey"]
[null,18,5,5,"Par"]
[]
[null,{"$f":"BX4","v":"2024-08-02"}]
[null,{"$f":"BV7","v":1},4,4,{"$f":"IF(D188<>0,IF((D188-C188)=-1,\"Birdie\",IF((D188-C188)=-2,\"Eagle\",IF((D188-C188)=0,\"Par\",IF((D188-C188)=1,\"bogey\",IF((D188-C188)=2,\"Double bogey\",\"Other\"))))),\"  \")","v":"Par"},null,null,"Count"]
[null,2,4,4,"Par",null,null,"Eagle",{"$f":"COUNTIF(E188:E196,\"Eagle\")","v":0}]
[null,3,3,3,"Par",null,null,"Birdie",{"$f":"COUNTIF(E188:E196,\"Birdie\")","v":0}]
[null,4,4,5,"bogey",null,null,"Par",{"$f":"COUNTIF(E188:E196,\"Par\")","v":7}]
[null,5,5,6,"bogey",null,null,"bogey",{"$f":"COUNTIF(E188:E196,\"bogey\")","v":2}]
[null,6,3,3,"Par",null,null,"Double bogey",{"$f":"COUNTIF(E188:E196,\"Double bogey\")","v":0}]
[null,7,4,4,"Par",null,null,"Other",{"$f":"COUNTIF(E188:E196,\"Other\")","v":0}]
[null,8,4,4,"Par"]
[null,9,5,5,"Par"]
[]
[null,{"$f":"CD4","v":"2024-08-16"}]
[null,{"$f":"CB7","v":1},4,0,{"$f":"IF(D199<>0,IF((D199-C199)=-1,\"Birdie\",IF((D199-C199)=-2,\"Eagle\",IF((D199-C199)=0,\"Par\",IF((D199-C199)=1,\"bogey\",IF((D199-C199)=2,\"Double bogey\",\"Other\"))))),\"  \")","v":"  "},null,null,"Count"]
[null,2,4,0,"  ",null,null,"Eagle",{"$f":"COUNTIF(E199:E207,\"Eagle\")","v":0}]
[null,3,3,0,"  ",null,null,"Birdie",{"$f":"COUNTIF(E199:E207,\"Birdie\")","v":0}]
[null,4,4,0,"  ",null,null,"Par",{"$f":"COUNTIF(E199:E207,\"Par\")","v":0}]
[null,5,5,0,"  ",null,null,"bogey",{"$f":"COUNTIF(E199:E207,\"bogey\")","v":0}]
[null,6,3,0,"  ",null,null,"Double bogey",{"$f":"COUNTIF(E199:E207,\"Double bogey\")","v":0}]
[null,7,4,0,"  ",null,null,"Other",{"$f":"COUNTIF(E199:E207,\"Other\")","v":0}]
[null,8,4,0,"  "]
[null,9,5,0,"  "]
[]
[null,{"$f":"CJ4","v":"2024-08-23"}]
[null,{"$f":"CH7","v":10},4,4,{"$f":"IF(D210<>0,IF((D210-C210)=-1,\"Birdie\",IF((D210-C210)=-2,\"Eagle\",IF((D210-C210)=0,\"Par\",IF((D210-C210)=1,\"bogey\",IF((D210-C210)=2,\"Double bogey\",\"Other\"))))),\"  \")","v":"Par"},null,null,"Count"]
[null,11,4,7,"Other",null,null,"Eagle",{"$f":"COUNTIF(E210:E218,\"Eagle\")","v":0}]
[null,12,4,5,"bogey",null,null,"Birdie",{"$f":"COUNTIF(E210:E218,\"Birdie\")","v":0}]
[null,13,5,7,"Double bogey",null,null,"Par",{"$f":"COUNTIF(E210:E218,\"Par\")","v":1}]
[null,14,3,4,"bogey",null,null,"bogey",{"$f":"COUNTIF(E210:E218,\"bogey\")","v":6}]
[null,15,4,5,"bogey",null,null,"Double bogey",{"$f":"COUNTIF(E210:E218,\"Double bogey\")","v":1}]
[null,16,4,5,"bogey",null,null,"Other",{"$f":"COUNTIF(E210:E218,\"Other\")","v":1}]
[null,17,3,4,"bogey"]
[null,18,5,6,"bogey"]

{"sheet":"Rusnak","index":18,"n_rows":218,"n_cols":90,"rows_kept":218,"cut":false,"hidden":false,"merged":[]}
["Mark Rusnak"]
[]
[]
[null,null,"Date:",{"$f":"VLOOKUP(C5,Week,2)","v":"2024-04-26"},null,null,null,null,"Date:",{"$f":"VLOOKUP(I5,Week,2)","v":"2024-05-03"},null,null,null,null,"Date:",{"$f":"VLOOKUP(O5,Week,2)","v":"2024-05-10"},null,null,null,null,"Date:",{"$f":"VLOOKUP(U5,Week,2)","v":"2024-05-17"},null,null,null,null,"Date:",{"$f":"VLOOKUP(AA5,Week,2)","v":"2024-05-24"},null,null,null,null,"Date:",{"$f":"VLOOKUP(AG5,Week,2)","v":"2024-05-31"},null,null,null,null,"Date:",{"$f":"VLOOKUP(AM5,Week,2)","v":"2024-06-07"},null,null,null,null,"Date:",{"$f":"VLOOKUP(AS5,Week,2)","v":"2024-06-14"},null,null,null,null,"Date:",{"$f":"VLOOKUP(AY5,Week,2)","v":"2024-07-05"},null,null,null,null,"Date:",{"$f":"VLOOKUP(BE5,Week,2)","v":"2024-07-12"},null,null,null,null,"Date:",{"$f":"VLOOKUP(BK5,Week,2)","v":"2024-07-19"},null,null,null,null,"Date:",{"$f":"VLOOKUP(BQ5,Week,2)","v":"2024-07-26"},null,null,null,null,"Date:",{"$f":"VLOOKUP(BW5,Week,2)","v":"2024-08-02"},null,null,null,null,"Date:",{"$f":"VLOOKUP(CC5,Week,2)","v":"2024-08-16"},null,null,null,null,"Date:",{"$f":"VLOOKUP(CI5,Week,2)","v":"2024-08-23"}]
[null,"Week",1,null,null,null,null,"Week",2,null,null,null,null,"Week",3,null,null,null,null,"Week",4,null,null,null,null,"Week",5,null,null,null,null,"Week",6,null,null,null,null,"Week",7,null,null,null,null,"Week",8,null,null,null,null,"Week",9,null,null,null,null,"Week",10,null,null,null,null,"Week",11,null,null,null,null,"Week",12,null,null,null,null,"Week",13,null,null,null,null,"Week",14,null,null,null,null,"Week",15]
[null,"Hole #","Par","Score","Net","Win Hole",null,"Hole #","Par","Score","Net","Win Hole",null,"Hole #","Par","Score","Net","Win Hole",null,"Hole #","Par","Score","Net","Win Hole",null,"Hole #","Par","Score","Net","Win Hole",null,"Hole #","Par","Score","Net","Win Hole",null,"Hole #","Par","Score","Net","Win Hole",null,"Hole #","Par","Score","Net","Win Hole",null,"Hole #","Par","Score","Net","Win Hole",null,"Hole #","Par","Score","Net","Win Hole",null,"Hole #","Par","Score","Net","Win Hole",null,"Hole #","Par","Score","Net","Win Hole",null,"Hole #","Par","Score","Net","Win Hole",null,"Hole #","Par","Score","Net","Win Hole",null,"Hole #","Par","Score","Net","Win Hole"]
[null,{"$f":"VLOOKUP(C5,Week,6)","v":1},{"$f":"VLOOKUP(B7,Holes,2)","v":4},4,{"$f":"IF((D7-C7)>3,C7+3,D7)","v":4},1,null,{"$f":"VLOOKUP(I5,Week,6)","v":10},{"$f":"VLOOKUP(H7,Holes,2)","v":4},4,{"$f":"IF((J7-I7)>3,I7+3,J7)","v":4},1,null,{"$f":"VLOOKUP(O5,Week,6)","v":1},{"$f":"VLOOKUP(N7,Holes,2)","v":4},4,{"$f":"IF((P7-O7)>3,O7+3,P7)","v":4},0.5,null,{"$f":"VLOOKUP(U5,Week,6)","v":10},{"$f":"VLOOKUP(T7,Holes,2)","v":4},5,{"$f":"IF((V7-U7)>3,U7+3,V7)","v":5},0,null,{"$f":"VLOOKUP(AA5,Week,6)","v":1},{"$f":"VLOOKUP(Z7,Holes,2)","v":4},4,{"$f":"IF((AB7-AA7)>3,AA7+3,AB7)","v":4},0.5,null,{"$f":"VLOOKUP(AG5,Week,6)","v":10},{"$f":"VLOOKUP(AF7,Holes,2)","v":4},6,{"$f":"IF((AH7-AG7)>3,AG7+3,AH7)","v":6},1,null,{"$f":"VLOOKUP(AM5,Week,6)","v":1},{"$f":"VLOOKUP(AL7,Holes,2)","v":4},6,{"$f":"IF((AN7-AM7)>3,AM7+3,AN7)","v":6},0,null,{"$f":"VLOOKUP(AS5,Week,6)","v":10},{"$f":"VLOOKUP(AR7,Holes,2)","v":4},5,{"$f":"IF((AT7-AS7)>3,AS7+3,AT7)","v":5},0.5,null,{"$f":"VLOOKUP(AY5,Week,6)","v":1},{"$f":"VLOOKUP(AX7,Holes,2)","v":4},4,{"$f":"IF((AZ7-AY7)>3,AY7+3,AZ7)","v":4},1,null,{"$f":"VLOOKUP(BE5,Week,6)","v":10},{"$f":"VLOOKUP(BD7,Holes,2)","v":4},5,{"$f":"IF((BF7-BE7)>3,BE7+3,BF7)","v":5},0,null,{"$f":"VLOOKUP(BK5,Week,6)","v":1},{"$f":"VLOOKUP(BJ7,Holes,2)","v":4},4,{"$f":"IF((BL7-BK7)>3,BK7+3,BL7)","v":4},1,null,{"$f":"VLOOKUP(BQ5,Week,6)","v":10},{"$f":"VLOOKUP(BP7,Holes,2)","v":4},4,{"$f":"IF((BR7-BQ7)>3,BQ7+3,BR7)","v":4},1,null,{"$f":"VLOOKUP(BW5,Week,6)","v":1},{"$f":"VLOOKUP(BV7,Holes,2)","v":4},4,{"$f":"IF((BX7-BW7)>3,BW7+3,BX7)","v":4},0.5,null,{"$f":"VLOOKUP(CC5,Week,6)","v":1},{"$f":"VLOOKUP(CB7,Holes,2)","v":4},5,{"$f":"IF((CD7-CC7)>3,CC7+3,CD7)","v":5},0,null,{"$f":"VLOOKUP(CI5,Week,6)","v":10},{"$f":"VLOOKUP(CH7,Holes,2)","v":4},4,{"$f":"IF((CJ7-CI7)>3,CI7+3,CJ7)","v":4},0.5]
[null,{"$f":"+B7+1","v":2},4,4,4,0.5,null,{"$f":"+H7+1","v":11},4,7,7,0,null,{"$f":"+N7+1","v":2},4,5,5,0.5,null,{"$f":"+T7+1","v":11},4,5,5,0,null,{"$f":"+Z7+1","v":2},4,5,5,0,null,{"$f":"+AF7+1","v":11},4,4,4,1,null,{"$f":"+AL7+1","v":2},4,4,4,0.5,null,{"$f":"+AR7+1","v":11},4,3,3,1,null,{"$f":"+AX7+1","v":2},4,5,5,0,null,{"$f":"+BD7+1","v":11},4,5,5,1,null,{"$f":"+BJ7+1","v":2},4,5,5,0,null,{"$f":"+BP7+1","v":11},4,4,4,1,null,{"$f":"+BV7+1","v":2},4,5,5,0.5,null,{"$f":"+CB7+1","v":2},4,6,6,0,null,{"$f":"+CH7+1","v":11},4,5,5,0.5]
[null,3,3,3,3,0.5,null,12,4,6,6,0,null,3,3,4,4,0,null,12,4,4,4,1,null,3,3,3,3,1,null,12,4,6,6,1,null,3,3,3,3,1,null,12,4,5,5,0,null,3,3,3,3,0,null,12,4,6,6,0,null,3,3,3,3,0.5,null,12,4,5,5,0,null,3,3,3,3,1,null,3,3,3,3,0.5,null,12,4,5,5,0.5]
[null,4,4,4,4,0.5,null,13,5,6,6,0.5,null,4,4,4,4,0.5,null,13,5,5,5,1,null,4,4,5,5,0,null,13,5,6,6,1,null,4,4,5,5,1,null,13,5,5,5,1,null,4,4,5,5,0,null,13,5,6,6,1,null,4,4,5,5,0,null,13,5,5,5,0,null,4,4,4,4,0.5,null,4,4,5,5,0,null,13,5,4,4,1]
[null,5,5,6,6,1,null,14,3,4,4,1,null,5,5,5,5,1,null,14,3,6,6,0,null,5,5,6,6,0.5,null,14,3,5,5,0,null,5,5,5,5,0,null,14,3,5,5,0,null,5,5,5,5,0.5,null,14,3,4,4,1,null,5,5,4,4,1,null,14,3,5,5,0.5,null,5,5,5,5,1,null,5,5,4,4,1,null,14,3,4,4,0.5]
[null,6,3,4,4,1,null,15,4,5,5,1,null,6,3,3,3,0.5,null,15,4,6,6,0,null,6,3,4,4,1,null,15,4,4,4,1,null,6,3,4,4,0,null,15,4,7,7,0,null,6,3,3,3,0.5,null,15,4,5,5,1,null,6,3,3,3,0.5,null,15,4,5,5,0,null,6,3,2,2,1,null,6,3,3,3,0.5,null,15,4,4,4,0]
[null,7,4,4,4,1,null,16,4,5,5,0.5,null,7,4,5,5,0,null,16,4,4,4,0.5,null,7,4,5,5,0,null,16,4,5,5,0.5,null,7,4,4,4,1,null,16,4,5,5,0.5,null,7,4,3,3,1,null,16,4,5,5,0.5,null,7,4,4,4,0.5,null,16,4,5,5,0,null,7,4,4,4,0,null,7,4,4,4,0,null,16,4,4,4,0]
[null,8,4,4,4,0.5,null,17,3,5,5,0,null,8,4,4,4,1,null,17,3,5,5,1,null,8,4,5,5,0.5,null,17,3,4,4,0,null,8,4,4,4,1,null,17,3,3,3,0.5,null,8,4,4,4,1,null,17,3,5,5,0,null,8,4,4,4,1,null,17,3,4,4,1,null,8,4,5,5,0.5,null,8,4,5,5,0.5,null,17,3,3,3,0.5]
[null,9,5,6,6,1,null,18,5,5,5,1,null,9,5,5,5,1,null,18,5,6,6,1,null,9,5,6,6,0,null,18,5,6,6,0.5,null,9,5,6,6,0.5,null,18,5,5,5,1,null,9,5,5,5,0,null,18,5,6,6,1,null,9,5,6,6,0.5,null,18,5,5,5,1,null,9,5,5,5,1,null,9,5,6,6,0,null,18,5,5,5,0.5]
[null,"Total",{"$f":"SUM(C7:C15)","v":36},{"$f":"SUM(D7:D15)","v":39},{"$f":"SUM(E7:E15)","v":39},{"$f":"SUM(F7:F15)","v":7},null,"Total",{"$f":"SUM(I7:I15)","v":36},{"$f":"SUM(J7:J15)","v":47},{"$f":"SUM(K7:K15)","v":47},{"$f":"SUM(L7:L15)","v":5},null,"Total",{"$f":"SUM(O7:O15)","v":36},{"$f":"SUM(P7:P15)","v":39},{"$f":"SUM(Q7:Q15)","v":39},{"$f":"SUM(R7:R15)","v":5},null,"Total",{"$f":"SUM(U7:U15)","v":36},{"$f":"SUM(V7:V15)","v":46},{"$f":"SUM(W7:W15)","v":46},{"$f":"SUM(X7:X15)","v":4.5},null,"Total",{"$f":"SUM(AA7:AA15)","v":36},{"$f":"SUM(AB7:AB15)","v":43},{"$f":"SUM(AC7:AC15)","v":43},{"$f":"SUM(AD7:AD15)","v":3.5},null,"Total",{"$f":"SUM(AG7:AG15)","v":36},{"$f":"SUM(AH7:AH15)","v":46},{"$f":"SUM(AI7:AI15)","v":46},{"$f":"SUM(AJ7:AJ15)","v":6},null,"Total",{"$f":"SUM(AM7:AM15)","v":36},{"$f":"SUM(AN7:AN15)","v":41},{"$f":"SUM(AO7:AO15)","v":41},{"$f":"SUM(AP7:AP15)","v":5},null,"Total",{"$f":"SUM(AS7:AS15)","v":36},{"$f":"SUM(AT7:AT15)","v":43},{"$f":"SUM(AU7:AU15)","v":43},{"$f":"SUM(AV7:AV15)","v":4.5},null,"Total",{"$f":"SUM(AY7:AY15)","v":36},{"$f":"SUM(AZ7:AZ15)","v":37},{"$f":"SUM(BA7:BA15)","v":37},{"$f":"SUM(BB7:BB15)","v":4},null,"Total",{"$f":"SUM(BE7:BE15)","v":36},{"$f":"SUM(BF7:BF15)","v":47},{"$f":"SUM(BG7:BG15)","v":47},{"$f":"SUM(BH7:BH15)","v":5.5},null,"Total",{"$f":"SUM(BK7:BK15)","v":36},{"$f":"SUM(BL7:BL15)","v":38},{"$f":"SUM(BM7:BM15)","v":38},{"$f":"SUM(BN7:BN15)","v":5},null,"Total",{"$f":"SUM(BQ7:BQ15)","v":36},{"$f":"SUM(BR7:BR15)","v":42},{"$f":"SUM(BS7:BS15)","v":42},{"$f":"SUM(BT7:BT15)","v":4.5},null,"Total",{"$f":"SUM(BW7:BW15)","v":36},{"$f":"SUM(BX7:BX15)","v":37},{"$f":"SUM(BY7:BY15)","v":37},{"$f":"SUM(BZ7:BZ15)","v":6},null,"Total",{"$f":"SUM(CC7:CC15)","v":36},{"$f":"SUM(CD7:CD15)","v":41},{"$f":"SUM(CE7:CE15)","v":41},{"$f":"SUM(CF7:CF15)","v":2.5},null,"Total",{"$f":"SUM(CI7:CI15)","v":36},{"$f":"SUM(CJ7:CJ15)","v":38},{"$f":"SUM(CK7:CK15)","v":38},{"$f":"SUM(CL7:CL15)","v":4}]
[]
[null,null,null,null,"Low Net",1,null,null,null,null,"Low Net",1,null,null,null,null,"Low Net",1,null,null,null,null,"Low Net",1,null,null,null,null,"Low Net",0.5,null,null,null,null,"Low Net",1,null,null,null,null,"Low Net",1,null,null,null,null,"Low Net",1,null,null,null,null,"Low Net",0,null,null,null,null,"Low Net",1,null,null,null,null,"Low Net",1,null,null,null,null,"Low Net",0,null,null,null,null,"Low Net",1,null,null,null,null,"Low Net",0,null,null,null,null,"Low Net",1]
[]
[null,null,null,null,"Total Points",{"$f":"SUM(F16:F19)","v":8},null,null,null,null,"Total Points",{"$f":"SUM(L16:L19)","v":6},null,null,null,null,"Total Points",{"$f":"SUM(R16:R19)","v":6},null,null,null,null,"Total Points",{"$f":"SUM(X16:X19)","v":5.5},null,null,null,null,"Total Points",{"$f":"SUM(AD16:AD19)","v":4},null,null,null,null,"Total Points",{"$f":"SUM(AJ16:AJ19)","v":7},null,null,null,null,"Total Points",{"$f":"SUM(AP16:AP19)","v":6},null,null,null,null,"Total Points",{"$f":"SUM(AV16:AV19)","v":5.5},null,null,null,null,"Total Points",{"$f":"SUM(BB16:BB19)","v":4},null,null,null,null,"Total Points",{"$f":"SUM(BH16:BH19)","v":6.5},null,null,null,null,"Total Points",{"$f":"SUM(BN16:BN19)","v":6},null,null,null,null,"Total Points",{"$f":"SUM(BT16:BT19)","v":4.5},null,null,null,null,"Total Points",{"$f":"SUM(BZ16:BZ19)","v":7},null,null,null,null,"Total Points",{"$f":"SUM(CF16:CF19)","v":2.5},null,null,null,null,"Total Points",{"$f":"SUM(CL16:CL19)","v":5}]
[]
[null,null,null,null,"Handicap",{"$f":"IF(D16=0,0,E16-C16)","v":3},null,null,null,null,"Handicap",{"$f":"IF(J16=0,0,K16-I16)","v":11},null,null,null,null,"Handicap",{"$f":"IF(P16=0,0,Q16-O16)","v":3},null,null,null,null,"Handicap",{"$f":"IF(V16=0,0,W16-U16)","v":10},null,null,null,null,"Handicap",{"$f":"IF(AB16=0,0,AC16-AA16)","v":7},null,null,null,null,"Handicap",{"$f":"IF(AH16=0,0,AI16-AG16)","v":10},null,null,null,null,"Handicap",{"$f":"IF(AN16=0,0,AO16-AM16)","v":5},null,null,null,null,"Handicap",{"$f":"IF(AT16=0,0,AU16-AS16)","v":7},null,null,null,null,"Handicap",{"$f":"IF(AZ16=0,0,BA16-AY16)","v":1},null,null,null,null,"Handicap",{"$f":"IF(BF16=0,0,BG16-BE16)","v":11},null,null,null,null,"Handicap",{"$f":"IF(BL16=0,0,BM16-BK16)","v":2},null,null,null,null,"Handicap",{"$f":"IF(BR16=0,0,BS16-BQ16)","v":6},null,null,null,null,"Handicap",{"$f":"IF(BX16=0,0,BY16-BW16)","v":1},null,null,null,null,"Handicap",{"$f":"IF(CD16=0,0,CE16-CC16)","v":5},null,null,null,null,"Handicap",{"$f":"IF(CJ16=0,0,CK16-CI16)","v":2}]
[]
[null,null,null,null,null,{"$f":"IF(D16<>0,IF(F16>4.5,\"W\",IF(F16=4.5,\"T\",IF(F16<4.5,\"L\"))),0)","v":"W"},null,null,null,null,null,{"$f":"IF(J16<>0,IF(L16>4.5,\"W\",IF(L16=4.5,\"T\",IF(L16<4.5,\"L\"))),0)","v":"W"},null,null,null,null,null,{"$f":"IF(P16<>0,IF(R16>4.5,\"W\",IF(R16=4.5,\"T\",IF(R16<4.5,\"L\"))),0)","v":"W"},null,null,null,null,null,{"$f":"IF(V16<>0,IF(X16>4.5,\"W\",IF(X16=4.5,\"T\",IF(X16<4.5,\"L\"))),0)","v":"T"},null,null,null,null,null,{"$f":"IF(AB16<>0,IF(AD16>4.5,\"W\",IF(AD16=4.5,\"T\",IF(AD16<4.5,\"L\"))),0)","v":"L"},null,null,null,null,null,{"$f":"IF(AH16<>0,IF(AJ16>4.5,\"W\",IF(AJ16=4.5,\"T\",IF(AJ16<4.5,\"L\"))),0)","v":"W"},null,null,null,null,null,{"$f":"IF(AN16<>0,IF(AP16>4.5,\"W\",IF(AP16=4.5,\"T\",IF(AP16<4.5,\"L\"))),0)","v":"W"},null,null,null,null,null,{"$f":"IF(AT16<>0,IF(AV16>4.5,\"W\",IF(AV16=4.5,\"T\",IF(AV16<4.5,\"L\"))),0)","v":"T"},null,null,null,null,null,{"$f":"IF(AZ16<>0,IF(BB16>4.5,\"W\",IF(BB16=4.5,\"T\",IF(BB16<4.5,\"L\"))),0)","v":"L"},null,null,null,null,null,{"$f":"IF(BF16<>0,IF(BH16>4.5,\"W\",IF(BH16=4.5,\"T\",IF(BH16<4.5,\"L\"))),0)","v":"W"},null,null,null,null,null,{"$f":"IF(BL16<>0,IF(BN16>4.5,\"W\",IF(BN16=4.5,\"T\",IF(BN16<4.5,\"L\"))),0)","v":"W"},null,null,null,null,null,{"$f":"IF(BR16<>0,IF(BT16>4.5,\"W\",IF(BT16=4.5,\"T\",IF(BT16<4.5,\"L\"))),0)","v":"T"},null,null,null,null,null,{"$f":"IF(BX16<>0,IF(BZ16>4.5,\"W\",IF(BZ16=4.5,\"T\",IF(BZ16<4.5,\"L\"))),0)","v":"W"},null,null,null,null,null,{"$f":"IF(CD16<>0,IF(CF16>4.5,\"W\",IF(CF16=4.5,\"T\",IF(CF16<4.5,\"L\"))),0)","v":"L"},null,null,null,null,null,{"$f":"IF(CJ16<>0,IF(CL16>4.5,\"W\",IF(CL16=4.5,\"T\",IF(CL16<4.5,\"L\"))),0)","v":"L"}]
[]
[null,"Summary",null,{"$f":"COUNT(D29:D43)","v":10}]
[null,null,null,"Adj",null,"Adj",null,null,null,"Avg Score"]
[null,null,"Points","Points","Matches","Matches",null,null,"Hole #","by Hole","Best","Worst"]
[null,"Week #1",{"$f":"F20","v":8},{"$f":"C29","v":8},{"$f":"IF(D16>0,1,0)","v":1},{"$f":"E29","v":1},null,null,1,{"$f":"IFERROR(AVERAGE(D7,P7,AB7,AN7,AZ7,BL7,BX7,CD7),0)","v":4.375},{"$f":"IFERROR(MIN(D7,P7,AB7,AN7,AZ7,BL7,BX7,CD7),0)","v":4},{"$f":"IFERROR(MAX(D7,P7,AB7,AN7,AZ7,BL7,BX7,CD7),0)","v":6}]
[null,"Week #2",{"$f":"L20","v":6},6,{"$f":"IF(J16>0,1,0)","v":1},1,null,null,2,{"$f":"IFERROR(AVERAGE(D8,P8,AB8,AN8,AZ8,BL8,BX8,CD8),0)","v":4.875},{"$f":"IFERROR(MIN(D8,P8,AB8,AN8,AZ8,BL8,BX8,CD8),0)","v":4},{"$f":"IFERROR(MAX(D8,P8,AB8,AN8,AZ8,BL8,BX8,CD8),0)","v":6}]
[null,"Week #3",{"$f":"R20","v":6},6,{"$f":"IF(P16>0,1,0)","v":1},1,null,null,3,3.125,3,4]
[null,"Week #4",{"$f":"X20","v":5.5},5.5,{"$f":"IF(V16>0,1,0)","v":1},1,null,null,4,4.625,4,5]
[null,"Week #5",{"$f":"AD20","v":4},null,1,1,null,null,5,5,4,6]
[null,"Week #6",{"$f":"AJ20","v":7},7,{"$f":"IF(AH16>0,1,0)","v":1},1,null,null,6,3.25,2,4]
[null,"Week #7",{"$f":"AP20","v":6},6,{"$f":"IF(AN16>0,1,0)","v":1},1,null,null,7,4.125,3,5]
[null,"Week #8",{"$f":"AV20","v":5.5},5.5,{"$f":"IF(AT16>0,1,0)","v":1},1,null,null,8,4.375,4,5]
[null,"Week #9",{"$f":"BB20","v":4},null,{"$f":"IF(AZ16>0,1,0)","v":1},1,null,null,9,5.625,5,6]
[null,"Week #10",{"$f":"BH20","v":6.5},6.5,{"$f":"IF(BF16>0,1,0)","v":1},1,null,null,"Front",{"$f":"SUM(J29:J37)","v":39.375},{"$f":"SUM(K29:K37)","v":33},47]
[null,"Week #11",{"$f":"BN20","v":6},6,{"$f":"IF(BL16>0,1,0)","v":1},1]
[null,"Week #12",{"$f":"BT20","v":4.5},null,{"$f":"IF(BR16>0,1,0)","v":1},1,null,null,10,{"$f":"IFERROR(AVERAGE(J7,V7,AH7,AT7,BF7,BR7,CJ7),0)","v":4.7142857142857144},{"$f":"IFERROR(MIN(J7,V7,AH7,AT7,BF7,BR7,CJ7),0)","v":4},{"$f":"IFERROR(MAX(J7,V7,AH7,AT7,BF7,BR7,CJ7),0)","v":6}]
[null,"Week #13",{"$f":"BZ20","v":7},7,{"$f":"IF(BX16>0,1,0)","v":1},1,null,null,11,{"$f":"IFERROR(AVERAGE(J8,V8,AH8,AT8,BF8,BR8,CJ8),0)","v":4.7142857142857144},{"$f":"IFERROR(MIN(J8,V8,AH8,AT8,BF8,BR8,CJ8),0)","v":3},{"$f":"IFERROR(MAX(J8,V8,AH8,AT8,BF8,BR8,CJ8),0)","v":7}]
[null,"Week #14",{"$f":"CF20","v":2.5},null,{"$f":"IF(CD16>0,1,0)","v":1},1,null,null,12,5.2857142857142856,4,6]
[null,"Week #15",{"$f":"CL20","v":5},null,{"$f":"IF(CJ16>0,1,0)","v":1},1,null,null,13,5.2857142857142856,4,6]
[null,"Total",{"$f":"SUM(C29:C43)","v":83.5},{"$f":"SUM(D29:D43)","v":63.5},{"$f":"SUM(E29:E43)","v":15},{"$f":"SUM(F29:F43)","v":15},null,null,14,4.7142857142857144,4,6]
[null,null,null,null,null,null,null,null,15,5.1428571428571432,4,7]
[null,"Summary",null,null,null,null,null,null,16,4.7142857142857144,4,5]
[null,"Eagles",{"$f":"I57+I68+I79+I90+I101+I112+I123+I134+I145+I156+I167+I178+I189+I200+I211","v":0},null,null,null,null,null,17,4.1428571428571432,3,5]
[null,"Birdies",6,null,null,null,null,null,18,5.4285714285714288,5,6]
[null,"Pars",{"$f":"I59+I70+I81+I92+I103+I114+I125+I136+I147+I158+I169+I180+I191+I202+I213","v":58},null,null,null,null,null,"Back",{"$f":"SUM(J40:J48)","v":44.142857142857146},{"$f":"SUM(K40:K48)","v":35},54]
[null,"bogeys",55]
[null,"Double bogeys",13]
[null,"Other",3]
[null,"Total",{"$f":"SUM(C47:C52)","v":135}]
[]
[null,{"$f":"D4","v":"2024-04-26"},"Par","Score"]
[null,{"$f":"B7","v":1},4,4,{"$f":"IF(D56<>0,IF((D56-C56)=-1,\"Birdie\",IF((D56-C56)=-2,\"Eagle\",IF((D56-C56)=0,\"Par\",IF((D56-C56)=1,\"bogey\",IF((D56-C56)=2,\"Double bogey\",\"Other\"))))),\"  \")","v":"Par"},null,null,"Count"]
[null,2,4,4,"Par",null,null,"Eagle",{"$f":"COUNTIF(E56:E64,\"Eagle\")","v":0}]
[null,3,3,3,"Par",null,null,"Birdie",{"$f":"COUNTIF(E56:E64,\"Birdie\")","v":0}]
[null,4,4,4,"Par",null,null,"Par",{"$f":"COUNTIF(E56:E64,\"Par\")","v":6}]
[null,5,5,6,"bogey",null,null,"bogey",{"$f":"COUNTIF(E56:E64,\"bogey\")","v":3}]
[null,6,3,4,"bogey",null,null,"Double bogey",{"$f":"COUNTIF(E56:E64,\"Double bogey\")","v":0}]
[null,7,4,4,"Par",null,null,"Other",{"$f":"COUNTIF(E56:E64,\"Other\")","v":0}]
[null,8,4,4,"Par"]
[null,9,5,6,"bogey"]
[]
[null,{"$f":"J4","v":"2024-05-03"}]
[null,{"$f":"H7","v":10},4,4,{"$f":"IF(D67<>0,IF((D67-C67)=-1,\"Birdie\",IF((D67-C67)=-2,\"Eagle\",IF((D67-C67)=0,\"Par\",IF((D67-C67)=1,\"bogey\",IF((D67-C67)=2,\"Double bogey\",\"Other\"))))),\"  \")","v":"Par"},null,null,"Count"]
[null,11,4,7,"Other",null,null,"Eagle",{"$f":"COUNTIF(E67:E75,\"Eagle\")","v":0}]
[null,12,4,6,"Double bogey",null,null,"Birdie",{"$f":"COUNTIF(E67:E75,\"Birdie\")","v":0}]
[null,13,5,6,"bogey",null,null,"Par",{"$f":"COUNTIF(E67:E75,\"Par\")","v":2}]
[null,14,3,4,"bogey",null,null,"bogey",{"$f":"COUNTIF(E67:E75,\"bogey\")","v":4}]
[null,15,4,5,"bogey",null,null,"Double bogey",{"$f":"COUNTIF(E67:E75,\"Double bogey\")","v":2}]
[null,16,4,5,"bogey",null,null,"Other",{"$f":"COUNTIF(E67:E75,\"Other\")","v":1}]
[null,17,3,5,"Double bogey"]
[null,18,5,5,"Par"]
[]
[null,{"$f":"P4","v":"2024-05-10"}]
[null,{"$f":"N7","v":1},4,4,{"$f":"IF(D78<>0,IF((D78-C78)=-1,\"Birdie\",IF((D78-C78)=-2,\"Eagle\",IF((D78-C78)=0,\"Par\",IF((D78-C78)=1,\"bogey\",IF((D78-C78)=2,\"Double bogey\",\"Other\"))))),\"  \")","v":"Par"},null,null,"Count"]
[null,2,4,5,"bogey",null,null,"Eagle",{"$f":"COUNTIF(E78:E86,\"Eagle\")","v":0}]
[null,3,3,4,"bogey",null,null,"Birdie",{"$f":"COUNTIF(E78:E86,\"Birdie\")","v":0}]
[null,4,4,4,"Par",null,null,"Par",{"$f":"COUNTIF(E78:E86,\"Par\")","v":6}]
[null,5,5,5,"Par",null,null,"bogey",{"$f":"COUNTIF(E78:E86,\"bogey\")","v":3}]
[null,6,3,3,"Par",null,null,"Double bogey",{"$f":"COUNTIF(E78:E86,\"Double bogey\")","v":0}]
[null,7,4,5,"bogey",null,null,"Other",{"$f":"COUNTIF(E78:E86,\"Other\")","v":0}]
[null,8,4,4,"Par"]
[null,9,5,5,"Par"]
[]
[null,{"$f":"V4","v":"2024-05-17"}]
[null,{"$f":"T7","v":10},4,5,{"$f":"IF(D89<>0,IF((D89-C89)=-1,\"Birdie\",IF((D89-C89)=-2,\"Eagle\",IF((D89-C89)=0,\"Par\",IF((D89-C89)=1,\"bogey\",IF((D89-C89)=2,\"Double bogey\",\"Other\"))))),\"  \")","v":"bogey"},null,null,"Count"]
[null,11,4,5,"bogey",null,null,"Eagle",{"$f":"COUNTIF(E89:E97,\"Eagle\")","v":0}]
[null,12,4,4,"Par",null,null,"Birdie",{"$f":"COUNTIF(E89:E97,\"Birdie\")","v":0}]
[null,13,5,5,"Par",null,null,"Par",{"$f":"COUNTIF(E89:E97,\"Par\")","v":3}]
[null,14,3,6,"Other",null,null,"bogey",{"$f":"COUNTIF(E89:E97,\"bogey\")","v":3}]
[null,15,4,6,"Double bogey",null,null,"Double bogey",{"$f":"COUNTIF(E89:E97,\"Double bogey\")","v":2}]
[null,16,4,4,"Par",null,null,"Other",{"$f":"COUNTIF(E89:E97,\"Other\")","v":1}]
[null,17,3,5,"Double bogey"]
[null,18,5,6,"bogey"]
[]
[null,{"$f":"AB4","v":"2024-05-24"}]
[null,{"$f":"Z7","v":1},4,4,{"$f":"IF(D100<>0,IF((D100-C100)=-1,\"Birdie\",IF((D100-C100)=-2,\"Eagle\",IF((D100-C100)=0,\"Par\",IF((D100-C100)=1,\"bogey\",IF((D100-C100)=2,\"Double bogey\",\"Other\"))))),\"  \")","v":"Par"},null,null,"Count"]
[null,2,4,5,"bogey",null,null,"Eagle",{"$f":"COUNTIF(E100:E108,\"Eagle\")","v":0}]
[null,3,3,3,"Par",null,null,"Birdie",{"$f":"COUNTIF(E100:E108,\"Birdie\")","v":0}]
[null,4,4,5,"bogey",null,null,"Par",{"$f":"COUNTIF(E100:E108,\"Par\")","v":2}]
[null,5,5,6,"bogey",null,null,"bogey",{"$f":"COUNTIF(E100:E108,\"bogey\")","v":7}]
[null,6,3,4,"bogey",null,null,"Double bogey",{"$f":"COUNTIF(E100:E108,\"Double bogey\")","v":0}]
[null,7,4,5,"bogey",null,null,"Other",{"$f":"COUNTIF(E100:E108,\"Other\")","v":0}]
[null,8,4,5,"bogey"]
[null,9,5,6,"bogey"]
[]
[null,{"$f":"AH4","v":"2024-05-31"}]
[null,{"$f":"AF7","v":10},4,6,{"$f":"IF(D111<>0,IF((D111-C111)=-1,\"Birdie\",IF((D111-C111)=-2,\"Eagle\",IF((D111-C111)=0,\"Par\",IF((D111-C111)=1,\"bogey\",IF((D111-C111)=2,\"Double bogey\",\"Other\"))))),\"  \")","v":"Double bogey"},null,null,"Count"]
[null,11,4,4,"Par",null,null,"Eagle",{"$f":"COUNTIF(E111:E119,\"Eagle\")","v":0}]
[null,12,4,6,"Double bogey",null,null,"Birdie",{"$f":"COUNTIF(E111:E119,\"Birdie\")","v":0}]
[null,13,5,6,"bogey",null,null,"Par",{"$f":"COUNTIF(E111:E119,\"Par\")","v":2}]
[null,14,3,5,"Double bogey",null,null,"bogey",{"$f":"COUNTIF(E111:E119,\"bogey\")","v":4}]
[null,15,4,4,"Par",null,null,"Double bogey",{"$f":"COUNTIF(E111:E119,\"Double bogey\")","v":3}]
[null,16,4,5,"bogey",null,null,"Other",{"$f":"COUNTIF(E111:E119,\"Other\")","v":0}]
[null,17,3,4,"bogey"]
[null,18,5,6,"bogey"]
[]
[null,{"$f":"AN4","v":"2024-06-07"}]
[null,{"$f":"AL7","v":1},4,6,{"$f":"IF(D122<>0,IF((D122-C122)=-1,\"Birdie\",IF((D122-C122)=-2,\"Eagle\",IF((D122-C122)=0,\"Par\",IF((D122-C122)=1,\"bogey\",IF((D122-C122)=2,\"Double bogey\",\"Other\"))))),\"  \")","v":"Double bogey"},null,null,"Count"]
[null,2,4,4,"Par",null,null,"Eagle",{"$f":"COUNTIF(E122:E130,\"Eagle\")","v":0}]
[null,3,3,3,"Par",null,null,"Birdie",{"$f":"COUNTIF(E122:E130,\"Birdie\")","v":0}]
[null,4,4,5,"bogey",null,null,"Par",{"$f":"COUNTIF(E122:E130,\"Par\")","v":5}]
[null,5,5,5,"Par",null,null,"bogey",{"$f":"COUNTIF(E122:E130,\"bogey\")","v":3}]
[null,6,3,4,"bogey",null,null,"Double bogey",{"$f":"COUNTIF(E122:E130,\"Double bogey\")","v":1}]
[null,7,4,4,"Par",null,null,"Other",{"$f":"COUNTIF(E122:E130,\"Other\")","v":0}]
[null,8,4,4,"Par"]
[null,9,5,6,"bogey"]
[]
[null,{"$f":"AT4","v":"2024-06-14"}]
[null,{"$f":"AR7","v":10},4,5,{"$f":"IF(D133<>0,IF((D133-C133)=-1,\"Birdie\",IF((D133-C133)=-2,\"Eagle\",IF((D133-C133)=0,\"Par\",IF((D133-C133)=1,\"bogey\",IF((D133-C133)=2,\"Double bogey\",\"Other\"))))),\"  \")","v":"bogey"},null,null,"Count"]
[null,11,4,3,"Birdie",null,null,"Eagle",{"$f":"COUNTIF(E133:E141,\"Eagle\")","v":0}]
[null,12,4,5,"bogey",null,null,"Birdie",{"$f":"COUNTIF(E133:E141,\"Birdie\")","v":1}]
[null,13,5,5,"Par",null,null,"Par",{"$f":"COUNTIF(E133:E141,\"Par\")","v":3}]
[null,14,3,5,"Double bogey",null,null,"bogey",{"$f":"COUNTIF(E133:E141,\"bogey\")","v":3}]
[null,15,4,7,"Other",null,null,"Double bogey",{"$f":"COUNTIF(E133:E141,\"Double bogey\")","v":1}]
[null,16,4,5,"bogey",null,null,"Other",{"$f":"COUNTIF(E133:E141,\"Other\")","v":1}]
[null,17,3,3,"Par"]
[null,18,5,5,"Par"]
[]
[null,{"$f":"AZ4","v":"2024-07-05"}]
[null,{"$f":"AX7","v":1},4,4,{"$f":"IF(D144<>0,IF((D144-C144)=-1,\"Birdie\",IF((D144-C144)=-2,\"Eagle\",IF((D144-C144)=0,\"Par\",IF((D144-C144)=1,\"bogey\",IF((D144-C144)=2,\"Double bogey\",\"Other\"))))),\"  \")","v":"Par"},null,null,"Count"]
[null,2,4,5,"bogey",null,null,"Eagle",{"$f":"COUNTIF(E144:E152,\"Eagle\")","v":0}]
[null,3,3,3,"Par",null,null,"Birdie",{"$f":"COUNTIF(E144:E152,\"Birdie\")","v":1}]
[null,4,4,5,"bogey",null,null,"Par",{"$f":"COUNTIF(E144:E152,\"Par\")","v":6}]
[null,5,5,5,"Par",null,null,"bogey",{"$f":"COUNTIF(E144:E152,\"bogey\")","v":2}]
[null,6,3,3,"Par",null,null,"Double bogey",{"$f":"COUNTIF(E144:E152,\"Double bogey\")","v":0}]
[null,7,4,3,"Birdie",null,null,"Other",{"$f":"COUNTIF(E144:E152,\"Other\")","v":0}]
[null,8,4,4,"Par"]
[null,9,5,5,"Par"]
[]
[null,{"$f":"BF4","v":"2024-07-12"}]
[null,{"$f":"BD7","v":10},4,5,{"$f":"IF(D155<>0,IF((D155-C155)=-1,\"Birdie\",IF((D155-C155)=-2,\"Eagle\",IF((D155-C155)=0,\"Par\",IF((D155-C155)=1,\"bogey\",IF((D155-C155)=2,\"Double bogey\",\"Other\"))))),\"  \")","v":"bogey"},null,null,"Count"]
[null,11,4,5,"bogey",null,null,"Eagle",{"$f":"COUNTIF(E155:E163,\"Eagle\")","v":0}]
[null,12,4,6,"Double bogey",null,null,"Birdie",{"$f":"COUNTIF(E155:E163,\"Birdie\")","v":0}]
[null,13,5,6,"bogey",null,null,"Par",{"$f":"COUNTIF(E155:E163,\"Par\")","v":0}]
[null,14,3,4,"bogey",null,null,"bogey",{"$f":"COUNTIF(E155:E163,\"bogey\")","v":7}]
[null,15,4,5,"bogey",null,null,"Double bogey",{"$f":"COUNTIF(E155:E163,\"Double bogey\")","v":2}]
[null,16,4,5,"bogey",null,null,"Other",{"$f":"COUNTIF(E155:E163,\"Other\")","v":0}]
[null,17,3,5,"Double bogey"]
[null,18,5,6,"bogey"]
[]
[null,{"$f":"BL4","v":"2024-07-19"}]
[null,{"$f":"BJ7","v":1},4,4,{"$f":"IF(D166<>0,IF((D166-C166)=-1,\"Birdie\",IF((D166-C166)=-2,\"Eagle\",IF((D166-C166)=0,\"Par\",IF((D166-C166)=1,\"bogey\",IF((D166-C166)=2,\"Double bogey\",\"Other\"))))),\"  \")","v":"Par"},null,null,"Count"]
[null,2,4,5,"bogey",null,null,"Eagle",{"$f":"COUNTIF(E166:E174,\"Eagle\")","v":0}]
[null,3,3,3,"Par",null,null,"Birdie",{"$f":"COUNTIF(E166:E174,\"Birdie\")","v":1}]
[null,4,4,5,"bogey",null,null,"Par",{"$f":"COUNTIF(E166:E174,\"Par\")","v":5}]
[null,5,5,4,"Birdie",null,null,"bogey",{"$f":"COUNTIF(E166:E174,\"bogey\")","v":3}]
[null,6,3,3,"Par",null,null,"Double bogey",{"$f":"COUNTIF(E166:E174,\"Double bogey\")","v":0}]
[null,7,4,4,"Par",null,null,"Other",{"$f":"COUNTIF(E166:E174,\"Other\")","v":0}]
[null,8,4,4,"Par"]
[null,9,5,6,"bogey"]
[]
[null,{"$f":"BR4","v":"2024-07-26"}]
[null,{"$f":"BP7","v":10},4,4,{"$f":"IF(D177<>0,IF((D177-C177)=-1,\"Birdie\",IF((D177-C177)=-2,\"Eagle\",IF((D177-C177)=0,\"Par\",IF((D177-C177)=1,\"bogey\",IF((D177-C177)=2,\"Double bogey\",\"Other\"))))),\"  \")","v":"Par"},null,null,"Count"]
[null,11,4,4,"Par",null,null,"Eagle",{"$f":"COUNTIF(E177:E185,\"Eagle\")","v":0}]
[null,12,4,5,"bogey",null,null,"Birdie",{"$f":"COUNTIF(E177:E185,\"Birdie\")","v":0}]
[null,13,5,5,"Par",null,null,"Par",{"$f":"COUNTIF(E177:E185,\"Par\")","v":4}]
[null,14,3,5,"Double bogey",null,null,"bogey",{"$f":"COUNTIF(E177:E185,\"bogey\")","v":4}]
[null,15,4,5,"bogey",null,null,"Double bogey",{"$f":"COUNTIF(E177:E185,\"Double bogey\")","v":1}]
[null,16,4,5,"bogey",null,null,"Other",{"$f":"COUNTIF(E177:E185,\"Other\")","v":0}]
[null,17,3,4,"bogey"]
[null,18,5,5,"Par"]
[]
[null,{"$f":"BX4","v":"2024-08-02"}]
[null,{"$f":"BV7","v":1},4,4,{"$f":"IF(D188<>0,IF((D188-C188)=-1,\"Birdie\",IF((D188-C188)=-2,\"Eagle\",IF((D188-C188)=0,\"Par\",IF((D188-C188)=1,\"bogey\",IF((D188-C188)=2,\"Double bogey\",\"Other\"))))),\"  \")","v":"Par"},null,null,"Count"]
[null,2,4,5,"bogey",null,null,"Eagle",{"$f":"COUNTIF(E188:E196,\"Eagle\")","v":0}]
[null,3,3,3,"Par",null,null,"Birdie",{"$f":"COUNTIF(E188:E196,\"Birdie\")","v":1}]
[null,4,4,4,"Par",null,null,"Par",{"$f":"COUNTIF(E188:E196,\"Par\")","v":6}]
[null,5,5,5,"Par",null,null,"bogey",{"$f":"COUNTIF(E188:E196,\"bogey\")","v":2}]
[null,6,3,2,"Birdie",null,null,"Double bogey",{"$f":"COUNTIF(E188:E196,\"Double bogey\")","v":0}]
[null,7,4,4,"Par",null,null,"Other",{"$f":"COUNTIF(E188:E196,\"Other\")","v":0}]
[null,8,4,5,"bogey"]
[null,9,5,5,"Par"]
[]
[null,{"$f":"CD4","v":"2024-08-16"}]
[null,{"$f":"CB7","v":1},4,5,{"$f":"IF(D199<>0,IF((D199-C199)=-1,\"Birdie\",IF((D199-C199)=-2,\"Eagle\",IF((D199-C199)=0,\"Par\",IF((D199-C199)=1,\"bogey\",IF((D199-C199)=2,\"Double bogey\",\"Other\"))))),\"  \")","v":"bogey"},null,null,"Count"]
[null,2,4,6,"Double bogey",null,null,"Eagle",{"$f":"COUNTIF(E199:E207,\"Eagle\")","v":0}]
[null,3,3,3,"Par",null,null,"Birdie",{"$f":"COUNTIF(E199:E207,\"Birdie\")","v":1}]
[null,4,4,5,"bogey",null,null,"Par",{"$f":"COUNTIF(E199:E207,\"Par\")","v":3}]
[null,5,5,4,"Birdie",null,null,"bogey",{"$f":"COUNTIF(E199:E207,\"bogey\")","v":4}]
[null,6,3,3,"Par",null,null,"Double bogey",{"$f":"COUNTIF(E199:E207,\"Double bogey\")","v":1}]
[null,7,4,4,"Par",null,null,"Other",{"$f":"COUNTIF(E199:E207,\"Other\")","v":0}]
[null,8,4,5,"bogey"]
[null,9,5,6,"bogey"]
[]
[null,{"$f":"CJ4","v":"2024-08-23"}]
[null,{"$f":"CH7","v":10},4,4,{"$f":"IF(D210<>0,IF((D210-C210)=-1,\"Birdie\",IF((D210-C210)=-2,\"Eagle\",IF((D210-C210)=0,\"Par\",IF((D210-C210)=1,\"bogey\",IF((D210-C210)=2,\"Double bogey\",\"Other\"))))),\"  \")","v":"Par"},null,null,"Count"]
[null,11,4,5,"bogey",null,null,"Eagle",{"$f":"COUNTIF(E210:E218,\"Eagle\")","v":0}]
[null,12,4,5,"bogey",null,null,"Birdie",{"$f":"COUNTIF(E210:E218,\"Birdie\")","v":1}]
[null,13,5,4,"Birdie",null,null,"Par",{"$f":"COUNTIF(E210:E218,\"Par\")","v":5}]
[null,14,3,4,"bogey",null,null,"bogey",{"$f":"COUNTIF(E210:E218,\"bogey\")","v":3}]
[null,15,4,4,"Par",null,null,"Double bogey",{"$f":"COUNTIF(E210:E218,\"Double bogey\")","v":0}]
[null,16,4,4,"Par",null,null,"Other",{"$f":"COUNTIF(E210:E218,\"Other\")","v":0}]
[null,17,3,3,"Par"]
[null,18,5,5,"Par"]

{"sheet":"Taylor","index":19,"n_rows":218,"n_cols":90,"rows_kept":218,"cut":false,"hidden":false,"merged":[]}
["Dave Taylor"]
[]
[]
[null,null,"Date:",{"$f":"VLOOKUP(C5,Week,2)","v":"2024-04-26"},null,null,null,null,"Date:",{"$f":"VLOOKUP(I5,Week,2)","v":"2024-05-03"},null,null,null,null,"Date:",{"$f":"VLOOKUP(O5,Week,2)","v":"2024-05-10"},null,null,null,null,"Date:",{"$f":"VLOOKUP(U5,Week,2)","v":"2024-05-17"},null,null,null,null,"Date:",{"$f":"VLOOKUP(AA5,Week,2)","v":"2024-05-24"},null,null,null,null,"Date:",{"$f":"VLOOKUP(AG5,Week,2)","v":"2024-05-31"},null,null,null,null,"Date:",{"$f":"VLOOKUP(AM5,Week,2)","v":"2024-06-07"},null,null,null,null,"Date:",{"$f":"VLOOKUP(AS5,Week,2)","v":"2024-06-14"},null,null,null,null,"Date:",{"$f":"VLOOKUP(AY5,Week,2)","v":"2024-07-05"},null,null,null,null,"Date:",{"$f":"VLOOKUP(BE5,Week,2)","v":"2024-07-12"},null,null,null,null,"Date:",{"$f":"VLOOKUP(BK5,Week,2)","v":"2024-07-19"},null,null,null,null,"Date:",{"$f":"VLOOKUP(BQ5,Week,2)","v":"2024-07-26"},null,null,null,null,"Date:",{"$f":"VLOOKUP(BW5,Week,2)","v":"2024-08-02"},null,null,null,null,"Date:",{"$f":"VLOOKUP(CC5,Week,2)","v":"2024-08-16"},null,null,null,null,"Date:",{"$f":"VLOOKUP(CI5,Week,2)","v":"2024-08-23"}]
[null,"Week",1,null,null,null,null,"Week",2,null,null,null,null,"Week",3,null,null,null,null,"Week",4,null,null,null,null,"Week",5,null,null,null,null,"Week",6,null,null,null,null,"Week",7,null,null,null,null,"Week",8,null,null,null,null,"Week",9,null,null,null,null,"Week",10,null,null,null,null,"Week",11,null,null,null,null,"Week",12,null,null,null,null,"Week",13,null,null,null,null,"Week",14,null,null,null,null,"Week",15]
[null,"Hole #","Par","Score","Net","Win Hole",null,"Hole #","Par","Score","Net","Win Hole",null,"Hole #","Par","Score","Net","Win Hole",null,"Hole #","Par","Score","Net","Win Hole",null,"Hole #","Par","Score","Net","Win Hole",null,"Hole #","Par","Score","Net","Win Hole",null,"Hole #","Par","Score","Net","Win Hole",null,"Hole #","Par","Score","Net","Win Hole",null,"Hole #","Par","Score","Net","Win Hole",null,"Hole #","Par","Score","Net","Win Hole",null,"Hole #","Par","Score","Net","Win Hole",null,"Hole #","Par","Score","Net","Win Hole",null,"Hole #","Par","Score","Net","Win Hole",null,"Hole #","Par","Score","Net","Win Hole",null,"Hole #","Par","Score","Net","Win Hole"]
[null,{"$f":"VLOOKUP(C5,Week,6)","v":1},{"$f":"VLOOKUP(B7,Holes,2)","v":4},7,{"$f":"IF((D7-C7)>3,C7+3,D7)","v":7},0,null,{"$f":"VLOOKUP(I5,Week,6)","v":10},{"$f":"VLOOKUP(H7,Holes,2)","v":4},5,{"$f":"IF((J7-I7)>3,I7+3,J7)","v":5},1,null,{"$f":"VLOOKUP(O5,Week,6)","v":1},{"$f":"VLOOKUP(N7,Holes,2)","v":4},5,{"$f":"IF((P7-O7)>3,O7+3,P7)","v":5},1,null,{"$f":"VLOOKUP(U5,Week,6)","v":10},{"$f":"VLOOKUP(T7,Holes,2)","v":4},9,{"$f":"IF((V7-U7)>3,U7+3,V7)","v":7},0,null,{"$f":"VLOOKUP(AA5,Week,6)","v":1},{"$f":"VLOOKUP(Z7,Holes,2)","v":4},5,{"$f":"IF((AB7-AA7)>3,AA7+3,AB7)","v":5},0.5,null,{"$f":"VLOOKUP(AG5,Week,6)","v":10},{"$f":"VLOOKUP(AF7,Holes,2)","v":4},4,{"$f":"IF((AH7-AG7)>3,AG7+3,AH7)","v":4},0.5,null,{"$f":"VLOOKUP(AM5,Week,6)","v":1},{"$f":"VLOOKUP(AL7,Holes,2)","v":4},5,{"$f":"IF((AN7-AM7)>3,AM7+3,AN7)","v":5},0,null,{"$f":"VLOOKUP(AS5,Week,6)","v":10},{"$f":"VLOOKUP(AR7,Holes,2)","v":4},6,{"$f":"IF((AT7-AS7)>3,AS7+3,AT7)","v":6},0,null,{"$f":"VLOOKUP(AY5,Week,6)","v":1},{"$f":"VLOOKUP(AX7,Holes,2)","v":4},6,{"$f":"IF((AZ7-AY7)>3,AY7+3,AZ7)","v":6},1,null,{"$f":"VLOOKUP(BE5,Week,6)","v":10},{"$f":"VLOOKUP(BD7,Holes,2)","v":4},6,{"$f":"IF((BF7-BE7)>3,BE7+3,BF7)","v":6},0,null,{"$f":"VLOOKUP(BK5,Week,6)","v":1},{"$f":"VLOOKUP(BJ7,Holes,2)","v":4},5,{"$f":"IF((BL7-BK7)>3,BK7+3,BL7)","v":5},0,null,{"$f":"VLOOKUP(BQ5,Week,6)","v":10},{"$f":"VLOOKUP(BP7,Holes,2)","v":4},6,{"$f":"IF((BR7-BQ7)>3,BQ7+3,BR7)","v":6},0.5,null,{"$f":"VLOOKUP(BW5,Week,6)","v":1},{"$f":"VLOOKUP(BV7,Holes,2)","v":4},5,{"$f":"IF((BX7-BW7)>3,BW7+3,BX7)","v":5},0.5,null,{"$f":"VLOOKUP(CC5,Week,6)","v":1},{"$f":"VLOOKUP(CB7,Holes,2)","v":4},5,{"$f":"IF((CD7-CC7)>3,CC7+3,CD7)","v":5},0.5,null,{"$f":"VLOOKUP(CI5,Week,6)","v":10},{"$f":"VLOOKUP(CH7,Holes,2)","v":4},6,{"$f":"IF((CJ7-CI7)>3,CI7+3,CJ7)","v":6},0]
[null,{"$f":"+B7+1","v":2},4,6,6,1,null,{"$f":"+H7+1","v":11},4,6,6,1,null,{"$f":"+N7+1","v":2},4,5,5,1,null,{"$f":"+T7+1","v":11},4,6,6,0.5,null,{"$f":"+Z7+1","v":2},4,5,5,1,null,{"$f":"+AF7+1","v":11},4,5,5,0.5,null,{"$f":"+AL7+1","v":2},4,5,5,0.5,null,{"$f":"+AR7+1","v":11},4,4,4,0.5,null,{"$f":"+AX7+1","v":2},4,5,5,0,null,{"$f":"+BD7+1","v":11},4,6,6,0,null,{"$f":"+BJ7+1","v":2},4,5,5,1,null,{"$f":"+BP7+1","v":11},4,6,6,0.5,null,{"$f":"+BV7+1","v":2},4,6,6,0,null,{"$f":"+CB7+1","v":2},4,6,6,1,null,{"$f":"+CH7+1","v":11},4,8,7,0.5]
[null,3,3,4,4,0.5,null,12,4,4,4,1,null,3,3,5,5,0,null,12,4,5,5,1,null,3,3,4,4,0.5,null,12,4,5,5,1,null,3,3,4,4,0,null,12,4,4,4,1,null,3,3,6,6,0,null,12,4,4,4,0.5,null,3,3,4,4,0.5,null,12,4,4,4,1,null,3,3,4,4,0.5,null,3,3,4,4,1,null,12,4,6,6,0.5]
[null,4,4,5,5,1,null,13,5,6,6,0.5,null,4,4,6,6,0,null,13,5,9,8,0,null,4,4,5,5,1,null,13,5,10,8,0,null,4,4,5,5,0.5,null,13,5,9,8,0,null,4,4,6,6,0,null,13,5,7,7,1,null,4,4,5,5,1,null,13,5,8,8,0,null,4,4,5,5,0.5,null,4,4,6,6,0,null,13,5,6,6,1]
[null,5,5,8,8,0,null,14,3,5,5,0,null,5,5,7,7,0.5,null,14,3,4,4,1,null,5,5,6,6,0.5,null,14,3,5,5,1,null,5,5,7,7,0,null,14,3,5,5,0,null,5,5,7,7,1,null,14,3,6,6,0,null,5,5,6,6,0,null,14,3,4,4,0.5,null,5,5,6,6,1,null,5,5,7,7,0,null,14,3,6,6,0]
[null,6,3,4,4,0.5,null,15,4,6,6,0,null,6,3,4,4,0.5,null,15,4,6,6,1,null,6,3,5,5,1,null,15,4,8,7,0,null,6,3,4,4,1,null,15,4,7,7,0,null,6,3,4,4,0.5,null,15,4,7,7,0.5,null,6,3,4,4,0.5,null,15,4,5,5,1,null,6,3,5,5,0,null,6,3,4,4,0.5,null,15,4,6,6,0.5]
[null,7,4,5,5,1,null,16,4,6,6,1,null,7,4,8,7,0,null,16,4,4,4,1,null,7,4,4,4,1,null,16,4,5,5,1,null,7,4,5,5,0,null,16,4,6,6,0,null,7,4,5,5,1,null,16,4,5,5,1,null,7,4,5,5,0.5,null,16,4,6,6,1,null,7,4,5,5,0.5,null,7,4,7,7,0,null,16,4,5,5,1]
[null,8,4,8,7,0,null,17,3,5,5,0,null,8,4,6,6,0.5,null,17,3,4,4,1,null,8,4,6,6,0.5,null,17,3,5,5,0.5,null,8,4,6,6,0.5,null,17,3,4,4,0,null,8,4,5,5,0.5,null,17,3,6,6,0,null,8,4,6,6,0,null,17,3,4,4,1,null,8,4,7,7,0,null,8,4,7,7,0,null,17,3,4,4,0.5]
[null,9,5,7,7,1,null,18,5,7,7,1,null,9,5,8,8,0,null,18,5,6,6,0.5,null,9,5,6,6,0.5,null,18,5,7,7,0.5,null,9,5,5,5,1,null,18,5,7,7,0.5,null,9,5,7,7,0,null,18,5,6,6,1,null,9,5,7,7,0.5,null,18,5,6,6,0,null,9,5,6,6,0.5,null,9,5,7,7,0,null,18,5,6,6,1]
[null,"Total",{"$f":"SUM(C7:C15)","v":36},{"$f":"SUM(D7:D15)","v":54},{"$f":"SUM(E7:E15)","v":53},{"$f":"SUM(F7:F15)","v":5},null,"Total",{"$f":"SUM(I7:I15)","v":36},{"$f":"SUM(J7:J15)","v":50},{"$f":"SUM(K7:K15)","v":50},{"$f":"SUM(L7:L15)","v":5.5},null,"Total",{"$f":"SUM(O7:O15)","v":36},{"$f":"SUM(P7:P15)","v":54},{"$f":"SUM(Q7:Q15)","v":53},{"$f":"SUM(R7:R15)","v":3.5},null,"Total",{"$f":"SUM(U7:U15)","v":36},{"$f":"SUM(V7:V15)","v":53},{"$f":"SUM(W7:W15)","v":50},{"$f":"SUM(X7:X15)","v":6},null,"Total",{"$f":"SUM(AA7:AA15)","v":36},{"$f":"SUM(AB7:AB15)","v":46},{"$f":"SUM(AC7:AC15)","v":46},{"$f":"SUM(AD7:AD15)","v":6.5},null,"Total",{"$f":"SUM(AG7:AG15)","v":36},{"$f":"SUM(AH7:AH15)","v":54},{"$f":"SUM(AI7:AI15)","v":51},{"$f":"SUM(AJ7:AJ15)","v":5},null,"Total",{"$f":"SUM(AM7:AM15)","v":36},{"$f":"SUM(AN7:AN15)","v":46},{"$f":"SUM(AO7:AO15)","v":46},{"$f":"SUM(AP7:AP15)","v":3.5},null,"Total",{"$f":"SUM(AS7:AS15)","v":36},{"$f":"SUM(AT7:AT15)","v":52},{"$f":"SUM(AU7:AU15)","v":51},{"$f":"SUM(AV7:AV15)","v":2},null,"Total",{"$f":"SUM(AY7:AY15)","v":36},{"$f":"SUM(AZ7:AZ15)","v":51},{"$f":"SUM(BA7:BA15)","v":51},{"$f":"SUM(BB7:BB15)","v":4},null,"Total",{"$f":"SUM(BE7:BE15)","v":36},{"$f":"SUM(BF7:BF15)","v":53},{"$f":"SUM(BG7:BG15)","v":53},{"$f":"SUM(BH7:BH15)","v":4},null,"Total",{"$f":"SUM(BK7:BK15)","v":36},{"$f":"SUM(BL7:BL15)","v":47},{"$f":"SUM(BM7:BM15)","v":47},{"$f":"SUM(BN7:BN15)","v":4},null,"Total",{"$f":"SUM(BQ7:BQ15)","v":36},{"$f":"SUM(BR7:BR15)","v":49},{"$f":"SUM(BS7:BS15)","v":49},{"$f":"SUM(BT7:BT15)","v":5.5},null,"Total",{"$f":"SUM(BW7:BW15)","v":36},{"$f":"SUM(BX7:BX15)","v":49},{"$f":"SUM(BY7:BY15)","v":49},{"$f":"SUM(BZ7:BZ15)","v":3.5},null,"Total",{"$f":"SUM(CC7:CC15)","v":36},{"$f":"SUM(CD7:CD15)","v":53},{"$f":"SUM(CE7:CE15)","v":53},{"$f":"SUM(CF7:CF15)","v":3},null,"Total",{"$f":"SUM(CI7:CI15)","v":36},{"$f":"SUM(CJ7:CJ15)","v":53},{"$f":"SUM(CK7:CK15)","v":52},{"$f":"SUM(CL7:CL15)","v":5}]
[]
[null,null,null,null,"Low Net",0,null,null,null,null,"Low Net",1,null,null,null,null,"Low Net",0,null,null,null,null,"Low Net",1,null,null,null,null,"Low Net",1,null,null,null,null,"Low Net",0,null,null,null,null,"Low Net",0,null,null,null,null,"Low Net",0,null,null,null,null,"Low Net",0.5,null,null,null,null,"Low Net",0,null,null,null,null,"Low Net",0,null,null,null,null,"Low Net",1,null,null,null,null,"Low Net",0,null,null,null,null,"Low Net",0,null,null,null,null,"Low Net",1]
[]
[null,null,null,null,"Total Points",{"$f":"SUM(F16:F19)","v":5},null,null,null,null,"Total Points",{"$f":"SUM(L16:L19)","v":6.5},null,null,null,null,"Total Points",{"$f":"SUM(R16:R19)","v":3.5},null,null,null,null,"Total Points",{"$f":"SUM(X16:X19)","v":7},null,null,null,null,"Total Points",{"$f":"SUM(AD16:AD19)","v":7.5},null,null,null,null,"Total Points",{"$f":"SUM(AJ16:AJ19)","v":5},null,null,null,null,"Total Points",{"$f":"SUM(AP16:AP19)","v":3.5},null,null,null,null,"Total Points",{"$f":"SUM(AV16:AV19)","v":2},null,null,null,null,"Total Points",{"$f":"SUM(BB16:BB19)","v":4.5},null,null,null,null,"Total Points",{"$f":"SUM(BH16:BH19)","v":4},null,null,null,null,"Total Points",{"$f":"SUM(BN16:BN19)","v":4},null,null,null,null,"Total Points",{"$f":"SUM(BT16:BT19)","v":6.5},null,null,null,null,"Total Points",{"$f":"SUM(BZ16:BZ19)","v":3.5},null,null,null,null,"Total Points",{"$f":"SUM(CF16:CF19)","v":3},null,null,null,null,"Total Points",{"$f":"SUM(CL16:CL19)","v":6}]
[]
[null,null,null,null,"Handicap",{"$f":"IF(D16=0,0,E16-C16)","v":17},null,null,null,null,"Handicap",{"$f":"IF(J16=0,0,K16-I16)","v":14},null,null,null,null,"Handicap",{"$f":"IF(P16=0,0,Q16-O16)","v":17},null,null,null,null,"Handicap",{"$f":"IF(V16=0,0,W16-U16)","v":14},null,null,null,null,"Handicap",{"$f":"IF(AB16=0,0,AC16-AA16)","v":10},null,null,null,null,"Handicap",{"$f":"IF(AH16=0,0,AI16-AG16)","v":15},null,null,null,null,"Handicap",{"$f":"IF(AN16=0,0,AO16-AM16)","v":10},null,null,null,null,"Handicap",{"$f":"IF(AT16=0,0,AU16-AS16)","v":15},null,null,null,null,"Handicap",{"$f":"IF(AZ16=0,0,BA16-AY16)","v":15},null,null,null,null,"Handicap",{"$f":"IF(BF16=0,0,BG16-BE16)","v":17},null,null,null,null,"Handicap",{"$f":"IF(BL16=0,0,BM16-BK16)","v":11},null,null,null,null,"Handicap",{"$f":"IF(BR16=0,0,BS16-BQ16)","v":13},null,null,null,null,"Handicap",{"$f":"IF(BX16=0,0,BY16-BW16)","v":13},null,null,null,null,"Handicap",{"$f":"IF(CD16=0,0,CE16-CC16)","v":17},null,null,null,null,"Handicap",{"$f":"IF(CJ16=0,0,CK16-CI16)","v":16}]
[]
[null,null,null,null,null,{"$f":"IF(D16<>0,IF(F16>4.5,\"W\",IF(F16=4.5,\"T\",IF(F16<4.5,\"L\"))),0)","v":"W"},null,null,null,null,null,{"$f":"IF(J16<>0,IF(L16>4.5,\"W\",IF(L16=4.5,\"T\",IF(L16<4.5,\"L\"))),0)","v":"W"},null,null,null,null,null,{"$f":"IF(P16<>0,IF(R16>4.5,\"W\",IF(R16=4.5,\"T\",IF(R16<4.5,\"L\"))),0)","v":"L"},null,null,null,null,null,{"$f":"IF(V16<>0,IF(X16>4.5,\"W\",IF(X16=4.5,\"T\",IF(X16<4.5,\"L\"))),0)","v":"W"},null,null,null,null,null,{"$f":"IF(AB16<>0,IF(AD16>4.5,\"W\",IF(AD16=4.5,\"T\",IF(AD16<4.5,\"L\"))),0)","v":"W"},null,null,null,null,null,{"$f":"IF(AH16<>0,IF(AJ16>4.5,\"W\",IF(AJ16=4.5,\"T\",IF(AJ16<4.5,\"L\"))),0)","v":"W"},null,null,null,null,null,{"$f":"IF(AN16<>0,IF(AP16>4.5,\"W\",IF(AP16=4.5,\"T\",IF(AP16<4.5,\"L\"))),0)","v":"L"},null,null,null,null,null,{"$f":"IF(AT16<>0,IF(AV16>4.5,\"W\",IF(AV16=4.5,\"T\",IF(AV16<4.5,\"L\"))),0)","v":"L"},null,null,null,null,null,{"$f":"IF(AZ16<>0,IF(BB16>4.5,\"W\",IF(BB16=4.5,\"T\",IF(BB16<4.5,\"L\"))),0)","v":"L"},null,null,null,null,null,{"$f":"IF(BF16<>0,IF(BH16>4.5,\"W\",IF(BH16=4.5,\"T\",IF(BH16<4.5,\"L\"))),0)","v":"L"},null,null,null,null,null,{"$f":"IF(BL16<>0,IF(BN16>4.5,\"W\",IF(BN16=4.5,\"T\",IF(BN16<4.5,\"L\"))),0)","v":"L"},null,null,null,null,null,{"$f":"IF(BR16<>0,IF(BT16>4.5,\"W\",IF(BT16=4.5,\"T\",IF(BT16<4.5,\"L\"))),0)","v":"W"},null,null,null,null,null,{"$f":"IF(BX16<>0,IF(BZ16>4.5,\"W\",IF(BZ16=4.5,\"T\",IF(BZ16<4.5,\"L\"))),0)","v":"L"},null,null,null,null,null,{"$f":"IF(CD16<>0,IF(CF16>4.5,\"W\",IF(CF16=4.5,\"T\",IF(CF16<4.5,\"L\"))),0)","v":"L"},null,null,null,null,null,{"$f":"IF(CJ16<>0,IF(CL16>4.5,\"W\",IF(CL16=4.5,\"T\",IF(CL16<4.5,\"L\"))),0)","v":"W"}]
[]
[null,"Summary",null,{"$f":"COUNT(D29:D43)","v":10}]
[null,null,null,"Adj",null,"Adj",null,null,null,"Avg Score"]
[null,null,"Points","Points","Matches","Matches",null,null,"Hole #","by Hole","Best","Worst"]
[null,"Week #1",{"$f":"F20","v":5},{"$f":"C29","v":5},{"$f":"IF(D16>0,1,0)","v":1},{"$f":"E29","v":1},null,null,1,{"$f":"IFERROR(AVERAGE(D7,P7,AB7,AN7,AZ7,BL7,BX7,CD7),0)","v":5.375},{"$f":"IFERROR(MIN(D7,P7,AB7,AN7,AZ7,BL7,BX7,CD7),0)","v":5},{"$f":"IFERROR(MAX(D7,P7,AB7,AN7,AZ7,BL7,BX7,CD7),0)","v":7}]
[null,"Week #2",{"$f":"L20","v":6.5},6.5,{"$f":"IF(J16>0,1,0)","v":1},1,null,null,2,{"$f":"IFERROR(AVERAGE(D8,P8,AB8,AN8,AZ8,BL8,BX8,CD8),0)","v":5.375},{"$f":"IFERROR(MIN(D8,P8,AB8,AN8,AZ8,BL8,BX8,CD8),0)","v":5},{"$f":"IFERROR(MAX(D8,P8,AB8,AN8,AZ8,BL8,BX8,CD8),0)","v":6}]
[null,"Week #3",{"$f":"R20","v":3.5},null,{"$f":"IF(P16>0,1,0)","v":1},1,null,null,3,4.375,4,6]
[null,"Week #4",{"$f":"X20","v":7},7,{"$f":"IF(V16>0,1,0)","v":1},1,null,null,4,5.375,5,6]
[null,"Week #5",{"$f":"AD20","v":7.5},7.5,{"$f":"IF(AB16>0,1,0)","v":1},1,null,null,5,6.75,6,8]
[null,"Week #6",{"$f":"AJ20","v":5},5,{"$f":"IF(AH16>0,1,0)","v":1},1,null,null,6,4.25,4,5]
[null,"Week #7",{"$f":"AP20","v":3.5},null,{"$f":"IF(AN16>0,1,0)","v":1},1,null,null,7,5.5,4,8]
[null,"Week #8",{"$f":"AV20","v":2},null,1,1,null,null,8,6.375,5,8]
[null,"Week #9",{"$f":"BB20","v":4.5},4.5,{"$f":"IF(AZ16>0,1,0)","v":1},1,null,null,9,6.625,5,8]
[null,"Week #10",{"$f":"BH20","v":4},4,{"$f":"IF(BF16>0,1,0)","v":1},1,null,null,"Front",{"$f":"SUM(J29:J37)","v":50},{"$f":"SUM(K29:K37)","v":43},62]
[null,"Week #11",{"$f":"BN20","v":4},4,{"$f":"IF(BL16>0,1,0)","v":1},1]
[null,"Week #12",{"$f":"BT20","v":6.5},6.5,{"$f":"IF(BR16>0,1,0)","v":1},1,null,null,10,{"$f":"IFERROR(AVERAGE(J7,V7,AH7,AT7,BF7,BR7,CJ7),0)","v":6},{"$f":"IFERROR(MIN(J7,V7,AH7,AT7,BF7,BR7,CJ7),0)","v":4},{"$f":"IFERROR(MAX(J7,V7,AH7,AT7,BF7,BR7,CJ7),0)","v":9}]
[null,"Week #13",{"$f":"BZ20","v":3.5},null,{"$f":"IF(BX16>0,1,0)","v":1},1,null,null,11,{"$f":"IFERROR(AVERAGE(J8,V8,AH8,AT8,BF8,BR8,CJ8),0)","v":5.8571428571428568},{"$f":"IFERROR(MIN(J8,V8,AH8,AT8,BF8,BR8,CJ8),0)","v":4},{"$f":"IFERROR(MAX(J8,V8,AH8,AT8,BF8,BR8,CJ8),0)","v":8}]
[null,"Week #14",{"$f":"CF20","v":3},null,{"$f":"IF(CD16>0,1,0)","v":1},1,null,null,12,4.5714285714285712,4,6]
[null,"Week #15",{"$f":"CL20","v":6},6,{"$f":"IF(CJ16>0,1,0)","v":1},1,null,null,13,7.8571428571428568,6,10]
[null,"Total",{"$f":"SUM(C29:C43)","v":71.5},{"$f":"SUM(D29:D43)","v":56},{"$f":"SUM(E29:E43)","v":15},{"$f":"SUM(F29:F43)","v":15},null,null,14,5,4,6]
[null,null,null,null,null,null,null,null,15,6.4285714285714288,5,8]
[null,"Summary",null,null,null,null,null,null,16,5.2857142857142856,4,6]
[null,"Eagles",{"$f":"I57+I68+I79+I90+I101+I112+I123+I134+I145+I156+I167+I178+I189+I200+I211","v":0},null,null,null,null,null,17,4.5714285714285712,4,6]
[null,"Birdies",0,null,null,null,null,null,18,6.4285714285714288,6,7]
[null,"Pars",{"$f":"I59+I70+I81+I92+I103+I114+I125+I136+I147+I158+I169+I180+I191+I202+I213","v":9},null,null,null,null,null,"Back",{"$f":"SUM(J40:J48)","v":52},{"$f":"SUM(K40:K48)","v":41},66]
[null,"bogeys",59]
[null,"Double bogeys",46]
[null,"Other",21]
[null,"Total",{"$f":"SUM(C47:C52)","v":135}]
[]
[null,{"$f":"D4","v":"2024-04-26"},"Par","Score"]
[null,{"$f":"B7","v":1},4,7,{"$f":"IF(D56<>0,IF((D56-C56)=-1,\"Birdie\",IF((D56-C56)=-2,\"Eagle\",IF((D56-C56)=0,\"Par\",IF((D56-C56)=1,\"bogey\",IF((D56-C56)=2,\"Double bogey\",\"Other\"))))),\"  \")","v":"Other"},null,null,"Count"]
[null,2,4,6,"Double bogey",null,null,"Eagle",{"$f":"COUNTIF(E56:E64,\"Eagle\")","v":0}]
[null,3,3,4,"bogey",null,null,"Birdie",{"$f":"COUNTIF(E56:E64,\"Birdie\")","v":0}]
[null,4,4,5,"bogey",null,null,"Par",{"$f":"COUNTIF(E56:E64,\"Par\")","v":0}]
[null,5,5,8,"Other",null,null,"bogey",{"$f":"COUNTIF(E56:E64,\"bogey\")","v":4}]
[null,6,3,4,"bogey",null,null,"Double bogey",{"$f":"COUNTIF(E56:E64,\"Double bogey\")","v":2}]
[null,7,4,5,"bogey",null,null,"Other",{"$f":"COUNTIF(E56:E64,\"Other\")","v":3}]
[null,8,4,8,"Other"]
[null,9,5,7,"Double bogey"]
[]
[null,{"$f":"J4","v":"2024-05-03"}]
[null,{"$f":"H7","v":10},4,5,{"$f":"IF(D67<>0,IF((D67-C67)=-1,\"Birdie\",IF((D67-C67)=-2,\"Eagle\",IF((D67-C67)=0,\"Par\",IF((D67-C67)=1,\"bogey\",IF((D67-C67)=2,\"Double bogey\",\"Other\"))))),\"  \")","v":"bogey"},null,null,"Count"]
[null,11,4,6,"Double bogey",null,null,"Eagle",{"$f":"COUNTIF(E67:E75,\"Eagle\")","v":0}]
[null,12,4,4,"Par",null,null,"Birdie",{"$f":"COUNTIF(E67:E75,\"Birdie\")","v":0}]
[null,13,5,6,"bogey",null,null,"Par",{"$f":"COUNTIF(E67:E75,\"Par\")","v":1}]
[null,14,3,5,"Double bogey",null,null,"bogey",{"$f":"COUNTIF(E67:E75,\"bogey\")","v":2}]
[null,15,4,6,"Double bogey",null,null,"Double bogey",{"$f":"COUNTIF(E67:E75,\"Double bogey\")","v":6}]
[null,16,4,6,"Double bogey",null,null,"Other",{"$f":"COUNTIF(E67:E75,\"Other\")","v":0}]
[null,17,3,5,"Double bogey"]
[null,18,5,7,"Double bogey"]
[]
[null,{"$f":"P4","v":"2024-05-10"}]
[null,{"$f":"N7","v":1},4,5,{"$f":"IF(D78<>0,IF((D78-C78)=-1,\"Birdie\",IF((D78-C78)=-2,\"Eagle\",IF((D78-C78)=0,\"Par\",IF((D78-C78)=1,\"bogey\",IF((D78-C78)=2,\"Double bogey\",\"Other\"))))),\"  \")","v":"bogey"},null,null,"Count"]
[null,2,4,5,"bogey",null,null,"Eagle",{"$f":"COUNTIF(E78:E86,\"Eagle\")","v":0}]
[null,3,3,5,"Double bogey",null,null,"Birdie",{"$f":"COUNTIF(E78:E86,\"Birdie\")","v":0}]
[null,4,4,6,"Double bogey",null,null,"Par",{"$f":"COUNTIF(E78:E86,\"Par\")","v":0}]
[null,5,5,7,"Double bogey",null,null,"bogey",{"$f":"COUNTIF(E78:E86,\"bogey\")","v":3}]
[null,6,3,4,"bogey",null,null,"Double bogey",{"$f":"COUNTIF(E78:E86,\"Double bogey\")","v":4}]
[null,7,4,8,"Other",null,null,"Other",{"$f":"COUNTIF(E78:E86,\"Other\")","v":2}]
[null,8,4,6,"Double bogey"]
[null,9,5,8,"Other"]
[]
[null,{"$f":"V4","v":"2024-05-17"}]
[null,{"$f":"T7","v":10},4,9,{"$f":"IF(D89<>0,IF((D89-C89)=-1,\"Birdie\",IF((D89-C89)=-2,\"Eagle\",IF((D89-C89)=0,\"Par\",IF((D89-C89)=1,\"bogey\",IF((D89-C89)=2,\"Double bogey\",\"Other\"))))),\"  \")","v":"Other"},null,null,"Count"]
[null,11,4,6,"Double bogey",null,null,"Eagle",{"$f":"COUNTIF(E89:E97,\"Eagle\")","v":0}]
[null,12,4,5,"bogey",null,null,"Birdie",{"$f":"COUNTIF(E89:E97,\"Birdie\")","v":0}]
[null,13,5,9,"Other",null,null,"Par",{"$f":"COUNTIF(E89:E97,\"Par\")","v":1}]
[null,14,3,4,"bogey",null,null,"bogey",{"$f":"COUNTIF(E89:E97,\"bogey\")","v":4}]
[null,15,4,6,"Double bogey",null,null,"Double bogey",{"$f":"COUNTIF(E89:E97,\"Double bogey\")","v":2}]
[null,16,4,4,"Par",null,null,"Other",{"$f":"COUNTIF(E89:E97,\"Other\")","v":2}]
[null,17,3,4,"bogey"]
[null,18,5,6,"bogey"]
[]
[null,{"$f":"AB4","v":"2024-05-24"}]
[null,{"$f":"Z7","v":1},4,5,{"$f":"IF(D100<>0,IF((D100-C100)=-1,\"Birdie\",IF((D100-C100)=-2,\"Eagle\",IF((D100-C100)=0,\"Par\",IF((D100-C100)=1,\"bogey\",IF((D100-C100)=2,\"Double bogey\",\"Other\"))))),\"  \")","v":"bogey"},null,null,"Count"]
[null,2,4,5,"bogey",null,null,"Eagle",{"$f":"COUNTIF(E100:E108,\"Eagle\")","v":0}]
[null,3,3,4,"bogey",null,null,"Birdie",{"$f":"COUNTIF(E100:E108,\"Birdie\")","v":0}]
[null,4,4,5,"bogey",null,null,"Par",{"$f":"COUNTIF(E100:E108,\"Par\")","v":1}]
[null,5,5,6,"bogey",null,null,"bogey",{"$f":"COUNTIF(E100:E108,\"bogey\")","v":6}]
[null,6,3,5,"Double bogey",null,null,"Double bogey",{"$f":"COUNTIF(E100:E108,\"Double bogey\")","v":2}]
[null,7,4,4,"Par",null,null,"Other",{"$f":"COUNTIF(E100:E108,\"Other\")","v":0}]
[null,8,4,6,"Double bogey"]
[null,9,5,6,"bogey"]
[]
[null,{"$f":"AH4","v":"2024-05-31"}]
[null,{"$f":"AF7","v":10},4,4,{"$f":"IF(D111<>0,IF((D111-C111)=-1,\"Birdie\",IF((D111-C111)=-2,\"Eagle\",IF((D111-C111)=0,\"Par\",IF((D111-C111)=1,\"bogey\",IF((D111-C111)=2,\"Double bogey\",\"Other\"))))),\"  \")","v":"Par"},null,null,"Count"]
[null,11,4,5,"bogey",null,null,"Eagle",{"$f":"COUNTIF(E111:E119,\"Eagle\")","v":0}]
[null,12,4,5,"bogey",null,null,"Birdie",{"$f":"COUNTIF(E111:E119,\"Birdie\")","v":0}]
[null,13,5,10,"Other",null,null,"Par",{"$f":"COUNTIF(E111:E119,\"Par\")","v":1}]
[null,14,3,5,"Double bogey",null,null,"bogey",{"$f":"COUNTIF(E111:E119,\"bogey\")","v":3}]
[null,15,4,8,"Other",null,null,"Double bogey",{"$f":"COUNTIF(E111:E119,\"Double bogey\")","v":3}]
[null,16,4,5,"bogey",null,null,"Other",{"$f":"COUNTIF(E111:E119,\"Other\")","v":2}]
[null,17,3,5,"Double bogey"]
[null,18,5,7,"Double bogey"]
[]
[null,{"$f":"AN4","v":"2024-06-07"}]
[null,{"$f":"AL7","v":1},4,5,{"$f":"IF(D122<>0,IF((D122-C122)=-1,\"Birdie\",IF((D122-C122)=-2,\"Eagle\",IF((D122-C122)=0,\"Par\",IF((D122-C122)=1,\"bogey\",IF((D122-C122)=2,\"Double bogey\",\"Other\"))))),\"  \")","v":"bogey"},null,null,"Count"]
[null,2,4,5,"bogey",null,null,"Eagle",{"$f":"COUNTIF(E122:E130,\"Eagle\")","v":0}]
[null,3,3,4,"bogey",null,null,"Birdie",{"$f":"COUNTIF(E122:E130,\"Birdie\")","v":0}]
[null,4,4,5,"bogey",null,null,"Par",{"$f":"COUNTIF(E122:E130,\"Par\")","v":1}]
[null,5,5,7,"Double bogey",null,null,"bogey",{"$f":"COUNTIF(E122:E130,\"bogey\")","v":6}]
[null,6,3,4,"bogey",null,null,"Double bogey",{"$f":"COUNTIF(E122:E130,\"Double bogey\")","v":2}]
[null,7,4,5,"bogey",null,null,"Other",{"$f":"COUNTIF(E122:E130,\"Other\")","v":0}]
[null,8,4,6,"Double bogey"]
[null,9,5,5,"Par"]
[]
[null,{"$f":"AT4","v":"2024-06-14"}]
[null,{"$f":"AR7","v":10},4,6,{"$f":"IF(D133<>0,IF((D133-C133)=-1,\"Birdie\",IF((D133-C133)=-2,\"Eagle\",IF((D133-C133)=0,\"Par\",IF((D133-C133)=1,\"bogey\",IF((D133-C133)=2,\"Double bogey\",\"Other\"))))),\"  \")","v":"Double bogey"},null,null,"Count"]
[null,11,4,4,"Par",null,null,"Eagle",{"$f":"COUNTIF(E133:E141,\"Eagle\")","v":0}]
[null,12,4,4,"Par",null,null,"Birdie",{"$f":"COUNTIF(E133:E141,\"Birdie\")","v":0}]
[null,13,5,9,"Other",null,null,"Par",{"$f":"COUNTIF(E133:E141,\"Par\")","v":2}]
[null,14,3,5,"Double bogey",null,null,"bogey",{"$f":"COUNTIF(E133:E141,\"bogey\")","v":1}]
[null,15,4,7,"Other",null,null,"Double bogey",{"$f":"COUNTIF(E133:E141,\"Double bogey\")","v":4}]
[null,16,4,6,"Double bogey",null,null,"Other",{"$f":"COUNTIF(E133:E141,\"Other\")","v":2}]
[null,17,3,4,"bogey"]
[null,18,5,7,"Double bogey"]
[]
[null,{"$f":"AZ4","v":"2024-07-05"}]
[null,{"$f":"AX7","v":1},4,6,{"$f":"IF(D144<>0,IF((D144-C144)=-1,\"Birdie\",IF((D144-C144)=-2,\"Eagle\",IF((D144-C144)=0,\"Par\",IF((D144-C144)=1,\"bogey\",IF((D144-C144)=2,\"Double bogey\",\"Other\"))))),\"  \")","v":"Double bogey"},null,null,"Count"]
[null,2,4,5,"bogey",null,null,"Eagle",{"$f":"COUNTIF(E144:E152,\"Eagle\")","v":0}]
[null,3,3,6,"Other",null,null,"Birdie",{"$f":"COUNTIF(E144:E152,\"Birdie\")","v":0}]
[null,4,4,6,"Double bogey",null,null,"Par",{"$f":"COUNTIF(E144:E152,\"Par\")","v":0}]
[null,5,5,7,"Double bogey",null,null,"bogey",{"$f":"COUNTIF(E144:E152,\"bogey\")","v":4}]
[null,6,3,4,"bogey",null,null,"Double bogey",{"$f":"COUNTIF(E144:E152,\"Double bogey\")","v":4}]
[null,7,4,5,"bogey",null,null,"Other",{"$f":"COUNTIF(E144:E152,\"Other\")","v":1}]
[null,8,4,5,"bogey"]
[null,9,5,7,"Double bogey"]
[]
[null,{"$f":"BF4","v":"2024-07-12"}]
[null,{"$f":"BD7","v":10},4,6,{"$f":"IF(D155<>0,IF((D155-C155)=-1,\"Birdie\",IF((D155-C155)=-2,\"Eagle\",IF((D155-C155)=0,\"Par\",IF((D155-C155)=1,\"bogey\",IF((D155-C155)=2,\"Double bogey\",\"Other\"))))),\"  \")","v":"Double bogey"},null,null,"Count"]
[null,11,4,6,"Double bogey",null,null,"Eagle",{"$f":"COUNTIF(E155:E163,\"Eagle\")","v":0}]
[null,12,4,4,"Par",null,null,"Birdie",{"$f":"COUNTIF(E155:E163,\"Birdie\")","v":0}]
[null,13,5,7,"Double bogey",null,null,"Par",{"$f":"COUNTIF(E155:E163,\"Par\")","v":1}]
[null,14,3,6,"Other",null,null,"bogey",{"$f":"COUNTIF(E155:E163,\"bogey\")","v":2}]
[null,15,4,7,"Other",null,null,"Double bogey",{"$f":"COUNTIF(E155:E163,\"Double bogey\")","v":3}]
[null,16,4,5,"bogey",null,null,"Other",{"$f":"COUNTIF(E155:E163,\"Other\")","v":3}]
[null,17,3,6,"Other"]
[null,18,5,6,"bogey"]
[]
[null,{"$f":"BL4","v":"2024-07-19"}]
[null,{"$f":"BJ7","v":1},4,5,{"$f":"IF(D166<>0,IF((D166-C166)=-1,\"Birdie\",IF((D166-C166)=-2,\"Eagle\",IF((D166-C166)=0,\"Par\",IF((D166-C166)=1,\"bogey\",IF((D166-C166)=2,\"Double bogey\",\"Other\"))))),\"  \")","v":"bogey"},null,null,"Count"]
[null,2,4,5,"bogey",null,null,"Eagle",{"$f":"COUNTIF(E166:E174,\"Eagle\")","v":0}]
[null,3,3,4,"bogey",null,null,"Birdie",{"$f":"COUNTIF(E166:E174,\"Birdie\")","v":0}]
[null,4,4,5,"bogey",null,null,"Par",{"$f":"COUNTIF(E166:E174,\"Par\")","v":0}]
[null,5,5,6,"bogey",null,null,"bogey",{"$f":"COUNTIF(E166:E174,\"bogey\")","v":7}]
[null,6,3,4,"bogey",null,null,"Double bogey",{"$f":"COUNTIF(E166:E174,\"Double bogey\")","v":2}]
[null,7,4,5,"bogey",null,null,"Other",{"$f":"COUNTIF(E166:E174,\"Other\")","v":0}]
[null,8,4,6,"Double bogey"]
[null,9,5,7,"Double bogey"]
[]
[null,{"$f":"BR4","v":"2024-07-26"}]
[null,{"$f":"BP7","v":10},4,6,{"$f":"IF(D177<>0,IF((D177-C177)=-1,\"Birdie\",IF((D177-C177)=-2,\"Eagle\",IF((D177-C177)=0,\"Par\",IF((D177-C177)=1,\"bogey\",IF((D177-C177)=2,\"Double bogey\",\"Other\"))))),\"  \")","v":"Double bogey"},null,null,"Count"]
[null,11,4,6,"Double bogey",null,null,"Eagle",{"$f":"COUNTIF(E177:E185,\"Eagle\")","v":0}]
[null,12,4,4,"Par",null,null,"Birdie",{"$f":"COUNTIF(E177:E185,\"Birdie\")","v":0}]
[null,13,5,8,"Other",null,null,"Par",{"$f":"COUNTIF(E177:E185,\"Par\")","v":1}]
[null,14,3,4,"bogey",null,null,"bogey",{"$f":"COUNTIF(E177:E185,\"bogey\")","v":4}]
[null,15,4,5,"bogey",null,null,"Double bogey",{"$f":"COUNTIF(E177:E185,\"Double bogey\")","v":3}]
[null,16,4,6,"Double bogey",null,null,"Other",{"$f":"COUNTIF(E177:E185,\"Other\")","v":1}]
[null,17,3,4,"bogey"]
[null,18,5,6,"bogey"]
[]
[null,{"$f":"BX4","v":"2024-08-02"}]
[null,{"$f":"BV7","v":1},4,5,{"$f":"IF(D188<>0,IF((D188-C188)=-1,\"Birdie\",IF((D188-C188)=-2,\"Eagle\",IF((D188-C188)=0,\"Par\",IF((D188-C188)=1,\"bogey\",IF((D188-C188)=2,\"Double bogey\",\"Other\"))))),\"  \")","v":"bogey"},null,null,"Count"]
[null,2,4,6,"Double bogey",null,null,"Eagle",{"$f":"COUNTIF(E188:E196,\"Eagle\")","v":0}]
[null,3,3,4,"bogey",null,null,"Birdie",{"$f":"COUNTIF(E188:E196,\"Birdie\")","v":0}]
[null,4,4,5,"bogey",null,null,"Par",{"$f":"COUNTIF(E188:E196,\"Par\")","v":0}]
[null,5,5,6,"bogey",null,null,"bogey",{"$f":"COUNTIF(E188:E196,\"bogey\")","v":6}]
[null,6,3,5,"Double bogey",null,null,"Double bogey",{"$f":"COUNTIF(E188:E196,\"Double bogey\")","v":2}]
[null,7,4,5,"bogey",null,null,"Other",{"$f":"COUNTIF(E188:E196,\"Other\")","v":1}]
[null,8,4,7,"Other"]
[null,9,5,6,"bogey"]
[]
[null,{"$f":"CD4","v":"2024-08-16"}]
[null,{"$f":"CB7","v":1},4,5,{"$f":"IF(D199<>0,IF((D199-C199)=-1,\"Birdie\",IF((D199-C199)=-2,\"Eagle\",IF((D199-C199)=0,\"Par\",IF((D199-C199)=1,\"bogey\",IF((D199-C199)=2,\"Double bogey\",\"Other\"))))),\"  \")","v":"bogey"},null,null,"Count"]
[null,2,4,6,"Double bogey",null,null,"Eagle",{"$f":"COUNTIF(E199:E207,\"Eagle\")","v":0}]
[null,3,3,4,"bogey",null,null,"Birdie",{"$f":"COUNTIF(E199:E207,\"Birdie\")","v":0}]
[null,4,4,6,"Double bogey",null,null,"Par",{"$f":"COUNTIF(E199:E207,\"Par\")","v":0}]
[null,5,5,7,"Double bogey",null,null,"bogey",{"$f":"COUNTIF(E199:E207,\"bogey\")","v":3}]
[null,6,3,4,"bogey",null,null,"Double bogey",{"$f":"COUNTIF(E199:E207,\"Double bogey\")","v":4}]
[null,7,4,7,"Other",null,null,"Other",{"$f":"COUNTIF(E199:E207,\"Other\")","v":2}]
[null,8,4,7,"Other"]
[null,9,5,7,"Double bogey"]
[]
[null,{"$f":"CJ4","v":"2024-08-23"}]
[null,{"$f":"CH7","v":10},4,6,{"$f":"IF(D210<>0,IF((D210-C210)=-1,\"Birdie\",IF((D210-C210)=-2,\"Eagle\",IF((D210-C210)=0,\"Par\",IF((D210-C210)=1,\"bogey\",IF((D210-C210)=2,\"Double bogey\",\"Other\"))))),\"  \")","v":"Double bogey"},null,null,"Count"]
[null,11,4,8,"Other",null,null,"Eagle",{"$f":"COUNTIF(E210:E218,\"Eagle\")","v":0}]
[null,12,4,6,"Double bogey",null,null,"Birdie",{"$f":"COUNTIF(E210:E218,\"Birdie\")","v":0}]
[null,13,5,6,"bogey",null,null,"Par",{"$f":"COUNTIF(E210:E218,\"Par\")","v":0}]
[null,14,3,6,"Other",null,null,"bogey",{"$f":"COUNTIF(E210:E218,\"bogey\")","v":4}]
[null,15,4,6,"Double bogey",null,null,"Double bogey",{"$f":"COUNTIF(E210:E218,\"Double bogey\")","v":3}]
[null,16,4,5,"bogey",null,null,"Other",{"$f":"COUNTIF(E210:E218,\"Other\")","v":2}]
[null,17,3,4,"bogey"]
[null,18,5,6,"bogey"]

{"sheet":"Templeton","index":20,"n_rows":218,"n_cols":90,"rows_kept":218,"cut":false,"hidden":false,"merged":[]}
["Bob Templeton"]
[]
[]
[null,null,"Date:",{"$f":"VLOOKUP(C5,Week,2)","v":"2024-04-26"},null,null,null,null,"Date:",{"$f":"VLOOKUP(I5,Week,2)","v":"2024-05-03"},null,null,null,null,"Date:",{"$f":"VLOOKUP(O5,Week,2)","v":"2024-05-10"},null,null,null,null,"Date:",{"$f":"VLOOKUP(U5,Week,2)","v":"2024-05-17"},null,null,null,null,"Date:",{"$f":"VLOOKUP(AA5,Week,2)","v":"2024-05-24"},null,null,null,null,"Date:",{"$f":"VLOOKUP(AG5,Week,2)","v":"2024-05-31"},null,null,null,null,"Date:",{"$f":"VLOOKUP(AM5,Week,2)","v":"2024-06-07"},null,null,null,null,"Date:",{"$f":"VLOOKUP(AS5,Week,2)","v":"2024-06-14"},null,null,null,null,"Date:",{"$f":"VLOOKUP(AY5,Week,2)","v":"2024-07-05"},null,null,null,null,"Date:",{"$f":"VLOOKUP(BE5,Week,2)","v":"2024-07-12"},null,null,null,null,"Date:",{"$f":"VLOOKUP(BK5,Week,2)","v":"2024-07-19"},null,null,null,null,"Date:",{"$f":"VLOOKUP(BQ5,Week,2)","v":"2024-07-26"},null,null,null,null,"Date:",{"$f":"VLOOKUP(BW5,Week,2)","v":"2024-08-02"},null,null,null,null,"Date:",{"$f":"VLOOKUP(CC5,Week,2)","v":"2024-08-16"},null,null,null,null,"Date:",{"$f":"VLOOKUP(CI5,Week,2)","v":"2024-08-23"}]
[null,"Week",1,null,null,null,null,"Week",2,null,null,null,null,"Week",3,null,null,null,null,"Week",4,null,null,null,null,"Week",5,null,null,null,null,"Week",6,null,null,null,null,"Week",7,null,null,null,null,"Week",8,null,null,null,null,"Week",9,null,null,null,null,"Week",10,null,null,null,null,"Week",11,null,null,null,null,"Week",12,null,null,null,null,"Week",13,null,null,null,null,"Week",14,null,null,null,null,"Week",15]
[null,"Hole #","Par","Score","Net","Win Hole",null,"Hole #","Par","Score","Net","Win Hole",null,"Hole #","Par","Score","Net","Win Hole",null,"Hole #","Par","Score","Net","Win Hole",null,"Hole #","Par","Score","Net","Win Hole",null,"Hole #","Par","Score","Net","Win Hole",null,"Hole #","Par","Score","Net","Win Hole",null,"Hole #","Par","Score","Net","Win Hole",null,"Hole #","Par","Score","Net","Win Hole",null,"Hole #","Par","Score","Net","Win Hole",null,"Hole #","Par","Score","Net","Win Hole",null,"Hole #","Par","Score","Net","Win Hole",null,"Hole #","Par","Score","Net","Win Hole",null,"Hole #","Par","Score","Net","Win Hole",null,"Hole #","Par","Score","Net","Win Hole"]
[null,{"$f":"VLOOKUP(C5,Week,6)","v":1},{"$f":"VLOOKUP(B7,Holes,2)","v":4},7,{"$f":"IF((D7-C7)>3,C7+3,D7)","v":7},0,null,{"$f":"VLOOKUP(I5,Week,6)","v":10},{"$f":"VLOOKUP(H7,Holes,2)","v":4},5,{"$f":"IF((J7-I7)>3,I7+3,J7)","v":5},1,null,{"$f":"VLOOKUP(O5,Week,6)","v":1},{"$f":"VLOOKUP(N7,Holes,2)","v":4},9,{"$f":"IF((P7-O7)>3,O7+3,P7)","v":7},0,null,{"$f":"VLOOKUP(U5,Week,6)","v":10},{"$f":"VLOOKUP(T7,Holes,2)","v":4},6,{"$f":"IF((V7-U7)>3,U7+3,V7)","v":6},0.5,null,{"$f":"VLOOKUP(AA5,Week,6)","v":1},{"$f":"VLOOKUP(Z7,Holes,2)","v":4},5,{"$f":"IF((AB7-AA7)>3,AA7+3,AB7)","v":5},1,null,{"$f":"VLOOKUP(AG5,Week,6)","v":10},{"$f":"VLOOKUP(AF7,Holes,2)","v":4},8,{"$f":"IF((AH7-AG7)>3,AG7+3,AH7)","v":7},0,null,{"$f":"VLOOKUP(AM5,Week,6)","v":1},{"$f":"VLOOKUP(AL7,Holes,2)","v":4},6,{"$f":"IF((AN7-AM7)>3,AM7+3,AN7)","v":6},1,null,{"$f":"VLOOKUP(AS5,Week,6)","v":10},{"$f":"VLOOKUP(AR7,Holes,2)","v":4},7,{"$f":"IF((AT7-AS7)>3,AS7+3,AT7)","v":7},0.5,null,{"$f":"VLOOKUP(AY5,Week,6)","v":1},{"$f":"VLOOKUP(AX7,Holes,2)","v":4},6,{"$f":"IF((AZ7-AY7)>3,AY7+3,AZ7)","v":6},1,null,{"$f":"VLOOKUP(BE5,Week,6)","v":10},{"$f":"VLOOKUP(BD7,Holes,2)","v":4},5,{"$f":"IF((BF7-BE7)>3,BE7+3,BF7)","v":5},1,null,{"$f":"VLOOKUP(BK5,Week,6)","v":1},{"$f":"VLOOKUP(BJ7,Holes,2)","v":4},8,{"$f":"IF((BL7-BK7)>3,BK7+3,BL7)","v":7},0,null,{"$f":"VLOOKUP(BQ5,Week,6)","v":10},{"$f":"VLOOKUP(BP7,Holes,2)","v":4},7,{"$f":"IF((BR7-BQ7)>3,BQ7+3,BR7)","v":7},0,null,{"$f":"VLOOKUP(BW5,Week,6)","v":1},{"$f":"VLOOKUP(BV7,Holes,2)","v":4},7,{"$f":"IF((BX7-BW7)>3,BW7+3,BX7)","v":7},0.5,null,{"$f":"VLOOKUP(CC5,Week,6)","v":1},{"$f":"VLOOKUP(CB7,Holes,2)","v":4},null,{"$f":"IF((CD7-CC7)>3,CC7+3,CD7)","v":0},null,null,{"$f":"VLOOKUP(CI5,Week,6)","v":10},{"$f":"VLOOKUP(CH7,Holes,2)","v":4},7,{"$f":"IF((CJ7-CI7)>3,CI7+3,CJ7)","v":7},0.5]
[null,{"$f":"+B7+1","v":2},4,7,7,0,null,{"$f":"+H7+1","v":11},4,7,7,0,null,{"$f":"+N7+1","v":2},4,8,7,0,null,{"$f":"+T7+1","v":11},4,7,7,0,null,{"$f":"+Z7+1","v":2},4,7,7,0.5,null,{"$f":"+AF7+1","v":11},4,7,7,0,null,{"$f":"+AL7+1","v":2},4,6,6,0.5,null,{"$f":"+AR7+1","v":11},4,4,4,1,null,{"$f":"+AX7+1","v":2},4,6,6,0.5,null,{"$f":"+BD7+1","v":11},4,9,7,0,null,{"$f":"+BJ7+1","v":2},4,8,7,0.5,null,{"$f":"+BP7+1","v":11},4,6,6,0.5,null,{"$f":"+BV7+1","v":2},4,8,7,0,null,{"$f":"+CB7+1","v":2},4,null,0,null,null,{"$f":"+CH7+1","v":11},4,9,7,0]
[null,3,3,4,4,0,null,12,4,7,7,0,null,3,3,5,5,1,null,12,4,7,7,0,null,3,3,6,6,0,null,12,4,7,7,1,null,3,3,5,5,0.5,null,12,4,6,6,0.5,null,3,3,5,5,1,null,12,4,5,5,1,null,3,3,4,4,0.5,null,12,4,7,7,0,null,3,3,4,4,1,null,3,3,null,0,null,null,12,4,6,6,1]
[null,4,4,9,7,0,null,13,5,6,6,0.5,null,4,4,6,6,1,null,13,5,9,8,0,null,4,4,8,7,0,null,13,5,8,8,0,null,4,4,6,6,0,null,13,5,9,8,1,null,4,4,6,6,1,null,13,5,9,8,0,null,4,4,6,6,1,null,13,5,10,8,0,null,4,4,6,6,0.5,null,4,4,null,0,null,null,13,5,9,8,0]
[null,5,5,10,8,0,null,14,3,3,3,1,null,5,5,8,8,0.5,null,14,3,5,5,1,null,5,5,11,8,0,null,14,3,7,6,0,null,5,5,9,8,0,null,14,3,6,6,0.5,null,5,5,6,6,1,null,14,3,6,6,0,null,5,5,8,8,0,null,14,3,8,6,0,null,5,5,7,7,0,null,5,5,null,0,null,null,14,3,5,5,0.5]
[null,6,3,6,6,1,null,15,4,8,7,0,null,6,3,5,5,0.5,null,15,4,8,7,0,null,6,3,6,6,0,null,15,4,6,6,0.5,null,6,3,3,3,1,null,15,4,6,6,1,null,6,3,5,5,0.5,null,15,4,9,7,0,null,6,3,5,5,1,null,15,4,7,7,0.5,null,6,3,4,4,1,null,6,3,null,0,null,null,15,4,8,7,0]
[null,7,4,6,6,1,null,16,4,7,7,0.5,null,7,4,6,6,1,null,16,4,6,6,1,null,7,4,6,6,0,null,16,4,5,5,1,null,7,4,7,7,0,null,16,4,7,7,0,null,7,4,5,5,1,null,16,4,7,7,0.5,null,7,4,8,7,0,null,16,4,5,5,1,null,7,4,7,7,0,null,7,4,null,0,null,null,16,4,8,7,0]
[null,8,4,8,7,0,null,17,3,5,5,1,null,8,4,7,7,0.5,null,17,3,4,4,1,null,8,4,8,7,0.5,null,17,3,3,3,1,null,8,4,7,7,0.5,null,17,3,5,5,0.5,null,8,4,5,5,0.5,null,17,3,5,5,1,null,8,4,8,7,0,null,17,3,5,5,1,null,8,4,7,7,0,null,8,4,null,0,null,null,17,3,5,5,1]
[null,9,5,7,7,1,null,18,5,7,7,1,null,9,5,7,7,1,null,18,5,11,8,0,null,9,5,8,8,0.5,null,18,5,6,6,0.5,null,9,5,8,8,0,null,18,5,8,8,0.5,null,9,5,6,6,1,null,18,5,10,8,0,null,9,5,7,7,0.5,null,18,5,7,7,0.5,null,9,5,11,8,0,null,9,5,null,0,null,null,18,5,8,8,0]
[null,"Total",{"$f":"SUM(C7:C15)","v":36},{"$f":"SUM(D7:D15)","v":64},{"$f":"SUM(E7:E15)","v":59},{"$f":"SUM(F7:F15)","v":3},null,"Total",{"$f":"SUM(I7:I15)","v":36},{"$f":"SUM(J7:J15)","v":55},{"$f":"SUM(K7:K15)","v":54},{"$f":"SUM(L7:L15)","v":5},null,"Total",{"$f":"SUM(O7:O15)","v":36},{"$f":"SUM(P7:P15)","v":61},{"$f":"SUM(Q7:Q15)","v":58},{"$f":"SUM(R7:R15)","v":5.5},null,"Total",{"$f":"SUM(U7:U15)","v":36},{"$f":"SUM(V7:V15)","v":63},{"$f":"SUM(W7:W15)","v":58},{"$f":"SUM(X7:X15)","v":3.5},null,"Total",{"$f":"SUM(AA7:AA15)","v":36},{"$f":"SUM(AB7:AB15)","v":65},{"$f":"SUM(AC7:AC15)","v":60},{"$f":"SUM(AD7:AD15)","v":2.5},null,"Total",{"$f":"SUM(AG7:AG15)","v":36},{"$f":"SUM(AH7:AH15)","v":57},{"$f":"SUM(AI7:AI15)","v":55},{"$f":"SUM(AJ7:AJ15)","v":4},null,"Total",{"$f":"SUM(AM7:AM15)","v":36},{"$f":"SUM(AN7:AN15)","v":57},{"$f":"SUM(AO7:AO15)","v":56},{"$f":"SUM(AP7:AP15)","v":3.5},null,"Total",{"$f":"SUM(AS7:AS15)","v":36},{"$f":"SUM(AT7:AT15)","v":58},{"$f":"SUM(AU7:AU15)","v":57},{"$f":"SUM(AV7:AV15)","v":5.5},null,"Total",{"$f":"SUM(AY7:AY15)","v":36},{"$f":"SUM(AZ7:AZ15)","v":50},{"$f":"SUM(BA7:BA15)","v":50},{"$f":"SUM(BB7:BB15)","v":7.5},null,"Total",{"$f":"SUM(BE7:BE15)","v":36},{"$f":"SUM(BF7:BF15)","v":65},{"$f":"SUM(BG7:BG15)","v":58},{"$f":"SUM(BH7:BH15)","v":3.5},null,"Total",{"$f":"SUM(BK7:BK15)","v":36},{"$f":"SUM(BL7:BL15)","v":62},{"$f":"SUM(BM7:BM15)","v":58},{"$f":"SUM(BN7:BN15)","v":3.5},null,"Total",{"$f":"SUM(BQ7:BQ15)","v":36},{"$f":"SUM(BR7:BR15)","v":62},{"$f":"SUM(BS7:BS15)","v":58},{"$f":"SUM(BT7:BT15)","v":3.5},null,"Total",{"$f":"SUM(BW7:BW15)","v":36},{"$f":"SUM(BX7:BX15)","v":61},{"$f":"SUM(BY7:BY15)","v":57},{"$f":"SUM(BZ7:BZ15)","v":3},null,"Total",{"$f":"SUM(CC7:CC15)","v":36},{"$f":"SUM(CD7:CD15)","v":0},{"$f":"SUM(CE7:CE15)","v":0},{"$f":"SUM(CF7:CF15)","v":0},null,"Total",{"$f":"SUM(CI7:CI15)","v":36},{"$f":"SUM(CJ7:CJ15)","v":65},{"$f":"SUM(CK7:CK15)","v":60},{"$f":"SUM(CL7:CL15)","v":3}]
[]
[null,null,null,null,"Low Net",0,null,null,null,null,"Low Net",1,null,null,null,null,"Low Net",1,null,null,null,null,"Low Net",0,null,null,null,null,"Low Net",0,null,null,null,null,"Low Net",0,null,null,null,null,"Low Net",0,null,null,null,null,"Low Net",1,null,null,null,null,"Low Net",1,null,null,null,null,"Low Net",0,null,null,null,null,"Low Net",0,null,null,null,null,"Low Net",0,null,null,null,null,"Low Net",0,null,null,null,null,"Low Net",null,null,null,null,null,"Low Net",0]
[]
[null,null,null,null,"Total Points",{"$f":"SUM(F16:F19)","v":3},null,null,null,null,"Total Points",{"$f":"SUM(L16:L19)","v":6},null,null,null,null,"Total Points",{"$f":"SUM(R16:R19)","v":6.5},null,null,null,null,"Total Points",{"$f":"SUM(X16:X19)","v":3.5},null,null,null,null,"Total Points",{"$f":"SUM(AD16:AD19)","v":2.5},null,null,null,null,"Total Points",{"$f":"SUM(AJ16:AJ19)","v":4},null,null,null,null,"Total Points",{"$f":"SUM(AP16:AP19)","v":3.5},null,null,null,null,"Total Points",{"$f":"SUM(AV16:AV19)","v":6.5},null,null,null,null,"Total Points",{"$f":"SUM(BB16:BB19)","v":8.5},null,null,null,null,"Total Points",{"$f":"SUM(BH16:BH19)","v":3.5},null,null,null,null,"Total Points",{"$f":"SUM(BN16:BN19)","v":3.5},null,null,null,null,"Total Points",{"$f":"SUM(BT16:BT19)","v":3.5},null,null,null,null,"Total Points",{"$f":"SUM(BZ16:BZ19)","v":3},null,null,null,null,"Total Points",{"$f":"SUM(CF16:CF19)","v":0},null,null,null,null,"Total Points",{"$f":"SUM(CL16:CL19)","v":3}]
[]
[null,null,null,null,"Handicap",{"$f":"IF(D16=0,0,E16-C16)","v":23},null,null,null,null,"Handicap",{"$f":"IF(J16=0,0,K16-I16)","v":18},null,null,null,null,"Handicap",{"$f":"IF(P16=0,0,Q16-O16)","v":22},null,null,null,null,"Handicap",{"$f":"IF(V16=0,0,W16-U16)","v":22},null,null,null,null,"Handicap",{"$f":"IF(AB16=0,0,AC16-AA16)","v":24},null,null,null,null,"Handicap",{"$f":"IF(AH16=0,0,AI16-AG16)","v":19},null,null,null,null,"Handicap",{"$f":"IF(AN16=0,0,AO16-AM16)","v":20},null,null,null,null,"Handicap",{"$f":"IF(AT16=0,0,AU16-AS16)","v":21},null,null,null,null,"Handicap",{"$f":"IF(AZ16=0,0,BA16-AY16)","v":14},null,null,null,null,"Handicap",{"$f":"IF(BF16=0,0,BG16-BE16)","v":22},null,null,null,null,"Handicap",{"$f":"IF(BL16=0,0,BM16-BK16)","v":22},null,null,null,null,"Handicap",{"$f":"IF(BR16=0,0,BS16-BQ16)","v":22},null,null,null,null,"Handicap",{"$f":"IF(BX16=0,0,BY16-BW16)","v":21},null,null,null,null,"Handicap",{"$f":"IF(CD16=0,0,CE16-CC16)","v":0},null,null,null,null,"Handicap",{"$f":"IF(CJ16=0,0,CK16-CI16)","v":24}]
[]
[null,null,null,null,null,{"$f":"IF(D16<>0,IF(F16>4.5,\"W\",IF(F16=4.5,\"T\",IF(F16<4.5,\"L\"))),0)","v":"L"},null,null,null,null,null,{"$f":"IF(J16<>0,IF(L16>4.5,\"W\",IF(L16=4.5,\"T\",IF(L16<4.5,\"L\"))),0)","v":"W"},null,null,null,null,null,{"$f":"IF(P16<>0,IF(R16>4.5,\"W\",IF(R16=4.5,\"T\",IF(R16<4.5,\"L\"))),0)","v":"W"},null,null,null,null,null,{"$f":"IF(V16<>0,IF(X16>4.5,\"W\",IF(X16=4.5,\"T\",IF(X16<4.5,\"L\"))),0)","v":"L"},null,null,null,null,null,{"$f":"IF(AB16<>0,IF(AD16>4.5,\"W\",IF(AD16=4.5,\"T\",IF(AD16<4.5,\"L\"))),0)","v":"L"},null,null,null,null,null,{"$f":"IF(AH16<>0,IF(AJ16>4.5,\"W\",IF(AJ16=4.5,\"T\",IF(AJ16<4.5,\"L\"))),0)","v":"L"},null,null,null,null,null,{"$f":"IF(AN16<>0,IF(AP16>4.5,\"W\",IF(AP16=4.5,\"T\",IF(AP16<4.5,\"L\"))),0)","v":"L"},null,null,null,null,null,{"$f":"IF(AT16<>0,IF(AV16>4.5,\"W\",IF(AV16=4.5,\"T\",IF(AV16<4.5,\"L\"))),0)","v":"W"},null,null,null,null,null,{"$f":"IF(AZ16<>0,IF(BB16>4.5,\"W\",IF(BB16=4.5,\"T\",IF(BB16<4.5,\"L\"))),0)","v":"W"},null,null,null,null,null,{"$f":"IF(BF16<>0,IF(BH16>4.5,\"W\",IF(BH16=4.5,\"T\",IF(BH16<4.5,\"L\"))),0)","v":"L"},null,null,null,null,null,{"$f":"IF(BL16<>0,IF(BN16>4.5,\"W\",IF(BN16=4.5,\"T\",IF(BN16<4.5,\"L\"))),0)","v":"L"},null,null,null,null,null,{"$f":"IF(BR16<>0,IF(BT16>4.5,\"W\",IF(BT16=4.5,\"T\",IF(BT16<4.5,\"L\"))),0)","v":"L"},null,null,null,null,null,{"$f":"IF(BX16<>0,IF(BZ16>4.5,\"W\",IF(BZ16=4.5,\"T\",IF(BZ16<4.5,\"L\"))),0)","v":"L"},null,null,null,null,null,{"$f":"IF(CD16<>0,IF(CF16>4.5,\"W\",IF(CF16=4.5,\"T\",IF(CF16<4.5,\"L\"))),0)","v":0},null,null,null,null,null,{"$f":"IF(CJ16<>0,IF(CL16>4.5,\"W\",IF(CL16=4.5,\"T\",IF(CL16<4.5,\"L\"))),0)","v":"L"}]
[]
[null,"Summary",null,{"$f":"COUNT(D29:D43)","v":11}]
[null,null,null,"Adj",null,"Adj",null,null,null,"Avg Score"]
[null,null,"Points","Points","Matches","Matches",null,null,"Hole #","by Hole","Best","Worst"]
[null,"Week #1",{"$f":"F20","v":3},null,{"$f":"IF(D16>0,1,0)","v":1},{"$f":"E29","v":1},null,null,1,{"$f":"IFERROR(AVERAGE(D7,P7,AB7,AN7,AZ7,BL7,BX7,CD7),0)","v":6.8571428571428568},{"$f":"IFERROR(MIN(D7,P7,AB7,AN7,AZ7,BL7,BX7,CD7),0)","v":5},{"$f":"IFERROR(MAX(D7,P7,AB7,AN7,AZ7,BL7,BX7,CD7),0)","v":9}]
[null,"Week #2",{"$f":"L20","v":6},{"$f":"C30","v":6},{"$f":"IF(J16>0,1,0)","v":1},1,null,null,2,{"$f":"IFERROR(AVERAGE(D8,P8,AB8,AN8,AZ8,BL8,BX8,CD8),0)","v":7.1428571428571432},{"$f":"IFERROR(MIN(D8,P8,AB8,AN8,AZ8,BL8,BX8,CD8),0)","v":6},{"$f":"IFERROR(MAX(D8,P8,AB8,AN8,AZ8,BL8,BX8,CD8),0)","v":8}]
[null,"Week #3",{"$f":"R20","v":6.5},6.5,{"$f":"IF(P16>0,1,0)","v":1},1,null,null,3,4.7142857142857144,4,6]
[null,"Week #4",{"$f":"X20","v":3.5},3.5,{"$f":"IF(V16>0,1,0)","v":1},1,null,null,4,6.7142857142857144,6,9]
[null,"Week #5",{"$f":"AD20","v":2.5},null,1,1,null,null,5,8.4285714285714288,6,11]
[null,"Week #6",{"$f":"AJ20","v":4},4,{"$f":"IF(AH16>0,1,0)","v":1},1,null,null,6,4.8571428571428568,3,6]
[null,"Week #7",{"$f":"AP20","v":3.5},3.5,{"$f":"IF(AN16>0,1,0)","v":1},1,null,null,7,6.4285714285714288,5,8]
[null,"Week #8",{"$f":"AV20","v":6.5},6.5,{"$f":"IF(AT16>0,1,0)","v":1},1,null,null,8,7.1428571428571432,5,8]
[null,"Week #9",{"$f":"BB20","v":8.5},8.5,{"$f":"IF(AZ16>0,1,0)","v":1},1,null,null,9,7.7142857142857144,6,11]
[null,"Week #10",{"$f":"BH20","v":3.5},3.5,{"$f":"IF(BF16>0,1,0)","v":1},1,null,null,"Front",{"$f":"SUM(J29:J37)","v":60.000000000000007},{"$f":"SUM(K29:K37)","v":46},76]
[null,"Week #11",{"$f":"BN20","v":3.5},3.5,{"$f":"IF(BL16>0,1,0)","v":1},1]
[null,"Week #12",{"$f":"BT20","v":3.5},3.5,{"$f":"IF(BR16>0,1,0)","v":1},1,null,null,10,{"$f":"IFERROR(AVERAGE(J7,V7,AH7,AT7,BF7,BR7,CJ7),0)","v":6.4285714285714288},{"$f":"IFERROR(MIN(J7,V7,AH7,AT7,BF7,BR7,CJ7),0)","v":5},{"$f":"IFERROR(MAX(J7,V7,AH7,AT7,BF7,BR7,CJ7),0)","v":8}]
[null,"Week #13",{"$f":"BZ20","v":3},null,{"$f":"IF(BX16>0,1,0)","v":1},1,null,null,11,{"$f":"IFERROR(AVERAGE(J8,V8,AH8,AT8,BF8,BR8,CJ8),0)","v":7},{"$f":"IFERROR(MIN(J8,V8,AH8,AT8,BF8,BR8,CJ8),0)","v":4},{"$f":"IFERROR(MAX(J8,V8,AH8,AT8,BF8,BR8,CJ8),0)","v":9}]
[null,"Week #14",{"$f":"CF20","v":0},0,{"$f":"IF(CD16>0,1,0)","v":0},0,null,null,12,6.4285714285714288,5,7]
[null,"Week #15",{"$f":"CL20","v":3},null,{"$f":"IF(CJ16>0,1,0)","v":1},1,null,null,13,8.5714285714285712,6,10]
[null,"Total",{"$f":"SUM(C29:C43)","v":60.5},{"$f":"SUM(D29:D43)","v":49},{"$f":"SUM(E29:E43)","v":14},{"$f":"SUM(F29:F43)","v":14},null,null,14,5.7142857142857144,3,8]
[null,null,null,null,null,null,null,null,15,7.4285714285714288,6,9]
[null,"Summary",null,null,null,null,null,null,16,6.4285714285714288,5,8]
[null,"Eagles",{"$f":"I57+I68+I79+I90+I101+I112+I123+I134+I145+I156+I167+I178+I189+I200+I211","v":0},null,null,null,null,null,17,4.5714285714285712,3,5]
[null,"Birdies",0,null,null,null,null,null,18,8.1428571428571423,6,11]
[null,"Pars",{"$f":"I59+I70+I81+I92+I103+I114+I125+I136+I147+I158+I169+I180+I191+I202+I213","v":4},null,null,null,null,null,"Back",{"$f":"SUM(J40:J48)","v":60.714285714285722},{"$f":"SUM(K40:K48)","v":43},75]
[null,"bogeys",17]
[null,"Double bogeys",38]
[null,"Other",67]
[null,"Total",{"$f":"SUM(C47:C52)","v":126}]
[]
[null,{"$f":"D4","v":"2024-04-26"},"Par","Score"]
[null,{"$f":"B7","v":1},4,7,{"$f":"IF(D56<>0,IF((D56-C56)=-1,\"Birdie\",IF((D56-C56)=-2,\"Eagle\",IF((D56-C56)=0,\"Par\",IF((D56-C56)=1,\"bogey\",IF((D56-C56)=2,\"Double bogey\",\"Other\"))))),\"  \")","v":"Other"},null,null,"Count"]
[null,2,4,7,"Other",null,null,"Eagle",{"$f":"COUNTIF(E56:E64,\"Eagle\")","v":0}]
[null,3,3,4,"bogey",null,null,"Birdie",{"$f":"COUNTIF(E56:E64,\"Birdie\")","v":0}]
[null,4,4,9,"Other",null,null,"Par",{"$f":"COUNTIF(E56:E64,\"Par\")","v":0}]
[null,5,5,10,"Other",null,null,"bogey",{"$f":"COUNTIF(E56:E64,\"bogey\")","v":1}]
[null,6,3,6,"Other",null,null,"Double bogey",{"$f":"COUNTIF(E56:E64,\"Double bogey\")","v":2}]
[null,7,4,6,"Double bogey",null,null,"Other",{"$f":"COUNTIF(E56:E64,\"Other\")","v":6}]
[null,8,4,8,"Other"]
[null,9,5,7,"Double bogey"]
[]
[null,{"$f":"J4","v":"2024-05-03"}]
[null,{"$f":"H7","v":10},4,5,{"$f":"IF(D67<>0,IF((D67-C67)=-1,\"Birdie\",IF((D67-C67)=-2,\"Eagle\",IF((D67-C67)=0,\"Par\",IF((D67-C67)=1,\"bogey\",IF((D67-C67)=2,\"Double bogey\",\"Other\"))))),\"  \")","v":"bogey"},null,null,"Count"]
[null,11,4,7,"Other",null,null,"Eagle",{"$f":"COUNTIF(E67:E75,\"Eagle\")","v":0}]
[null,12,4,7,"Other",null,null,"Birdie",{"$f":"COUNTIF(E67:E75,\"Birdie\")","v":0}]
[null,13,5,6,"bogey",null,null,"Par",{"$f":"COUNTIF(E67:E75,\"Par\")","v":1}]
[null,14,3,3,"Par",null,null,"bogey",{"$f":"COUNTIF(E67:E75,\"bogey\")","v":2}]
[null,15,4,8,"Other",null,null,"Double bogey",{"$f":"COUNTIF(E67:E75,\"Double bogey\")","v":2}]
[null,16,4,7,"Other",null,null,"Other",{"$f":"COUNTIF(E67:E75,\"Other\")","v":4}]
[null,17,3,5,"Double bogey"]
[null,18,5,7,"Double bogey"]
[]
[null,{"$f":"P4","v":"2024-05-10"}]
[null,{"$f":"N7","v":1},4,9,{"$f":"IF(D78<>0,IF((D78-C78)=-1,\"Birdie\",IF((D78-C78)=-2,\"Eagle\",IF((D78-C78)=0,\"Par\",IF((D78-C78)=1,\"bogey\",IF((D78-C78)=2,\"Double bogey\",\"Other\"))))),\"  \")","v":"Other"},null,null,"Count"]
[null,2,4,8,"Other",null,null,"Eagle",{"$f":"COUNTIF(E78:E86,\"Eagle\")","v":0}]
[null,3,3,5,"Double bogey",null,null,"Birdie",{"$f":"COUNTIF(E78:E86,\"Birdie\")","v":0}]
[null,4,4,6,"Double bogey",null,null,"Par",{"$f":"COUNTIF(E78:E86,\"Par\")","v":0}]
[null,5,5,8,"Other",null,null,"bogey",{"$f":"COUNTIF(E78:E86,\"bogey\")","v":0}]
[null,6,3,5,"Double bogey",null,null,"Double bogey",{"$f":"COUNTIF(E78:E86,\"Double bogey\")","v":5}]
[null,7,4,6,"Double bogey",null,null,"Other",{"$f":"COUNTIF(E78:E86,\"Other\")","v":4}]
[null,8,4,7,"Other"]
[null,9,5,7,"Double bogey"]
[]
[null,{"$f":"V4","v":"2024-05-17"}]
[null,{"$f":"T7","v":10},4,6,{"$f":"IF(D89<>0,IF((D89-C89)=-1,\"Birdie\",IF((D89-C89)=-2,\"Eagle\",IF((D89-C89)=0,\"Par\",IF((D89-C89)=1,\"bogey\",IF((D89-C89)=2,\"Double bogey\",\"Other\"))))),\"  \")","v":"Double bogey"},null,null,"Count"]
[null,11,4,7,"Other",null,null,"Eagle",{"$f":"COUNTIF(E89:E97,\"Eagle\")","v":0}]
[null,12,4,7,"Other",null,null,"Birdie",{"$f":"COUNTIF(E89:E97,\"Birdie\")","v":0}]
[null,13,5,9,"Other",null,null,"Par",{"$f":"COUNTIF(E89:E97,\"Par\")","v":0}]
[null,14,3,5,"Double bogey",null,null,"bogey",{"$f":"COUNTIF(E89:E97,\"bogey\")","v":1}]
[null,15,4,8,"Other",null,null,"Double bogey",{"$f":"COUNTIF(E89:E97,\"Double bogey\")","v":3}]
[null,16,4,6,"Double bogey",null,null,"Other",{"$f":"COUNTIF(E89:E97,\"Other\")","v":5}]
[null,17,3,4,"bogey"]
[null,18,5,11,"Other"]
[]
[null,{"$f":"AB4","v":"2024-05-24"}]
[null,{"$f":"Z7","v":1},4,5,{"$f":"IF(D100<>0,IF((D100-C100)=-1,\"Birdie\",IF((D100-C100)=-2,\"Eagle\",IF((D100-C100)=0,\"Par\",IF((D100-C100)=1,\"bogey\",IF((D100-C100)=2,\"Double bogey\",\"Other\"))))),\"  \")","v":"bogey"},null,null,"Count"]
[null,2,4,7,"Other",null,null,"Eagle",{"$f":"COUNTIF(E100:E108,\"Eagle\")","v":0}]
[null,3,3,6,"Other",null,null,"Birdie",{"$f":"COUNTIF(E100:E108,\"Birdie\")","v":0}]
[null,4,4,8,"Other",null,null,"Par",{"$f":"COUNTIF(E100:E108,\"Par\")","v":0}]
[null,5,5,11,"Other",null,null,"bogey",{"$f":"COUNTIF(E100:E108,\"bogey\")","v":1}]
[null,6,3,6,"Other",null,null,"Double bogey",{"$f":"COUNTIF(E100:E108,\"Double bogey\")","v":1}]
[null,7,4,6,"Double bogey",null,null,"Other",{"$f":"COUNTIF(E100:E108,\"Other\")","v":7}]
[null,8,4,8,"Other"]
[null,9,5,8,"Other"]
[]
[null,{"$f":"AH4","v":"2024-05-31"}]
[null,{"$f":"AF7","v":10},4,8,{"$f":"IF(D111<>0,IF((D111-C111)=-1,\"Birdie\",IF((D111-C111)=-2,\"Eagle\",IF((D111-C111)=0,\"Par\",IF((D111-C111)=1,\"bogey\",IF((D111-C111)=2,\"Double bogey\",\"Other\"))))),\"  \")","v":"Other"},null,null,"Count"]
[null,11,4,7,"Other",null,null,"Eagle",{"$f":"COUNTIF(E111:E119,\"Eagle\")","v":0}]
[null,12,4,7,"Other",null,null,"Birdie",{"$f":"COUNTIF(E111:E119,\"Birdie\")","v":0}]
[null,13,5,8,"Other",null,null,"Par",{"$f":"COUNTIF(E111:E119,\"Par\")","v":1}]
[null,14,3,7,"Other",null,null,"bogey",{"$f":"COUNTIF(E111:E119,\"bogey\")","v":2}]
[null,15,4,6,"Double bogey",null,null,"Double bogey",{"$f":"COUNTIF(E111:E119,\"Double bogey\")","v":1}]
[null,16,4,5,"bogey",null,null,"Other",{"$f":"COUNTIF(E111:E119,\"Other\")","v":5}]
[null,17,3,3,"Par"]
[null,18,5,6,"bogey"]
[]
[null,{"$f":"AN4","v":"2024-06-07"}]
[null,{"$f":"AL7","v":1},4,6,{"$f":"IF(D122<>0,IF((D122-C122)=-1,\"Birdie\",IF((D122-C122)=-2,\"Eagle\",IF((D122-C122)=0,\"Par\",IF((D122-C122)=1,\"bogey\",IF((D122-C122)=2,\"Double bogey\",\"Other\"))))),\"  \")","v":"Double bogey"},null,null,"Count"]
[null,2,4,6,"Double bogey",null,null,"Eagle",{"$f":"COUNTIF(E122:E130,\"Eagle\")","v":0}]
[null,3,3,5,"Double bogey",null,null,"Birdie",{"$f":"COUNTIF(E122:E130,\"Birdie\")","v":0}]
[null,4,4,6,"Double bogey",null,null,"Par",{"$f":"COUNTIF(E122:E130,\"Par\")","v":1}]
[null,5,5,9,"Other",null,null,"bogey",{"$f":"COUNTIF(E122:E130,\"bogey\")","v":0}]
[null,6,3,3,"Par",null,null,"Double bogey",{"$f":"COUNTIF(E122:E130,\"Double bogey\")","v":4}]
[null,7,4,7,"Other",null,null,"Other",{"$f":"COUNTIF(E122:E130,\"Other\")","v":4}]
[null,8,4,7,"Other"]
[null,9,5,8,"Other"]
[]
[null,{"$f":"AT4","v":"2024-06-14"}]
[null,{"$f":"AR7","v":10},4,7,{"$f":"IF(D133<>0,IF((D133-C133)=-1,\"Birdie\",IF((D133-C133)=-2,\"Eagle\",IF((D133-C133)=0,\"Par\",IF((D133-C133)=1,\"bogey\",IF((D133-C133)=2,\"Double bogey\",\"Other\"))))),\"  \")","v":"Other"},null,null,"Count"]
[null,11,4,4,"Par",null,null,"Eagle",{"$f":"COUNTIF(E133:E141,\"Eagle\")","v":0}]
[null,12,4,6,"Double bogey",null,null,"Birdie",{"$f":"COUNTIF(E133:E141,\"Birdie\")","v":0}]
[null,13,5,9,"Other",null,null,"Par",{"$f":"COUNTIF(E133:E141,\"Par\")","v":1}]
[null,14,3,6,"Other",null,null,"bogey",{"$f":"COUNTIF(E133:E141,\"bogey\")","v":0}]
[null,15,4,6,"Double bogey",null,null,"Double bogey",{"$f":"COUNTIF(E133:E141,\"Double bogey\")","v":3}]
[null,16,4,7,"Other",null,null,"Other",{"$f":"COUNTIF(E133:E141,\"Other\")","v":5}]
[null,17,3,5,"Double bogey"]
[null,18,5,8,"Other"]
[]
[null,{"$f":"AZ4","v":"2024-07-05"}]
[null,{"$f":"AX7","v":1},4,6,{"$f":"IF(D144<>0,IF((D144-C144)=-1,\"Birdie\",IF((D144-C144)=-2,\"Eagle\",IF((D144-C144)=0,\"Par\",IF((D144-C144)=1,\"bogey\",IF((D144-C144)=2,\"Double bogey\",\"Other\"))))),\"  \")","v":"Double bogey"},null,null,"Count"]
[null,2,4,6,"Double bogey",null,null,"Eagle",{"$f":"COUNTIF(E144:E152,\"Eagle\")","v":0}]
[null,3,3,5,"Double bogey",null,null,"Birdie",{"$f":"COUNTIF(E144:E152,\"Birdie\")","v":0}]
[null,4,4,6,"Double bogey",null,null,"Par",{"$f":"COUNTIF(E144:E152,\"Par\")","v":0}]
[null,5,5,6,"bogey",null,null,"bogey",{"$f":"COUNTIF(E144:E152,\"bogey\")","v":4}]
[null,6,3,5,"Double bogey",null,null,"Double bogey",{"$f":"COUNTIF(E144:E152,\"Double bogey\")","v":5}]
[null,7,4,5,"bogey",null,null,"Other",{"$f":"COUNTIF(E144:E152,\"Other\")","v":0}]
[null,8,4,5,"bogey"]
[null,9,5,6,"bogey"]
[]
[null,{"$f":"BF4","v":"2024-07-12"}]
[null,{"$f":"BD7","v":10},4,5,{"$f":"IF(D155<>0,IF((D155-C155)=-1,\"Birdie\",IF((D155-C155)=-2,\"Eagle\",IF((D155-C155)=0,\"Par\",IF((D155-C155)=1,\"bogey\",IF((D155-C155)=2,\"Double bogey\",\"Other\"))))),\"  \")","v":"bogey"},null,null,"Count"]
[null,11,4,9,"Other",null,null,"Eagle",{"$f":"COUNTIF(E155:E163,\"Eagle\")","v":0}]
[null,12,4,5,"bogey",null,null,"Birdie",{"$f":"COUNTIF(E155:E163,\"Birdie\")","v":0}]
[null,13,5,9,"Other",null,null,"Par",{"$f":"COUNTIF(E155:E163,\"Par\")","v":0}]
[null,14,3,6,"Other",null,null,"bogey",{"$f":"COUNTIF(E155:E163,\"bogey\")","v":2}]
[null,15,4,9,"Other",null,null,"Double bogey",{"$f":"COUNTIF(E155:E163,\"Double bogey\")","v":1}]
[null,16,4,7,"Other",null,null,"Other",{"$f":"COUNTIF(E155:E163,\"Other\")","v":6}]
[null,17,3,5,"Double bogey"]
[null,18,5,10,"Other"]
[]
[null,{"$f":"BL4","v":"2024-07-19"}]
[null,{"$f":"BJ7","v":1},4,8,{"$f":"IF(D166<>0,IF((D166-C166)=-1,\"Birdie\",IF((D166-C166)=-2,\"Eagle\",IF((D166-C166)=0,\"Par\",IF((D166-C166)=1,\"bogey\",IF((D166-C166)=2,\"Double bogey\",\"Other\"))))),\"  \")","v":"Other"},null,null,"Count"]
[null,2,4,8,"Other",null,null,"Eagle",{"$f":"COUNTIF(E166:E174,\"Eagle\")","v":0}]
[null,3,3,4,"bogey",null,null,"Birdie",{"$f":"COUNTIF(E166:E174,\"Birdie\")","v":0}]
[null,4,4,6,"Double bogey",null,null,"Par",{"$f":"COUNTIF(E166:E174,\"Par\")","v":0}]
[null,5,5,8,"Other",null,null,"bogey",{"$f":"COUNTIF(E166:E174,\"bogey\")","v":1}]
[null,6,3,5,"Double bogey",null,null,"Double bogey",{"$f":"COUNTIF(E166:E174,\"Double bogey\")","v":3}]
[null,7,4,8,"Other",null,null,"Other",{"$f":"COUNTIF(E166:E174,\"Other\")","v":5}]
[null,8,4,8,"Other"]
[null,9,5,7,"Double bogey"]
[]
[null,{"$f":"BR4","v":"2024-07-26"}]
[null,{"$f":"BP7","v":10},4,7,{"$f":"IF(D177<>0,IF((D177-C177)=-1,\"Birdie\",IF((D177-C177)=-2,\"Eagle\",IF((D177-C177)=0,\"Par\",IF((D177-C177)=1,\"bogey\",IF((D177-C177)=2,\"Double bogey\",\"Other\"))))),\"  \")","v":"Other"},null,null,"Count"]
[null,11,4,6,"Double bogey",null,null,"Eagle",{"$f":"COUNTIF(E177:E185,\"Eagle\")","v":0}]
[null,12,4,7,"Other",null,null,"Birdie",{"$f":"COUNTIF(E177:E185,\"Birdie\")","v":0}]
[null,13,5,10,"Other",null,null,"Par",{"$f":"COUNTIF(E177:E185,\"Par\")","v":0}]
[null,14,3,8,"Other",null,null,"bogey",{"$f":"COUNTIF(E177:E185,\"bogey\")","v":1}]
[null,15,4,7,"Other",null,null,"Double bogey",{"$f":"COUNTIF(E177:E185,\"Double bogey\")","v":3}]
[null,16,4,5,"bogey",null,null,"Other",{"$f":"COUNTIF(E177:E185,\"Other\")","v":5}]
[null,17,3,5,"Double bogey"]
[null,18,5,7,"Double bogey"]
[]
[null,{"$f":"BX4","v":"2024-08-02"}]
[null,{"$f":"BV7","v":1},4,7,{"$f":"IF(D188<>0,IF((D188-C188)=-1,\"Birdie\",IF((D188-C188)=-2,\"Eagle\",IF((D188-C188)=0,\"Par\",IF((D188-C188)=1,\"bogey\",IF((D188-C188)=2,\"Double bogey\",\"Other\"))))),\"  \")","v":"Other"},null,null,"Count"]
[null,2,4,8,"Other",null,null,"Eagle",{"$f":"COUNTIF(E188:E196,\"Eagle\")","v":0}]
[null,3,3,4,"bogey",null,null,"Birdie",{"$f":"COUNTIF(E188:E196,\"Birdie\")","v":0}]
[null,4,4,6,"Double bogey",null,null,"Par",{"$f":"COUNTIF(E188:E196,\"Par\")","v":0}]
[null,5,5,7,"Double bogey",null,null,"bogey",{"$f":"COUNTIF(E188:E196,\"bogey\")","v":2}]
[null,6,3,4,"bogey",null,null,"Double bogey",{"$f":"COUNTIF(E188:E196,\"Double bogey\")","v":2}]
[null,7,4,7,"Other",null,null,"Other",{"$f":"COUNTIF(E188:E196,\"Other\")","v":5}]
[null,8,4,7,"Other"]
[null,9,5,11,"Other"]
[]
[null,{"$f":"CD4","v":"2024-08-16"}]
[null,{"$f":"CB7","v":1},4,0,{"$f":"IF(D199<>0,IF((D199-C199)=-1,\"Birdie\",IF((D199-C199)=-2,\"Eagle\",IF((D199-C199)=0,\"Par\",IF((D199-C199)=1,\"bogey\",IF((D199-C199)=2,\"Double bogey\",\"Other\"))))),\"  \")","v":"  "},null,null,"Count"]
[null,2,4,0,"  ",null,null,"Eagle",{"$f":"COUNTIF(E199:E207,\"Eagle\")","v":0}]
[null,3,3,0,"  ",null,null,"Birdie",{"$f":"COUNTIF(E199:E207,\"Birdie\")","v":0}]
[null,4,4,0,"  ",null,null,"Par",{"$f":"COUNTIF(E199:E207,\"Par\")","v":0}]
[null,5,5,0,"  ",null,null,"bogey",{"$f":"COUNTIF(E199:E207,\"bogey\")","v":0}]
[null,6,3,0,"  ",null,null,"Double bogey",{"$f":"COUNTIF(E199:E207,\"Double bogey\")","v":0}]
[null,7,4,0,"  ",null,null,"Other",{"$f":"COUNTIF(E199:E207,\"Other\")","v":0}]
[null,8,4,0,"  "]
[null,9,5,0,"  "]
[]
[null,{"$f":"CJ4","v":"2024-08-23"}]
[null,{"$f":"CH7","v":10},4,7,{"$f":"IF(D210<>0,IF((D210-C210)=-1,\"Birdie\",IF((D210-C210)=-2,\"Eagle\",IF((D210-C210)=0,\"Par\",IF((D210-C210)=1,\"bogey\",IF((D210-C210)=2,\"Double bogey\",\"Other\"))))),\"  \")","v":"Other"},null,null,"Count"]
[null,11,4,9,"Other",null,null,"Eagle",{"$f":"COUNTIF(E210:E218,\"Eagle\")","v":0}]
[null,12,4,6,"Double bogey",null,null,"Birdie",{"$f":"COUNTIF(E210:E218,\"Birdie\")","v":0}]
[null,13,5,9,"Other",null,null,"Par",{"$f":"COUNTIF(E210:E218,\"Par\")","v":0}]
[null,14,3,5,"Double bogey",null,null,"bogey",{"$f":"COUNTIF(E210:E218,\"bogey\")","v":0}]
[null,15,4,8,"Other",null,null,"Double bogey",{"$f":"COUNTIF(E210:E218,\"Double bogey\")","v":3}]
[null,16,4,8,"Other",null,null,"Other",{"$f":"COUNTIF(E210:E218,\"Other\")","v":6}]
[null,17,3,5,"Double bogey"]
[null,18,5,8,"Other"]

{"sheet":"SUBx","index":21,"n_rows":218,"n_cols":90,"rows_kept":218,"cut":false,"hidden":false,"merged":[]}
["SUB5"]
[]
[]
[null,null,"Date:",{"$f":"VLOOKUP(C5,Week,2)","v":"2024-04-26"},null,null,null,null,"Date:",{"$f":"VLOOKUP(I5,Week,2)","v":"2024-05-03"},null,null,null,null,"Date:",{"$f":"VLOOKUP(O5,Week,2)","v":"2024-05-10"},null,null,null,null,"Date:",{"$f":"VLOOKUP(U5,Week,2)","v":"2024-05-17"},null,null,null,null,"Date:",{"$f":"VLOOKUP(AA5,Week,2)","v":"2024-05-24"},null,null,null,null,"Date:",{"$f":"VLOOKUP(AG5,Week,2)","v":"2024-05-31"},null,null,null,null,"Date:",{"$f":"VLOOKUP(AM5,Week,2)","v":"2024-06-07"},null,null,null,null,"Date:",{"$f":"VLOOKUP(AS5,Week,2)","v":"2024-06-14"},null,null,null,null,"Date:",{"$f":"VLOOKUP(AY5,Week,2)","v":"2024-07-05"},null,null,null,null,"Date:",{"$f":"VLOOKUP(BE5,Week,2)","v":"2024-07-12"},null,null,null,null,"Date:",{"$f":"VLOOKUP(BK5,Week,2)","v":"2024-07-19"},null,null,null,null,"Date:",{"$f":"VLOOKUP(BQ5,Week,2)","v":"2024-07-26"},null,null,null,null,"Date:",{"$f":"VLOOKUP(BW5,Week,2)","v":"2024-08-02"},null,null,null,null,"Date:",{"$f":"VLOOKUP(CC5,Week,2)","v":"2024-08-16"},null,null,null,null,"Date:",{"$f":"VLOOKUP(CI5,Week,2)","v":"2024-08-23"}]
[null,"Week",1,null,null,null,null,"Week",2,null,null,null,null,"Week",3,null,null,null,null,"Week",4,null,null,null,null,"Week",5,null,null,null,null,"Week",6,null,null,null,null,"Week",7,null,null,null,null,"Week",8,null,null,null,null,"Week",9,null,null,null,null,"Week",10,null,null,null,null,"Week",11,null,null,null,null,"Week",12,null,null,null,null,"Week",13,null,null,null,null,"Week",14,null,null,null,null,"Week",15]
[null,"Hole #","Par","Score","Net","Win Hole",null,"Hole #","Par","Score","Net","Win Hole",null,"Hole #","Par","Score","Net","Win Hole",null,"Hole #","Par","Score","Net","Win Hole",null,"Hole #","Par","Score","Net","Win Hole",null,"Hole #","Par","Score","Net","Win Hole",null,"Hole #","Par","Score","Net","Win Hole",null,"Hole #","Par","Score","Net","Win Hole",null,"Hole #","Par","Score","Net","Win Hole",null,"Hole #","Par","Score","Net","Win Hole",null,"Hole #","Par","Score","Net","Win Hole",null,"Hole #","Par","Score","Net","Win Hole",null,"Hole #","Par","Score","Net","Win Hole",null,"Hole #","Par","Score","Net","Win Hole",null,"Hole #","Par","Score","Net","Win Hole"]
[null,{"$f":"VLOOKUP(C5,Week,6)","v":1},{"$f":"VLOOKUP(B7,Holes,2)","v":4},null,{"$f":"IF((D7-C7)>3,C7+3,D7)","v":0},null,null,{"$f":"VLOOKUP(I5,Week,6)","v":10},{"$f":"VLOOKUP(H7,Holes,2)","v":4},null,{"$f":"IF((J7-I7)>3,I7+3,J7)","v":0},null,null,{"$f":"VLOOKUP(O5,Week,6)","v":1},{"$f":"VLOOKUP(N7,Holes,2)","v":4},null,{"$f":"IF((P7-O7)>3,O7+3,P7)","v":0},null,null,{"$f":"VLOOKUP(U5,Week,6)","v":10},{"$f":"VLOOKUP(T7,Holes,2)","v":4},null,{"$f":"IF((V7-U7)>3,U7+3,V7)","v":0},null,null,{"$f":"VLOOKUP(AA5,Week,6)","v":1},{"$f":"VLOOKUP(Z7,Holes,2)","v":4},null,{"$f":"IF((AB7-AA7)>3,AA7+3,AB7)","v":0},null,null,{"$f":"VLOOKUP(AG5,Week,6)","v":10},{"$f":"VLOOKUP(AF7,Holes,2)","v":4},null,{"$f":"IF((AH7-AG7)>3,AG7+3,AH7)","v":0},null,null,{"$f":"VLOOKUP(AM5,Week,6)","v":1},{"$f":"VLOOKUP(AL7,Holes,2)","v":4},null,{"$f":"IF((AN7-AM7)>3,AM7+3,AN7)","v":0},null,null,{"$f":"VLOOKUP(AS5,Week,6)","v":10},{"$f":"VLOOKUP(AR7,Holes,2)","v":4},null,{"$f":"IF((AT7-AS7)>3,AS7+3,AT7)","v":0},null,null,{"$f":"VLOOKUP(AY5,Week,6)","v":1},{"$f":"VLOOKUP(AX7,Holes,2)","v":4},null,{"$f":"IF((AZ7-AY7)>3,AY7+3,AZ7)","v":0},null,null,{"$f":"VLOOKUP(BE5,Week,6)","v":10},{"$f":"VLOOKUP(BD7,Holes,2)","v":4},null,{"$f":"IF((BF7-BE7)>3,BE7+3,BF7)","v":0},null,null,{"$f":"VLOOKUP(BK5,Week,6)","v":1},{"$f":"VLOOKUP(BJ7,Holes,2)","v":4},null,{"$f":"IF((BL7-BK7)>3,BK7+3,BL7)","v":0},null,null,{"$f":"VLOOKUP(BQ5,Week,6)","v":10},{"$f":"VLOOKUP(BP7,Holes,2)","v":4},null,{"$f":"IF((BR7-BQ7)>3,BQ7+3,BR7)","v":0},null,null,{"$f":"VLOOKUP(BW5,Week,6)","v":1},{"$f":"VLOOKUP(BV7,Holes,2)","v":4},null,{"$f":"IF((BX7-BW7)>3,BW7+3,BX7)","v":0},null,null,{"$f":"VLOOKUP(CC5,Week,6)","v":1},{"$f":"VLOOKUP(CB7,Holes,2)","v":4},null,{"$f":"IF((CD7-CC7)>3,CC7+3,CD7)","v":0},null,null,{"$f":"VLOOKUP(CI5,Week,6)","v":10},{"$f":"VLOOKUP(CH7,Holes,2)","v":4},null,{"$f":"IF((CJ7-CI7)>3,CI7+3,CJ7)","v":0}]
[null,{"$f":"+B7+1","v":2},4,null,0,null,null,{"$f":"+H7+1","v":11},4,null,0,null,null,{"$f":"+N7+1","v":2},4,null,0,null,null,{"$f":"+T7+1","v":11},4,null,0,null,null,{"$f":"+Z7+1","v":2},4,null,0,null,null,{"$f":"+AF7+1","v":11},4,null,0,null,null,{"$f":"+AL7+1","v":2},4,null,0,null,null,{"$f":"+AR7+1","v":11},4,null,0,null,null,{"$f":"+AX7+1","v":2},4,null,0,null,null,{"$f":"+BD7+1","v":11},4,null,0,null,null,{"$f":"+BJ7+1","v":2},4,null,0,null,null,{"$f":"+BP7+1","v":11},4,null,0,null,null,{"$f":"+BV7+1","v":2},4,null,0,null,null,{"$f":"+CB7+1","v":2},4,null,0,null,null,{"$f":"+CH7+1","v":11},4,null,0]
[null,3,3,null,0,null,null,12,4,null,0,null,null,3,3,null,0,null,null,12,4,null,0,null,null,3,3,null,0,null,null,12,4,null,0,null,null,3,3,null,0,null,null,12,4,null,0,null,null,3,3,null,0,null,null,12,4,null,0,null,null,3,3,null,0,null,null,12,4,null,0,null,null,3,3,null,0,null,null,3,3,null,0,null,null,12,4,null,0]
[null,4,4,null,0,null,null,13,5,null,0,null,null,4,4,null,0,null,null,13,5,null,0,null,null,4,4,null,0,null,null,13,5,null,0,null,null,4,4,null,0,null,null,13,5,null,0,null,null,4,4,null,0,null,null,13,5,null,0,null,null,4,4,null,0,null,null,13,5,null,0,null,null,4,4,null,0,null,null,4,4,null,0,null,null,13,5,null,0]
[null,5,5,null,0,null,null,14,3,null,0,null,null,5,5,null,0,null,null,14,3,null,0,null,null,5,5,null,0,null,null,14,3,null,0,null,null,5,5,null,0,null,null,14,3,null,0,null,null,5,5,null,0,null,null,14,3,null,0,null,null,5,5,null,0,null,null,14,3,null,0,null,null,5,5,null,0,null,null,5,5,null,0,null,null,14,3,null,0]
[null,6,3,null,0,null,null,15,4,null,0,null,null,6,3,null,0,null,null,15,4,null,0,null,null,6,3,null,0,null,null,15,4,null,0,null,null,6,3,null,0,null,null,15,4,null,0,null,null,6,3,null,0,null,null,15,4,null,0,null,null,6,3,null,0,null,null,15,4,null,0,null,null,6,3,null,0,null,null,6,3,null,0,null,null,15,4,null,0]
[null,7,4,null,0,null,null,16,4,null,0,null,null,7,4,null,0,null,null,16,4,null,0,null,null,7,4,null,0,null,null,16,4,null,0,null,null,7,4,null,0,null,null,16,4,null,0,null,null,7,4,null,0,null,null,16,4,null,0,null,null,7,4,null,0,null,null,16,4,null,0,null,null,7,4,null,0,null,null,7,4,null,0,null,null,16,4,null,0]
[null,8,4,null,0,null,null,17,3,null,0,null,null,8,4,null,0,null,null,17,3,null,0,null,null,8,4,null,0,null,null,17,3,null,0,null,null,8,4,null,0,null,null,17,3,null,0,null,null,8,4,null,0,null,null,17,3,null,0,null,null,8,4,null,0,null,null,17,3,null,0,null,null,8,4,null,0,null,null,8,4,null,0,null,null,17,3,null,0]
[null,9,5,null,0,null,null,18,5,null,0,null,null,9,5,null,0,null,null,18,5,null,0,null,null,9,5,null,0,null,null,18,5,null,0,null,null,9,5,null,0,null,null,18,5,null,0,null,null,9,5,null,0,null,null,18,5,null,0,null,null,9,5,null,0,null,null,18,5,null,0,null,null,9,5,null,0,null,null,9,5,null,0,null,null,18,5,null,0]
[null,"Total",{"$f":"SUM(C7:C15)","v":36},{"$f":"SUM(D7:D15)","v":0},{"$f":"SUM(E7:E15)","v":0},null,null,"Total",{"$f":"SUM(I7:I15)","v":36},{"$f":"SUM(J7:J15)","v":0},{"$f":"SUM(K7:K15)","v":0},{"$f":"SUM(L7:L15)","v":0},null,"Total",{"$f":"SUM(O7:O15)","v":36},{"$f":"SUM(P7:P15)","v":0},{"$f":"SUM(Q7:Q15)","v":0},{"$f":"SUM(R7:R15)","v":0},null,"Total",{"$f":"SUM(U7:U15)","v":36},{"$f":"SUM(V7:V15)","v":0},{"$f":"SUM(W7:W15)","v":0},{"$f":"SUM(X7:X15)","v":0},null,"Total",{"$f":"SUM(AA7:AA15)","v":36},{"$f":"SUM(AB7:AB15)","v":0},{"$f":"SUM(AC7:AC15)","v":0},{"$f":"SUM(AD7:AD15)","v":0},null,"Total",{"$f":"SUM(AG7:AG15)","v":36},{"$f":"SUM(AH7:AH15)","v":0},{"$f":"SUM(AI7:AI15)","v":0},{"$f":"SUM(AJ7:AJ15)","v":0},null,"Total",{"$f":"SUM(AM7:AM15)","v":36},{"$f":"SUM(AN7:AN15)","v":0},{"$f":"SUM(AO7:AO15)","v":0},{"$f":"SUM(AP7:AP15)","v":0},null,"Total",{"$f":"SUM(AS7:AS15)","v":36},{"$f":"SUM(AT7:AT15)","v":0},{"$f":"SUM(AU7:AU15)","v":0},{"$f":"SUM(AV7:AV15)","v":0},null,"Total",{"$f":"SUM(AY7:AY15)","v":36},{"$f":"SUM(AZ7:AZ15)","v":0},{"$f":"SUM(BA7:BA15)","v":0},{"$f":"SUM(BB7:BB15)","v":0},null,"Total",{"$f":"SUM(BE7:BE15)","v":36},{"$f":"SUM(BF7:BF15)","v":0},{"$f":"SUM(BG7:BG15)","v":0},{"$f":"SUM(BH7:BH15)","v":0},null,"Total",{"$f":"SUM(BK7:BK15)","v":36},{"$f":"SUM(BL7:BL15)","v":0},{"$f":"SUM(BM7:BM15)","v":0},{"$f":"SUM(BN7:BN15)","v":0},null,"Total",{"$f":"SUM(BQ7:BQ15)","v":36},{"$f":"SUM(BR7:BR15)","v":0},{"$f":"SUM(BS7:BS15)","v":0},{"$f":"SUM(BT7:BT15)","v":0},null,"Total",{"$f":"SUM(BW7:BW15)","v":36},{"$f":"SUM(BX7:BX15)","v":0},{"$f":"SUM(BY7:BY15)","v":0},{"$f":"SUM(BZ7:BZ15)","v":0},null,"Total",{"$f":"SUM(CC7:CC15)","v":36},{"$f":"SUM(CD7:CD15)","v":0},{"$f":"SUM(CE7:CE15)","v":0},{"$f":"SUM(CF7:CF15)","v":0},null,"Total",{"$f":"SUM(CI7:CI15)","v":36},{"$f":"SUM(CJ7:CJ15)","v":0},{"$f":"SUM(CK7:CK15)","v":0},{"$f":"SUM(CL7:CL15)","v":0}]
[]
[null,null,null,null,"Low Net",null,null,null,null,null,"Low Net",0,null,null,null,null,"Low Net",0,null,null,null,null,"Low Net",null,null,null,null,null,"Low Net",null,null,null,null,null,"Low Net",null,null,null,null,null,"Low Net",null,null,null,null,null,"Low Net",null,null,null,null,null,"Low Net",null,null,null,null,null,"Low Net",null,null,null,null,null,"Low Net",null,null,null,null,null,"Low Net",null,null,null,null,null,"Low Net",null,null,null,null,null,"Low Net",null,null,null,null,null,"Low Net"]
[]
[null,null,null,null,"Total Points",{"$f":"SUM(F16:F19)","v":0},null,null,null,null,"Total Points",{"$f":"SUM(L16:L19)","v":0},null,null,null,null,"Total Points",{"$f":"SUM(R16:R19)","v":0},null,null,null,null,"Total Points",{"$f":"SUM(X16:X19)","v":0},null,null,null,null,"Total Points",{"$f":"SUM(AD16:AD19)","v":0},null,null,null,null,"Total Points",{"$f":"SUM(AJ16:AJ19)","v":0},null,null,null,null,"Total Points",{"$f":"SUM(AP16:AP19)","v":0},null,null,null,null,"Total Points",{"$f":"SUM(AV16:AV19)","v":0},null,null,null,null,"Total Points",{"$f":"SUM(BB16:BB19)","v":0},null,null,null,null,"Total Points",{"$f":"SUM(BH16:BH19)","v":0},null,null,null,null,"Total Points",{"$f":"SUM(BN16:BN19)","v":0},null,null,null,null,"Total Points",{"$f":"SUM(BT16:BT19)","v":0},null,null,null,null,"Total Points",{"$f":"SUM(BZ16:BZ19)","v":0},null,null,null,null,"Total Points",{"$f":"SUM(CF16:CF19)","v":0},null,null,null,null,"Total Points",{"$f":"SUM(CL16:CL19)","v":0}]
[]
[null,null,null,null,"Handicap",{"$f":"IF(D16=0,0,E16-C16)","v":0},null,null,null,null,"Handicap",{"$f":"IF(J16=0,0,K16-I16)","v":0},null,null,null,null,"Handicap",{"$f":"IF(P16=0,0,Q16-O16)","v":0},null,null,null,null,"Handicap",{"$f":"IF(V16=0,0,W16-U16)","v":0},null,null,null,null,"Handicap",{"$f":"IF(AB16=0,0,AC16-AA16)","v":0},null,null,null,null,"Handicap",{"$f":"IF(AH16=0,0,AI16-AG16)","v":0},null,null,null,null,"Handicap",{"$f":"IF(AN16=0,0,AO16-AM16)","v":0},null,null,null,null,"Handicap",{"$f":"IF(AT16=0,0,AU16-AS16)","v":0},null,null,null,null,"Handicap",{"$f":"IF(AZ16=0,0,BA16-AY16)","v":0},null,null,null,null,"Handicap",{"$f":"IF(BF16=0,0,BG16-BE16)","v":0},null,null,null,null,"Handicap",{"$f":"IF(BL16=0,0,BM16-BK16)","v":0},null,null,null,null,"Handicap",{"$f":"IF(BR16=0,0,BS16-BQ16)","v":0},null,null,null,null,"Handicap",{"$f":"IF(BX16=0,0,BY16-BW16)","v":0},null,null,null,null,"Handicap",{"$f":"IF(CD16=0,0,CE16-CC16)","v":0},null,null,null,null,"Handicap",{"$f":"IF(CJ16=0,0,CK16-CI16)","v":0}]
[]
[null,null,null,null,null,{"$f":"IF(D16<>0,IF(F16>4.5,\"W\",IF(F16=4.5,\"T\",IF(F16<4.5,\"L\"))),0)","v":0},null,null,null,null,null,{"$f":"IF(J16<>0,IF(L16>4.5,\"W\",IF(L16=4.5,\"T\",IF(L16<4.5,\"L\"))),0)","v":0},null,null,null,null,null,{"$f":"IF(P16<>0,IF(R16>4.5,\"W\",IF(R16=4.5,\"T\",IF(R16<4.5,\"L\"))),0)","v":0},null,null,null,null,null,{"$f":"IF(V16<>0,IF(X16>4.5,\"W\",IF(X16=4.5,\"T\",IF(X16<4.5,\"L\"))),0)","v":0},null,null,null,null,null,{"$f":"IF(AB16<>0,IF(AD16>4.5,\"W\",IF(AD16=4.5,\"T\",IF(AD16<4.5,\"L\"))),0)","v":0},null,null,null,null,null,{"$f":"IF(AH16<>0,IF(AJ16>4.5,\"W\",IF(AJ16=4.5,\"T\",IF(AJ16<4.5,\"L\"))),0)","v":0},null,null,null,null,null,{"$f":"IF(AN16<>0,IF(AP16>4.5,\"W\",IF(AP16=4.5,\"T\",IF(AP16<4.5,\"L\"))),0)","v":0},null,null,null,null,null,{"$f":"IF(AT16<>0,IF(AV16>4.5,\"W\",IF(AV16=4.5,\"T\",IF(AV16<4.5,\"L\"))),0)","v":0},null,null,null,null,null,{"$f":"IF(AZ16<>0,IF(BB16>4.5,\"W\",IF(BB16=4.5,\"T\",IF(BB16<4.5,\"L\"))),0)","v":0},null,null,null,null,null,{"$f":"IF(BF16<>0,IF(BH16>4.5,\"W\",IF(BH16=4.5,\"T\",IF(BH16<4.5,\"L\"))),0)","v":0},null,null,null,null,null,{"$f":"IF(BL16<>0,IF(BN16>4.5,\"W\",IF(BN16=4.5,\"T\",IF(BN16<4.5,\"L\"))),0)","v":0},null,null,null,null,null,{"$f":"IF(BR16<>0,IF(BT16>4.5,\"W\",IF(BT16=4.5,\"T\",IF(BT16<4.5,\"L\"))),0)","v":0},null,null,null,null,null,{"$f":"IF(BX16<>0,IF(BZ16>4.5,\"W\",IF(BZ16=4.5,\"T\",IF(BZ16<4.5,\"L\"))),0)","v":0},null,null,null,null,null,{"$f":"IF(CD16<>0,IF(CF16>4.5,\"W\",IF(CF16=4.5,\"T\",IF(CF16<4.5,\"L\"))),0)","v":0},null,null,null,null,null,{"$f":"IF(CJ16<>0,IF(CL16>4.5,\"W\",IF(CL16=4.5,\"T\",IF(CL16<4.5,\"L\"))),0)","v":0}]
[]
[null,"Summary"]
[null,null,null,"Adj",null,"Adj",null,null,null,"Avg Score"]
[null,null,"Points","Points","Matches","Matches",null,null,"Hole #","by Hole","Best","Worst"]
[null,"Week #1",{"$f":"F20","v":0},{"$f":"C29","v":0},{"$f":"IF(D16>0,1,0)","v":0},{"$f":"E29","v":0},null,null,1,{"$f":"IFERROR(AVERAGE(D7,P7,AB7,AN7,AZ7,BL7,BX7,CD7),0)","v":0},{"$f":"IFERROR(MIN(D7,P7,AB7,AN7,AZ7,BL7,BX7,CD7),0)","v":0},{"$f":"IFERROR(MAX(D7,P7,AB7,AN7,AZ7,BL7,BX7,CD7),0)","v":0}]
[null,"Week #2",{"$f":"L20","v":0},0,{"$f":"IF(J16>0,1,0)","v":0},0,null,null,2,{"$f":"IFERROR(AVERAGE(D8,P8,AB8,AN8,AZ8,BL8,BX8,CD8),0)","v":0},{"$f":"IFERROR(MIN(D8,P8,AB8,AN8,AZ8,BL8,BX8,CD8),0)","v":0},{"$f":"IFERROR(MAX(D8,P8,AB8,AN8,AZ8,BL8,BX8,CD8),0)","v":0}]
[null,"Week #3",{"$f":"R20","v":0},0,{"$f":"IF(P16>0,1,0)","v":0},0,null,null,3,0,0,0]
[null,"Week #4",{"$f":"X20","v":0},0,{"$f":"IF(V16>0,1,0)","v":0},0,null,null,4,0,0,0]
[null,"Week #5",{"$f":"AD20","v":0},0,{"$f":"IF(AB16>0,1,0)","v":0},0,null,null,5,0,0,0]
[null,"Week #6",{"$f":"AJ20","v":0},0,{"$f":"IF(AH16>0,1,0)","v":0},0,null,null,6,0,0,0]
[null,"Week #7",{"$f":"AP20","v":0},0,{"$f":"IF(AN16>0,1,0)","v":0},0,null,null,7,0,0,0]
[null,"Week #8",{"$f":"AV20","v":0},0,{"$f":"IF(AT16>0,1,0)","v":0},0,null,null,8,0,0,0]
[null,"Week #9",{"$f":"BB20","v":0},0,{"$f":"IF(AZ16>0,1,0)","v":0},0,null,null,9,0,0,0]
[null,"Week #10",{"$f":"BH20","v":0},0,{"$f":"IF(BF16>0,1,0)","v":0},0,null,null,"Front",{"$f":"SUM(J29:J37)","v":0},{"$f":"SUM(K29:K37)","v":0},0]
[null,"Week #11",{"$f":"BN20","v":0},0,{"$f":"IF(BL16>0,1,0)","v":0},0]
[null,"Week #12",{"$f":"BT20","v":0},0,{"$f":"IF(BR16>0,1,0)","v":0},0,null,null,10,{"$f":"IFERROR(AVERAGE(J7,V7,AH7,AT7,BF7,BR7,CJ7),0)","v":0},{"$f":"IFERROR(MIN(J7,V7,AH7,AT7,BF7,BR7,CJ7),0)","v":0},{"$f":"IFERROR(MAX(J7,V7,AH7,AT7,BF7,BR7,CJ7),0)","v":0}]
[null,"Week #13",{"$f":"BZ20","v":0},0,{"$f":"IF(BX16>0,1,0)","v":0},0,null,null,11,{"$f":"IFERROR(AVERAGE(J8,V8,AH8,AT8,BF8,BR8,CJ8),0)","v":0},{"$f":"IFERROR(MIN(J8,V8,AH8,AT8,BF8,BR8,CJ8),0)","v":0},{"$f":"IFERROR(MAX(J8,V8,AH8,AT8,BF8,BR8,CJ8),0)","v":0}]
[null,"Week #14",{"$f":"CF20","v":0},0,{"$f":"IF(CD16>0,1,0)","v":0},0,null,null,12,0,0,0]
[null,"Week #15",{"$f":"CL20","v":0},0,{"$f":"IF(CJ16>0,1,0)","v":0},0,null,null,13,0,0,0]
[null,"Total",{"$f":"SUM(C29:C43)","v":0},{"$f":"SUM(D29:D43)","v":0},{"$f":"SUM(E29:E43)","v":0},{"$f":"SUM(F29:F43)","v":0},null,null,14,0,0,0]
[null,null,null,null,null,null,null,null,15,0,0,0]
[null,"Summary",null,null,null,null,null,null,16,0,0,0]
[null,"Eagles",{"$f":"I57+I68+I79+I90+I101+I112+I123+I134+I145+I156+I167+I178+I189+I200+I211","v":0},null,null,null,null,null,17,0,0,0]
[null,"Birdies",0,null,null,null,null,null,18,0,0,0]
[null,"Pars",{"$f":"I59+I70+I81+I92+I103+I114+I125+I136+I147+I158+I169+I180+I191+I202+I213","v":0},null,null,null,null,null,"Back",{"$f":"SUM(J40:J48)","v":0},{"$f":"SUM(K40:K48)","v":0},0]
[null,"bogeys",0]
[null,"Double bogeys",0]
[null,"Other",0]
[null,"Total",{"$f":"SUM(C47:C52)","v":0}]
[]
[null,{"$f":"D4","v":"2024-04-26"},"Par","Score"]
[null,{"$f":"B7","v":1},4,0,{"$f":"IF(D56<>0,IF((D56-C56)=-1,\"Birdie\",IF((D56-C56)=-2,\"Eagle\",IF((D56-C56)=0,\"Par\",IF((D56-C56)=1,\"bogey\",IF((D56-C56)=2,\"Double bogey\",\"Other\"))))),\"  \")","v":"  "},null,null,"Count"]
[null,2,4,0,"  ",null,null,"Eagle",{"$f":"COUNTIF(E56:E64,\"Eagle\")","v":0}]
[null,3,3,0,"  ",null,null,"Birdie",{"$f":"COUNTIF(E56:E64,\"Birdie\")","v":0}]
[null,4,4,0,"  ",null,null,"Par",{"$f":"COUNTIF(E56:E64,\"Par\")","v":0}]
[null,5,5,0,"  ",null,null,"bogey",{"$f":"COUNTIF(E56:E64,\"bogey\")","v":0}]
[null,6,3,0,"  ",null,null,"Double bogey",{"$f":"COUNTIF(E56:E64,\"Double bogey\")","v":0}]
[null,7,4,0,"  ",null,null,"Other",{"$f":"COUNTIF(E56:E64,\"Other\")","v":0}]
[null,8,4,0,"  "]
[null,9,5,0,"  "]
[]
[null,{"$f":"J4","v":"2024-05-03"}]
[null,{"$f":"H7","v":10},4,0,{"$f":"IF(D67<>0,IF((D67-C67)=-1,\"Birdie\",IF((D67-C67)=-2,\"Eagle\",IF((D67-C67)=0,\"Par\",IF((D67-C67)=1,\"bogey\",IF((D67-C67)=2,\"Double bogey\",\"Other\"))))),\"  \")","v":"  "},null,null,"Count"]
[null,11,4,0,"  ",null,null,"Eagle",{"$f":"COUNTIF(E67:E75,\"Eagle\")","v":0}]
[null,12,4,0,"  ",null,null,"Birdie",{"$f":"COUNTIF(E67:E75,\"Birdie\")","v":0}]
[null,13,5,0,"  ",null,null,"Par",{"$f":"COUNTIF(E67:E75,\"Par\")","v":0}]
[null,14,3,0,"  ",null,null,"bogey",{"$f":"COUNTIF(E67:E75,\"bogey\")","v":0}]
[null,15,4,0,"  ",null,null,"Double bogey",{"$f":"COUNTIF(E67:E75,\"Double bogey\")","v":0}]
[null,16,4,0,"  ",null,null,"Other",{"$f":"COUNTIF(E67:E75,\"Other\")","v":0}]
[null,17,3,0,"  "]
[null,18,5,0,"  "]
[]
[null,{"$f":"P4","v":"2024-05-10"}]
[null,{"$f":"N7","v":1},4,0,{"$f":"IF(D78<>0,IF((D78-C78)=-1,\"Birdie\",IF((D78-C78)=-2,\"Eagle\",IF((D78-C78)=0,\"Par\",IF((D78-C78)=1,\"bogey\",IF((D78-C78)=2,\"Double bogey\",\"Other\"))))),\"  \")","v":"  "},null,null,"Count"]
[null,2,4,0,"  ",null,null,"Eagle",{"$f":"COUNTIF(E78:E86,\"Eagle\")","v":0}]
[null,3,3,0,"  ",null,null,"Birdie",{"$f":"COUNTIF(E78:E86,\"Birdie\")","v":0}]
[null,4,4,0,"  ",null,null,"Par",{"$f":"COUNTIF(E78:E86,\"Par\")","v":0}]
[null,5,5,0,"  ",null,null,"bogey",{"$f":"COUNTIF(E78:E86,\"bogey\")","v":0}]
[null,6,3,0,"  ",null,null,"Double bogey",{"$f":"COUNTIF(E78:E86,\"Double bogey\")","v":0}]
[null,7,4,0,"  ",null,null,"Other",{"$f":"COUNTIF(E78:E86,\"Other\")","v":0}]
[null,8,4,0,"  "]
[null,9,5,0,"  "]
[]
[null,{"$f":"V4","v":"2024-05-17"}]
[null,{"$f":"T7","v":10},4,0,{"$f":"IF(D89<>0,IF((D89-C89)=-1,\"Birdie\",IF((D89-C89)=-2,\"Eagle\",IF((D89-C89)=0,\"Par\",IF((D89-C89)=1,\"bogey\",IF((D89-C89)=2,\"Double bogey\",\"Other\"))))),\"  \")","v":"  "},null,null,"Count"]
[null,11,4,0,"  ",null,null,"Eagle",{"$f":"COUNTIF(E89:E97,\"Eagle\")","v":0}]
[null,12,4,0,"  ",null,null,"Birdie",{"$f":"COUNTIF(E89:E97,\"Birdie\")","v":0}]
[null,13,5,0,"  ",null,null,"Par",{"$f":"COUNTIF(E89:E97,\"Par\")","v":0}]
[null,14,3,0,"  ",null,null,"bogey",{"$f":"COUNTIF(E89:E97,\"bogey\")","v":0}]
[null,15,4,0,"  ",null,null,"Double bogey",{"$f":"COUNTIF(E89:E97,\"Double bogey\")","v":0}]
[null,16,4,0,"  ",null,null,"Other",{"$f":"COUNTIF(E89:E97,\"Other\")","v":0}]
[null,17,3,0,"  "]
[null,18,5,0,"  "]
[]
[null,{"$f":"AB4","v":"2024-05-24"}]
[null,{"$f":"Z7","v":1},4,0,{"$f":"IF(D100<>0,IF((D100-C100)=-1,\"Birdie\",IF((D100-C100)=-2,\"Eagle\",IF((D100-C100)=0,\"Par\",IF((D100-C100)=1,\"bogey\",IF((D100-C100)=2,\"Double bogey\",\"Other\"))))),\"  \")","v":"  "},null,null,"Count"]
[null,2,4,0,"  ",null,null,"Eagle",{"$f":"COUNTIF(E100:E108,\"Eagle\")","v":0}]
[null,3,3,0,"  ",null,null,"Birdie",{"$f":"COUNTIF(E100:E108,\"Birdie\")","v":0}]
[null,4,4,0,"  ",null,null,"Par",{"$f":"COUNTIF(E100:E108,\"Par\")","v":0}]
[null,5,5,0,"  ",null,null,"bogey",{"$f":"COUNTIF(E100:E108,\"bogey\")","v":0}]
[null,6,3,0,"  ",null,null,"Double bogey",{"$f":"COUNTIF(E100:E108,\"Double bogey\")","v":0}]
[null,7,4,0,"  ",null,null,"Other",{"$f":"COUNTIF(E100:E108,\"Other\")","v":0}]
[null,8,4,0,"  "]
[null,9,5,0,"  "]
[]
[null,{"$f":"AH4","v":"2024-05-31"}]
[null,{"$f":"AF7","v":10},4,0,{"$f":"IF(D111<>0,IF((D111-C111)=-1,\"Birdie\",IF((D111-C111)=-2,\"Eagle\",IF((D111-C111)=0,\"Par\",IF((D111-C111)=1,\"bogey\",IF((D111-C111)=2,\"Double bogey\",\"Other\"))))),\"  \")","v":"  "},null,null,"Count"]
[null,11,4,0,"  ",null,null,"Eagle",{"$f":"COUNTIF(E111:E119,\"Eagle\")","v":0}]
[null,12,4,0,"  ",null,null,"Birdie",{"$f":"COUNTIF(E111:E119,\"Birdie\")","v":0}]
[null,13,5,0,"  ",null,null,"Par",{"$f":"COUNTIF(E111:E119,\"Par\")","v":0}]
[null,14,3,0,"  ",null,null,"bogey",{"$f":"COUNTIF(E111:E119,\"bogey\")","v":0}]
[null,15,4,0,"  ",null,null,"Double bogey",{"$f":"COUNTIF(E111:E119,\"Double bogey\")","v":0}]
[null,16,4,0,"  ",null,null,"Other",{"$f":"COUNTIF(E111:E119,\"Other\")","v":0}]
[null,17,3,0,"  "]
[null,18,5,0,"  "]
[]
[null,{"$f":"AN4","v":"2024-06-07"}]
[null,{"$f":"AL7","v":1},4,0,{"$f":"IF(D122<>0,IF((D122-C122)=-1,\"Birdie\",IF((D122-C122)=-2,\"Eagle\",IF((D122-C122)=0,\"Par\",IF((D122-C122)=1,\"bogey\",IF((D122-C122)=2,\"Double bogey\",\"Other\"))))),\"  \")","v":"  "},null,null,"Count"]
[null,2,4,0,"  ",null,null,"Eagle",{"$f":"COUNTIF(E122:E130,\"Eagle\")","v":0}]
[null,3,3,0,"  ",null,null,"Birdie",{"$f":"COUNTIF(E122:E130,\"Birdie\")","v":0}]
[null,4,4,0,"  ",null,null,"Par",{"$f":"COUNTIF(E122:E130,\"Par\")","v":0}]
[null,5,5,0,"  ",null,null,"bogey",{"$f":"COUNTIF(E122:E130,\"bogey\")","v":0}]
[null,6,3,0,"  ",null,null,"Double bogey",{"$f":"COUNTIF(E122:E130,\"Double bogey\")","v":0}]
[null,7,4,0,"  ",null,null,"Other",{"$f":"COUNTIF(E122:E130,\"Other\")","v":0}]
[null,8,4,0,"  "]
[null,9,5,0,"  "]
[]
[null,{"$f":"AT4","v":"2024-06-14"}]
[null,{"$f":"AR7","v":10},4,0,{"$f":"IF(D133<>0,IF((D133-C133)=-1,\"Birdie\",IF((D133-C133)=-2,\"Eagle\",IF((D133-C133)=0,\"Par\",IF((D133-C133)=1,\"bogey\",IF((D133-C133)=2,\"Double bogey\",\"Other\"))))),\"  \")","v":"  "},null,null,"Count"]
[null,11,4,0,"  ",null,null,"Eagle",{"$f":"COUNTIF(E133:E141,\"Eagle\")","v":0}]
[null,12,4,0,"  ",null,null,"Birdie",{"$f":"COUNTIF(E133:E141,\"Birdie\")","v":0}]
[null,13,5,0,"  ",null,null,"Par",{"$f":"COUNTIF(E133:E141,\"Par\")","v":0}]
[null,14,3,0,"  ",null,null,"bogey",{"$f":"COUNTIF(E133:E141,\"bogey\")","v":0}]
[null,15,4,0,"  ",null,null,"Double bogey",{"$f":"COUNTIF(E133:E141,\"Double bogey\")","v":0}]
[null,16,4,0,"  ",null,null,"Other",{"$f":"COUNTIF(E133:E141,\"Other\")","v":0}]
[null,17,3,0,"  "]
[null,18,5,0,"  "]
[]
[null,{"$f":"AZ4","v":"2024-07-05"}]
[null,{"$f":"AX7","v":1},4,0,{"$f":"IF(D144<>0,IF((D144-C144)=-1,\"Birdie\",IF((D144-C144)=-2,\"Eagle\",IF((D144-C144)=0,\"Par\",IF((D144-C144)=1,\"bogey\",IF((D144-C144)=2,\"Double bogey\",\"Other\"))))),\"  \")","v":"  "},null,null,"Count"]
[null,2,4,0,"  ",null,null,"Eagle",{"$f":"COUNTIF(E144:E152,\"Eagle\")","v":0}]
[null,3,3,0,"  ",null,null,"Birdie",{"$f":"COUNTIF(E144:E152,\"Birdie\")","v":0}]
[null,4,4,0,"  ",null,null,"Par",{"$f":"COUNTIF(E144:E152,\"Par\")","v":0}]
[null,5,5,0,"  ",null,null,"bogey",{"$f":"COUNTIF(E144:E152,\"bogey\")","v":0}]
[null,6,3,0,"  ",null,null,"Double bogey",{"$f":"COUNTIF(E144:E152,\"Double bogey\")","v":0}]
[null,7,4,0,"  ",null,null,"Other",{"$f":"COUNTIF(E144:E152,\"Other\")","v":0}]
[null,8,4,0,"  "]
[null,9,5,0,"  "]
[]
[null,{"$f":"BF4","v":"2024-07-12"}]
[null,{"$f":"BD7","v":10},4,0,{"$f":"IF(D155<>0,IF((D155-C155)=-1,\"Birdie\",IF((D155-C155)=-2,\"Eagle\",IF((D155-C155)=0,\"Par\",IF((D155-C155)=1,\"bogey\",IF((D155-C155)=2,\"Double bogey\",\"Other\"))))),\"  \")","v":"  "},null,null,"Count"]
[null,11,4,0,"  ",null,null,"Eagle",{"$f":"COUNTIF(E155:E163,\"Eagle\")","v":0}]
[null,12,4,0,"  ",null,null,"Birdie",{"$f":"COUNTIF(E155:E163,\"Birdie\")","v":0}]
[null,13,5,0,"  ",null,null,"Par",{"$f":"COUNTIF(E155:E163,\"Par\")","v":0}]
[null,14,3,0,"  ",null,null,"bogey",{"$f":"COUNTIF(E155:E163,\"bogey\")","v":0}]
[null,15,4,0,"  ",null,null,"Double bogey",{"$f":"COUNTIF(E155:E163,\"Double bogey\")","v":0}]
[null,16,4,0,"  ",null,null,"Other",{"$f":"COUNTIF(E155:E163,\"Other\")","v":0}]
[null,17,3,0,"  "]
[null,18,5,0,"  "]
[]
[null,{"$f":"BL4","v":"2024-07-19"}]
[null,{"$f":"BJ7","v":1},4,0,{"$f":"IF(D166<>0,IF((D166-C166)=-1,\"Birdie\",IF((D166-C166)=-2,\"Eagle\",IF((D166-C166)=0,\"Par\",IF((D166-C166)=1,\"bogey\",IF((D166-C166)=2,\"Double bogey\",\"Other\"))))),\"  \")","v":"  "},null,null,"Count"]
[null,2,4,0,"  ",null,null,"Eagle",{"$f":"COUNTIF(E166:E174,\"Eagle\")","v":0}]
[null,3,3,0,"  ",null,null,"Birdie",{"$f":"COUNTIF(E166:E174,\"Birdie\")","v":0}]
[null,4,4,0,"  ",null,null,"Par",{"$f":"COUNTIF(E166:E174,\"Par\")","v":0}]
[null,5,5,0,"  ",null,null,"bogey",{"$f":"COUNTIF(E166:E174,\"bogey\")","v":0}]
[null,6,3,0,"  ",null,null,"Double bogey",{"$f":"COUNTIF(E166:E174,\"Double bogey\")","v":0}]
[null,7,4,0,"  ",null,null,"Other",{"$f":"COUNTIF(E166:E174,\"Other\")","v":0}]
[null,8,4,0,"  "]
[null,9,5,0,"  "]
[]
[null,{"$f":"BR4","v":"2024-07-26"}]
[null,{"$f":"BP7","v":10},4,0,{"$f":"IF(D177<>0,IF((D177-C177)=-1,\"Birdie\",IF((D177-C177)=-2,\"Eagle\",IF((D177-C177)=0,\"Par\",IF((D177-C177)=1,\"bogey\",IF((D177-C177)=2,\"Double bogey\",\"Other\"))))),\"  \")","v":"  "},null,null,"Count"]
[null,11,4,0,"  ",null,null,"Eagle",{"$f":"COUNTIF(E177:E185,\"Eagle\")","v":0}]
[null,12,4,0,"  ",null,null,"Birdie",{"$f":"COUNTIF(E177:E185,\"Birdie\")","v":0}]
[null,13,5,0,"  ",null,null,"Par",{"$f":"COUNTIF(E177:E185,\"Par\")","v":0}]
[null,14,3,0,"  ",null,null,"bogey",{"$f":"COUNTIF(E177:E185,\"bogey\")","v":0}]
[null,15,4,0,"  ",null,null,"Double bogey",{"$f":"COUNTIF(E177:E185,\"Double bogey\")","v":0}]
[null,16,4,0,"  ",null,null,"Other",{"$f":"COUNTIF(E177:E185,\"Other\")","v":0}]
[null,17,3,0,"  "]
[null,18,5,0,"  "]
[]
[null,{"$f":"BX4","v":"2024-08-02"}]
[null,{"$f":"BV7","v":1},4,0,{"$f":"IF(D188<>0,IF((D188-C188)=-1,\"Birdie\",IF((D188-C188)=-2,\"Eagle\",IF((D188-C188)=0,\"Par\",IF((D188-C188)=1,\"bogey\",IF((D188-C188)=2,\"Double bogey\",\"Other\"))))),\"  \")","v":"  "},null,null,"Count"]
[null,2,4,0,"  ",null,null,"Eagle",{"$f":"COUNTIF(E188:E196,\"Eagle\")","v":0}]
[null,3,3,0,"  ",null,null,"Birdie",{"$f":"COUNTIF(E188:E196,\"Birdie\")","v":0}]
[null,4,4,0,"  ",null,null,"Par",{"$f":"COUNTIF(E188:E196,\"Par\")","v":0}]
[null,5,5,0,"  ",null,null,"bogey",{"$f":"COUNTIF(E188:E196,\"bogey\")","v":0}]
[null,6,3,0,"  ",null,null,"Double bogey",{"$f":"COUNTIF(E188:E196,\"Double bogey\")","v":0}]
[null,7,4,0,"  ",null,null,"Other",{"$f":"COUNTIF(E188:E196,\"Other\")","v":0}]
[null,8,4,0,"  "]
[null,9,5,0,"  "]
[]
[null,{"$f":"CD4","v":"2024-08-16"}]
[null,{"$f":"CB7","v":1},4,0,{"$f":"IF(D199<>0,IF((D199-C199)=-1,\"Birdie\",IF((D199-C199)=-2,\"Eagle\",IF((D199-C199)=0,\"Par\",IF((D199-C199)=1,\"bogey\",IF((D199-C199)=2,\"Double bogey\",\"Other\"))))),\"  \")","v":"  "},null,null,"Count"]
[null,2,4,0,"  ",null,null,"Eagle",{"$f":"COUNTIF(E199:E207,\"Eagle\")","v":0}]
[null,3,3,0,"  ",null,null,"Birdie",{"$f":"COUNTIF(E199:E207,\"Birdie\")","v":0}]
[null,4,4,0,"  ",null,null,"Par",{"$f":"COUNTIF(E199:E207,\"Par\")","v":0}]
[null,5,5,0,"  ",null,null,"bogey",{"$f":"COUNTIF(E199:E207,\"bogey\")","v":0}]
[null,6,3,0,"  ",null,null,"Double bogey",{"$f":"COUNTIF(E199:E207,\"Double bogey\")","v":0}]
[null,7,4,0,"  ",null,null,"Other",{"$f":"COUNTIF(E199:E207,\"Other\")","v":0}]
[null,8,4,0,"  "]
[null,9,5,0,"  "]
[]
[null,{"$f":"CJ4","v":"2024-08-23"}]
[null,{"$f":"CH7","v":10},4,0,{"$f":"IF(D210<>0,IF((D210-C210)=-1,\"Birdie\",IF((D210-C210)=-2,\"Eagle\",IF((D210-C210)=0,\"Par\",IF((D210-C210)=1,\"bogey\",IF((D210-C210)=2,\"Double bogey\",\"Other\"))))),\"  \")","v":"  "},null,null,"Count"]
[null,11,4,0,"  ",null,null,"Eagle",{"$f":"COUNTIF(E210:E218,\"Eagle\")","v":0}]
[null,12,4,0,"  ",null,null,"Birdie",{"$f":"COUNTIF(E210:E218,\"Birdie\")","v":0}]
[null,13,5,0,"  ",null,null,"Par",{"$f":"COUNTIF(E210:E218,\"Par\")","v":0}]
[null,14,3,0,"  ",null,null,"bogey",{"$f":"COUNTIF(E210:E218,\"bogey\")","v":0}]
[null,15,4,0,"  ",null,null,"Double bogey",{"$f":"COUNTIF(E210:E218,\"Double bogey\")","v":0}]
[null,16,4,0,"  ",null,null,"Other",{"$f":"COUNTIF(E210:E218,\"Other\")","v":0}]
[null,17,3,0,"  "]
[null,18,5,0,"  "]

{"sheet":"Archambault","index":22,"n_rows":218,"n_cols":90,"rows_kept":218,"cut":false,"hidden":false,"merged":[]}
["Paul Archambault"]
[]
[]
[null,null,"Date:",{"$f":"VLOOKUP(C5,Week,2)","v":"2024-04-26"},null,null,null,null,"Date:",{"$f":"VLOOKUP(I5,Week,2)","v":"2024-05-03"},null,null,null,null,"Date:",{"$f":"VLOOKUP(O5,Week,2)","v":"2024-05-10"},null,null,null,null,"Date:",{"$f":"VLOOKUP(U5,Week,2)","v":"2024-05-17"},null,null,null,null,"Date:",{"$f":"VLOOKUP(AA5,Week,2)","v":"2024-05-24"},null,null,null,null,"Date:",{"$f":"VLOOKUP(AG5,Week,2)","v":"2024-05-31"},null,null,null,null,"Date:",{"$f":"VLOOKUP(AM5,Week,2)","v":"2024-06-07"},null,null,null,null,"Date:",{"$f":"VLOOKUP(AS5,Week,2)","v":"2024-06-14"},null,null,null,null,"Date:",{"$f":"VLOOKUP(AY5,Week,2)","v":"2024-07-05"},null,null,null,null,"Date:",{"$f":"VLOOKUP(BE5,Week,2)","v":"2024-07-12"},null,null,null,null,"Date:",{"$f":"VLOOKUP(BK5,Week,2)","v":"2024-07-19"},null,null,null,null,"Date:",{"$f":"VLOOKUP(BQ5,Week,2)","v":"2024-07-26"},null,null,null,null,"Date:",{"$f":"VLOOKUP(BW5,Week,2)","v":"2024-08-02"},null,null,null,null,"Date:",{"$f":"VLOOKUP(CC5,Week,2)","v":"2024-08-16"},null,null,null,null,"Date:",{"$f":"VLOOKUP(CI5,Week,2)","v":"2024-08-23"}]
[null,"Week",1,null,null,null,null,"Week",2,null,null,null,null,"Week",3,null,null,null,null,"Week",4,null,null,null,null,"Week",5,null,null,null,null,"Week",6,null,null,null,null,"Week",7,null,null,null,null,"Week",8,null,null,null,null,"Week",9,null,null,null,null,"Week",10,null,null,null,null,"Week",11,null,null,null,null,"Week",12,null,null,null,null,"Week",13,null,null,null,null,"Week",14,null,null,null,null,"Week",15]
[null,"Hole #","Par","Score","Net","Win Hole",null,"Hole #","Par","Score","Net","Win Hole",null,"Hole #","Par","Score","Net","Win Hole",null,"Hole #","Par","Score","Net","Win Hole",null,"Hole #","Par","Score","Net","Win Hole",null,"Hole #","Par","Score","Net","Win Hole",null,"Hole #","Par","Score","Net","Win Hole",null,"Hole #","Par","Score","Net","Win Hole",null,"Hole #","Par","Score","Net","Win Hole",null,"Hole #","Par","Score","Net","Win Hole",null,"Hole #","Par","Score","Net","Win Hole",null,"Hole #","Par","Score","Net","Win Hole",null,"Hole #","Par","Score","Net","Win Hole",null,"Hole #","Par","Score","Net","Win Hole",null,"Hole #","Par","Score","Net","Win Hole"]
[null,{"$f":"VLOOKUP(C5,Week,6)","v":1},{"$f":"VLOOKUP(B7,Holes,2)","v":4},null,{"$f":"IF((D7-C7)>3,C7+3,D7)","v":0},null,null,{"$f":"VLOOKUP(I5,Week,6)","v":10},{"$f":"VLOOKUP(H7,Holes,2)","v":4},null,{"$f":"IF((J7-I7)>3,I7+3,J7)","v":0},null,null,{"$f":"VLOOKUP(O5,Week,6)","v":1},{"$f":"VLOOKUP(N7,Holes,2)","v":4},null,{"$f":"IF((P7-O7)>3,O7+3,P7)","v":0},null,null,{"$f":"VLOOKUP(U5,Week,6)","v":10},{"$f":"VLOOKUP(T7,Holes,2)","v":4},null,{"$f":"IF((V7-U7)>3,U7+3,V7)","v":0},null,null,{"$f":"VLOOKUP(AA5,Week,6)","v":1},{"$f":"VLOOKUP(Z7,Holes,2)","v":4},4,{"$f":"IF((AB7-AA7)>3,AA7+3,AB7)","v":4},0.5,null,{"$f":"VLOOKUP(AG5,Week,6)","v":10},{"$f":"VLOOKUP(AF7,Holes,2)","v":4},null,{"$f":"IF((AH7-AG7)>3,AG7+3,AH7)","v":0},null,null,{"$f":"VLOOKUP(AM5,Week,6)","v":1},{"$f":"VLOOKUP(AL7,Holes,2)","v":4},null,{"$f":"IF((AN7-AM7)>3,AM7+3,AN7)","v":0},null,null,{"$f":"VLOOKUP(AS5,Week,6)","v":10},{"$f":"VLOOKUP(AR7,Holes,2)","v":4},null,{"$f":"IF((AT7-AS7)>3,AS7+3,AT7)","v":0},null,null,{"$f":"VLOOKUP(AY5,Week,6)","v":1},{"$f":"VLOOKUP(AX7,Holes,2)","v":4},null,{"$f":"IF((AZ7-AY7)>3,AY7+3,AZ7)","v":0},null,null,{"$f":"VLOOKUP(BE5,Week,6)","v":10},{"$f":"VLOOKUP(BD7,Holes,2)","v":4},null,{"$f":"IF((BF7-BE7)>3,BE7+3,BF7)","v":0},null,null,{"$f":"VLOOKUP(BK5,Week,6)","v":1},{"$f":"VLOOKUP(BJ7,Holes,2)","v":4},null,{"$f":"IF((BL7-BK7)>3,BK7+3,BL7)","v":0},null,null,{"$f":"VLOOKUP(BQ5,Week,6)","v":10},{"$f":"VLOOKUP(BP7,Holes,2)","v":4},6,{"$f":"IF((BR7-BQ7)>3,BQ7+3,BR7)","v":6},0.5,null,{"$f":"VLOOKUP(BW5,Week,6)","v":1},{"$f":"VLOOKUP(BV7,Holes,2)","v":4},4,{"$f":"IF((BX7-BW7)>3,BW7+3,BX7)","v":4},0.5,null,{"$f":"VLOOKUP(CC5,Week,6)","v":1},{"$f":"VLOOKUP(CB7,Holes,2)","v":4},null,{"$f":"IF((CD7-CC7)>3,CC7+3,CD7)","v":0},null,null,{"$f":"VLOOKUP(CI5,Week,6)","v":10},{"$f":"VLOOKUP(CH7,Holes,2)","v":4},null,{"$f":"IF((CJ7-CI7)>3,CI7+3,CJ7)","v":0}]
[null,{"$f":"+B7+1","v":2},4,null,0,null,null,{"$f":"+H7+1","v":11},4,null,0,null,null,{"$f":"+N7+1","v":2},4,null,0,null,null,{"$f":"+T7+1","v":11},4,null,0,null,null,{"$f":"+Z7+1","v":2},4,4,4,1,null,{"$f":"+AF7+1","v":11},4,null,0,null,null,{"$f":"+AL7+1","v":2},4,null,0,null,null,{"$f":"+AR7+1","v":11},4,null,0,null,null,{"$f":"+AX7+1","v":2},4,null,0,null,null,{"$f":"+BD7+1","v":11},4,null,0,null,null,{"$f":"+BJ7+1","v":2},4,null,0,null,null,{"$f":"+BP7+1","v":11},4,6,6,0.5,null,{"$f":"+BV7+1","v":2},4,6,6,0,null,{"$f":"+CB7+1","v":2},4,null,0,null,null,{"$f":"+CH7+1","v":11},4,null,0]
[null,3,3,null,0,null,null,12,4,null,0,null,null,3,3,null,0,null,null,12,4,null,0,null,null,3,3,7,6,0,null,12,4,null,0,null,null,3,3,null,0,null,null,12,4,null,0,null,null,3,3,null,0,null,null,12,4,null,0,null,null,3,3,null,0,null,null,12,4,8,7,0,null,3,3,4,4,0.5,null,3,3,null,0,null,null,12,4,null,0]
[null,4,4,null,0,null,null,13,5,null,0,null,null,4,4,null,0,null,null,13,5,null,0,null,null,4,4,5,5,1,null,13,5,null,0,null,null,4,4,null,0,null,null,13,5,null,0,null,null,4,4,null,0,null,null,13,5,null,0,null,null,4,4,null,0,null,null,13,5,8,8,0,null,4,4,4,4,0.5,null,4,4,null,0,null,null,13,5,null,0]
[null,5,5,null,0,null,null,14,3,null,0,null,null,5,5,null,0,null,null,14,3,null,0,null,null,5,5,7,7,0.5,null,14,3,null,0,null,null,5,5,null,0,null,null,14,3,null,0,null,null,5,5,null,0,null,null,14,3,null,0,null,null,5,5,null,0,null,null,14,3,4,4,0.5,null,5,5,6,6,0,null,5,5,null,0,null,null,14,3,null,0]
[null,6,3,null,0,null,null,15,4,null,0,null,null,6,3,null,0,null,null,15,4,null,0,null,null,6,3,6,6,0,null,15,4,null,0,null,null,6,3,null,0,null,null,15,4,null,0,null,null,6,3,null,0,null,null,15,4,null,0,null,null,6,3,null,0,null,null,15,4,5,5,1,null,6,3,5,5,0,null,6,3,null,0,null,null,15,4,null,0]
[null,7,4,null,0,null,null,16,4,null,0,null,null,7,4,null,0,null,null,16,4,null,0,null,null,7,4,4,4,1,null,16,4,null,0,null,null,7,4,null,0,null,null,16,4,null,0,null,null,7,4,null,0,null,null,16,4,null,0,null,null,7,4,null,0,null,null,16,4,6,6,0,null,7,4,4,4,1,null,7,4,null,0,null,null,16,4,null,0]
[null,8,4,null,0,null,null,17,3,null,0,null,null,8,4,null,0,null,null,17,3,null,0,null,null,8,4,6,6,0.5,null,17,3,null,0,null,null,8,4,null,0,null,null,17,3,null,0,null,null,8,4,null,0,null,null,17,3,null,0,null,null,8,4,null,0,null,null,17,3,4,4,0.5,null,8,4,7,7,0,null,8,4,null,0,null,null,17,3,null,0]
[null,9,5,null,0,null,null,18,5,null,0,null,null,9,5,null,0,null,null,18,5,null,0,null,null,9,5,6,6,1,null,18,5,null,0,null,null,9,5,null,0,null,null,18,5,null,0,null,null,9,5,null,0,null,null,18,5,null,0,null,null,9,5,null,0,null,null,18,5,5,5,1,null,9,5,7,7,0.5,null,9,5,null,0,null,null,18,5,null,0]
[null,"Total",{"$f":"SUM(C7:C15)","v":36},{"$f":"SUM(D7:D15)","v":0},{"$f":"SUM(E7:E15)","v":0},null,null,"Total",{"$f":"SUM(I7:I15)","v":36},{"$f":"SUM(J7:J15)","v":0},{"$f":"SUM(K7:K15)","v":0},{"$f":"SUM(L7:L15)","v":0},null,"Total",{"$f":"SUM(O7:O15)","v":36},{"$f":"SUM(P7:P15)","v":0},{"$f":"SUM(Q7:Q15)","v":0},{"$f":"SUM(R7:R15)","v":0},null,"Total",{"$f":"SUM(U7:U15)","v":36},{"$f":"SUM(V7:V15)","v":0},{"$f":"SUM(W7:W15)","v":0},{"$f":"SUM(X7:X15)","v":0},null,"Total",{"$f":"SUM(AA7:AA15)","v":36},{"$f":"SUM(AB7:AB15)","v":49},{"$f":"SUM(AC7:AC15)","v":48},{"$f":"SUM(AD7:AD15)","v":5.5},null,"Total",{"$f":"SUM(AG7:AG15)","v":36},{"$f":"SUM(AH7:AH15)","v":0},{"$f":"SUM(AI7:AI15)","v":0},{"$f":"SUM(AJ7:AJ15)","v":0},null,"Total",{"$f":"SUM(AM7:AM15)","v":36},{"$f":"SUM(AN7:AN15)","v":0},{"$f":"SUM(AO7:AO15)","v":0},{"$f":"SUM(AP7:AP15)","v":0},null,"Total",{"$f":"SUM(AS7:AS15)","v":36},{"$f":"SUM(AT7:AT15)","v":0},{"$f":"SUM(AU7:AU15)","v":0},{"$f":"SUM(AV7:AV15)","v":0},null,"Total",{"$f":"SUM(AY7:AY15)","v":36},{"$f":"SUM(AZ7:AZ15)","v":0},{"$f":"SUM(BA7:BA15)","v":0},{"$f":"SUM(BB7:BB15)","v":0},null,"Total",{"$f":"SUM(BE7:BE15)","v":36},{"$f":"SUM(BF7:BF15)","v":0},{"$f":"SUM(BG7:BG15)","v":0},{"$f":"SUM(BH7:BH15)","v":0},null,"Total",{"$f":"SUM(BK7:BK15)","v":36},{"$f":"SUM(BL7:BL15)","v":0},{"$f":"SUM(BM7:BM15)","v":0},{"$f":"SUM(BN7:BN15)","v":0},null,"Total",{"$f":"SUM(BQ7:BQ15)","v":36},{"$f":"SUM(BR7:BR15)","v":52},{"$f":"SUM(BS7:BS15)","v":51},{"$f":"SUM(BT7:BT15)","v":4},null,"Total",{"$f":"SUM(BW7:BW15)","v":36},{"$f":"SUM(BX7:BX15)","v":47},{"$f":"SUM(BY7:BY15)","v":47},{"$f":"SUM(BZ7:BZ15)","v":3},null,"Total",{"$f":"SUM(CC7:CC15)","v":36},{"$f":"SUM(CD7:CD15)","v":0},{"$f":"SUM(CE7:CE15)","v":0},{"$f":"SUM(CF7:CF15)","v":0},null,"Total",{"$f":"SUM(CI7:CI15)","v":36},{"$f":"SUM(CJ7:CJ15)","v":0},{"$f":"SUM(CK7:CK15)","v":0},{"$f":"SUM(CL7:CL15)","v":0}]
[]
[null,null,null,null,"Low Net",null,null,null,null,null,"Low Net",0,null,null,null,null,"Low Net",0,null,null,null,null,"Low Net",null,null,null,null,null,"Low Net",0.5,null,null,null,null,"Low Net",null,null,null,null,null,"Low Net",null,null,null,null,null,"Low Net",null,null,null,null,null,"Low Net",null,null,null,null,null,"Low Net",null,null,null,null,null,"Low Net",null,null,null,null,null,"Low Net",0,null,null,null,null,"Low Net",0,null,null,null,null,"Low Net",null,null,null,null,null,"Low Net"]
[]
[null,null,null,null,"Total Points",{"$f":"SUM(F16:F19)","v":0},null,null,null,null,"Total Points",{"$f":"SUM(L16:L19)","v":0},null,null,null,null,"Total Points",{"$f":"SUM(R16:R19)","v":0},null,null,null,null,"Total Points",{"$f":"SUM(X16:X19)","v":0},null,null,null,null,"Total Points",{"$f":"SUM(AD16:AD19)","v":6},null,null,null,null,"Total Points",{"$f":"SUM(AJ16:AJ19)","v":0},null,null,null,null,"Total Points",{"$f":"SUM(AP16:AP19)","v":0},null,null,null,null,"Total Points",{"$f":"SUM(AV16:AV19)","v":0},null,null,null,null,"Total Points",{"$f":"SUM(BB16:BB19)","v":0},null,null,null,null,"Total Points",{"$f":"SUM(BH16:BH19)","v":0},null,null,null,null,"Total Points",{"$f":"SUM(BN16:BN19)","v":0},null,null,null,null,"Total Points",{"$f":"SUM(BT16:BT19)","v":4},null,null,null,null,"Total Points",{"$f":"SUM(BZ16:BZ19)","v":3},null,null,null,null,"Total Points",{"$f":"SUM(CF16:CF19)","v":0},null,null,null,null,"Total Points",{"$f":"SUM(CL16:CL19)","v":0}]
[]
[null,null,null,null,"Handicap",{"$f":"IF(D16=0,0,E16-C16)","v":0},null,null,null,null,"Handicap",{"$f":"IF(J16=0,0,K16-I16)","v":0},null,null,null,null,"Handicap",{"$f":"IF(P16=0,0,Q16-O16)","v":0},null,null,null,null,"Handicap",{"$f":"IF(V16=0,0,W16-U16)","v":0},null,null,null,null,"Handicap",{"$f":"IF(AB16=0,0,AC16-AA16)","v":12},null,null,null,null,"Handicap",{"$f":"IF(AH16=0,0,AI16-AG16)","v":0},null,null,null,null,"Handicap",{"$f":"IF(AN16=0,0,AO16-AM16)","v":0},null,null,null,null,"Handicap",{"$f":"IF(AT16=0,0,AU16-AS16)","v":0},null,null,null,null,"Handicap",{"$f":"IF(AZ16=0,0,BA16-AY16)","v":0},null,null,null,null,"Handicap",{"$f":"IF(BF16=0,0,BG16-BE16)","v":0},null,null,null,null,"Handicap",{"$f":"IF(BL16=0,0,BM16-BK16)","v":0},null,null,null,null,"Handicap",{"$f":"IF(BR16=0,0,BS16-BQ16)","v":15},null,null,null,null,"Handicap",{"$f":"IF(BX16=0,0,BY16-BW16)","v":11},null,null,null,null,"Handicap",{"$f":"IF(CD16=0,0,CE16-CC16)","v":0},null,null,null,null,"Handicap",{"$f":"IF(CJ16=0,0,CK16-CI16)","v":0}]
[]
[null,null,null,null,null,{"$f":"IF(D16<>0,IF(F16>4.5,\"W\",IF(F16=4.5,\"T\",IF(F16<4.5,\"L\"))),0)","v":0},null,null,null,null,null,{"$f":"IF(J16<>0,IF(L16>4.5,\"W\",IF(L16=4.5,\"T\",IF(L16<4.5,\"L\"))),0)","v":0},null,null,null,null,null,{"$f":"IF(P16<>0,IF(R16>4.5,\"W\",IF(R16=4.5,\"T\",IF(R16<4.5,\"L\"))),0)","v":0},null,null,null,null,null,{"$f":"IF(V16<>0,IF(X16>4.5,\"W\",IF(X16=4.5,\"T\",IF(X16<4.5,\"L\"))),0)","v":0},null,null,null,null,null,{"$f":"IF(AB16<>0,IF(AD16>4.5,\"W\",IF(AD16=4.5,\"T\",IF(AD16<4.5,\"L\"))),0)","v":"W"},null,null,null,null,null,{"$f":"IF(AH16<>0,IF(AJ16>4.5,\"W\",IF(AJ16=4.5,\"T\",IF(AJ16<4.5,\"L\"))),0)","v":0},null,null,null,null,null,{"$f":"IF(AN16<>0,IF(AP16>4.5,\"W\",IF(AP16=4.5,\"T\",IF(AP16<4.5,\"L\"))),0)","v":0},null,null,null,null,null,{"$f":"IF(AT16<>0,IF(AV16>4.5,\"W\",IF(AV16=4.5,\"T\",IF(AV16<4.5,\"L\"))),0)","v":0},null,null,null,null,null,{"$f":"IF(AZ16<>0,IF(BB16>4.5,\"W\",IF(BB16=4.5,\"T\",IF(BB16<4.5,\"L\"))),0)","v":0},null,null,null,null,null,{"$f":"IF(BF16<>0,IF(BH16>4.5,\"W\",IF(BH16=4.5,\"T\",IF(BH16<4.5,\"L\"))),0)","v":0},null,null,null,null,null,{"$f":"IF(BL16<>0,IF(BN16>4.5,\"W\",IF(BN16=4.5,\"T\",IF(BN16<4.5,\"L\"))),0)","v":0},null,null,null,null,null,{"$f":"IF(BR16<>0,IF(BT16>4.5,\"W\",IF(BT16=4.5,\"T\",IF(BT16<4.5,\"L\"))),0)","v":"L"},null,null,null,null,null,{"$f":"IF(BX16<>0,IF(BZ16>4.5,\"W\",IF(BZ16=4.5,\"T\",IF(BZ16<4.5,\"L\"))),0)","v":"L"},null,null,null,null,null,{"$f":"IF(CD16<>0,IF(CF16>4.5,\"W\",IF(CF16=4.5,\"T\",IF(CF16<4.5,\"L\"))),0)","v":0},null,null,null,null,null,{"$f":"IF(CJ16<>0,IF(CL16>4.5,\"W\",IF(CL16=4.5,\"T\",IF(CL16<4.5,\"L\"))),0)","v":0}]
[]
[null,"Summary"]
[null,null,null,"Adj",null,"Adj",null,null,null,"Avg Score"]
[null,null,"Points","Points","Matches","Matches",null,null,"Hole #","by Hole","Best","Worst"]
[null,"Week #1",{"$f":"F20","v":0},{"$f":"C29","v":0},{"$f":"IF(D16>0,1,0)","v":0},{"$f":"E29","v":0},null,null,1,{"$f":"IFERROR(AVERAGE(D7,P7,AB7,AN7,AZ7,BL7,BX7,CD7),0)","v":4},{"$f":"IFERROR(MIN(D7,P7,AB7,AN7,AZ7,BL7,BX7,CD7),0)","v":4},{"$f":"IFERROR(MAX(D7,P7,AB7,AN7,AZ7,BL7,BX7,CD7),0)","v":4}]
[null,"Week #2",{"$f":"L20","v":0},0,{"$f":"IF(J16>0,1,0)","v":0},0,null,null,2,{"$f":"IFERROR(AVERAGE(D8,P8,AB8,AN8,AZ8,BL8,BX8,CD8),0)","v":5},{"$f":"IFERROR(MIN(D8,P8,AB8,AN8,AZ8,BL8,BX8,CD8),0)","v":4},{"$f":"IFERROR(MAX(D8,P8,AB8,AN8,AZ8,BL8,BX8,CD8),0)","v":6}]
[null,"Week #3",{"$f":"R20","v":0},0,{"$f":"IF(P16>0,1,0)","v":0},0,null,null,3,5.5,4,7]
[null,"Week #4",{"$f":"X20","v":0},0,{"$f":"IF(V16>0,1,0)","v":0},0,null,null,4,4.5,4,5]
[null,"Week #5",{"$f":"AD20","v":6},6,{"$f":"IF(AB16>0,1,0)","v":1},1,null,null,5,6.5,6,7]
[null,"Week #6",{"$f":"AJ20","v":0},0,{"$f":"IF(AH16>0,1,0)","v":0},0,null,null,6,5.5,5,6]
[null,"Week #7",{"$f":"AP20","v":0},0,{"$f":"IF(AN16>0,1,0)","v":0},0,null,null,7,4,4,4]
[null,"Week #8",{"$f":"AV20","v":0},0,{"$f":"IF(AT16>0,1,0)","v":0},0,null,null,8,6.5,6,7]
[null,"Week #9",{"$f":"BB20","v":0},0,{"$f":"IF(AZ16>0,1,0)","v":0},0,null,null,9,6.5,6,7]
[null,"Week #10",{"$f":"BH20","v":0},0,{"$f":"IF(BF16>0,1,0)","v":0},0,null,null,"Front",{"$f":"SUM(J29:J37)","v":48},{"$f":"SUM(K29:K37)","v":43},53]
[null,"Week #11",{"$f":"BN20","v":0},0,{"$f":"IF(BL16>0,1,0)","v":0},0]
[null,"Week #12",{"$f":"BT20","v":4},4,{"$f":"IF(BR16>0,1,0)","v":1},1,null,null,10,{"$f":"IFERROR(AVERAGE(J7,V7,AH7,AT7,BF7,BR7,CJ7),0)","v":6},{"$f":"IFERROR(MIN(J7,V7,AH7,AT7,BF7,BR7,CJ7),0)","v":6},{"$f":"IFERROR(MAX(J7,V7,AH7,AT7,BF7,BR7,CJ7),0)","v":6}]
[null,"Week #13",{"$f":"BZ20","v":3},3,{"$f":"IF(BX16>0,1,0)","v":1},1,null,null,11,{"$f":"IFERROR(AVERAGE(J8,V8,AH8,AT8,BF8,BR8,CJ8),0)","v":6},{"$f":"IFERROR(MIN(J8,V8,AH8,AT8,BF8,BR8,CJ8),0)","v":6},{"$f":"IFERROR(MAX(J8,V8,AH8,AT8,BF8,BR8,CJ8),0)","v":6}]
[null,"Week #14",{"$f":"CF20","v":0},0,{"$f":"IF(CD16>0,1,0)","v":0},0,null,null,12,8,8,8]
[null,"Week #15",{"$f":"CL20","v":0},0,{"$f":"IF(CJ16>0,1,0)","v":0},0,null,null,13,8,8,8]
[null,"Total",{"$f":"SUM(C29:C43)","v":13},{"$f":"SUM(D29:D43)","v":13},{"$f":"SUM(E29:E43)","v":3},{"$f":"SUM(F29:F43)","v":3},null,null,14,4,4,4]
[null,null,null,null,null,null,null,null,15,5,5,5]
[null,"Summary",null,null,null,null,null,null,16,6,6,6]
[null,"Eagles",{"$f":"I57+I68+I79+I90+I101+I112+I123+I134+I145+I156+I167+I178+I189+I200+I211","v":0},null,null,null,null,null,17,4,4,4]
[null,"Birdies",0,null,null,null,null,null,18,5,5,5]
[null,"Pars",7,null,null,null,null,null,"Back",{"$f":"SUM(J40:J48)","v":52},{"$f":"SUM(K40:K48)","v":52},52]
[null,"bogeys",7]
[null,"Double bogeys",8]
[null,"Other",5]
[null,"Total",{"$f":"SUM(C47:C52)","v":27}]
[]
[null,{"$f":"D4","v":"2024-04-26"},"Par","Score"]
[null,{"$f":"B7","v":1},4,0,{"$f":"IF(D56<>0,IF((D56-C56)=-1,\"Birdie\",IF((D56-C56)=-2,\"Eagle\",IF((D56-C56)=0,\"Par\",IF((D56-C56)=1,\"bogey\",IF((D56-C56)=2,\"Double bogey\",\"Other\"))))),\"  \")","v":"  "},null,null,"Count"]
[null,2,4,0,"  ",null,null,"Eagle",{"$f":"COUNTIF(E56:E64,\"Eagle\")","v":0}]
[null,3,3,0,"  ",null,null,"Birdie",{"$f":"COUNTIF(E56:E64,\"Birdie\")","v":0}]
[null,4,4,0,"  ",null,null,"Par",{"$f":"COUNTIF(E56:E64,\"Par\")","v":0}]
[null,5,5,0,"  ",null,null,"bogey",{"$f":"COUNTIF(E56:E64,\"bogey\")","v":0}]
[null,6,3,0,"  ",null,null,"Double bogey",{"$f":"COUNTIF(E56:E64,\"Double bogey\")","v":0}]
[null,7,4,0,"  ",null,null,"Other",{"$f":"COUNTIF(E56:E64,\"Other\")","v":0}]
[null,8,4,0,"  "]
[null,9,5,0,"  "]
[]
[null,{"$f":"J4","v":"2024-05-03"}]
[null,{"$f":"H7","v":10},4,0,{"$f":"IF(D67<>0,IF((D67-C67)=-1,\"Birdie\",IF((D67-C67)=-2,\"Eagle\",IF((D67-C67)=0,\"Par\",IF((D67-C67)=1,\"bogey\",IF((D67-C67)=2,\"Double bogey\",\"Other\"))))),\"  \")","v":"  "},null,null,"Count"]
[null,11,4,0,"  ",null,null,"Eagle",{"$f":"COUNTIF(E67:E75,\"Eagle\")","v":0}]
[null,12,4,0,"  ",null,null,"Birdie",{"$f":"COUNTIF(E67:E75,\"Birdie\")","v":0}]
[null,13,5,0,"  ",null,null,"Par",{"$f":"COUNTIF(E67:E75,\"Par\")","v":0}]
[null,14,3,0,"  ",null,null,"bogey",{"$f":"COUNTIF(E67:E75,\"bogey\")","v":0}]
[null,15,4,0,"  ",null,null,"Double bogey",{"$f":"COUNTIF(E67:E75,\"Double bogey\")","v":0}]
[null,16,4,0,"  ",null,null,"Other",{"$f":"COUNTIF(E67:E75,\"Other\")","v":0}]
[null,17,3,0,"  "]
[null,18,5,0,"  "]
[]
[null,{"$f":"P4","v":"2024-05-10"}]
[null,{"$f":"N7","v":1},4,0,{"$f":"IF(D78<>0,IF((D78-C78)=-1,\"Birdie\",IF((D78-C78)=-2,\"Eagle\",IF((D78-C78)=0,\"Par\",IF((D78-C78)=1,\"bogey\",IF((D78-C78)=2,\"Double bogey\",\"Other\"))))),\"  \")","v":"  "},null,null,"Count"]
[null,2,4,0,"  ",null,null,"Eagle",{"$f":"COUNTIF(E78:E86,\"Eagle\")","v":0}]
[null,3,3,0,"  ",null,null,"Birdie",{"$f":"COUNTIF(E78:E86,\"Birdie\")","v":0}]
[null,4,4,0,"  ",null,null,"Par",{"$f":"COUNTIF(E78:E86,\"Par\")","v":0}]
[null,5,5,0,"  ",null,null,"bogey",{"$f":"COUNTIF(E78:E86,\"bogey\")","v":0}]
[null,6,3,0,"  ",null,null,"Double bogey",{"$f":"COUNTIF(E78:E86,\"Double bogey\")","v":0}]
[null,7,4,0,"  ",null,null,"Other",{"$f":"COUNTIF(E78:E86,\"Other\")","v":0}]
[null,8,4,0,"  "]
[null,9,5,0,"  "]
[]
[null,{"$f":"V4","v":"2024-05-17"}]
[null,{"$f":"T7","v":10},4,0,{"$f":"IF(D89<>0,IF((D89-C89)=-1,\"Birdie\",IF((D89-C89)=-2,\"Eagle\",IF((D89-C89)=0,\"Par\",IF((D89-C89)=1,\"bogey\",IF((D89-C89)=2,\"Double bogey\",\"Other\"))))),\"  \")","v":"  "},null,null,"Count"]
[null,11,4,0,"  ",null,null,"Eagle",{"$f":"COUNTIF(E89:E97,\"Eagle\")","v":0}]
[null,12,4,0,"  ",null,null,"Birdie",{"$f":"COUNTIF(E89:E97,\"Birdie\")","v":0}]
[null,13,5,0,"  ",null,null,"Par",{"$f":"COUNTIF(E89:E97,\"Par\")","v":0}]
[null,14,3,0,"  ",null,null,"bogey",{"$f":"COUNTIF(E89:E97,\"bogey\")","v":0}]
[null,15,4,0,"  ",null,null,"Double bogey",{"$f":"COUNTIF(E89:E97,\"Double bogey\")","v":0}]
[null,16,4,0,"  ",null,null,"Other",{"$f":"COUNTIF(E89:E97,\"Other\")","v":0}]
[null,17,3,0,"  "]
[null,18,5,0,"  "]
[]
[null,{"$f":"AB4","v":"2024-05-24"}]
[null,{"$f":"Z7","v":1},4,4,{"$f":"IF(D100<>0,IF((D100-C100)=-1,\"Birdie\",IF((D100-C100)=-2,\"Eagle\",IF((D100-C100)=0,\"Par\",IF((D100-C100)=1,\"bogey\",IF((D100-C100)=2,\"Double bogey\",\"Other\"))))),\"  \")","v":"Par"},null,null,"Count"]
[null,2,4,4,"Par",null,null,"Eagle",{"$f":"COUNTIF(E100:E108,\"Eagle\")","v":0}]
[null,3,3,7,"Other",null,null,"Birdie",{"$f":"COUNTIF(E100:E108,\"Birdie\")","v":0}]
[null,4,4,5,"bogey",null,null,"Par",{"$f":"COUNTIF(E100:E108,\"Par\")","v":3}]
[null,5,5,7,"Double bogey",null,null,"bogey",{"$f":"COUNTIF(E100:E108,\"bogey\")","v":2}]
[null,6,3,6,"Other",null,null,"Double bogey",{"$f":"COUNTIF(E100:E108,\"Double bogey\")","v":2}]
[null,7,4,4,"Par",null,null,"Other",{"$f":"COUNTIF(E100:E108,\"Other\")","v":2}]
[null,8,4,6,"Double bogey"]
[null,9,5,6,"bogey"]
[]
[null,{"$f":"AH4","v":"2024-05-31"}]
[null,{"$f":"AF7","v":10},4,0,{"$f":"IF(D111<>0,IF((D111-C111)=-1,\"Birdie\",IF((D111-C111)=-2,\"Eagle\",IF((D111-C111)=0,\"Par\",IF((D111-C111)=1,\"bogey\",IF((D111-C111)=2,\"Double bogey\",\"Other\"))))),\"  \")","v":"  "},null,null,"Count"]
[null,11,4,0,"  ",null,null,"Eagle",{"$f":"COUNTIF(E111:E119,\"Eagle\")","v":0}]
[null,12,4,0,"  ",null,null,"Birdie",{"$f":"COUNTIF(E111:E119,\"Birdie\")","v":0}]
[null,13,5,0,"  ",null,null,"Par",{"$f":"COUNTIF(E111:E119,\"Par\")","v":0}]
[null,14,3,0,"  ",null,null,"bogey",{"$f":"COUNTIF(E111:E119,\"bogey\")","v":0}]
[null,15,4,0,"  ",null,null,"Double bogey",{"$f":"COUNTIF(E111:E119,\"Double bogey\")","v":0}]
[null,16,4,0,"  ",null,null,"Other",{"$f":"COUNTIF(E111:E119,\"Other\")","v":0}]
[null,17,3,0,"  "]
[null,18,5,0,"  "]
[]
[null,{"$f":"AN4","v":"2024-06-07"}]
[null,{"$f":"AL7","v":1},4,0,{"$f":"IF(D122<>0,IF((D122-C122)=-1,\"Birdie\",IF((D122-C122)=-2,\"Eagle\",IF((D122-C122)=0,\"Par\",IF((D122-C122)=1,\"bogey\",IF((D122-C122)=2,\"Double bogey\",\"Other\"))))),\"  \")","v":"  "},null,null,"Count"]
[null,2,4,0,"  ",null,null,"Eagle",{"$f":"COUNTIF(E122:E130,\"Eagle\")","v":0}]
[null,3,3,0,"  ",null,null,"Birdie",{"$f":"COUNTIF(E122:E130,\"Birdie\")","v":0}]
[null,4,4,0,"  ",null,null,"Par",{"$f":"COUNTIF(E122:E130,\"Par\")","v":0}]
[null,5,5,0,"  ",null,null,"bogey",{"$f":"COUNTIF(E122:E130,\"bogey\")","v":0}]
[null,6,3,0,"  ",null,null,"Double bogey",{"$f":"COUNTIF(E122:E130,\"Double bogey\")","v":0}]
[null,7,4,0,"  ",null,null,"Other",{"$f":"COUNTIF(E122:E130,\"Other\")","v":0}]
[null,8,4,0,"  "]
[null,9,5,0,"  "]
[]
[null,{"$f":"AT4","v":"2024-06-14"}]
[null,{"$f":"AR7","v":10},4,0,{"$f":"IF(D133<>0,IF((D133-C133)=-1,\"Birdie\",IF((D133-C133)=-2,\"Eagle\",IF((D133-C133)=0,\"Par\",IF((D133-C133)=1,\"bogey\",IF((D133-C133)=2,\"Double bogey\",\"Other\"))))),\"  \")","v":"  "},null,null,"Count"]
[null,11,4,0,"  ",null,null,"Eagle",{"$f":"COUNTIF(E133:E141,\"Eagle\")","v":0}]
[null,12,4,0,"  ",null,null,"Birdie",{"$f":"COUNTIF(E133:E141,\"Birdie\")","v":0}]
[null,13,5,0,"  ",null,null,"Par",{"$f":"COUNTIF(E133:E141,\"Par\")","v":0}]
[null,14,3,0,"  ",null,null,"bogey",{"$f":"COUNTIF(E133:E141,\"bogey\")","v":0}]
[null,15,4,0,"  ",null,null,"Double bogey",{"$f":"COUNTIF(E133:E141,\"Double bogey\")","v":0}]
[null,16,4,0,"  ",null,null,"Other",{"$f":"COUNTIF(E133:E141,\"Other\")","v":0}]
[null,17,3,0,"  "]
[null,18,5,0,"  "]
[]
[null,{"$f":"AZ4","v":"2024-07-05"}]
[null,{"$f":"AX7","v":1},4,0,{"$f":"IF(D144<>0,IF((D144-C144)=-1,\"Birdie\",IF((D144-C144)=-2,\"Eagle\",IF((D144-C144)=0,\"Par\",IF((D144-C144)=1,\"bogey\",IF((D144-C144)=2,\"Double bogey\",\"Other\"))))),\"  \")","v":"  "},null,null,"Count"]
[null,2,4,0,"  ",null,null,"Eagle",{"$f":"COUNTIF(E144:E152,\"Eagle\")","v":0}]
[null,3,3,0,"  ",null,null,"Birdie",{"$f":"COUNTIF(E144:E152,\"Birdie\")","v":0}]
[null,4,4,0,"  ",null,null,"Par",{"$f":"COUNTIF(E144:E152,\"Par\")","v":0}]
[null,5,5,0,"  ",null,null,"bogey",{"$f":"COUNTIF(E144:E152,\"bogey\")","v":0}]
[null,6,3,0,"  ",null,null,"Double bogey",{"$f":"COUNTIF(E144:E152,\"Double bogey\")","v":0}]
[null,7,4,0,"  ",null,null,"Other",{"$f":"COUNTIF(E144:E152,\"Other\")","v":0}]
[null,8,4,0,"  "]
[null,9,5,0,"  "]
[]
[null,{"$f":"BF4","v":"2024-07-12"}]
[null,{"$f":"BD7","v":10},4,0,{"$f":"IF(D155<>0,IF((D155-C155)=-1,\"Birdie\",IF((D155-C155)=-2,\"Eagle\",IF((D155-C155)=0,\"Par\",IF((D155-C155)=1,\"bogey\",IF((D155-C155)=2,\"Double bogey\",\"Other\"))))),\"  \")","v":"  "},null,null,"Count"]
[null,11,4,0,"  ",null,null,"Eagle",{"$f":"COUNTIF(E155:E163,\"Eagle\")","v":0}]
[null,12,4,0,"  ",null,null,"Birdie",{"$f":"COUNTIF(E155:E163,\"Birdie\")","v":0}]
[null,13,5,0,"  ",null,null,"Par",{"$f":"COUNTIF(E155:E163,\"Par\")","v":0}]
[null,14,3,0,"  ",null,null,"bogey",{"$f":"COUNTIF(E155:E163,\"bogey\")","v":0}]
[null,15,4,0,"  ",null,null,"Double bogey",{"$f":"COUNTIF(E155:E163,\"Double bogey\")","v":0}]
[null,16,4,0,"  ",null,null,"Other",{"$f":"COUNTIF(E155:E163,\"Other\")","v":0}]
[null,17,3,0,"  "]
[null,18,5,0,"  "]
[]
[null,{"$f":"BL4","v":"2024-07-19"}]
[null,{"$f":"BJ7","v":1},4,0,{"$f":"IF(D166<>0,IF((D166-C166)=-1,\"Birdie\",IF((D166-C166)=-2,\"Eagle\",IF((D166-C166)=0,\"Par\",IF((D166-C166)=1,\"bogey\",IF((D166-C166)=2,\"Double bogey\",\"Other\"))))),\"  \")","v":"  "},null,null,"Count"]
[null,2,4,0,"  ",null,null,"Eagle",{"$f":"COUNTIF(E166:E174,\"Eagle\")","v":0}]
[null,3,3,0,"  ",null,null,"Birdie",{"$f":"COUNTIF(E166:E174,\"Birdie\")","v":0}]
[null,4,4,0,"  ",null,null,"Par",{"$f":"COUNTIF(E166:E174,\"Par\")","v":0}]
[null,5,5,0,"  ",null,null,"bogey",{"$f":"COUNTIF(E166:E174,\"bogey\")","v":0}]
[null,6,3,0,"  ",null,null,"Double bogey",{"$f":"COUNTIF(E166:E174,\"Double bogey\")","v":0}]
[null,7,4,0,"  ",null,null,"Other",{"$f":"COUNTIF(E166:E174,\"Other\")","v":0}]
[null,8,4,0,"  "]
[null,9,5,0,"  "]
[]
[null,{"$f":"BR4","v":"2024-07-26"}]
[null,{"$f":"BP7","v":10},4,6,{"$f":"IF(D177<>0,IF((D177-C177)=-1,\"Birdie\",IF((D177-C177)=-2,\"Eagle\",IF((D177-C177)=0,\"Par\",IF((D177-C177)=1,\"bogey\",IF((D177-C177)=2,\"Double bogey\",\"Other\"))))),\"  \")","v":"Double bogey"},null,null,"Count"]
[null,11,4,6,"Double bogey",null,null,"Eagle",{"$f":"COUNTIF(E177:E185,\"Eagle\")","v":0}]
[null,12,4,8,"Other",null,null,"Birdie",{"$f":"COUNTIF(E177:E185,\"Birdie\")","v":0}]
[null,13,5,8,"Other",null,null,"Par",{"$f":"COUNTIF(E177:E185,\"Par\")","v":1}]
[null,14,3,4,"bogey",null,null,"bogey",{"$f":"COUNTIF(E177:E185,\"bogey\")","v":3}]
[null,15,4,5,"bogey",null,null,"Double bogey",{"$f":"COUNTIF(E177:E185,\"Double bogey\")","v":3}]
[null,16,4,6,"Double bogey",null,null,"Other",{"$f":"COUNTIF(E177:E185,\"Other\")","v":2}]
[null,17,3,4,"bogey"]
[null,18,5,5,"Par"]
[]
[null,{"$f":"BX4","v":"2024-08-02"}]
[null,{"$f":"BV7","v":1},4,4,{"$f":"IF(D188<>0,IF((D188-C188)=-1,\"Birdie\",IF((D188-C188)=-2,\"Eagle\",IF((D188-C188)=0,\"Par\",IF((D188-C188)=1,\"bogey\",IF((D188-C188)=2,\"Double bogey\",\"Other\"))))),\"  \")","v":"Par"},null,null,"Count"]
[null,2,4,6,"Double bogey",null,null,"Eagle",{"$f":"COUNTIF(E188:E196,\"Eagle\")","v":0}]
[null,3,3,4,"bogey",null,null,"Birdie",{"$f":"COUNTIF(E188:E196,\"Birdie\")","v":0}]
[null,4,4,4,"Par",null,null,"Par",{"$f":"COUNTIF(E188:E196,\"Par\")","v":3}]
[null,5,5,6,"bogey",null,null,"bogey",{"$f":"COUNTIF(E188:E196,\"bogey\")","v":2}]
[null,6,3,5,"Double bogey",null,null,"Double bogey",{"$f":"COUNTIF(E188:E196,\"Double bogey\")","v":3}]
[null,7,4,4,"Par",null,null,"Other",{"$f":"COUNTIF(E188:E196,\"Other\")","v":1}]
[null,8,4,7,"Other"]
[null,9,5,7,"Double bogey"]
[]
[null,{"$f":"CD4","v":"2024-08-16"}]
[null,{"$f":"CB7","v":1},4,0,{"$f":"IF(D199<>0,IF((D199-C199)=-1,\"Birdie\",IF((D199-C199)=-2,\"Eagle\",IF((D199-C199)=0,\"Par\",IF((D199-C199)=1,\"bogey\",IF((D199-C199)=2,\"Double bogey\",\"Other\"))))),\"  \")","v":"  "},null,null,"Count"]
[null,2,4,0,"  ",null,null,"Eagle",{"$f":"COUNTIF(E199:E207,\"Eagle\")","v":0}]
[null,3,3,0,"  ",null,null,"Birdie",{"$f":"COUNTIF(E199:E207,\"Birdie\")","v":0}]
[null,4,4,0,"  ",null,null,"Par",{"$f":"COUNTIF(E199:E207,\"Par\")","v":0}]
[null,5,5,0,"  ",null,null,"bogey",{"$f":"COUNTIF(E199:E207,\"bogey\")","v":0}]
[null,6,3,0,"  ",null,null,"Double bogey",{"$f":"COUNTIF(E199:E207,\"Double bogey\")","v":0}]
[null,7,4,0,"  ",null,null,"Other",{"$f":"COUNTIF(E199:E207,\"Other\")","v":0}]
[null,8,4,0,"  "]
[null,9,5,0,"  "]
[]
[null,{"$f":"CJ4","v":"2024-08-23"}]
[null,{"$f":"CH7","v":10},4,0,{"$f":"IF(D210<>0,IF((D210-C210)=-1,\"Birdie\",IF((D210-C210)=-2,\"Eagle\",IF((D210-C210)=0,\"Par\",IF((D210-C210)=1,\"bogey\",IF((D210-C210)=2,\"Double bogey\",\"Other\"))))),\"  \")","v":"  "},null,null,"Count"]
[null,11,4,0,"  ",null,null,"Eagle",{"$f":"COUNTIF(E210:E218,\"Eagle\")","v":0}]
[null,12,4,0,"  ",null,null,"Birdie",{"$f":"COUNTIF(E210:E218,\"Birdie\")","v":0}]
[null,13,5,0,"  ",null,null,"Par",{"$f":"COUNTIF(E210:E218,\"Par\")","v":0}]
[null,14,3,0,"  ",null,null,"bogey",{"$f":"COUNTIF(E210:E218,\"bogey\")","v":0}]
[null,15,4,0,"  ",null,null,"Double bogey",{"$f":"COUNTIF(E210:E218,\"Double bogey\")","v":0}]
[null,16,4,0,"  ",null,null,"Other",{"$f":"COUNTIF(E210:E218,\"Other\")","v":0}]
[null,17,3,0,"  "]
[null,18,5,0,"  "]

{"sheet":"Daviero_J","index":23,"n_rows":218,"n_cols":90,"rows_kept":218,"cut":false,"hidden":false,"merged":[]}
["Jill Daviero"]
[]
[]
[null,null,"Date:",{"$f":"VLOOKUP(C5,Week,2)","v":"2024-04-26"},null,null,null,null,"Date:",{"$f":"VLOOKUP(I5,Week,2)","v":"2024-05-03"},null,null,null,null,"Date:",{"$f":"VLOOKUP(O5,Week,2)","v":"2024-05-10"},null,null,null,null,"Date:",{"$f":"VLOOKUP(U5,Week,2)","v":"2024-05-17"},null,null,null,null,"Date:",{"$f":"VLOOKUP(AA5,Week,2)","v":"2024-05-24"},null,null,null,null,"Date:",{"$f":"VLOOKUP(AG5,Week,2)","v":"2024-05-31"},null,null,null,null,"Date:",{"$f":"VLOOKUP(AM5,Week,2)","v":"2024-06-07"},null,null,null,null,"Date:",{"$f":"VLOOKUP(AS5,Week,2)","v":"2024-06-14"},null,null,null,null,"Date:",{"$f":"VLOOKUP(AY5,Week,2)","v":"2024-07-05"},null,null,null,null,"Date:",{"$f":"VLOOKUP(BE5,Week,2)","v":"2024-07-12"},null,null,null,null,"Date:",{"$f":"VLOOKUP(BK5,Week,2)","v":"2024-07-19"},null,null,null,null,"Date:",{"$f":"VLOOKUP(BQ5,Week,2)","v":"2024-07-26"},null,null,null,null,"Date:",{"$f":"VLOOKUP(BW5,Week,2)","v":"2024-08-02"},null,null,null,null,"Date:",{"$f":"VLOOKUP(CC5,Week,2)","v":"2024-08-16"},null,null,null,null,"Date:",{"$f":"VLOOKUP(CI5,Week,2)","v":"2024-08-23"}]
[null,"Week",1,null,null,null,null,"Week",2,null,null,null,null,"Week",3,null,null,null,null,"Week",4,null,null,null,null,"Week",5,null,null,null,null,"Week",6,null,null,null,null,"Week",7,null,null,null,null,"Week",8,null,null,null,null,"Week",9,null,null,null,null,"Week",10,null,null,null,null,"Week",11,null,null,null,null,"Week",12,null,null,null,null,"Week",13,null,null,null,null,"Week",14,null,null,null,null,"Week",15]
[null,"Hole #","Par","Score","Net","Win Hole",null,"Hole #","Par","Score","Net","Win Hole",null,"Hole #","Par","Score","Net","Win Hole",null,"Hole #","Par","Score","Net","Win Hole",null,"Hole #","Par","Score","Net","Win Hole",null,"Hole #","Par","Score","Net","Win Hole",null,"Hole #","Par","Score","Net","Win Hole",null,"Hole #","Par","Score","Net","Win Hole",null,"Hole #","Par","Score","Net","Win Hole",null,"Hole #","Par","Score","Net","Win Hole",null,"Hole #","Par","Score","Net","Win Hole",null,"Hole #","Par","Score","Net","Win Hole",null,"Hole #","Par","Score","Net","Win Hole",null,"Hole #","Par","Score","Net","Win Hole",null,"Hole #","Par","Score","Net","Win Hole"]
[null,{"$f":"VLOOKUP(C5,Week,6)","v":1},{"$f":"VLOOKUP(B7,Holes,2)","v":4},null,{"$f":"IF((D7-C7)>3,C7+3,D7)","v":0},null,null,{"$f":"VLOOKUP(I5,Week,6)","v":10},{"$f":"VLOOKUP(H7,Holes,2)","v":4},null,{"$f":"IF((J7-I7)>3,I7+3,J7)","v":0},null,null,{"$f":"VLOOKUP(O5,Week,6)","v":1},{"$f":"VLOOKUP(N7,Holes,2)","v":4},null,{"$f":"IF((P7-O7)>3,O7+3,P7)","v":0},null,null,{"$f":"VLOOKUP(U5,Week,6)","v":10},{"$f":"VLOOKUP(T7,Holes,2)","v":4},null,{"$f":"IF((V7-U7)>3,U7+3,V7)","v":0},null,null,{"$f":"VLOOKUP(AA5,Week,6)","v":1},{"$f":"VLOOKUP(Z7,Holes,2)","v":4},null,{"$f":"IF((AB7-AA7)>3,AA7+3,AB7)","v":0},null,null,{"$f":"VLOOKUP(AG5,Week,6)","v":10},{"$f":"VLOOKUP(AF7,Holes,2)","v":4},null,{"$f":"IF((AH7-AG7)>3,AG7+3,AH7)","v":0},null,null,{"$f":"VLOOKUP(AM5,Week,6)","v":1},{"$f":"VLOOKUP(AL7,Holes,2)","v":4},null,{"$f":"IF((AN7-AM7)>3,AM7+3,AN7)","v":0},null,null,{"$f":"VLOOKUP(AS5,Week,6)","v":10},{"$f":"VLOOKUP(AR7,Holes,2)","v":4},null,{"$f":"IF((AT7-AS7)>3,AS7+3,AT7)","v":0},null,null,{"$f":"VLOOKUP(AY5,Week,6)","v":1},{"$f":"VLOOKUP(AX7,Holes,2)","v":4},null,{"$f":"IF((AZ7-AY7)>3,AY7+3,AZ7)","v":0},null,null,{"$f":"VLOOKUP(BE5,Week,6)","v":10},{"$f":"VLOOKUP(BD7,Holes,2)","v":4},null,{"$f":"IF((BF7-BE7)>3,BE7+3,BF7)","v":0},null,null,{"$f":"VLOOKUP(BK5,Week,6)","v":1},{"$f":"VLOOKUP(BJ7,Holes,2)","v":4},null,{"$f":"IF((BL7-BK7)>3,BK7+3,BL7)","v":0},null,null,{"$f":"VLOOKUP(BQ5,Week,6)","v":10},{"$f":"VLOOKUP(BP7,Holes,2)","v":4},null,{"$f":"IF((BR7-BQ7)>3,BQ7+3,BR7)","v":0},null,null,{"$f":"VLOOKUP(BW5,Week,6)","v":1},{"$f":"VLOOKUP(BV7,Holes,2)","v":4},null,{"$f":"IF((BX7-BW7)>3,BW7+3,BX7)","v":0},null,null,{"$f":"VLOOKUP(CC5,Week,6)","v":1},{"$f":"VLOOKUP(CB7,Holes,2)","v":4},null,{"$f":"IF((CD7-CC7)>3,CC7+3,CD7)","v":0},null,null,{"$f":"VLOOKUP(CI5,Week,6)","v":10},{"$f":"VLOOKUP(CH7,Holes,2)","v":4},5,{"$f":"IF((CJ7-CI7)>3,CI7+3,CJ7)","v":5},1]
[null,{"$f":"+B7+1","v":2},4,null,0,null,null,{"$f":"+H7+1","v":11},4,null,0,null,null,{"$f":"+N7+1","v":2},4,null,0,null,null,{"$f":"+T7+1","v":11},4,null,0,null,null,{"$f":"+Z7+1","v":2},4,null,0,null,null,{"$f":"+AF7+1","v":11},4,null,0,null,null,{"$f":"+AL7+1","v":2},4,null,0,null,null,{"$f":"+AR7+1","v":11},4,null,0,null,null,{"$f":"+AX7+1","v":2},4,null,0,null,null,{"$f":"+BD7+1","v":11},4,null,0,null,null,{"$f":"+BJ7+1","v":2},4,null,0,null,null,{"$f":"+BP7+1","v":11},4,null,0,null,null,{"$f":"+BV7+1","v":2},4,null,0,null,null,{"$f":"+CB7+1","v":2},4,null,0,null,null,{"$f":"+CH7+1","v":11},4,9,7,0]
[null,{"$f":"+B8+1","v":3},3,null,0,null,null,12,4,null,0,null,null,3,3,null,0,null,null,12,4,null,0,null,null,3,3,null,0,null,null,12,4,null,0,null,null,3,3,null,0,null,null,12,4,null,0,null,null,3,3,null,0,null,null,12,4,null,0,null,null,3,3,null,0,null,null,12,4,null,0,null,null,3,3,null,0,null,null,3,3,null,0,null,null,12,4,5,5,1]
[null,4,4,null,0,null,null,13,5,null,0,null,null,4,4,null,0,null,null,13,5,null,0,null,null,4,4,null,0,null,null,13,5,null,0,null,null,4,4,null,0,null,null,13,5,null,0,null,null,4,4,null,0,null,null,13,5,null,0,null,null,4,4,null,0,null,null,13,5,null,0,null,null,4,4,null,0,null,null,4,4,null,0,null,null,13,5,6,6,1]
[null,5,5,null,0,null,null,14,3,null,0,null,null,5,5,null,0,null,null,14,3,null,0,null,null,5,5,null,0,null,null,14,3,null,0,null,null,5,5,null,0,null,null,14,3,null,0,null,null,5,5,null,0,null,null,14,3,null,0,null,null,5,5,null,0,null,null,14,3,null,0,null,null,5,5,null,0,null,null,5,5,null,0,null,null,14,3,7,6,0]
[null,6,3,null,0,null,null,15,4,null,0,null,null,6,3,null,0,null,null,15,4,null,0,null,null,6,3,null,0,null,null,15,4,null,0,null,null,6,3,null,0,null,null,15,4,null,0,null,null,6,3,null,0,null,null,15,4,null,0,null,null,6,3,null,0,null,null,15,4,null,0,null,null,6,3,null,0,null,null,6,3,null,0,null,null,15,4,9,7,0]
[null,7,4,null,0,null,null,16,4,null,0,null,null,7,4,null,0,null,null,16,4,null,0,null,null,7,4,null,0,null,null,16,4,null,0,null,null,7,4,null,0,null,null,16,4,null,0,null,null,7,4,null,0,null,null,16,4,null,0,null,null,7,4,null,0,null,null,16,4,null,0,null,null,7,4,null,0,null,null,7,4,null,0,null,null,16,4,9,7,1]
[null,8,4,null,0,null,null,17,3,null,0,null,null,8,4,null,0,null,null,17,3,null,0,null,null,8,4,null,0,null,null,17,3,null,0,null,null,8,4,null,0,null,null,17,3,null,0,null,null,8,4,null,0,null,null,17,3,null,0,null,null,8,4,null,0,null,null,17,3,null,0,null,null,8,4,null,0,null,null,8,4,null,0,null,null,17,3,4,4,0]
[null,9,5,null,0,null,null,18,5,null,0,null,null,9,5,null,0,null,null,18,5,null,0,null,null,9,5,null,0,null,null,18,5,null,0,null,null,9,5,null,0,null,null,18,5,null,0,null,null,9,5,null,0,null,null,18,5,null,0,null,null,9,5,null,0,null,null,18,5,null,0,null,null,9,5,null,0,null,null,9,5,null,0,null,null,18,5,9,8,0]
[null,"Total",{"$f":"SUM(C7:C15)","v":36},{"$f":"SUM(D7:D15)","v":0},{"$f":"SUM(E7:E15)","v":0},{"$f":"SUM(F7:F15)","v":0},null,"Total",{"$f":"SUM(I7:I15)","v":36},{"$f":"SUM(J7:J15)","v":0},{"$f":"SUM(K7:K15)","v":0},{"$f":"SUM(L7:L15)","v":0},null,"Total",{"$f":"SUM(O7:O15)","v":36},{"$f":"SUM(P7:P15)","v":0},{"$f":"SUM(Q7:Q15)","v":0},{"$f":"SUM(R7:R15)","v":0},null,"Total",{"$f":"SUM(U7:U15)","v":36},{"$f":"SUM(V7:V15)","v":0},{"$f":"SUM(W7:W15)","v":0},{"$f":"SUM(X7:X15)","v":0},null,"Total",{"$f":"SUM(AA7:AA15)","v":36},{"$f":"SUM(AB7:AB15)","v":0},{"$f":"SUM(AC7:AC15)","v":0},{"$f":"SUM(AD7:AD15)","v":0},null,"Total",{"$f":"SUM(AG7:AG15)","v":36},{"$f":"SUM(AH7:AH15)","v":0},{"$f":"SUM(AI7:AI15)","v":0},{"$f":"SUM(AJ7:AJ15)","v":0},null,"Total",{"$f":"SUM(AM7:AM15)","v":36},{"$f":"SUM(AN7:AN15)","v":0},{"$f":"SUM(AO7:AO15)","v":0},{"$f":"SUM(AP7:AP15)","v":0},null,"Total",{"$f":"SUM(AS7:AS15)","v":36},{"$f":"SUM(AT7:AT15)","v":0},{"$f":"SUM(AU7:AU15)","v":0},{"$f":"SUM(AV7:AV15)","v":0},null,"Total",{"$f":"SUM(AY7:AY15)","v":36},{"$f":"SUM(AZ7:AZ15)","v":0},{"$f":"SUM(BA7:BA15)","v":0},{"$f":"SUM(BB7:BB15)","v":0},null,"Total",{"$f":"SUM(BE7:BE15)","v":36},{"$f":"SUM(BF7:BF15)","v":0},{"$f":"SUM(BG7:BG15)","v":0},{"$f":"SUM(BH7:BH15)","v":0},null,"Total",{"$f":"SUM(BK7:BK15)","v":36},{"$f":"SUM(BL7:BL15)","v":0},{"$f":"SUM(BM7:BM15)","v":0},{"$f":"SUM(BN7:BN15)","v":0},null,"Total",{"$f":"SUM(BQ7:BQ15)","v":36},{"$f":"SUM(BR7:BR15)","v":0},{"$f":"SUM(BS7:BS15)","v":0},{"$f":"SUM(BT7:BT15)","v":0},null,"Total",{"$f":"SUM(BW7:BW15)","v":36},{"$f":"SUM(BX7:BX15)","v":0},{"$f":"SUM(BY7:BY15)","v":0},{"$f":"SUM(BZ7:BZ15)","v":0},null,"Total",{"$f":"SUM(CC7:CC15)","v":36},{"$f":"SUM(CD7:CD15)","v":0},{"$f":"SUM(CE7:CE15)","v":0},{"$f":"SUM(CF7:CF15)","v":0},null,"Total",{"$f":"SUM(CI7:CI15)","v":36},{"$f":"SUM(CJ7:CJ15)","v":63},{"$f":"SUM(CK7:CK15)","v":55},{"$f":"SUM(CL7:CL15)","v":4}]
[]
[null,null,null,null,"Low Net",null,null,null,null,null,"Low Net",0,null,null,null,null,"Low Net",0,null,null,null,null,"Low Net",null,null,null,null,null,"Low Net",null,null,null,null,null,"Low Net",null,null,null,null,null,"Low Net",null,null,null,null,null,"Low Net",null,null,null,null,null,"Low Net",null,null,null,null,null,"Low Net",null,null,null,null,null,"Low Net",null,null,null,null,null,"Low Net",null,null,null,null,null,"Low Net",null,null,null,null,null,"Low Net",null,null,null,null,null,"Low Net",0]
[]
[null,null,null,null,"Total Points",{"$f":"SUM(F16:F19)","v":0},null,null,null,null,"Total Points",{"$f":"SUM(L16:L19)","v":0},null,null,null,null,"Total Points",{"$f":"SUM(R16:R19)","v":0},null,null,null,null,"Total Points",{"$f":"SUM(X16:X19)","v":0},null,null,null,null,"Total Points",{"$f":"SUM(AD16:AD19)","v":0},null,null,null,null,"Total Points",{"$f":"SUM(AJ16:AJ19)","v":0},null,null,null,null,"Total Points",{"$f":"SUM(AP16:AP19)","v":0},null,null,null,null,"Total Points",{"$f":"SUM(AV16:AV19)","v":0},null,null,null,null,"Total Points",{"$f":"SUM(BB16:BB19)","v":0},null,null,null,null,"Total Points",{"$f":"SUM(BH16:BH19)","v":0},null,null,null,null,"Total Points",{"$f":"SUM(BN16:BN19)","v":0},null,null,null,null,"Total Points",{"$f":"SUM(BT16:BT19)","v":0},null,null,null,null,"Total Points",{"$f":"SUM(BZ16:BZ19)","v":0},null,null,null,null,"Total Points",{"$f":"SUM(CF16:CF19)","v":0},null,null,null,null,"Total Points",{"$f":"SUM(CL16:CL19)","v":4}]
[]
[null,null,null,null,"Handicap",{"$f":"IF(D16=0,0,E16-C16)","v":0},null,null,null,null,"Handicap",{"$f":"IF(J16=0,0,K16-I16)","v":0},null,null,null,null,"Handicap",{"$f":"IF(P16=0,0,Q16-O16)","v":0},null,null,null,null,"Handicap",{"$f":"IF(V16=0,0,W16-U16)","v":0},null,null,null,null,"Handicap",{"$f":"IF(AB16=0,0,AC16-AA16)","v":0},null,null,null,null,"Handicap",{"$f":"IF(AH16=0,0,AI16-AG16)","v":0},null,null,null,null,"Handicap",{"$f":"IF(AN16=0,0,AO16-AM16)","v":0},null,null,null,null,"Handicap",{"$f":"IF(AT16=0,0,AU16-AS16)","v":0},null,null,null,null,"Handicap",{"$f":"IF(AZ16=0,0,BA16-AY16)","v":0},null,null,null,null,"Handicap",{"$f":"IF(BF16=0,0,BG16-BE16)","v":0},null,null,null,null,"Handicap",{"$f":"IF(BL16=0,0,BM16-BK16)","v":0},null,null,null,null,"Handicap",{"$f":"IF(BR16=0,0,BS16-BQ16)","v":0},null,null,null,null,"Handicap",{"$f":"IF(BX16=0,0,BY16-BW16)","v":0},null,null,null,null,"Handicap",{"$f":"IF(CD16=0,0,CE16-CC16)","v":0},null,null,null,null,"Handicap",{"$f":"IF(CJ16=0,0,CK16-CI16)","v":19}]
[]
[null,null,null,null,null,{"$f":"IF(D16<>0,IF(F16>4.5,\"W\",IF(F16=4.5,\"T\",IF(F16<4.5,\"L\"))),0)","v":0},null,null,null,null,null,{"$f":"IF(J16<>0,IF(L16>4.5,\"W\",IF(L16=4.5,\"T\",IF(L16<4.5,\"L\"))),0)","v":0},null,null,null,null,null,{"$f":"IF(P16<>0,IF(R16>4.5,\"W\",IF(R16=4.5,\"T\",IF(R16<4.5,\"L\"))),0)","v":0},null,null,null,null,null,{"$f":"IF(V16<>0,IF(X16>4.5,\"W\",IF(X16=4.5,\"T\",IF(X16<4.5,\"L\"))),0)","v":0},null,null,null,null,null,{"$f":"IF(AB16<>0,IF(AD16>4.5,\"W\",IF(AD16=4.5,\"T\",IF(AD16<4.5,\"L\"))),0)","v":0},null,null,null,null,null,{"$f":"IF(AH16<>0,IF(AJ16>4.5,\"W\",IF(AJ16=4.5,\"T\",IF(AJ16<4.5,\"L\"))),0)","v":0},null,null,null,null,null,{"$f":"IF(AN16<>0,IF(AP16>4.5,\"W\",IF(AP16=4.5,\"T\",IF(AP16<4.5,\"L\"))),0)","v":0},null,null,null,null,null,{"$f":"IF(AT16<>0,IF(AV16>4.5,\"W\",IF(AV16=4.5,\"T\",IF(AV16<4.5,\"L\"))),0)","v":0},null,null,null,null,null,{"$f":"IF(AZ16<>0,IF(BB16>4.5,\"W\",IF(BB16=4.5,\"T\",IF(BB16<4.5,\"L\"))),0)","v":0},null,null,null,null,null,{"$f":"IF(BF16<>0,IF(BH16>4.5,\"W\",IF(BH16=4.5,\"T\",IF(BH16<4.5,\"L\"))),0)","v":0},null,null,null,null,null,{"$f":"IF(BL16<>0,IF(BN16>4.5,\"W\",IF(BN16=4.5,\"T\",IF(BN16<4.5,\"L\"))),0)","v":0},null,null,null,null,null,{"$f":"IF(BR16<>0,IF(BT16>4.5,\"W\",IF(BT16=4.5,\"T\",IF(BT16<4.5,\"L\"))),0)","v":0},null,null,null,null,null,{"$f":"IF(BX16<>0,IF(BZ16>4.5,\"W\",IF(BZ16=4.5,\"T\",IF(BZ16<4.5,\"L\"))),0)","v":0},null,null,null,null,null,{"$f":"IF(CD16<>0,IF(CF16>4.5,\"W\",IF(CF16=4.5,\"T\",IF(CF16<4.5,\"L\"))),0)","v":0},null,null,null,null,null,{"$f":"IF(CJ16<>0,IF(CL16>4.5,\"W\",IF(CL16=4.5,\"T\",IF(CL16<4.5,\"L\"))),0)","v":"L"}]
[]
[null,"Summary",null,{"$f":"COUNT(D29:D43)","v":15}]
[null,null,null,"Adj",null,"Adj",null,null,null,"Avg Score"]
[null,null,"Points","Points","Matches","Matches",null,null,"Hole #","by Hole","Best","Worst"]
[null,"Week #1",{"$f":"F20","v":0},{"$f":"C29","v":0},{"$f":"IF(D16>0,1,0)","v":0},{"$f":"E29","v":0},null,null,1,{"$f":"IFERROR(AVERAGE(D7,P7,AB7,AN7,AZ7,BL7,BX7,CD7),0)","v":0},{"$f":"IFERROR(MIN(D7,P7,AB7,AN7,AZ7,BL7,BX7,CD7),0)","v":0},{"$f":"IFERROR(MAX(D7,P7,AB7,AN7,AZ7,BL7,BX7,CD7),0)","v":0}]
[null,"Week #2",{"$f":"L20","v":0},0,{"$f":"IF(J16>0,1,0)","v":0},0,null,null,2,{"$f":"IFERROR(AVERAGE(D8,P8,AB8,AN8,AZ8,BL8,BX8,CD8),0)","v":0},{"$f":"IFERROR(MIN(D8,P8,AB8,AN8,AZ8,BL8,BX8,CD8),0)","v":0},{"$f":"IFERROR(MAX(D8,P8,AB8,AN8,AZ8,BL8,BX8,CD8),0)","v":0}]
[null,"Week #3",{"$f":"R20","v":0},0,{"$f":"IF(P16>0,1,0)","v":0},0,null,null,3,0,0,0]
[null,"Week #4",{"$f":"X20","v":0},0,{"$f":"IF(V16>0,1,0)","v":0},0,null,null,4,0,0,0]
[null,"Week #5",{"$f":"AD20","v":0},0,{"$f":"IF(AB16>0,1,0)","v":0},0,null,null,5,0,0,0]
[null,"Week #6",{"$f":"AJ20","v":0},0,{"$f":"IF(AH16>0,1,0)","v":0},0,null,null,6,0,0,0]
[null,"Week #7",{"$f":"AP20","v":0},0,{"$f":"IF(AN16>0,1,0)","v":0},0,null,null,7,0,0,0]
[null,"Week #8",{"$f":"AV20","v":0},0,{"$f":"IF(AT16>0,1,0)","v":0},0,null,null,8,0,0,0]
[null,"Week #9",{"$f":"BB20","v":0},0,{"$f":"IF(AZ16>0,1,0)","v":0},0,null,null,9,0,0,0]
[null,"Week #10",{"$f":"BH20","v":0},0,{"$f":"IF(BF16>0,1,0)","v":0},0,null,null,"Front",{"$f":"SUM(J29:J37)","v":0},{"$f":"SUM(K29:K37)","v":0},0]
[null,"Week #11",{"$f":"BN20","v":0},0,{"$f":"IF(BL16>0,1,0)","v":0},0]
[null,"Week #12",{"$f":"BT20","v":0},0,{"$f":"IF(BR16>0,1,0)","v":0},0,null,null,10,{"$f":"IFERROR(AVERAGE(J7,V7,AH7,AT7,BF7,BR7,CJ7),0)","v":5},{"$f":"IFERROR(MIN(J7,V7,AH7,AT7,BF7,BR7,CJ7),0)","v":5},{"$f":"IFERROR(MAX(J7,V7,AH7,AT7,BF7,BR7,CJ7),0)","v":5}]
[null,"Week #13",{"$f":"BZ20","v":0},0,{"$f":"IF(BX16>0,1,0)","v":0},0,null,null,11,{"$f":"IFERROR(AVERAGE(J8,V8,AH8,AT8,BF8,BR8,CJ8),0)","v":9},{"$f":"IFERROR(MIN(J8,V8,AH8,AT8,BF8,BR8,CJ8),0)","v":9},{"$f":"IFERROR(MAX(J8,V8,AH8,AT8,BF8,BR8,CJ8),0)","v":9}]
[null,"Week #14",{"$f":"CF20","v":0},0,{"$f":"IF(CD16>0,1,0)","v":0},0,null,null,12,5,5,5]
[null,"Week #15",{"$f":"CL20","v":4},4,{"$f":"IF(CJ16>0,1,0)","v":1},1,null,null,13,6,6,6]
[null,"Total",{"$f":"SUM(C29:C43)","v":4},{"$f":"SUM(D29:D43)","v":4},{"$f":"SUM(E29:E43)","v":1},{"$f":"SUM(F29:F43)","v":1},null,null,14,7,7,7]
[null,null,null,null,null,null,null,null,15,9,9,9]
[null,"Summary",null,null,null,null,null,null,16,9,9,9]
[null,"Eagles",{"$f":"I57+I68+I79+I90+I101+I112+I123+I134+I145+I156+I167+I178+I189+I200+I211","v":0},null,null,null,null,null,17,4,4,4]
[null,"Birdies",0,null,null,null,null,null,18,9,9,9]
[null,"Pars",0,null,null,null,null,null,"Back",{"$f":"SUM(J40:J48)","v":63},{"$f":"SUM(K40:K48)","v":63},63]
[null,"bogeys",4]
[null,"Double bogeys",0]
[null,"Other",5]
[null,"Total",{"$f":"SUM(C47:C52)","v":9}]
[]
[null,{"$f":"D4","v":"2024-04-26"},"Par","Score"]
[null,{"$f":"B7","v":1},4,0,{"$f":"IF(D56<>0,IF((D56-C56)=-1,\"Birdie\",IF((D56-C56)=-2,\"Eagle\",IF((D56-C56)=0,\"Par\",IF((D56-C56)=1,\"bogey\",IF((D56-C56)=2,\"Double bogey\",\"Other\"))))),\"  \")","v":"  "},null,null,"Count"]
[null,2,4,0,"  ",null,null,"Eagle",{"$f":"COUNTIF(E56:E64,\"Eagle\")","v":0}]
[null,3,3,0,"  ",null,null,"Birdie",{"$f":"COUNTIF(E56:E64,\"Birdie\")","v":0}]
[null,4,4,0,"  ",null,null,"Par",{"$f":"COUNTIF(E56:E64,\"Par\")","v":0}]
[null,5,5,0,"  ",null,null,"bogey",{"$f":"COUNTIF(E56:E64,\"bogey\")","v":0}]
[null,6,3,0,"  ",null,null,"Double bogey",{"$f":"COUNTIF(E56:E64,\"Double bogey\")","v":0}]
[null,7,4,0,"  ",null,null,"Other",{"$f":"COUNTIF(E56:E64,\"Other\")","v":0}]
[null,8,4,0,"  "]
[null,9,5,0,"  "]
[]
[null,{"$f":"J4","v":"2024-05-03"}]
[null,{"$f":"H7","v":10},4,0,{"$f":"IF(D67<>0,IF((D67-C67)=-1,\"Birdie\",IF((D67-C67)=-2,\"Eagle\",IF((D67-C67)=0,\"Par\",IF((D67-C67)=1,\"bogey\",IF((D67-C67)=2,\"Double bogey\",\"Other\"))))),\"  \")","v":"  "},null,null,"Count"]
[null,11,4,0,"  ",null,null,"Eagle",{"$f":"COUNTIF(E67:E75,\"Eagle\")","v":0}]
[null,12,4,0,"  ",null,null,"Birdie",{"$f":"COUNTIF(E67:E75,\"Birdie\")","v":0}]
[null,13,5,0,"  ",null,null,"Par",{"$f":"COUNTIF(E67:E75,\"Par\")","v":0}]
[null,14,3,0,"  ",null,null,"bogey",{"$f":"COUNTIF(E67:E75,\"bogey\")","v":0}]
[null,15,4,0,"  ",null,null,"Double bogey",{"$f":"COUNTIF(E67:E75,\"Double bogey\")","v":0}]
[null,16,4,0,"  ",null,null,"Other",{"$f":"COUNTIF(E67:E75,\"Other\")","v":0}]
[null,17,3,0,"  "]
[null,18,5,0,"  "]
[]
[null,{"$f":"P4","v":"2024-05-10"}]
[null,{"$f":"N7","v":1},4,0,{"$f":"IF(D78<>0,IF((D78-C78)=-1,\"Birdie\",IF((D78-C78)=-2,\"Eagle\",IF((D78-C78)=0,\"Par\",IF((D78-C78)=1,\"bogey\",IF((D78-C78)=2,\"Double bogey\",\"Other\"))))),\"  \")","v":"  "},null,null,"Count"]
[null,2,4,0,"  ",null,null,"Eagle",{"$f":"COUNTIF(E78:E86,\"Eagle\")","v":0}]
[null,3,3,0,"  ",null,null,"Birdie",{"$f":"COUNTIF(E78:E86,\"Birdie\")","v":0}]
[null,4,4,0,"  ",null,null,"Par",{"$f":"COUNTIF(E78:E86,\"Par\")","v":0}]
[null,5,5,0,"  ",null,null,"bogey",{"$f":"COUNTIF(E78:E86,\"bogey\")","v":0}]
[null,6,3,0,"  ",null,null,"Double bogey",{"$f":"COUNTIF(E78:E86,\"Double bogey\")","v":0}]
[null,7,4,0,"  ",null,null,"Other",{"$f":"COUNTIF(E78:E86,\"Other\")","v":0}]
[null,8,4,0,"  "]
[null,9,5,0,"  "]
[]
[null,{"$f":"V4","v":"2024-05-17"}]
[null,{"$f":"T7","v":10},4,0,{"$f":"IF(D89<>0,IF((D89-C89)=-1,\"Birdie\",IF((D89-C89)=-2,\"Eagle\",IF((D89-C89)=0,\"Par\",IF((D89-C89)=1,\"bogey\",IF((D89-C89)=2,\"Double bogey\",\"Other\"))))),\"  \")","v":"  "},null,null,"Count"]
[null,11,4,0,"  ",null,null,"Eagle",{"$f":"COUNTIF(E89:E97,\"Eagle\")","v":0}]
[null,12,4,0,"  ",null,null,"Birdie",{"$f":"COUNTIF(E89:E97,\"Birdie\")","v":0}]
[null,13,5,0,"  ",null,null,"Par",{"$f":"COUNTIF(E89:E97,\"Par\")","v":0}]
[null,14,3,0,"  ",null,null,"bogey",{"$f":"COUNTIF(E89:E97,\"bogey\")","v":0}]
[null,15,4,0,"  ",null,null,"Double bogey",{"$f":"COUNTIF(E89:E97,\"Double bogey\")","v":0}]
[null,16,4,0,"  ",null,null,"Other",{"$f":"COUNTIF(E89:E97,\"Other\")","v":0}]
[null,17,3,0,"  "]
[null,18,5,0,"  "]
[]
[null,{"$f":"AB4","v":"2024-05-24"}]
[null,{"$f":"Z7","v":1},4,0,{"$f":"IF(D100<>0,IF((D100-C100)=-1,\"Birdie\",IF((D100-C100)=-2,\"Eagle\",IF((D100-C100)=0,\"Par\",IF((D100-C100)=1,\"bogey\",IF((D100-C100)=2,\"Double bogey\",\"Other\"))))),\"  \")","v":"  "},null,null,"Count"]
[null,2,4,0,"  ",null,null,"Eagle",{"$f":"COUNTIF(E100:E108,\"Eagle\")","v":0}]
[null,3,3,0,"  ",null,null,"Birdie",{"$f":"COUNTIF(E100:E108,\"Birdie\")","v":0}]
[null,4,4,0,"  ",null,null,"Par",{"$f":"COUNTIF(E100:E108,\"Par\")","v":0}]
[null,5,5,0,"  ",null,null,"bogey",{"$f":"COUNTIF(E100:E108,\"bogey\")","v":0}]
[null,6,3,0,"  ",null,null,"Double bogey",{"$f":"COUNTIF(E100:E108,\"Double bogey\")","v":0}]
[null,7,4,0,"  ",null,null,"Other",{"$f":"COUNTIF(E100:E108,\"Other\")","v":0}]
[null,8,4,0,"  "]
[null,9,5,0,"  "]
[]
[null,{"$f":"AH4","v":"2024-05-31"}]
[null,{"$f":"AF7","v":10},4,0,{"$f":"IF(D111<>0,IF((D111-C111)=-1,\"Birdie\",IF((D111-C111)=-2,\"Eagle\",IF((D111-C111)=0,\"Par\",IF((D111-C111)=1,\"bogey\",IF((D111-C111)=2,\"Double bogey\",\"Other\"))))),\"  \")","v":"  "},null,null,"Count"]
[null,11,4,0,"  ",null,null,"Eagle",{"$f":"COUNTIF(E111:E119,\"Eagle\")","v":0}]
[null,12,4,0,"  ",null,null,"Birdie",{"$f":"COUNTIF(E111:E119,\"Birdie\")","v":0}]
[null,13,5,0,"  ",null,null,"Par",{"$f":"COUNTIF(E111:E119,\"Par\")","v":0}]
[null,14,3,0,"  ",null,null,"bogey",{"$f":"COUNTIF(E111:E119,\"bogey\")","v":0}]
[null,15,4,0,"  ",null,null,"Double bogey",{"$f":"COUNTIF(E111:E119,\"Double bogey\")","v":0}]
[null,16,4,0,"  ",null,null,"Other",{"$f":"COUNTIF(E111:E119,\"Other\")","v":0}]
[null,17,3,0,"  "]
[null,18,5,0,"  "]
[]
[null,{"$f":"AN4","v":"2024-06-07"}]
[null,{"$f":"AL7","v":1},4,0,{"$f":"IF(D122<>0,IF((D122-C122)=-1,\"Birdie\",IF((D122-C122)=-2,\"Eagle\",IF((D122-C122)=0,\"Par\",IF((D122-C122)=1,\"bogey\",IF((D122-C122)=2,\"Double bogey\",\"Other\"))))),\"  \")","v":"  "},null,null,"Count"]
[null,2,4,0,"  ",null,null,"Eagle",{"$f":"COUNTIF(E122:E130,\"Eagle\")","v":0}]
[null,3,3,0,"  ",null,null,"Birdie",{"$f":"COUNTIF(E122:E130,\"Birdie\")","v":0}]
[null,4,4,0,"  ",null,null,"Par",{"$f":"COUNTIF(E122:E130,\"Par\")","v":0}]
[null,5,5,0,"  ",null,null,"bogey",{"$f":"COUNTIF(E122:E130,\"bogey\")","v":0}]
[null,6,3,0,"  ",null,null,"Double bogey",{"$f":"COUNTIF(E122:E130,\"Double bogey\")","v":0}]
[null,7,4,0,"  ",null,null,"Other",{"$f":"COUNTIF(E122:E130,\"Other\")","v":0}]
[null,8,4,0,"  "]
[null,9,5,0,"  "]
[]
[null,{"$f":"AT4","v":"2024-06-14"}]
[null,{"$f":"AR7","v":10},4,0,{"$f":"IF(D133<>0,IF((D133-C133)=-1,\"Birdie\",IF((D133-C133)=-2,\"Eagle\",IF((D133-C133)=0,\"Par\",IF((D133-C133)=1,\"bogey\",IF((D133-C133)=2,\"Double bogey\",\"Other\"))))),\"  \")","v":"  "},null,null,"Count"]
[null,11,4,0,"  ",null,null,"Eagle",{"$f":"COUNTIF(E133:E141,\"Eagle\")","v":0}]
[null,12,4,0,"  ",null,null,"Birdie",{"$f":"COUNTIF(E133:E141,\"Birdie\")","v":0}]
[null,13,5,0,"  ",null,null,"Par",{"$f":"COUNTIF(E133:E141,\"Par\")","v":0}]
[null,14,3,0,"  ",null,null,"bogey",{"$f":"COUNTIF(E133:E141,\"bogey\")","v":0}]
[null,15,4,0,"  ",null,null,"Double bogey",{"$f":"COUNTIF(E133:E141,\"Double bogey\")","v":0}]
[null,16,4,0,"  ",null,null,"Other",{"$f":"COUNTIF(E133:E141,\"Other\")","v":0}]
[null,17,3,0,"  "]
[null,18,5,0,"  "]
[]
[null,{"$f":"AZ4","v":"2024-07-05"}]
[null,{"$f":"AX7","v":1},4,0,{"$f":"IF(D144<>0,IF((D144-C144)=-1,\"Birdie\",IF((D144-C144)=-2,\"Eagle\",IF((D144-C144)=0,\"Par\",IF((D144-C144)=1,\"bogey\",IF((D144-C144)=2,\"Double bogey\",\"Other\"))))),\"  \")","v":"  "},null,null,"Count"]
[null,2,4,0,"  ",null,null,"Eagle",{"$f":"COUNTIF(E144:E152,\"Eagle\")","v":0}]
[null,3,3,0,"  ",null,null,"Birdie",{"$f":"COUNTIF(E144:E152,\"Birdie\")","v":0}]
[null,4,4,0,"  ",null,null,"Par",{"$f":"COUNTIF(E144:E152,\"Par\")","v":0}]
[null,5,5,0,"  ",null,null,"bogey",{"$f":"COUNTIF(E144:E152,\"bogey\")","v":0}]
[null,6,3,0,"  ",null,null,"Double bogey",{"$f":"COUNTIF(E144:E152,\"Double bogey\")","v":0}]
[null,7,4,0,"  ",null,null,"Other",{"$f":"COUNTIF(E144:E152,\"Other\")","v":0}]
[null,8,4,0,"  "]
[null,9,5,0,"  "]
[]
[null,{"$f":"BF4","v":"2024-07-12"}]
[null,{"$f":"BD7","v":10},4,0,{"$f":"IF(D155<>0,IF((D155-C155)=-1,\"Birdie\",IF((D155-C155)=-2,\"Eagle\",IF((D155-C155)=0,\"Par\",IF((D155-C155)=1,\"bogey\",IF((D155-C155)=2,\"Double bogey\",\"Other\"))))),\"  \")","v":"  "},null,null,"Count"]
[null,11,4,0,"  ",null,null,"Eagle",{"$f":"COUNTIF(E155:E163,\"Eagle\")","v":0}]
[null,12,4,0,"  ",null,null,"Birdie",{"$f":"COUNTIF(E155:E163,\"Birdie\")","v":0}]
[null,13,5,0,"  ",null,null,"Par",{"$f":"COUNTIF(E155:E163,\"Par\")","v":0}]
[null,14,3,0,"  ",null,null,"bogey",{"$f":"COUNTIF(E155:E163,\"bogey\")","v":0}]
[null,15,4,0,"  ",null,null,"Double bogey",{"$f":"COUNTIF(E155:E163,\"Double bogey\")","v":0}]
[null,16,4,0,"  ",null,null,"Other",{"$f":"COUNTIF(E155:E163,\"Other\")","v":0}]
[null,17,3,0,"  "]
[null,18,5,0,"  "]
[]
[null,{"$f":"BL4","v":"2024-07-19"}]
[null,{"$f":"BJ7","v":1},4,0,{"$f":"IF(D166<>0,IF((D166-C166)=-1,\"Birdie\",IF((D166-C166)=-2,\"Eagle\",IF((D166-C166)=0,\"Par\",IF((D166-C166)=1,\"bogey\",IF((D166-C166)=2,\"Double bogey\",\"Other\"))))),\"  \")","v":"  "},null,null,"Count"]
[null,2,4,0,"  ",null,null,"Eagle",{"$f":"COUNTIF(E166:E174,\"Eagle\")","v":0}]
[null,3,3,0,"  ",null,null,"Birdie",{"$f":"COUNTIF(E166:E174,\"Birdie\")","v":0}]
[null,4,4,0,"  ",null,null,"Par",{"$f":"COUNTIF(E166:E174,\"Par\")","v":0}]
[null,5,5,0,"  ",null,null,"bogey",{"$f":"COUNTIF(E166:E174,\"bogey\")","v":0}]
[null,6,3,0,"  ",null,null,"Double bogey",{"$f":"COUNTIF(E166:E174,\"Double bogey\")","v":0}]
[null,7,4,0,"  ",null,null,"Other",{"$f":"COUNTIF(E166:E174,\"Other\")","v":0}]
[null,8,4,0,"  "]
[null,9,5,0,"  "]
[]
[null,{"$f":"BR4","v":"2024-07-26"}]
[null,{"$f":"BP7","v":10},4,0,{"$f":"IF(D177<>0,IF((D177-C177)=-1,\"Birdie\",IF((D177-C177)=-2,\"Eagle\",IF((D177-C177)=0,\"Par\",IF((D177-C177)=1,\"bogey\",IF((D177-C177)=2,\"Double bogey\",\"Other\"))))),\"  \")","v":"  "},null,null,"Count"]
[null,11,4,0,"  ",null,null,"Eagle",{"$f":"COUNTIF(E177:E185,\"Eagle\")","v":0}]
[null,12,4,0,"  ",null,null,"Birdie",{"$f":"COUNTIF(E177:E185,\"Birdie\")","v":0}]
[null,13,5,0,"  ",null,null,"Par",{"$f":"COUNTIF(E177:E185,\"Par\")","v":0}]
[null,14,3,0,"  ",null,null,"bogey",{"$f":"COUNTIF(E177:E185,\"bogey\")","v":0}]
[null,15,4,0,"  ",null,null,"Double bogey",{"$f":"COUNTIF(E177:E185,\"Double bogey\")","v":0}]
[null,16,4,0,"  ",null,null,"Other",{"$f":"COUNTIF(E177:E185,\"Other\")","v":0}]
[null,17,3,0,"  "]
[null,18,5,0,"  "]
[]
[null,{"$f":"BX4","v":"2024-08-02"}]
[null,{"$f":"BV7","v":1},4,0,{"$f":"IF(D188<>0,IF((D188-C188)=-1,\"Birdie\",IF((D188-C188)=-2,\"Eagle\",IF((D188-C188)=0,\"Par\",IF((D188-C188)=1,\"bogey\",IF((D188-C188)=2,\"Double bogey\",\"Other\"))))),\"  \")","v":"  "},null,null,"Count"]
[null,2,4,0,"  ",null,null,"Eagle",{"$f":"COUNTIF(E188:E196,\"Eagle\")","v":0}]
[null,3,3,0,"  ",null,null,"Birdie",{"$f":"COUNTIF(E188:E196,\"Birdie\")","v":0}]
[null,4,4,0,"  ",null,null,"Par",{"$f":"COUNTIF(E188:E196,\"Par\")","v":0}]
[null,5,5,0,"  ",null,null,"bogey",{"$f":"COUNTIF(E188:E196,\"bogey\")","v":0}]
[null,6,3,0,"  ",null,null,"Double bogey",{"$f":"COUNTIF(E188:E196,\"Double bogey\")","v":0}]
[null,7,4,0,"  ",null,null,"Other",{"$f":"COUNTIF(E188:E196,\"Other\")","v":0}]
[null,8,4,0,"  "]
[null,9,5,0,"  "]
[]
[null,{"$f":"CD4","v":"2024-08-16"}]
[null,{"$f":"CB7","v":1},4,0,{"$f":"IF(D199<>0,IF((D199-C199)=-1,\"Birdie\",IF((D199-C199)=-2,\"Eagle\",IF((D199-C199)=0,\"Par\",IF((D199-C199)=1,\"bogey\",IF((D199-C199)=2,\"Double bogey\",\"Other\"))))),\"  \")","v":"  "},null,null,"Count"]
[null,2,4,0,"  ",null,null,"Eagle",{"$f":"COUNTIF(E199:E207,\"Eagle\")","v":0}]
[null,3,3,0,"  ",null,null,"Birdie",{"$f":"COUNTIF(E199:E207,\"Birdie\")","v":0}]
[null,4,4,0,"  ",null,null,"Par",{"$f":"COUNTIF(E199:E207,\"Par\")","v":0}]
[null,5,5,0,"  ",null,null,"bogey",{"$f":"COUNTIF(E199:E207,\"bogey\")","v":0}]
[null,6,3,0,"  ",null,null,"Double bogey",{"$f":"COUNTIF(E199:E207,\"Double bogey\")","v":0}]
[null,7,4,0,"  ",null,null,"Other",{"$f":"COUNTIF(E199:E207,\"Other\")","v":0}]
[null,8,4,0,"  "]
[null,9,5,0,"  "]
[]
[null,{"$f":"CJ4","v":"2024-08-23"}]
[null,{"$f":"CH7","v":10},4,5,{"$f":"IF(D210<>0,IF((D210-C210)=-1,\"Birdie\",IF((D210-C210)=-2,\"Eagle\",IF((D210-C210)=0,\"Par\",IF((D210-C210)=1,\"bogey\",IF((D210-C210)=2,\"Double bogey\",\"Other\"))))),\"  \")","v":"bogey"},null,null,"Count"]
[null,11,4,9,"Other",null,null,"Eagle",{"$f":"COUNTIF(E210:E218,\"Eagle\")","v":0}]
[null,12,4,5,"bogey",null,null,"Birdie",{"$f":"COUNTIF(E210:E218,\"Birdie\")","v":0}]
[null,13,5,6,"bogey",null,null,"Par",{"$f":"COUNTIF(E210:E218,\"Par\")","v":0}]
[null,14,3,7,"Other",null,null,"bogey",{"$f":"COUNTIF(E210:E218,\"bogey\")","v":4}]
[null,15,4,9,"Other",null,null,"Double bogey",{"$f":"COUNTIF(E210:E218,\"Double bogey\")","v":0}]
[null,16,4,9,"Other",null,null,"Other",{"$f":"COUNTIF(E210:E218,\"Other\")","v":5}]
[null,17,3,4,"bogey"]
[null,18,5,9,"Other"]

{"sheet":"Henderson","index":24,"n_rows":218,"n_cols":90,"rows_kept":218,"cut":false,"hidden":false,"merged":[]}
["Jeane Henderson"]
[]
[]
[null,null,"Date:",{"$f":"VLOOKUP(C5,Week,2)","v":"2024-04-26"},null,null,null,null,"Date:",{"$f":"VLOOKUP(I5,Week,2)","v":"2024-05-03"},null,null,null,null,"Date:",{"$f":"VLOOKUP(O5,Week,2)","v":"2024-05-10"},null,null,null,null,"Date:",{"$f":"VLOOKUP(U5,Week,2)","v":"2024-05-17"},null,null,null,null,"Date:",{"$f":"VLOOKUP(AA5,Week,2)","v":"2024-05-24"},null,null,null,null,"Date:",{"$f":"VLOOKUP(AG5,Week,2)","v":"2024-05-31"},null,null,null,null,"Date:",{"$f":"VLOOKUP(AM5,Week,2)","v":"2024-06-07"},null,null,null,null,"Date:",{"$f":"VLOOKUP(AS5,Week,2)","v":"2024-06-14"},null,null,null,null,"Date:",{"$f":"VLOOKUP(AY5,Week,2)","v":"2024-07-05"},null,null,null,null,"Date:",{"$f":"VLOOKUP(BE5,Week,2)","v":"2024-07-12"},null,null,null,null,"Date:",{"$f":"VLOOKUP(BK5,Week,2)","v":"2024-07-19"},null,null,null,null,"Date:",{"$f":"VLOOKUP(BQ5,Week,2)","v":"2024-07-26"},null,null,null,null,"Date:",{"$f":"VLOOKUP(BW5,Week,2)","v":"2024-08-02"},null,null,null,null,"Date:",{"$f":"VLOOKUP(CC5,Week,2)","v":"2024-08-16"},null,null,null,null,"Date:",{"$f":"VLOOKUP(CI5,Week,2)","v":"2024-08-23"}]
[null,"Week",1,null,null,null,null,"Week",2,null,null,null,null,"Week",3,null,null,null,null,"Week",4,null,null,null,null,"Week",5,null,null,null,null,"Week",6,null,null,null,null,"Week",7,null,null,null,null,"Week",8,null,null,null,null,"Week",9,null,null,null,null,"Week",10,null,null,null,null,"Week",11,null,null,null,null,"Week",12,null,null,null,null,"Week",13,null,null,null,null,"Week",14,null,null,null,null,"Week",15]
[null,"Hole #","Par","Score","Net","Win Hole",null,"Hole #","Par","Score","Net","Win Hole",null,"Hole #","Par","Score","Net","Win Hole",null,"Hole #","Par","Score","Net","Win Hole",null,"Hole #","Par","Score","Net","Win Hole",null,"Hole #","Par","Score","Net","Win Hole",null,"Hole #","Par","Score","Net","Win Hole",null,"Hole #","Par","Score","Net","Win Hole",null,"Hole #","Par","Score","Net","Win Hole",null,"Hole #","Par","Score","Net","Win Hole",null,"Hole #","Par","Score","Net","Win Hole",null,"Hole #","Par","Score","Net","Win Hole",null,"Hole #","Par","Score","Net","Win Hole",null,"Hole #","Par","Score","Net","Win Hole",null,"Hole #","Par","Score","Net","Win Hole"]
[null,{"$f":"VLOOKUP(C5,Week,6)","v":1},{"$f":"VLOOKUP(B7,Holes,2)","v":4},null,{"$f":"IF((D7-C7)>3,C7+3,D7)","v":0},null,null,{"$f":"VLOOKUP(I5,Week,6)","v":10},{"$f":"VLOOKUP(H7,Holes,2)","v":4},null,{"$f":"IF((J7-I7)>3,I7+3,J7)","v":0},null,null,{"$f":"VLOOKUP(O5,Week,6)","v":1},{"$f":"VLOOKUP(N7,Holes,2)","v":4},null,{"$f":"IF((P7-O7)>3,O7+3,P7)","v":0},null,null,{"$f":"VLOOKUP(U5,Week,6)","v":10},{"$f":"VLOOKUP(T7,Holes,2)","v":4},null,{"$f":"IF((V7-U7)>3,U7+3,V7)","v":0},null,null,{"$f":"VLOOKUP(AA5,Week,6)","v":1},{"$f":"VLOOKUP(Z7,Holes,2)","v":4},null,{"$f":"IF((AB7-AA7)>3,AA7+3,AB7)","v":0},null,null,{"$f":"VLOOKUP(AG5,Week,6)","v":10},{"$f":"VLOOKUP(AF7,Holes,2)","v":4},null,{"$f":"IF((AH7-AG7)>3,AG7+3,AH7)","v":0},null,null,{"$f":"VLOOKUP(AM5,Week,6)","v":1},{"$f":"VLOOKUP(AL7,Holes,2)","v":4},null,{"$f":"IF((AN7-AM7)>3,AM7+3,AN7)","v":0},null,null,{"$f":"VLOOKUP(AS5,Week,6)","v":10},{"$f":"VLOOKUP(AR7,Holes,2)","v":4},null,{"$f":"IF((AT7-AS7)>3,AS7+3,AT7)","v":0},null,null,{"$f":"VLOOKUP(AY5,Week,6)","v":1},{"$f":"VLOOKUP(AX7,Holes,2)","v":4},null,{"$f":"IF((AZ7-AY7)>3,AY7+3,AZ7)","v":0},null,null,{"$f":"VLOOKUP(BE5,Week,6)","v":10},{"$f":"VLOOKUP(BD7,Holes,2)","v":4},null,{"$f":"IF((BF7-BE7)>3,BE7+3,BF7)","v":0},null,null,{"$f":"VLOOKUP(BK5,Week,6)","v":1},{"$f":"VLOOKUP(BJ7,Holes,2)","v":4},null,{"$f":"IF((BL7-BK7)>3,BK7+3,BL7)","v":0},null,null,{"$f":"VLOOKUP(BQ5,Week,6)","v":10},{"$f":"VLOOKUP(BP7,Holes,2)","v":4},null,{"$f":"IF((BR7-BQ7)>3,BQ7+3,BR7)","v":0},null,null,{"$f":"VLOOKUP(BW5,Week,6)","v":1},{"$f":"VLOOKUP(BV7,Holes,2)","v":4},null,{"$f":"IF((BX7-BW7)>3,BW7+3,BX7)","v":0},null,null,{"$f":"VLOOKUP(CC5,Week,6)","v":1},{"$f":"VLOOKUP(CB7,Holes,2)","v":4},null,{"$f":"IF((CD7-CC7)>3,CC7+3,CD7)","v":0},null,null,{"$f":"VLOOKUP(CI5,Week,6)","v":10},{"$f":"VLOOKUP(CH7,Holes,2)","v":4},null,{"$f":"IF((CJ7-CI7)>3,CI7+3,CJ7)","v":0}]
[null,{"$f":"+B7+1","v":2},4,null,0,null,null,{"$f":"+H7+1","v":11},4,null,0,null,null,{"$f":"+N7+1","v":2},4,null,0,null,null,{"$f":"+T7+1","v":11},4,null,0,null,null,{"$f":"+Z7+1","v":2},4,null,0,null,null,{"$f":"+AF7+1","v":11},4,null,0,null,null,{"$f":"+AL7+1","v":2},4,null,0,null,null,{"$f":"+AR7+1","v":11},4,null,0,null,null,{"$f":"+AX7+1","v":2},4,null,0,null,null,{"$f":"+BD7+1","v":11},4,null,0,null,null,{"$f":"+BJ7+1","v":2},4,null,0,null,null,{"$f":"+BP7+1","v":11},4,null,0,null,null,{"$f":"+BV7+1","v":2},4,null,0,null,null,{"$f":"+CB7+1","v":2},4,null,0,null,null,{"$f":"+CH7+1","v":11},4,null,0]
[null,{"$f":"+B8+1","v":3},3,null,0,null,null,12,4,null,0,null,null,3,3,null,0,null,null,12,4,null,0,null,null,3,3,null,0,null,null,12,4,null,0,null,null,3,3,null,0,null,null,12,4,null,0,null,null,3,3,null,0,null,null,12,4,null,0,null,null,3,3,null,0,null,null,12,4,null,0,null,null,3,3,null,0,null,null,3,3,null,0,null,null,12,4,null,0]
[null,4,4,null,0,null,null,13,5,null,0,null,null,4,4,null,0,null,null,13,5,null,0,null,null,4,4,null,0,null,null,13,5,null,0,null,null,4,4,null,0,null,null,13,5,null,0,null,null,4,4,null,0,null,null,13,5,null,0,null,null,4,4,null,0,null,null,13,5,null,0,null,null,4,4,null,0,null,null,4,4,null,0,null,null,13,5,null,0]
[null,5,5,null,0,null,null,14,3,null,0,null,null,5,5,null,0,null,null,14,3,null,0,null,null,5,5,null,0,null,null,14,3,null,0,null,null,5,5,null,0,null,null,14,3,null,0,null,null,5,5,null,0,null,null,14,3,null,0,null,null,5,5,null,0,null,null,14,3,null,0,null,null,5,5,null,0,null,null,5,5,null,0,null,null,14,3,null,0]
[null,6,3,null,0,null,null,15,4,null,0,null,null,6,3,null,0,null,null,15,4,null,0,null,null,6,3,null,0,null,null,15,4,null,0,null,null,6,3,null,0,null,null,15,4,null,0,null,null,6,3,null,0,null,null,15,4,null,0,null,null,6,3,null,0,null,null,15,4,null,0,null,null,6,3,null,0,null,null,6,3,null,0,null,null,15,4,null,0]
[null,7,4,null,0,null,null,16,4,null,0,null,null,7,4,null,0,null,null,16,4,null,0,null,null,7,4,null,0,null,null,16,4,null,0,null,null,7,4,null,0,null,null,16,4,null,0,null,null,7,4,null,0,null,null,16,4,null,0,null,null,7,4,null,0,null,null,16,4,null,0,null,null,7,4,null,0,null,null,7,4,null,0,null,null,16,4,null,0]
[null,8,4,null,0,null,null,17,3,null,0,null,null,8,4,null,0,null,null,17,3,null,0,null,null,8,4,null,0,null,null,17,3,null,0,null,null,8,4,null,0,null,null,17,3,null,0,null,null,8,4,null,0,null,null,17,3,null,0,null,null,8,4,null,0,null,null,17,3,null,0,null,null,8,4,null,0,null,null,8,4,null,0,null,null,17,3,null,0]
[null,9,5,null,0,null,null,18,5,null,0,null,null,9,5,null,0,null,null,18,5,null,0,null,null,9,5,null,0,null,null,18,5,null,0,null,null,9,5,null,0,null,null,18,5,null,0,null,null,9,5,null,0,null,null,18,5,null,0,null,null,9,5,null,0,null,null,18,5,null,0,null,null,9,5,null,0,null,null,9,5,null,0,null,null,18,5,null,0]
[null,"Total",{"$f":"SUM(C7:C15)","v":36},{"$f":"SUM(D7:D15)","v":0},{"$f":"SUM(E7:E15)","v":0},{"$f":"SUM(F7:F15)","v":0},null,"Total",{"$f":"SUM(I7:I15)","v":36},{"$f":"SUM(J7:J15)","v":0},{"$f":"SUM(K7:K15)","v":0},{"$f":"SUM(L7:L15)","v":0},null,"Total",{"$f":"SUM(O7:O15)","v":36},{"$f":"SUM(P7:P15)","v":0},{"$f":"SUM(Q7:Q15)","v":0},{"$f":"SUM(R7:R15)","v":0},null,"Total",{"$f":"SUM(U7:U15)","v":36},{"$f":"SUM(V7:V15)","v":0},{"$f":"SUM(W7:W15)","v":0},{"$f":"SUM(X7:X15)","v":0},null,"Total",{"$f":"SUM(AA7:AA15)","v":36},{"$f":"SUM(AB7:AB15)","v":0},{"$f":"SUM(AC7:AC15)","v":0},{"$f":"SUM(AD7:AD15)","v":0},null,"Total",{"$f":"SUM(AG7:AG15)","v":36},{"$f":"SUM(AH7:AH15)","v":0},{"$f":"SUM(AI7:AI15)","v":0},{"$f":"SUM(AJ7:AJ15)","v":0},null,"Total",{"$f":"SUM(AM7:AM15)","v":36},{"$f":"SUM(AN7:AN15)","v":0},{"$f":"SUM(AO7:AO15)","v":0},{"$f":"SUM(AP7:AP15)","v":0},null,"Total",{"$f":"SUM(AS7:AS15)","v":36},{"$f":"SUM(AT7:AT15)","v":0},{"$f":"SUM(AU7:AU15)","v":0},{"$f":"SUM(AV7:AV15)","v":0},null,"Total",{"$f":"SUM(AY7:AY15)","v":36},{"$f":"SUM(AZ7:AZ15)","v":0},{"$f":"SUM(BA7:BA15)","v":0},{"$f":"SUM(BB7:BB15)","v":0},null,"Total",{"$f":"SUM(BE7:BE15)","v":36},{"$f":"SUM(BF7:BF15)","v":0},{"$f":"SUM(BG7:BG15)","v":0},{"$f":"SUM(BH7:BH15)","v":0},null,"Total",{"$f":"SUM(BK7:BK15)","v":36},{"$f":"SUM(BL7:BL15)","v":0},{"$f":"SUM(BM7:BM15)","v":0},{"$f":"SUM(BN7:BN15)","v":0},null,"Total",{"$f":"SUM(BQ7:BQ15)","v":36},{"$f":"SUM(BR7:BR15)","v":0},{"$f":"SUM(BS7:BS15)","v":0},{"$f":"SUM(BT7:BT15)","v":0},null,"Total",{"$f":"SUM(BW7:BW15)","v":36},{"$f":"SUM(BX7:BX15)","v":0},{"$f":"SUM(BY7:BY15)","v":0},{"$f":"SUM(BZ7:BZ15)","v":0},null,"Total",{"$f":"SUM(CC7:CC15)","v":36},{"$f":"SUM(CD7:CD15)","v":0},{"$f":"SUM(CE7:CE15)","v":0},{"$f":"SUM(CF7:CF15)","v":0},null,"Total",{"$f":"SUM(CI7:CI15)","v":36},{"$f":"SUM(CJ7:CJ15)","v":0},{"$f":"SUM(CK7:CK15)","v":0},{"$f":"SUM(CL7:CL15)","v":0}]
[]
[null,null,null,null,"Low Net",null,null,null,null,null,"Low Net",0,null,null,null,null,"Low Net",0,null,null,null,null,"Low Net",null,null,null,null,null,"Low Net",null,null,null,null,null,"Low Net",null,null,null,null,null,"Low Net",null,null,null,null,null,"Low Net",null,null,null,null,null,"Low Net",null,null,null,null,null,"Low Net",null,null,null,null,null,"Low Net",null,null,null,null,null,"Low Net",null,null,null,null,null,"Low Net",null,null,null,null,null,"Low Net",null,null,null,null,null,"Low Net"]
[]
[null,null,null,null,"Total Points",{"$f":"SUM(F16:F19)","v":0},null,null,null,null,"Total Points",{"$f":"SUM(L16:L19)","v":0},null,null,null,null,"Total Points",{"$f":"SUM(R16:R19)","v":0},null,null,null,null,"Total Points",{"$f":"SUM(X16:X19)","v":0},null,null,null,null,"Total Points",{"$f":"SUM(AD16:AD19)","v":0},null,null,null,null,"Total Points",{"$f":"SUM(AJ16:AJ19)","v":0},null,null,null,null,"Total Points",{"$f":"SUM(AP16:AP19)","v":0},null,null,null,null,"Total Points",{"$f":"SUM(AV16:AV19)","v":0},null,null,null,null,"Total Points",{"$f":"SUM(BB16:BB19)","v":0},null,null,null,null,"Total Points",{"$f":"SUM(BH16:BH19)","v":0},null,null,null,null,"Total Points",{"$f":"SUM(BN16:BN19)","v":0},null,null,null,null,"Total Points",{"$f":"SUM(BT16:BT19)","v":0},null,null,null,null,"Total Points",{"$f":"SUM(BZ16:BZ19)","v":0},null,null,null,null,"Total Points",{"$f":"SUM(CF16:CF19)","v":0},null,null,null,null,"Total Points",{"$f":"SUM(CL16:CL19)","v":0}]
[]
[null,null,null,null,"Handicap",{"$f":"IF(D16=0,0,E16-C16)","v":0},null,null,null,null,"Handicap",{"$f":"IF(J16=0,0,K16-I16)","v":0},null,null,null,null,"Handicap",{"$f":"IF(P16=0,0,Q16-O16)","v":0},null,null,null,null,"Handicap",{"$f":"IF(V16=0,0,W16-U16)","v":0},null,null,null,null,"Handicap",{"$f":"IF(AB16=0,0,AC16-AA16)","v":0},null,null,null,null,"Handicap",{"$f":"IF(AH16=0,0,AI16-AG16)","v":0},null,null,null,null,"Handicap",{"$f":"IF(AN16=0,0,AO16-AM16)","v":0},null,null,null,null,"Handicap",{"$f":"IF(AT16=0,0,AU16-AS16)","v":0},null,null,null,null,"Handicap",{"$f":"IF(AZ16=0,0,BA16-AY16)","v":0},null,null,null,null,"Handicap",{"$f":"IF(BF16=0,0,BG16-BE16)","v":0},null,null,null,null,"Handicap",{"$f":"IF(BL16=0,0,BM16-BK16)","v":0},null,null,null,null,"Handicap",{"$f":"IF(BR16=0,0,BS16-BQ16)","v":0},null,null,null,null,"Handicap",{"$f":"IF(BX16=0,0,BY16-BW16)","v":0},null,null,null,null,"Handicap",{"$f":"IF(CD16=0,0,CE16-CC16)","v":0},null,null,null,null,"Handicap",{"$f":"IF(CJ16=0,0,CK16-CI16)","v":0}]
[]
[null,null,null,null,null,{"$f":"IF(D16<>0,IF(F16>4.5,\"W\",IF(F16=4.5,\"T\",IF(F16<4.5,\"L\"))),0)","v":0},null,null,null,null,null,{"$f":"IF(J16<>0,IF(L16>4.5,\"W\",IF(L16=4.5,\"T\",IF(L16<4.5,\"L\"))),0)","v":0},null,null,null,null,null,{"$f":"IF(P16<>0,IF(R16>4.5,\"W\",IF(R16=4.5,\"T\",IF(R16<4.5,\"L\"))),0)","v":0},null,null,null,null,null,{"$f":"IF(V16<>0,IF(X16>4.5,\"W\",IF(X16=4.5,\"T\",IF(X16<4.5,\"L\"))),0)","v":0},null,null,null,null,null,{"$f":"IF(AB16<>0,IF(AD16>4.5,\"W\",IF(AD16=4.5,\"T\",IF(AD16<4.5,\"L\"))),0)","v":0},null,null,null,null,null,{"$f":"IF(AH16<>0,IF(AJ16>4.5,\"W\",IF(AJ16=4.5,\"T\",IF(AJ16<4.5,\"L\"))),0)","v":0},null,null,null,null,null,{"$f":"IF(AN16<>0,IF(AP16>4.5,\"W\",IF(AP16=4.5,\"T\",IF(AP16<4.5,\"L\"))),0)","v":0},null,null,null,null,null,{"$f":"IF(AT16<>0,IF(AV16>4.5,\"W\",IF(AV16=4.5,\"T\",IF(AV16<4.5,\"L\"))),0)","v":0},null,null,null,null,null,{"$f":"IF(AZ16<>0,IF(BB16>4.5,\"W\",IF(BB16=4.5,\"T\",IF(BB16<4.5,\"L\"))),0)","v":0},null,null,null,null,null,{"$f":"IF(BF16<>0,IF(BH16>4.5,\"W\",IF(BH16=4.5,\"T\",IF(BH16<4.5,\"L\"))),0)","v":0},null,null,null,null,null,{"$f":"IF(BL16<>0,IF(BN16>4.5,\"W\",IF(BN16=4.5,\"T\",IF(BN16<4.5,\"L\"))),0)","v":0},null,null,null,null,null,{"$f":"IF(BR16<>0,IF(BT16>4.5,\"W\",IF(BT16=4.5,\"T\",IF(BT16<4.5,\"L\"))),0)","v":0},null,null,null,null,null,{"$f":"IF(BX16<>0,IF(BZ16>4.5,\"W\",IF(BZ16=4.5,\"T\",IF(BZ16<4.5,\"L\"))),0)","v":0},null,null,null,null,null,{"$f":"IF(CD16<>0,IF(CF16>4.5,\"W\",IF(CF16=4.5,\"T\",IF(CF16<4.5,\"L\"))),0)","v":0},null,null,null,null,null,{"$f":"IF(CJ16<>0,IF(CL16>4.5,\"W\",IF(CL16=4.5,\"T\",IF(CL16<4.5,\"L\"))),0)","v":0}]
[]
[null,"Summary",null,{"$f":"COUNT(D29:D43)","v":15}]
[null,null,null,"Adj",null,"Adj",null,null,null,"Avg Score"]
[null,null,"Points","Points","Matches","Matches",null,null,"Hole #","by Hole","Best","Worst"]
[null,"Week #1",{"$f":"F20","v":0},{"$f":"C29","v":0},{"$f":"IF(D16>0,1,0)","v":0},{"$f":"E29","v":0},null,null,1,{"$f":"IFERROR(AVERAGE(D7,P7,AB7,AN7,AZ7,BL7,BX7,CD7),0)","v":0},{"$f":"IFERROR(MIN(D7,P7,AB7,AN7,AZ7,BL7,BX7,CD7),0)","v":0},{"$f":"IFERROR(MAX(D7,P7,AB7,AN7,AZ7,BL7,BX7,CD7),0)","v":0}]
[null,"Week #2",{"$f":"L20","v":0},0,{"$f":"IF(J16>0,1,0)","v":0},0,null,null,2,{"$f":"IFERROR(AVERAGE(D8,P8,AB8,AN8,AZ8,BL8,BX8,CD8),0)","v":0},{"$f":"IFERROR(MIN(D8,P8,AB8,AN8,AZ8,BL8,BX8,CD8),0)","v":0},{"$f":"IFERROR(MAX(D8,P8,AB8,AN8,AZ8,BL8,BX8,CD8),0)","v":0}]
[null,"Week #3",{"$f":"R20","v":0},0,{"$f":"IF(P16>0,1,0)","v":0},0,null,null,3,0,0,0]
[null,"Week #4",{"$f":"X20","v":0},0,{"$f":"IF(V16>0,1,0)","v":0},0,null,null,4,0,0,0]
[null,"Week #5",{"$f":"AD20","v":0},0,{"$f":"IF(AB16>0,1,0)","v":0},0,null,null,5,0,0,0]
[null,"Week #6",{"$f":"AJ20","v":0},0,{"$f":"IF(AH16>0,1,0)","v":0},0,null,null,6,0,0,0]
[null,"Week #7",{"$f":"AP20","v":0},0,{"$f":"IF(AN16>0,1,0)","v":0},0,null,null,7,0,0,0]
[null,"Week #8",{"$f":"AV20","v":0},0,{"$f":"IF(AT16>0,1,0)","v":0},0,null,null,8,0,0,0]
[null,"Week #9",{"$f":"BB20","v":0},0,{"$f":"IF(AZ16>0,1,0)","v":0},0,null,null,9,0,0,0]
[null,"Week #10",{"$f":"BH20","v":0},0,{"$f":"IF(BF16>0,1,0)","v":0},0,null,null,"Front",{"$f":"SUM(J29:J37)","v":0},{"$f":"SUM(K29:K37)","v":0},0]
[null,"Week #11",{"$f":"BN20","v":0},0,{"$f":"IF(BL16>0,1,0)","v":0},0]
[null,"Week #12",{"$f":"BT20","v":0},0,{"$f":"IF(BR16>0,1,0)","v":0},0,null,null,10,{"$f":"IFERROR(AVERAGE(J7,V7,AH7,AT7,BF7,BR7,CJ7),0)","v":0},{"$f":"IFERROR(MIN(J7,V7,AH7,AT7,BF7,BR7,CJ7),0)","v":0},{"$f":"IFERROR(MAX(J7,V7,AH7,AT7,BF7,BR7,CJ7),0)","v":0}]
[null,"Week #13",{"$f":"BZ20","v":0},0,{"$f":"IF(BX16>0,1,0)","v":0},0,null,null,11,{"$f":"IFERROR(AVERAGE(J8,V8,AH8,AT8,BF8,BR8,CJ8),0)","v":0},{"$f":"IFERROR(MIN(J8,V8,AH8,AT8,BF8,BR8,CJ8),0)","v":0},{"$f":"IFERROR(MAX(J8,V8,AH8,AT8,BF8,BR8,CJ8),0)","v":0}]
[null,"Week #14",{"$f":"CF20","v":0},0,{"$f":"IF(CD16>0,1,0)","v":0},0,null,null,12,0,0,0]
[null,"Week #15",{"$f":"CL20","v":0},0,{"$f":"IF(CJ16>0,1,0)","v":0},0,null,null,13,0,0,0]
[null,"Total",{"$f":"SUM(C29:C43)","v":0},{"$f":"SUM(D29:D43)","v":0},{"$f":"SUM(E29:E43)","v":0},{"$f":"SUM(F29:F43)","v":0},null,null,14,0,0,0]
[null,null,null,null,null,null,null,null,15,0,0,0]
[null,"Summary",null,null,null,null,null,null,16,0,0,0]
[null,"Eagles",{"$f":"I57+I68+I79+I90+I101+I112+I123+I134+I145+I156+I167+I178+I189+I200+I211","v":0},null,null,null,null,null,17,0,0,0]
[null,"Birdies",0,null,null,null,null,null,18,0,0,0]
[null,"Pars",0,null,null,null,null,null,"Back",{"$f":"SUM(J40:J48)","v":0},{"$f":"SUM(K40:K48)","v":0},0]
[null,"bogeys",0]
[null,"Double bogeys",0]
[null,"Other",0]
[null,"Total",{"$f":"SUM(C47:C52)","v":0}]
[]
[null,{"$f":"D4","v":"2024-04-26"},"Par","Score"]
[null,{"$f":"B7","v":1},4,0,{"$f":"IF(D56<>0,IF((D56-C56)=-1,\"Birdie\",IF((D56-C56)=-2,\"Eagle\",IF((D56-C56)=0,\"Par\",IF((D56-C56)=1,\"bogey\",IF((D56-C56)=2,\"Double bogey\",\"Other\"))))),\"  \")","v":"  "},null,null,"Count"]
[null,2,4,0,"  ",null,null,"Eagle",{"$f":"COUNTIF(E56:E64,\"Eagle\")","v":0}]
[null,3,3,0,"  ",null,null,"Birdie",{"$f":"COUNTIF(E56:E64,\"Birdie\")","v":0}]
[null,4,4,0,"  ",null,null,"Par",{"$f":"COUNTIF(E56:E64,\"Par\")","v":0}]
[null,5,5,0,"  ",null,null,"bogey",{"$f":"COUNTIF(E56:E64,\"bogey\")","v":0}]
[null,6,3,0,"  ",null,null,"Double bogey",{"$f":"COUNTIF(E56:E64,\"Double bogey\")","v":0}]
[null,7,4,0,"  ",null,null,"Other",{"$f":"COUNTIF(E56:E64,\"Other\")","v":0}]
[null,8,4,0,"  "]
[null,9,5,0,"  "]
[]
[null,{"$f":"J4","v":"2024-05-03"}]
[null,{"$f":"H7","v":10},4,0,{"$f":"IF(D67<>0,IF((D67-C67)=-1,\"Birdie\",IF((D67-C67)=-2,\"Eagle\",IF((D67-C67)=0,\"Par\",IF((D67-C67)=1,\"bogey\",IF((D67-C67)=2,\"Double bogey\",\"Other\"))))),\"  \")","v":"  "},null,null,"Count"]
[null,11,4,0,"  ",null,null,"Eagle",{"$f":"COUNTIF(E67:E75,\"Eagle\")","v":0}]
[null,12,4,0,"  ",null,null,"Birdie",{"$f":"COUNTIF(E67:E75,\"Birdie\")","v":0}]
[null,13,5,0,"  ",null,null,"Par",{"$f":"COUNTIF(E67:E75,\"Par\")","v":0}]
[null,14,3,0,"  ",null,null,"bogey",{"$f":"COUNTIF(E67:E75,\"bogey\")","v":0}]
[null,15,4,0,"  ",null,null,"Double bogey",{"$f":"COUNTIF(E67:E75,\"Double bogey\")","v":0}]
[null,16,4,0,"  ",null,null,"Other",{"$f":"COUNTIF(E67:E75,\"Other\")","v":0}]
[null,17,3,0,"  "]
[null,18,5,0,"  "]
[]
[null,{"$f":"P4","v":"2024-05-10"}]
[null,{"$f":"N7","v":1},4,0,{"$f":"IF(D78<>0,IF((D78-C78)=-1,\"Birdie\",IF((D78-C78)=-2,\"Eagle\",IF((D78-C78)=0,\"Par\",IF((D78-C78)=1,\"bogey\",IF((D78-C78)=2,\"Double bogey\",\"Other\"))))),\"  \")","v":"  "},null,null,"Count"]
[null,2,4,0,"  ",null,null,"Eagle",{"$f":"COUNTIF(E78:E86,\"Eagle\")","v":0}]
[null,3,3,0,"  ",null,null,"Birdie",{"$f":"COUNTIF(E78:E86,\"Birdie\")","v":0}]
[null,4,4,0,"  ",null,null,"Par",{"$f":"COUNTIF(E78:E86,\"Par\")","v":0}]
[null,5,5,0,"  ",null,null,"bogey",{"$f":"COUNTIF(E78:E86,\"bogey\")","v":0}]
[null,6,3,0,"  ",null,null,"Double bogey",{"$f":"COUNTIF(E78:E86,\"Double bogey\")","v":0}]
[null,7,4,0,"  ",null,null,"Other",{"$f":"COUNTIF(E78:E86,\"Other\")","v":0}]
[null,8,4,0,"  "]
[null,9,5,0,"  "]
[]
[null,{"$f":"V4","v":"2024-05-17"}]
[null,{"$f":"T7","v":10},4,0,{"$f":"IF(D89<>0,IF((D89-C89)=-1,\"Birdie\",IF((D89-C89)=-2,\"Eagle\",IF((D89-C89)=0,\"Par\",IF((D89-C89)=1,\"bogey\",IF((D89-C89)=2,\"Double bogey\",\"Other\"))))),\"  \")","v":"  "},null,null,"Count"]
[null,11,4,0,"  ",null,null,"Eagle",{"$f":"COUNTIF(E89:E97,\"Eagle\")","v":0}]
[null,12,4,0,"  ",null,null,"Birdie",{"$f":"COUNTIF(E89:E97,\"Birdie\")","v":0}]
[null,13,5,0,"  ",null,null,"Par",{"$f":"COUNTIF(E89:E97,\"Par\")","v":0}]
[null,14,3,0,"  ",null,null,"bogey",{"$f":"COUNTIF(E89:E97,\"bogey\")","v":0}]
[null,15,4,0,"  ",null,null,"Double bogey",{"$f":"COUNTIF(E89:E97,\"Double bogey\")","v":0}]
[null,16,4,0,"  ",null,null,"Other",{"$f":"COUNTIF(E89:E97,\"Other\")","v":0}]
[null,17,3,0,"  "]
[null,18,5,0,"  "]
[]
[null,{"$f":"AB4","v":"2024-05-24"}]
[null,{"$f":"Z7","v":1},4,0,{"$f":"IF(D100<>0,IF((D100-C100)=-1,\"Birdie\",IF((D100-C100)=-2,\"Eagle\",IF((D100-C100)=0,\"Par\",IF((D100-C100)=1,\"bogey\",IF((D100-C100)=2,\"Double bogey\",\"Other\"))))),\"  \")","v":"  "},null,null,"Count"]
[null,2,4,0,"  ",null,null,"Eagle",{"$f":"COUNTIF(E100:E108,\"Eagle\")","v":0}]
[null,3,3,0,"  ",null,null,"Birdie",{"$f":"COUNTIF(E100:E108,\"Birdie\")","v":0}]
[null,4,4,0,"  ",null,null,"Par",{"$f":"COUNTIF(E100:E108,\"Par\")","v":0}]
[null,5,5,0,"  ",null,null,"bogey",{"$f":"COUNTIF(E100:E108,\"bogey\")","v":0}]
[null,6,3,0,"  ",null,null,"Double bogey",{"$f":"COUNTIF(E100:E108,\"Double bogey\")","v":0}]
[null,7,4,0,"  ",null,null,"Other",{"$f":"COUNTIF(E100:E108,\"Other\")","v":0}]
[null,8,4,0,"  "]
[null,9,5,0,"  "]
[]
[null,{"$f":"AH4","v":"2024-05-31"}]
[null,{"$f":"AF7","v":10},4,0,{"$f":"IF(D111<>0,IF((D111-C111)=-1,\"Birdie\",IF((D111-C111)=-2,\"Eagle\",IF((D111-C111)=0,\"Par\",IF((D111-C111)=1,\"bogey\",IF((D111-C111)=2,\"Double bogey\",\"Other\"))))),\"  \")","v":"  "},null,null,"Count"]
[null,11,4,0,"  ",null,null,"Eagle",{"$f":"COUNTIF(E111:E119,\"Eagle\")","v":0}]
[null,12,4,0,"  ",null,null,"Birdie",{"$f":"COUNTIF(E111:E119,\"Birdie\")","v":0}]
[null,13,5,0,"  ",null,null,"Par",{"$f":"COUNTIF(E111:E119,\"Par\")","v":0}]
[null,14,3,0,"  ",null,null,"bogey",{"$f":"COUNTIF(E111:E119,\"bogey\")","v":0}]
[null,15,4,0,"  ",null,null,"Double bogey",{"$f":"COUNTIF(E111:E119,\"Double bogey\")","v":0}]
[null,16,4,0,"  ",null,null,"Other",{"$f":"COUNTIF(E111:E119,\"Other\")","v":0}]
[null,17,3,0,"  "]
[null,18,5,0,"  "]
[]
[null,{"$f":"AN4","v":"2024-06-07"}]
[null,{"$f":"AL7","v":1},4,0,{"$f":"IF(D122<>0,IF((D122-C122)=-1,\"Birdie\",IF((D122-C122)=-2,\"Eagle\",IF((D122-C122)=0,\"Par\",IF((D122-C122)=1,\"bogey\",IF((D122-C122)=2,\"Double bogey\",\"Other\"))))),\"  \")","v":"  "},null,null,"Count"]
[null,2,4,0,"  ",null,null,"Eagle",{"$f":"COUNTIF(E122:E130,\"Eagle\")","v":0}]
[null,3,3,0,"  ",null,null,"Birdie",{"$f":"COUNTIF(E122:E130,\"Birdie\")","v":0}]
[null,4,4,0,"  ",null,null,"Par",{"$f":"COUNTIF(E122:E130,\"Par\")","v":0}]
[null,5,5,0,"  ",null,null,"bogey",{"$f":"COUNTIF(E122:E130,\"bogey\")","v":0}]
[null,6,3,0,"  ",null,null,"Double bogey",{"$f":"COUNTIF(E122:E130,\"Double bogey\")","v":0}]
[null,7,4,0,"  ",null,null,"Other",{"$f":"COUNTIF(E122:E130,\"Other\")","v":0}]
[null,8,4,0,"  "]
[null,9,5,0,"  "]
[]
[null,{"$f":"AT4","v":"2024-06-14"}]
[null,{"$f":"AR7","v":10},4,0,{"$f":"IF(D133<>0,IF((D133-C133)=-1,\"Birdie\",IF((D133-C133)=-2,\"Eagle\",IF((D133-C133)=0,\"Par\",IF((D133-C133)=1,\"bogey\",IF((D133-C133)=2,\"Double bogey\",\"Other\"))))),\"  \")","v":"  "},null,null,"Count"]
[null,11,4,0,"  ",null,null,"Eagle",{"$f":"COUNTIF(E133:E141,\"Eagle\")","v":0}]
[null,12,4,0,"  ",null,null,"Birdie",{"$f":"COUNTIF(E133:E141,\"Birdie\")","v":0}]
[null,13,5,0,"  ",null,null,"Par",{"$f":"COUNTIF(E133:E141,\"Par\")","v":0}]
[null,14,3,0,"  ",null,null,"bogey",{"$f":"COUNTIF(E133:E141,\"bogey\")","v":0}]
[null,15,4,0,"  ",null,null,"Double bogey",{"$f":"COUNTIF(E133:E141,\"Double bogey\")","v":0}]
[null,16,4,0,"  ",null,null,"Other",{"$f":"COUNTIF(E133:E141,\"Other\")","v":0}]
[null,17,3,0,"  "]
[null,18,5,0,"  "]
[]
[null,{"$f":"AZ4","v":"2024-07-05"}]
[null,{"$f":"AX7","v":1},4,0,{"$f":"IF(D144<>0,IF((D144-C144)=-1,\"Birdie\",IF((D144-C144)=-2,\"Eagle\",IF((D144-C144)=0,\"Par\",IF((D144-C144)=1,\"bogey\",IF((D144-C144)=2,\"Double bogey\",\"Other\"))))),\"  \")","v":"  "},null,null,"Count"]
[null,2,4,0,"  ",null,null,"Eagle",{"$f":"COUNTIF(E144:E152,\"Eagle\")","v":0}]
[null,3,3,0,"  ",null,null,"Birdie",{"$f":"COUNTIF(E144:E152,\"Birdie\")","v":0}]
[null,4,4,0,"  ",null,null,"Par",{"$f":"COUNTIF(E144:E152,\"Par\")","v":0}]
[null,5,5,0,"  ",null,null,"bogey",{"$f":"COUNTIF(E144:E152,\"bogey\")","v":0}]
[null,6,3,0,"  ",null,null,"Double bogey",{"$f":"COUNTIF(E144:E152,\"Double bogey\")","v":0}]
[null,7,4,0,"  ",null,null,"Other",{"$f":"COUNTIF(E144:E152,\"Other\")","v":0}]
[null,8,4,0,"  "]
[null,9,5,0,"  "]
[]
[null,{"$f":"BF4","v":"2024-07-12"}]
[null,{"$f":"BD7","v":10},4,0,{"$f":"IF(D155<>0,IF((D155-C155)=-1,\"Birdie\",IF((D155-C155)=-2,\"Eagle\",IF((D155-C155)=0,\"Par\",IF((D155-C155)=1,\"bogey\",IF((D155-C155)=2,\"Double bogey\",\"Other\"))))),\"  \")","v":"  "},null,null,"Count"]
[null,11,4,0,"  ",null,null,"Eagle",{"$f":"COUNTIF(E155:E163,\"Eagle\")","v":0}]
[null,12,4,0,"  ",null,null,"Birdie",{"$f":"COUNTIF(E155:E163,\"Birdie\")","v":0}]
[null,13,5,0,"  ",null,null,"Par",{"$f":"COUNTIF(E155:E163,\"Par\")","v":0}]
[null,14,3,0,"  ",null,null,"bogey",{"$f":"COUNTIF(E155:E163,\"bogey\")","v":0}]
[null,15,4,0,"  ",null,null,"Double bogey",{"$f":"COUNTIF(E155:E163,\"Double bogey\")","v":0}]
[null,16,4,0,"  ",null,null,"Other",{"$f":"COUNTIF(E155:E163,\"Other\")","v":0}]
[null,17,3,0,"  "]
[null,18,5,0,"  "]
[]
[null,{"$f":"BL4","v":"2024-07-19"}]
[null,{"$f":"BJ7","v":1},4,0,{"$f":"IF(D166<>0,IF((D166-C166)=-1,\"Birdie\",IF((D166-C166)=-2,\"Eagle\",IF((D166-C166)=0,\"Par\",IF((D166-C166)=1,\"bogey\",IF((D166-C166)=2,\"Double bogey\",\"Other\"))))),\"  \")","v":"  "},null,null,"Count"]
[null,2,4,0,"  ",null,null,"Eagle",{"$f":"COUNTIF(E166:E174,\"Eagle\")","v":0}]
[null,3,3,0,"  ",null,null,"Birdie",{"$f":"COUNTIF(E166:E174,\"Birdie\")","v":0}]
[null,4,4,0,"  ",null,null,"Par",{"$f":"COUNTIF(E166:E174,\"Par\")","v":0}]
[null,5,5,0,"  ",null,null,"bogey",{"$f":"COUNTIF(E166:E174,\"bogey\")","v":0}]
[null,6,3,0,"  ",null,null,"Double bogey",{"$f":"COUNTIF(E166:E174,\"Double bogey\")","v":0}]
[null,7,4,0,"  ",null,null,"Other",{"$f":"COUNTIF(E166:E174,\"Other\")","v":0}]
[null,8,4,0,"  "]
[null,9,5,0,"  "]
[]
[null,{"$f":"BR4","v":"2024-07-26"}]
[null,{"$f":"BP7","v":10},4,0,{"$f":"IF(D177<>0,IF((D177-C177)=-1,\"Birdie\",IF((D177-C177)=-2,\"Eagle\",IF((D177-C177)=0,\"Par\",IF((D177-C177)=1,\"bogey\",IF((D177-C177)=2,\"Double bogey\",\"Other\"))))),\"  \")","v":"  "},null,null,"Count"]
[null,11,4,0,"  ",null,null,"Eagle",{"$f":"COUNTIF(E177:E185,\"Eagle\")","v":0}]
[null,12,4,0,"  ",null,null,"Birdie",{"$f":"COUNTIF(E177:E185,\"Birdie\")","v":0}]
[null,13,5,0,"  ",null,null,"Par",{"$f":"COUNTIF(E177:E185,\"Par\")","v":0}]
[null,14,3,0,"  ",null,null,"bogey",{"$f":"COUNTIF(E177:E185,\"bogey\")","v":0}]
[null,15,4,0,"  ",null,null,"Double bogey",{"$f":"COUNTIF(E177:E185,\"Double bogey\")","v":0}]
[null,16,4,0,"  ",null,null,"Other",{"$f":"COUNTIF(E177:E185,\"Other\")","v":0}]
[null,17,3,0,"  "]
[null,18,5,0,"  "]
[]
[null,{"$f":"BX4","v":"2024-08-02"}]
[null,{"$f":"BV7","v":1},4,0,{"$f":"IF(D188<>0,IF((D188-C188)=-1,\"Birdie\",IF((D188-C188)=-2,\"Eagle\",IF((D188-C188)=0,\"Par\",IF((D188-C188)=1,\"bogey\",IF((D188-C188)=2,\"Double bogey\",\"Other\"))))),\"  \")","v":"  "},null,null,"Count"]
[null,2,4,0,"  ",null,null,"Eagle",{"$f":"COUNTIF(E188:E196,\"Eagle\")","v":0}]
[null,3,3,0,"  ",null,null,"Birdie",{"$f":"COUNTIF(E188:E196,\"Birdie\")","v":0}]
[null,4,4,0,"  ",null,null,"Par",{"$f":"COUNTIF(E188:E196,\"Par\")","v":0}]
[null,5,5,0,"  ",null,null,"bogey",{"$f":"COUNTIF(E188:E196,\"bogey\")","v":0}]
[null,6,3,0,"  ",null,null,"Double bogey",{"$f":"COUNTIF(E188:E196,\"Double bogey\")","v":0}]
[null,7,4,0,"  ",null,null,"Other",{"$f":"COUNTIF(E188:E196,\"Other\")","v":0}]
[null,8,4,0,"  "]
[null,9,5,0,"  "]
[]
[null,{"$f":"CD4","v":"2024-08-16"}]
[null,{"$f":"CB7","v":1},4,0,{"$f":"IF(D199<>0,IF((D199-C199)=-1,\"Birdie\",IF((D199-C199)=-2,\"Eagle\",IF((D199-C199)=0,\"Par\",IF((D199-C199)=1,\"bogey\",IF((D199-C199)=2,\"Double bogey\",\"Other\"))))),\"  \")","v":"  "},null,null,"Count"]
[null,2,4,0,"  ",null,null,"Eagle",{"$f":"COUNTIF(E199:E207,\"Eagle\")","v":0}]
[null,3,3,0,"  ",null,null,"Birdie",{"$f":"COUNTIF(E199:E207,\"Birdie\")","v":0}]
[null,4,4,0,"  ",null,null,"Par",{"$f":"COUNTIF(E199:E207,\"Par\")","v":0}]
[null,5,5,0,"  ",null,null,"bogey",{"$f":"COUNTIF(E199:E207,\"bogey\")","v":0}]
[null,6,3,0,"  ",null,null,"Double bogey",{"$f":"COUNTIF(E199:E207,\"Double bogey\")","v":0}]
[null,7,4,0,"  ",null,null,"Other",{"$f":"COUNTIF(E199:E207,\"Other\")","v":0}]
[null,8,4,0,"  "]
[null,9,5,0,"  "]
[]
[null,{"$f":"CJ4","v":"2024-08-23"}]
[null,{"$f":"CH7","v":10},4,0,{"$f":"IF(D210<>0,IF((D210-C210)=-1,\"Birdie\",IF((D210-C210)=-2,\"Eagle\",IF((D210-C210)=0,\"Par\",IF((D210-C210)=1,\"bogey\",IF((D210-C210)=2,\"Double bogey\",\"Other\"))))),\"  \")","v":"  "},null,null,"Count"]
[null,11,4,0,"  ",null,null,"Eagle",{"$f":"COUNTIF(E210:E218,\"Eagle\")","v":0}]
[null,12,4,0,"  ",null,null,"Birdie",{"$f":"COUNTIF(E210:E218,\"Birdie\")","v":0}]
[null,13,5,0,"  ",null,null,"Par",{"$f":"COUNTIF(E210:E218,\"Par\")","v":0}]
[null,14,3,0,"  ",null,null,"bogey",{"$f":"COUNTIF(E210:E218,\"bogey\")","v":0}]
[null,15,4,0,"  ",null,null,"Double bogey",{"$f":"COUNTIF(E210:E218,\"Double bogey\")","v":0}]
[null,16,4,0,"  ",null,null,"Other",{"$f":"COUNTIF(E210:E218,\"Other\")","v":0}]
[null,17,3,0,"  "]
[null,18,5,0,"  "]

{"sheet":"Kauffman","index":25,"n_rows":218,"n_cols":90,"rows_kept":218,"cut":false,"hidden":false,"merged":[]}
["Ev Kauffman"]
[]
[]
[null,null,"Date:",{"$f":"VLOOKUP(C5,Week,2)","v":"2024-04-26"},null,null,null,null,"Date:",{"$f":"VLOOKUP(I5,Week,2)","v":"2024-05-03"},null,null,null,null,"Date:",{"$f":"VLOOKUP(O5,Week,2)","v":"2024-05-10"},null,null,null,null,"Date:",{"$f":"VLOOKUP(U5,Week,2)","v":"2024-05-17"},null,null,null,null,"Date:",{"$f":"VLOOKUP(AA5,Week,2)","v":"2024-05-24"},null,null,null,null,"Date:",{"$f":"VLOOKUP(AG5,Week,2)","v":"2024-05-31"},null,null,null,null,"Date:",{"$f":"VLOOKUP(AM5,Week,2)","v":"2024-06-07"},null,null,null,null,"Date:",{"$f":"VLOOKUP(AS5,Week,2)","v":"2024-06-14"},null,null,null,null,"Date:",{"$f":"VLOOKUP(AY5,Week,2)","v":"2024-07-05"},null,null,null,null,"Date:",{"$f":"VLOOKUP(BE5,Week,2)","v":"2024-07-12"},null,null,null,null,"Date:",{"$f":"VLOOKUP(BK5,Week,2)","v":"2024-07-19"},null,null,null,null,"Date:",{"$f":"VLOOKUP(BQ5,Week,2)","v":"2024-07-26"},null,null,null,null,"Date:",{"$f":"VLOOKUP(BW5,Week,2)","v":"2024-08-02"},null,null,null,null,"Date:",{"$f":"VLOOKUP(CC5,Week,2)","v":"2024-08-16"},null,null,null,null,"Date:",{"$f":"VLOOKUP(CI5,Week,2)","v":"2024-08-23"}]
[null,"Week",1,null,null,null,null,"Week",2,null,null,null,null,"Week",3,null,null,null,null,"Week",4,null,null,null,null,"Week",5,null,null,null,null,"Week",6,null,null,null,null,"Week",7,null,null,null,null,"Week",8,null,null,null,null,"Week",9,null,null,null,null,"Week",10,null,null,null,null,"Week",11,null,null,null,null,"Week",12,null,null,null,null,"Week",13,null,null,null,null,"Week",14,null,null,null,null,"Week",15]
[null,"Hole #","Par","Score","Net","Win Hole",null,"Hole #","Par","Score","Net","Win Hole",null,"Hole #","Par","Score","Net","Win Hole",null,"Hole #","Par","Score","Net","Win Hole",null,"Hole #","Par","Score","Net","Win Hole",null,"Hole #","Par","Score","Net","Win Hole",null,"Hole #","Par","Score","Net","Win Hole",null,"Hole #","Par","Score","Net","Win Hole",null,"Hole #","Par","Score","Net","Win Hole",null,"Hole #","Par","Score","Net","Win Hole",null,"Hole #","Par","Score","Net","Win Hole",null,"Hole #","Par","Score","Net","Win Hole",null,"Hole #","Par","Score","Net","Win Hole",null,"Hole #","Par","Score","Net","Win Hole",null,"Hole #","Par","Score","Net","Win Hole"]
[null,{"$f":"VLOOKUP(C5,Week,6)","v":1},{"$f":"VLOOKUP(B7,Holes,2)","v":4},4,{"$f":"IF((D7-C7)>3,C7+3,D7)","v":4},1,null,{"$f":"VLOOKUP(I5,Week,6)","v":10},{"$f":"VLOOKUP(H7,Holes,2)","v":4},6,{"$f":"IF((J7-I7)>3,I7+3,J7)","v":6},0,null,{"$f":"VLOOKUP(O5,Week,6)","v":1},{"$f":"VLOOKUP(N7,Holes,2)","v":4},null,{"$f":"IF((P7-O7)>3,O7+3,P7)","v":0},null,null,{"$f":"VLOOKUP(U5,Week,6)","v":10},{"$f":"VLOOKUP(T7,Holes,2)","v":4},null,{"$f":"IF((V7-U7)>3,U7+3,V7)","v":0},null,null,{"$f":"VLOOKUP(AA5,Week,6)","v":1},{"$f":"VLOOKUP(Z7,Holes,2)","v":4},null,{"$f":"IF((AB7-AA7)>3,AA7+3,AB7)","v":0},null,null,{"$f":"VLOOKUP(AG5,Week,6)","v":10},{"$f":"VLOOKUP(AF7,Holes,2)","v":4},null,{"$f":"IF((AH7-AG7)>3,AG7+3,AH7)","v":0},null,null,{"$f":"VLOOKUP(AM5,Week,6)","v":1},{"$f":"VLOOKUP(AL7,Holes,2)","v":4},null,{"$f":"IF((AN7-AM7)>3,AM7+3,AN7)","v":0},null,null,{"$f":"VLOOKUP(AS5,Week,6)","v":10},{"$f":"VLOOKUP(AR7,Holes,2)","v":4},null,{"$f":"IF((AT7-AS7)>3,AS7+3,AT7)","v":0},null,null,{"$f":"VLOOKUP(AY5,Week,6)","v":1},{"$f":"VLOOKUP(AX7,Holes,2)","v":4},null,{"$f":"IF((AZ7-AY7)>3,AY7+3,AZ7)","v":0},null,null,{"$f":"VLOOKUP(BE5,Week,6)","v":10},{"$f":"VLOOKUP(BD7,Holes,2)","v":4},null,{"$f":"IF((BF7-BE7)>3,BE7+3,BF7)","v":0},null,null,{"$f":"VLOOKUP(BK5,Week,6)","v":1},{"$f":"VLOOKUP(BJ7,Holes,2)","v":4},null,{"$f":"IF((BL7-BK7)>3,BK7+3,BL7)","v":0},null,null,{"$f":"VLOOKUP(BQ5,Week,6)","v":10},{"$f":"VLOOKUP(BP7,Holes,2)","v":4},6,{"$f":"IF((BR7-BQ7)>3,BQ7+3,BR7)","v":6},0.5,null,{"$f":"VLOOKUP(BW5,Week,6)","v":1},{"$f":"VLOOKUP(BV7,Holes,2)","v":4},null,{"$f":"IF((BX7-BW7)>3,BW7+3,BX7)","v":0},null,null,{"$f":"VLOOKUP(CC5,Week,6)","v":1},{"$f":"VLOOKUP(CB7,Holes,2)","v":4},null,{"$f":"IF((CD7-CC7)>3,CC7+3,CD7)","v":0},null,null,{"$f":"VLOOKUP(CI5,Week,6)","v":10},{"$f":"VLOOKUP(CH7,Holes,2)","v":4},null,{"$f":"IF((CJ7-CI7)>3,CI7+3,CJ7)","v":0}]
[null,{"$f":"+B7+1","v":2},4,5,5,1,null,{"$f":"+H7+1","v":11},4,6,6,1,null,{"$f":"+N7+1","v":2},4,null,0,null,null,{"$f":"+T7+1","v":11},4,null,0,null,null,{"$f":"+Z7+1","v":2},4,null,0,null,null,{"$f":"+AF7+1","v":11},4,null,0,null,null,{"$f":"+AL7+1","v":2},4,null,0,null,null,{"$f":"+AR7+1","v":11},4,null,0,null,null,{"$f":"+AX7+1","v":2},4,null,0,null,null,{"$f":"+BD7+1","v":11},4,null,0,null,null,{"$f":"+BJ7+1","v":2},4,null,0,null,null,{"$f":"+BP7+1","v":11},4,6,6,0,null,{"$f":"+BV7+1","v":2},4,null,0,null,null,{"$f":"+CB7+1","v":2},4,null,0,null,null,{"$f":"+CH7+1","v":11},4,null,0]
[null,3,3,4,4,1,null,12,4,6,6,1,null,3,3,null,0,null,null,12,4,null,0,null,null,3,3,null,0,null,null,12,4,null,0,null,null,3,3,null,0,null,null,12,4,null,0,null,null,3,3,null,0,null,null,12,4,null,0,null,null,3,3,null,0,null,null,12,4,6,6,0.5,null,3,3,null,0,null,null,3,3,null,0,null,null,12,4,null,0]
[null,4,4,6,6,1,null,13,5,7,7,0.5,null,4,4,null,0,null,null,13,5,null,0,null,null,4,4,null,0,null,null,13,5,null,0,null,null,4,4,null,0,null,null,13,5,null,0,null,null,4,4,null,0,null,null,13,5,null,0,null,null,4,4,null,0,null,null,13,5,7,7,0,null,4,4,null,0,null,null,4,4,null,0,null,null,13,5,null,0]
[null,5,5,6,6,1,null,14,3,6,6,0,null,5,5,null,0,null,null,14,3,null,0,null,null,5,5,null,0,null,null,14,3,null,0,null,null,5,5,null,0,null,null,14,3,null,0,null,null,5,5,null,0,null,null,14,3,null,0,null,null,5,5,null,0,null,null,14,3,4,4,0.5,null,5,5,null,0,null,null,5,5,null,0,null,null,14,3,null,0]
[null,6,3,3,3,1,null,15,4,8,7,0,null,6,3,null,0,null,null,15,4,null,0,null,null,6,3,null,0,null,null,15,4,null,0,null,null,6,3,null,0,null,null,15,4,null,0,null,null,6,3,null,0,null,null,15,4,null,0,null,null,6,3,null,0,null,null,15,4,6,6,0,null,6,3,null,0,null,null,6,3,null,0,null,null,15,4,null,0]
[null,7,4,5,5,0.5,null,16,4,6,6,0.5,null,7,4,null,0,null,null,16,4,null,0,null,null,7,4,null,0,null,null,16,4,null,0,null,null,7,4,null,0,null,null,16,4,null,0,null,null,7,4,null,0,null,null,16,4,null,0,null,null,7,4,null,0,null,null,16,4,5,5,1,null,7,4,null,0,null,null,7,4,null,0,null,null,16,4,null,0]
[null,8,4,5,5,1,null,17,3,4,4,1,null,8,4,null,0,null,null,17,3,null,0,null,null,8,4,null,0,null,null,17,3,null,0,null,null,8,4,null,0,null,null,17,3,null,0,null,null,8,4,null,0,null,null,17,3,null,0,null,null,8,4,null,0,null,null,17,3,5,5,0,null,8,4,null,0,null,null,8,4,null,0,null,null,17,3,null,0]
[null,9,5,6,6,1,null,18,5,8,8,0,null,9,5,null,0,null,null,18,5,null,0,null,null,9,5,null,0,null,null,18,5,null,0,null,null,9,5,null,0,null,null,18,5,null,0,null,null,9,5,null,0,null,null,18,5,null,0,null,null,9,5,null,0,null,null,18,5,7,7,0,null,9,5,null,0,null,null,9,5,null,0,null,null,18,5,null,0]
[null,"Total",{"$f":"SUM(C7:C15)","v":36},{"$f":"SUM(D7:D15)","v":44},{"$f":"SUM(E7:E15)","v":44},{"$f":"SUM(F7:F15)","v":8.5},null,"Total",{"$f":"SUM(I7:I15)","v":36},{"$f":"SUM(J7:J15)","v":57},{"$f":"SUM(K7:K15)","v":56},{"$f":"SUM(L7:L15)","v":4},null,"Total",{"$f":"SUM(O7:O15)","v":36},{"$f":"SUM(P7:P15)","v":0},{"$f":"SUM(Q7:Q15)","v":0},{"$f":"SUM(R7:R15)","v":0},null,"Total",{"$f":"SUM(U7:U15)","v":36},{"$f":"SUM(V7:V15)","v":0},{"$f":"SUM(W7:W15)","v":0},{"$f":"SUM(X7:X15)","v":0},null,"Total",{"$f":"SUM(AA7:AA15)","v":36},{"$f":"SUM(AB7:AB15)","v":0},{"$f":"SUM(AC7:AC15)","v":0},{"$f":"SUM(AD7:AD15)","v":0},null,"Total",{"$f":"SUM(AG7:AG15)","v":36},{"$f":"SUM(AH7:AH15)","v":0},{"$f":"SUM(AI7:AI15)","v":0},{"$f":"SUM(AJ7:AJ15)","v":0},null,"Total",{"$f":"SUM(AM7:AM15)","v":36},{"$f":"SUM(AN7:AN15)","v":0},{"$f":"SUM(AO7:AO15)","v":0},{"$f":"SUM(AP7:AP15)","v":0},null,"Total",{"$f":"SUM(AS7:AS15)","v":36},{"$f":"SUM(AT7:AT15)","v":0},{"$f":"SUM(AU7:AU15)","v":0},{"$f":"SUM(AV7:AV15)","v":0},null,"Total",{"$f":"SUM(AY7:AY15)","v":36},{"$f":"SUM(AZ7:AZ15)","v":0},{"$f":"SUM(BA7:BA15)","v":0},{"$f":"SUM(BB7:BB15)","v":0},null,"Total",{"$f":"SUM(BE7:BE15)","v":36},{"$f":"SUM(BF7:BF15)","v":0},{"$f":"SUM(BG7:BG15)","v":0},{"$f":"SUM(BH7:BH15)","v":0},null,"Total",{"$f":"SUM(BK7:BK15)","v":36},{"$f":"SUM(BL7:BL15)","v":0},{"$f":"SUM(BM7:BM15)","v":0},{"$f":"SUM(BN7:BN15)","v":0},null,"Total",{"$f":"SUM(BQ7:BQ15)","v":36},{"$f":"SUM(BR7:BR15)","v":52},{"$f":"SUM(BS7:BS15)","v":52},{"$f":"SUM(BT7:BT15)","v":2.5},null,"Total",{"$f":"SUM(BW7:BW15)","v":36},{"$f":"SUM(BX7:BX15)","v":0},{"$f":"SUM(BY7:BY15)","v":0},{"$f":"SUM(BZ7:BZ15)","v":0},null,"Total",{"$f":"SUM(CC7:CC15)","v":36},{"$f":"SUM(CD7:CD15)","v":0},{"$f":"SUM(CE7:CE15)","v":0},{"$f":"SUM(CF7:CF15)","v":0},null,"Total",{"$f":"SUM(CI7:CI15)","v":36},{"$f":"SUM(CJ7:CJ15)","v":0},{"$f":"SUM(CK7:CK15)","v":0},{"$f":"SUM(CL7:CL15)","v":0}]
[]
[null,null,null,null,"Low Net",1,null,null,null,null,"Low Net",0,null,null,null,null,"Low Net",0,null,null,null,null,"Low Net",null,null,null,null,null,"Low Net",null,null,null,null,null,"Low Net",null,null,null,null,null,"Low Net",null,null,null,null,null,"Low Net",null,null,null,null,null,"Low Net",null,null,null,null,null,"Low Net",null,null,null,null,null,"Low Net",null,null,null,null,null,"Low Net",0,null,null,null,null,"Low Net",null,null,null,null,null,"Low Net",null,null,null,null,null,"Low Net"]
[]
[null,null,null,null,"Total Points",{"$f":"SUM(F16:F19)","v":9.5},null,null,null,null,"Total Points",{"$f":"SUM(L16:L19)","v":4},null,null,null,null,"Total Points",{"$f":"SUM(R16:R19)","v":0},null,null,null,null,"Total Points",{"$f":"SUM(X16:X19)","v":0},null,null,null,null,"Total Points",{"$f":"SUM(AD16:AD19)","v":0},null,null,null,null,"Total Points",{"$f":"SUM(AJ16:AJ19)","v":0},null,null,null,null,"Total Points",{"$f":"SUM(AP16:AP19)","v":0},null,null,null,null,"Total Points",{"$f":"SUM(AV16:AV19)","v":0},null,null,null,null,"Total Points",{"$f":"SUM(BB16:BB19)","v":0},null,null,null,null,"Total Points",{"$f":"SUM(BH16:BH19)","v":0},null,null,null,null,"Total Points",{"$f":"SUM(BN16:BN19)","v":0},null,null,null,null,"Total Points",{"$f":"SUM(BT16:BT19)","v":2.5},null,null,null,null,"Total Points",{"$f":"SUM(BZ16:BZ19)","v":0},null,null,null,null,"Total Points",{"$f":"SUM(CF16:CF19)","v":0},null,null,null,null,"Total Points",{"$f":"SUM(CL16:CL19)","v":0}]
[]
[null,null,null,null,"Handicap",{"$f":"IF(D16=0,0,E16-C16)","v":8},null,null,null,null,"Handicap",{"$f":"IF(J16=0,0,K16-I16)","v":20},null,null,null,null,"Handicap",{"$f":"IF(P16=0,0,Q16-O16)","v":0},null,null,null,null,"Handicap",{"$f":"IF(V16=0,0,W16-U16)","v":0},null,null,null,null,"Handicap",{"$f":"IF(AB16=0,0,AC16-AA16)","v":0},null,null,null,null,"Handicap",{"$f":"IF(AH16=0,0,AI16-AG16)","v":0},null,null,null,null,"Handicap",{"$f":"IF(AN16=0,0,AO16-AM16)","v":0},null,null,null,null,"Handicap",{"$f":"IF(AT16=0,0,AU16-AS16)","v":0},null,null,null,null,"Handicap",{"$f":"IF(AZ16=0,0,BA16-AY16)","v":0},null,null,null,null,"Handicap",{"$f":"IF(BF16=0,0,BG16-BE16)","v":0},null,null,null,null,"Handicap",{"$f":"IF(BL16=0,0,BM16-BK16)","v":0},null,null,null,null,"Handicap",{"$f":"IF(BR16=0,0,BS16-BQ16)","v":16},null,null,null,null,"Handicap",{"$f":"IF(BX16=0,0,BY16-BW16)","v":0},null,null,null,null,"Handicap",{"$f":"IF(CD16=0,0,CE16-CC16)","v":0},null,null,null,null,"Handicap",{"$f":"IF(CJ16=0,0,CK16-CI16)","v":0}]
[]
[null,null,null,null,null,{"$f":"IF(D16<>0,IF(F16>4.5,\"W\",IF(F16=4.5,\"T\",IF(F16<4.5,\"L\"))),0)","v":"W"},null,null,null,null,null,{"$f":"IF(J16<>0,IF(L16>4.5,\"W\",IF(L16=4.5,\"T\",IF(L16<4.5,\"L\"))),0)","v":"L"},null,null,null,null,null,{"$f":"IF(P16<>0,IF(R16>4.5,\"W\",IF(R16=4.5,\"T\",IF(R16<4.5,\"L\"))),0)","v":0},null,null,null,null,null,{"$f":"IF(V16<>0,IF(X16>4.5,\"W\",IF(X16=4.5,\"T\",IF(X16<4.5,\"L\"))),0)","v":0},null,null,null,null,null,{"$f":"IF(AB16<>0,IF(AD16>4.5,\"W\",IF(AD16=4.5,\"T\",IF(AD16<4.5,\"L\"))),0)","v":0},null,null,null,null,null,{"$f":"IF(AH16<>0,IF(AJ16>4.5,\"W\",IF(AJ16=4.5,\"T\",IF(AJ16<4.5,\"L\"))),0)","v":0},null,null,null,null,null,{"$f":"IF(AN16<>0,IF(AP16>4.5,\"W\",IF(AP16=4.5,\"T\",IF(AP16<4.5,\"L\"))),0)","v":0},null,null,null,null,null,{"$f":"IF(AT16<>0,IF(AV16>4.5,\"W\",IF(AV16=4.5,\"T\",IF(AV16<4.5,\"L\"))),0)","v":0},null,null,null,null,null,{"$f":"IF(AZ16<>0,IF(BB16>4.5,\"W\",IF(BB16=4.5,\"T\",IF(BB16<4.5,\"L\"))),0)","v":0},null,null,null,null,null,{"$f":"IF(BF16<>0,IF(BH16>4.5,\"W\",IF(BH16=4.5,\"T\",IF(BH16<4.5,\"L\"))),0)","v":0},null,null,null,null,null,{"$f":"IF(BL16<>0,IF(BN16>4.5,\"W\",IF(BN16=4.5,\"T\",IF(BN16<4.5,\"L\"))),0)","v":0},null,null,null,null,null,{"$f":"IF(BR16<>0,IF(BT16>4.5,\"W\",IF(BT16=4.5,\"T\",IF(BT16<4.5,\"L\"))),0)","v":"L"},null,null,null,null,null,{"$f":"IF(BX16<>0,IF(BZ16>4.5,\"W\",IF(BZ16=4.5,\"T\",IF(BZ16<4.5,\"L\"))),0)","v":0},null,null,null,null,null,{"$f":"IF(CD16<>0,IF(CF16>4.5,\"W\",IF(CF16=4.5,\"T\",IF(CF16<4.5,\"L\"))),0)","v":0},null,null,null,null,null,{"$f":"IF(CJ16<>0,IF(CL16>4.5,\"W\",IF(CL16=4.5,\"T\",IF(CL16<4.5,\"L\"))),0)","v":0}]
[]
[null,"Summary"]
[null,null,null,"Adj",null,"Adj",null,null,null,"Avg Score"]
[null,null,"Points","Points","Matches","Matches",null,null,"Hole #","by Hole","Best","Worst"]
[null,"Week #1",{"$f":"F20","v":9.5},{"$f":"C29","v":9.5},{"$f":"IF(D16>0,1,0)","v":1},{"$f":"E29","v":1},null,null,1,{"$f":"IFERROR(AVERAGE(D7,P7,AB7,AN7,AZ7,BL7,BX7,CD7),0)","v":4},{"$f":"IFERROR(MIN(D7,P7,AB7,AN7,AZ7,BL7,BX7,CD7),0)","v":4},{"$f":"IFERROR(MAX(D7,P7,AB7,AN7,AZ7,BL7,BX7,CD7),0)","v":4}]
[null,"Week #2",{"$f":"L20","v":4},4,{"$f":"IF(J16>0,1,0)","v":1},1,null,null,2,{"$f":"IFERROR(AVERAGE(D8,P8,AB8,AN8,AZ8,BL8,BX8,CD8),0)","v":5},{"$f":"IFERROR(MIN(D8,P8,AB8,AN8,AZ8,BL8,BX8,CD8),0)","v":5},{"$f":"IFERROR(MAX(D8,P8,AB8,AN8,AZ8,BL8,BX8,CD8),0)","v":5}]
[null,"Week #3",{"$f":"R20","v":0},0,{"$f":"IF(P16>0,1,0)","v":0},0,null,null,3,4,4,4]
[null,"Week #4",{"$f":"X20","v":0},0,{"$f":"IF(V16>0,1,0)","v":0},0,null,null,4,6,6,6]
[null,"Week #5",{"$f":"AD20","v":0},0,{"$f":"IF(AB16>0,1,0)","v":0},0,null,null,5,6,6,6]
[null,"Week #6",{"$f":"AJ20","v":0},0,{"$f":"IF(AH16>0,1,0)","v":0},0,null,null,6,3,3,3]
[null,"Week #7",{"$f":"AP20","v":0},0,{"$f":"IF(AN16>0,1,0)","v":0},0,null,null,7,5,5,5]
[null,"Week #8",{"$f":"AV20","v":0},0,{"$f":"IF(AT16>0,1,0)","v":0},0,null,null,8,5,5,5]
[null,"Week #9",{"$f":"BB20","v":0},0,{"$f":"IF(AZ16>0,1,0)","v":0},0,null,null,9,6,6,6]
[null,"Week #10",{"$f":"BH20","v":0},0,{"$f":"IF(BF16>0,1,0)","v":0},0,null,null,"Front",{"$f":"SUM(J29:J37)","v":44},{"$f":"SUM(K29:K37)","v":44},44]
[null,"Week #11",{"$f":"BN20","v":0},0,{"$f":"IF(BL16>0,1,0)","v":0},0]
[null,"Week #12",{"$f":"BT20","v":2.5},2.5,{"$f":"IF(BR16>0,1,0)","v":1},1,null,null,10,{"$f":"IFERROR(AVERAGE(J7,V7,AH7,AT7,BF7,BR7,CJ7),0)","v":6},{"$f":"IFERROR(MIN(J7,V7,AH7,AT7,BF7,BR7,CJ7),0)","v":6},{"$f":"IFERROR(MAX(J7,V7,AH7,AT7,BF7,BR7,CJ7),0)","v":6}]
[null,"Week #13",{"$f":"BZ20","v":0},0,{"$f":"IF(BX16>0,1,0)","v":0},0,null,null,11,{"$f":"IFERROR(AVERAGE(J8,V8,AH8,AT8,BF8,BR8,CJ8),0)","v":6},{"$f":"IFERROR(MIN(J8,V8,AH8,AT8,BF8,BR8,CJ8),0)","v":6},{"$f":"IFERROR(MAX(J8,V8,AH8,AT8,BF8,BR8,CJ8),0)","v":6}]
[null,"Week #14",{"$f":"CF20","v":0},0,{"$f":"IF(CD16>0,1,0)","v":0},0,null,null,12,6,6,6]
[null,"Week #15",{"$f":"CL20","v":0},0,{"$f":"IF(CJ16>0,1,0)","v":0},0,null,null,13,7,7,7]
[null,"Total",{"$f":"SUM(C29:C43)","v":16},{"$f":"SUM(D29:D43)","v":16},{"$f":"SUM(E29:E43)","v":3},{"$f":"SUM(F29:F43)","v":3},null,null,14,5,4,6]
[null,null,null,null,null,null,null,null,15,7,6,8]
[null,"Summary",null,null,null,null,null,null,16,5.5,5,6]
[null,"Eagles",{"$f":"I57+I68+I79+I90+I101+I112+I123+I134+I145+I156+I167+I178+I189+I200+I211","v":0},null,null,null,null,null,17,4.5,4,5]
[null,"Birdies",0,null,null,null,null,null,18,7.5,7,8]
[null,"Pars",2,null,null,null,null,null,"Back",{"$f":"SUM(J40:J48)","v":54.5},{"$f":"SUM(K40:K48)","v":51},58]
[null,"bogeys",9]
[null,"Double bogeys",13]
[null,"Other",3]
[null,"Total",{"$f":"SUM(C47:C52)","v":27}]
[]
[null,{"$f":"D4","v":"2024-04-26"},"Par","Score"]
[null,{"$f":"B7","v":1},4,4,{"$f":"IF(D56<>0,IF((D56-C56)=-1,\"Birdie\",IF((D56-C56)=-2,\"Eagle\",IF((D56-C56)=0,\"Par\",IF((D56-C56)=1,\"bogey\",IF((D56-C56)=2,\"Double bogey\",\"Other\"))))),\"  \")","v":"Par"},null,null,"Count"]
[null,2,4,5,"bogey",null,null,"Eagle",{"$f":"COUNTIF(E56:E64,\"Eagle\")","v":0}]
[null,3,3,4,"bogey",null,null,"Birdie",{"$f":"COUNTIF(E56:E64,\"Birdie\")","v":0}]
[null,4,4,6,"Double bogey",null,null,"Par",{"$f":"COUNTIF(E56:E64,\"Par\")","v":2}]
[null,5,5,6,"bogey",null,null,"bogey",{"$f":"COUNTIF(E56:E64,\"bogey\")","v":6}]
[null,6,3,3,"Par",null,null,"Double bogey",{"$f":"COUNTIF(E56:E64,\"Double bogey\")","v":1}]
[null,7,4,5,"bogey",null,null,"Other",{"$f":"COUNTIF(E56:E64,\"Other\")","v":0}]
[null,8,4,5,"bogey"]
[null,9,5,6,"bogey"]
[]
[null,{"$f":"J4","v":"2024-05-03"}]
[null,{"$f":"H7","v":10},4,6,{"$f":"IF(D67<>0,IF((D67-C67)=-1,\"Birdie\",IF((D67-C67)=-2,\"Eagle\",IF((D67-C67)=0,\"Par\",IF((D67-C67)=1,\"bogey\",IF((D67-C67)=2,\"Double bogey\",\"Other\"))))),\"  \")","v":"Double bogey"},null,null,"Count"]
[null,11,4,6,"Double bogey",null,null,"Eagle",{"$f":"COUNTIF(E67:E75,\"Eagle\")","v":0}]
[null,12,4,6,"Double bogey",null,null,"Birdie",{"$f":"COUNTIF(E67:E75,\"Birdie\")","v":0}]
[null,13,5,7,"Double bogey",null,null,"Par",{"$f":"COUNTIF(E67:E75,\"Par\")","v":0}]
[null,14,3,6,"Other",null,null,"bogey",{"$f":"COUNTIF(E67:E75,\"bogey\")","v":1}]
[null,15,4,8,"Other",null,null,"Double bogey",{"$f":"COUNTIF(E67:E75,\"Double bogey\")","v":5}]
[null,16,4,6,"Double bogey",null,null,"Other",{"$f":"COUNTIF(E67:E75,\"Other\")","v":3}]
[null,17,3,4,"bogey"]
[null,18,5,8,"Other"]
[]
[null,{"$f":"P4","v":"2024-05-10"}]
[null,{"$f":"N7","v":1},4,0,{"$f":"IF(D78<>0,IF((D78-C78)=-1,\"Birdie\",IF((D78-C78)=-2,\"Eagle\",IF((D78-C78)=0,\"Par\",IF((D78-C78)=1,\"bogey\",IF((D78-C78)=2,\"Double bogey\",\"Other\"))))),\"  \")","v":"  "},null,null,"Count"]
[null,2,4,0,"  ",null,null,"Eagle",{"$f":"COUNTIF(E78:E86,\"Eagle\")","v":0}]
[null,3,3,0,"  ",null,null,"Birdie",{"$f":"COUNTIF(E78:E86,\"Birdie\")","v":0}]
[null,4,4,0,"  ",null,null,"Par",{"$f":"COUNTIF(E78:E86,\"Par\")","v":0}]
[null,5,5,0,"  ",null,null,"bogey",{"$f":"COUNTIF(E78:E86,\"bogey\")","v":0}]
[null,6,3,0,"  ",null,null,"Double bogey",{"$f":"COUNTIF(E78:E86,\"Double bogey\")","v":0}]
[null,7,4,0,"  ",null,null,"Other",{"$f":"COUNTIF(E78:E86,\"Other\")","v":0}]
[null,8,4,0,"  "]
[null,9,5,0,"  "]
[]
[null,{"$f":"V4","v":"2024-05-17"}]
[null,{"$f":"T7","v":10},4,0,{"$f":"IF(D89<>0,IF((D89-C89)=-1,\"Birdie\",IF((D89-C89)=-2,\"Eagle\",IF((D89-C89)=0,\"Par\",IF((D89-C89)=1,\"bogey\",IF((D89-C89)=2,\"Double bogey\",\"Other\"))))),\"  \")","v":"  "},null,null,"Count"]
[null,11,4,0,"  ",null,null,"Eagle",{"$f":"COUNTIF(E89:E97,\"Eagle\")","v":0}]
[null,12,4,0,"  ",null,null,"Birdie",{"$f":"COUNTIF(E89:E97,\"Birdie\")","v":0}]
[null,13,5,0,"  ",null,null,"Par",{"$f":"COUNTIF(E89:E97,\"Par\")","v":0}]
[null,14,3,0,"  ",null,null,"bogey",{"$f":"COUNTIF(E89:E97,\"bogey\")","v":0}]
[null,15,4,0,"  ",null,null,"Double bogey",{"$f":"COUNTIF(E89:E97,\"Double bogey\")","v":0}]
[null,16,4,0,"  ",null,null,"Other",{"$f":"COUNTIF(E89:E97,\"Other\")","v":0}]
[null,17,3,0,"  "]
[null,18,5,0,"  "]
[]
[null,{"$f":"AB4","v":"2024-05-24"}]
[null,{"$f":"Z7","v":1},4,0,{"$f":"IF(D100<>0,IF((D100-C100)=-1,\"Birdie\",IF((D100-C100)=-2,\"Eagle\",IF((D100-C100)=0,\"Par\",IF((D100-C100)=1,\"bogey\",IF((D100-C100)=2,\"Double bogey\",\"Other\"))))),\"  \")","v":"  "},null,null,"Count"]
[null,2,4,0,"  ",null,null,"Eagle",{"$f":"COUNTIF(E100:E108,\"Eagle\")","v":0}]
[null,3,3,0,"  ",null,null,"Birdie",{"$f":"COUNTIF(E100:E108,\"Birdie\")","v":0}]
[null,4,4,0,"  ",null,null,"Par",{"$f":"COUNTIF(E100:E108,\"Par\")","v":0}]
[null,5,5,0,"  ",null,null,"bogey",{"$f":"COUNTIF(E100:E108,\"bogey\")","v":0}]
[null,6,3,0,"  ",null,null,"Double bogey",{"$f":"COUNTIF(E100:E108,\"Double bogey\")","v":0}]
[null,7,4,0,"  ",null,null,"Other",{"$f":"COUNTIF(E100:E108,\"Other\")","v":0}]
[null,8,4,0,"  "]
[null,9,5,0,"  "]
[]
[null,{"$f":"AH4","v":"2024-05-31"}]
[null,{"$f":"AF7","v":10},4,0,{"$f":"IF(D111<>0,IF((D111-C111)=-1,\"Birdie\",IF((D111-C111)=-2,\"Eagle\",IF((D111-C111)=0,\"Par\",IF((D111-C111)=1,\"bogey\",IF((D111-C111)=2,\"Double bogey\",\"Other\"))))),\"  \")","v":"  "},null,null,"Count"]
[null,11,4,0,"  ",null,null,"Eagle",{"$f":"COUNTIF(E111:E119,\"Eagle\")","v":0}]
[null,12,4,0,"  ",null,null,"Birdie",{"$f":"COUNTIF(E111:E119,\"Birdie\")","v":0}]
[null,13,5,0,"  ",null,null,"Par",{"$f":"COUNTIF(E111:E119,\"Par\")","v":0}]
[null,14,3,0,"  ",null,null,"bogey",{"$f":"COUNTIF(E111:E119,\"bogey\")","v":0}]
[null,15,4,0,"  ",null,null,"Double bogey",{"$f":"COUNTIF(E111:E119,\"Double bogey\")","v":0}]
[null,16,4,0,"  ",null,null,"Other",{"$f":"COUNTIF(E111:E119,\"Other\")","v":0}]
[null,17,3,0,"  "]
[null,18,5,0,"  "]
[]
[null,{"$f":"AN4","v":"2024-06-07"}]
[null,{"$f":"AL7","v":1},4,0,{"$f":"IF(D122<>0,IF((D122-C122)=-1,\"Birdie\",IF((D122-C122)=-2,\"Eagle\",IF((D122-C122)=0,\"Par\",IF((D122-C122)=1,\"bogey\",IF((D122-C122)=2,\"Double bogey\",\"Other\"))))),\"  \")","v":"  "},null,null,"Count"]
[null,2,4,0,"  ",null,null,"Eagle",{"$f":"COUNTIF(E122:E130,\"Eagle\")","v":0}]
[null,3,3,0,"  ",null,null,"Birdie",{"$f":"COUNTIF(E122:E130,\"Birdie\")","v":0}]
[null,4,4,0,"  ",null,null,"Par",{"$f":"COUNTIF(E122:E130,\"Par\")","v":0}]
[null,5,5,0,"  ",null,null,"bogey",{"$f":"COUNTIF(E122:E130,\"bogey\")","v":0}]
[null,6,3,0,"  ",null,null,"Double bogey",{"$f":"COUNTIF(E122:E130,\"Double bogey\")","v":0}]
[null,7,4,0,"  ",null,null,"Other",{"$f":"COUNTIF(E122:E130,\"Other\")","v":0}]
[null,8,4,0,"  "]
[null,9,5,0,"  "]
[]
[null,{"$f":"AT4","v":"2024-06-14"}]
[null,{"$f":"AR7","v":10},4,0,{"$f":"IF(D133<>0,IF((D133-C133)=-1,\"Birdie\",IF((D133-C133)=-2,\"Eagle\",IF((D133-C133)=0,\"Par\",IF((D133-C133)=1,\"bogey\",IF((D133-C133)=2,\"Double bogey\",\"Other\"))))),\"  \")","v":"  "},null,null,"Count"]
[null,11,4,0,"  ",null,null,"Eagle",{"$f":"COUNTIF(E133:E141,\"Eagle\")","v":0}]
[null,12,4,0,"  ",null,null,"Birdie",{"$f":"COUNTIF(E133:E141,\"Birdie\")","v":0}]
[null,13,5,0,"  ",null,null,"Par",{"$f":"COUNTIF(E133:E141,\"Par\")","v":0}]
[null,14,3,0,"  ",null,null,"bogey",{"$f":"COUNTIF(E133:E141,\"bogey\")","v":0}]
[null,15,4,0,"  ",null,null,"Double bogey",{"$f":"COUNTIF(E133:E141,\"Double bogey\")","v":0}]
[null,16,4,0,"  ",null,null,"Other",{"$f":"COUNTIF(E133:E141,\"Other\")","v":0}]
[null,17,3,0,"  "]
[null,18,5,0,"  "]
[]
[null,{"$f":"AZ4","v":"2024-07-05"}]
[null,{"$f":"AX7","v":1},4,0,{"$f":"IF(D144<>0,IF((D144-C144)=-1,\"Birdie\",IF((D144-C144)=-2,\"Eagle\",IF((D144-C144)=0,\"Par\",IF((D144-C144)=1,\"bogey\",IF((D144-C144)=2,\"Double bogey\",\"Other\"))))),\"  \")","v":"  "},null,null,"Count"]
[null,2,4,0,"  ",null,null,"Eagle",{"$f":"COUNTIF(E144:E152,\"Eagle\")","v":0}]
[null,3,3,0,"  ",null,null,"Birdie",{"$f":"COUNTIF(E144:E152,\"Birdie\")","v":0}]
[null,4,4,0,"  ",null,null,"Par",{"$f":"COUNTIF(E144:E152,\"Par\")","v":0}]
[null,5,5,0,"  ",null,null,"bogey",{"$f":"COUNTIF(E144:E152,\"bogey\")","v":0}]
[null,6,3,0,"  ",null,null,"Double bogey",{"$f":"COUNTIF(E144:E152,\"Double bogey\")","v":0}]
[null,7,4,0,"  ",null,null,"Other",{"$f":"COUNTIF(E144:E152,\"Other\")","v":0}]
[null,8,4,0,"  "]
[null,9,5,0,"  "]
[]
[null,{"$f":"BF4","v":"2024-07-12"}]
[null,{"$f":"BD7","v":10},4,0,{"$f":"IF(D155<>0,IF((D155-C155)=-1,\"Birdie\",IF((D155-C155)=-2,\"Eagle\",IF((D155-C155)=0,\"Par\",IF((D155-C155)=1,\"bogey\",IF((D155-C155)=2,\"Double bogey\",\"Other\"))))),\"  \")","v":"  "},null,null,"Count"]
[null,11,4,0,"  ",null,null,"Eagle",{"$f":"COUNTIF(E155:E163,\"Eagle\")","v":0}]
[null,12,4,0,"  ",null,null,"Birdie",{"$f":"COUNTIF(E155:E163,\"Birdie\")","v":0}]
[null,13,5,0,"  ",null,null,"Par",{"$f":"COUNTIF(E155:E163,\"Par\")","v":0}]
[null,14,3,0,"  ",null,null,"bogey",{"$f":"COUNTIF(E155:E163,\"bogey\")","v":0}]
[null,15,4,0,"  ",null,null,"Double bogey",{"$f":"COUNTIF(E155:E163,\"Double bogey\")","v":0}]
[null,16,4,0,"  ",null,null,"Other",{"$f":"COUNTIF(E155:E163,\"Other\")","v":0}]
[null,17,3,0,"  "]
[null,18,5,0,"  "]
[]
[null,{"$f":"BL4","v":"2024-07-19"}]
[null,{"$f":"BJ7","v":1},4,0,{"$f":"IF(D166<>0,IF((D166-C166)=-1,\"Birdie\",IF((D166-C166)=-2,\"Eagle\",IF((D166-C166)=0,\"Par\",IF((D166-C166)=1,\"bogey\",IF((D166-C166)=2,\"Double bogey\",\"Other\"))))),\"  \")","v":"  "},null,null,"Count"]
[null,2,4,0,"  ",null,null,"Eagle",{"$f":"COUNTIF(E166:E174,\"Eagle\")","v":0}]
[null,3,3,0,"  ",null,null,"Birdie",{"$f":"COUNTIF(E166:E174,\"Birdie\")","v":0}]
[null,4,4,0,"  ",null,null,"Par",{"$f":"COUNTIF(E166:E174,\"Par\")","v":0}]
[null,5,5,0,"  ",null,null,"bogey",{"$f":"COUNTIF(E166:E174,\"bogey\")","v":0}]
[null,6,3,0,"  ",null,null,"Double bogey",{"$f":"COUNTIF(E166:E174,\"Double bogey\")","v":0}]
[null,7,4,0,"  ",null,null,"Other",{"$f":"COUNTIF(E166:E174,\"Other\")","v":0}]
[null,8,4,0,"  "]
[null,9,5,0,"  "]
[]
[null,{"$f":"BR4","v":"2024-07-26"}]
[null,{"$f":"BP7","v":10},4,6,{"$f":"IF(D177<>0,IF((D177-C177)=-1,\"Birdie\",IF((D177-C177)=-2,\"Eagle\",IF((D177-C177)=0,\"Par\",IF((D177-C177)=1,\"bogey\",IF((D177-C177)=2,\"Double bogey\",\"Other\"))))),\"  \")","v":"Double bogey"},null,null,"Count"]
[null,11,4,6,"Double bogey",null,null,"Eagle",{"$f":"COUNTIF(E177:E185,\"Eagle\")","v":0}]
[null,12,4,6,"Double bogey",null,null,"Birdie",{"$f":"COUNTIF(E177:E185,\"Birdie\")","v":0}]
[null,13,5,7,"Double bogey",null,null,"Par",{"$f":"COUNTIF(E177:E185,\"Par\")","v":0}]
[null,14,3,4,"bogey",null,null,"bogey",{"$f":"COUNTIF(E177:E185,\"bogey\")","v":2}]
[null,15,4,6,"Double bogey",null,null,"Double bogey",{"$f":"COUNTIF(E177:E185,\"Double bogey\")","v":7}]
[null,16,4,5,"bogey",null,null,"Other",{"$f":"COUNTIF(E177:E185,\"Other\")","v":0}]
[null,17,3,5,"Double bogey"]
[null,18,5,7,"Double bogey"]
[]
[null,{"$f":"BX4","v":"2024-08-02"}]
[null,{"$f":"BV7","v":1},4,0,{"$f":"IF(D188<>0,IF((D188-C188)=-1,\"Birdie\",IF((D188-C188)=-2,\"Eagle\",IF((D188-C188)=0,\"Par\",IF((D188-C188)=1,\"bogey\",IF((D188-C188)=2,\"Double bogey\",\"Other\"))))),\"  \")","v":"  "},null,null,"Count"]
[null,2,4,0,"  ",null,null,"Eagle",{"$f":"COUNTIF(E188:E196,\"Eagle\")","v":0}]
[null,3,3,0,"  ",null,null,"Birdie",{"$f":"COUNTIF(E188:E196,\"Birdie\")","v":0}]
[null,4,4,0,"  ",null,null,"Par",{"$f":"COUNTIF(E188:E196,\"Par\")","v":0}]
[null,5,5,0,"  ",null,null,"bogey",{"$f":"COUNTIF(E188:E196,\"bogey\")","v":0}]
[null,6,3,0,"  ",null,null,"Double bogey",{"$f":"COUNTIF(E188:E196,\"Double bogey\")","v":0}]
[null,7,4,0,"  ",null,null,"Other",{"$f":"COUNTIF(E188:E196,\"Other\")","v":0}]
[null,8,4,0,"  "]
[null,9,5,0,"  "]
[]
[null,{"$f":"CD4","v":"2024-08-16"}]
[null,{"$f":"CB7","v":1},4,0,{"$f":"IF(D199<>0,IF((D199-C199)=-1,\"Birdie\",IF((D199-C199)=-2,\"Eagle\",IF((D199-C199)=0,\"Par\",IF((D199-C199)=1,\"bogey\",IF((D199-C199)=2,\"Double bogey\",\"Other\"))))),\"  \")","v":"  "},null,null,"Count"]
[null,2,4,0,"  ",null,null,"Eagle",{"$f":"COUNTIF(E199:E207,\"Eagle\")","v":0}]
[null,3,3,0,"  ",null,null,"Birdie",{"$f":"COUNTIF(E199:E207,\"Birdie\")","v":0}]
[null,4,4,0,"  ",null,null,"Par",{"$f":"COUNTIF(E199:E207,\"Par\")","v":0}]
[null,5,5,0,"  ",null,null,"bogey",{"$f":"COUNTIF(E199:E207,\"bogey\")","v":0}]
[null,6,3,0,"  ",null,null,"Double bogey",{"$f":"COUNTIF(E199:E207,\"Double bogey\")","v":0}]
[null,7,4,0,"  ",null,null,"Other",{"$f":"COUNTIF(E199:E207,\"Other\")","v":0}]
[null,8,4,0,"  "]
[null,9,5,0,"  "]
[]
[null,{"$f":"CJ4","v":"2024-08-23"}]
[null,{"$f":"CH7","v":10},4,0,{"$f":"IF(D210<>0,IF((D210-C210)=-1,\"Birdie\",IF((D210-C210)=-2,\"Eagle\",IF((D210-C210)=0,\"Par\",IF((D210-C210)=1,\"bogey\",IF((D210-C210)=2,\"Double bogey\",\"Other\"))))),\"  \")","v":"  "},null,null,"Count"]
[null,11,4,0,"  ",null,null,"Eagle",{"$f":"COUNTIF(E210:E218,\"Eagle\")","v":0}]
[null,12,4,0,"  ",null,null,"Birdie",{"$f":"COUNTIF(E210:E218,\"Birdie\")","v":0}]
[null,13,5,0,"  ",null,null,"Par",{"$f":"COUNTIF(E210:E218,\"Par\")","v":0}]
[null,14,3,0,"  ",null,null,"bogey",{"$f":"COUNTIF(E210:E218,\"bogey\")","v":0}]
[null,15,4,0,"  ",null,null,"Double bogey",{"$f":"COUNTIF(E210:E218,\"Double bogey\")","v":0}]
[null,16,4,0,"  ",null,null,"Other",{"$f":"COUNTIF(E210:E218,\"Other\")","v":0}]
[null,17,3,0,"  "]
[null,18,5,0,"  "]

{"sheet":"Kreig","index":26,"n_rows":218,"n_cols":90,"rows_kept":218,"cut":false,"hidden":false,"merged":[]}
["Glenn Kreig"]
[]
[]
[null,null,"Date:",{"$f":"VLOOKUP(C5,Week,2)","v":"2024-04-26"},null,null,null,null,"Date:",{"$f":"VLOOKUP(I5,Week,2)","v":"2024-05-03"},null,null,null,null,"Date:",{"$f":"VLOOKUP(O5,Week,2)","v":"2024-05-10"},null,null,null,null,"Date:",{"$f":"VLOOKUP(U5,Week,2)","v":"2024-05-17"},null,null,null,null,"Date:",{"$f":"VLOOKUP(AA5,Week,2)","v":"2024-05-24"},null,null,null,null,"Date:",{"$f":"VLOOKUP(AG5,Week,2)","v":"2024-05-31"},null,null,null,null,"Date:",{"$f":"VLOOKUP(AM5,Week,2)","v":"2024-06-07"},null,null,null,null,"Date:",{"$f":"VLOOKUP(AS5,Week,2)","v":"2024-06-14"},null,null,null,null,"Date:",{"$f":"VLOOKUP(AY5,Week,2)","v":"2024-07-05"},null,null,null,null,"Date:",{"$f":"VLOOKUP(BE5,Week,2)","v":"2024-07-12"},null,null,null,null,"Date:",{"$f":"VLOOKUP(BK5,Week,2)","v":"2024-07-19"},null,null,null,null,"Date:",{"$f":"VLOOKUP(BQ5,Week,2)","v":"2024-07-26"},null,null,null,null,"Date:",{"$f":"VLOOKUP(BW5,Week,2)","v":"2024-08-02"},null,null,null,null,"Date:",{"$f":"VLOOKUP(CC5,Week,2)","v":"2024-08-16"},null,null,null,null,"Date:",{"$f":"VLOOKUP(CI5,Week,2)","v":"2024-08-23"}]
[null,"Week",1,null,null,null,null,"Week",2,null,null,null,null,"Week",3,null,null,null,null,"Week",4,null,null,null,null,"Week",5,null,null,null,null,"Week",6,null,null,null,null,"Week",7,null,null,null,null,"Week",8,null,null,null,null,"Week",9,null,null,null,null,"Week",10,null,null,null,null,"Week",11,null,null,null,null,"Week",12,null,null,null,null,"Week",13,null,null,null,null,"Week",14,null,null,null,null,"Week",15]
[null,"Hole #","Par","Score","Net","Win Hole",null,"Hole #","Par","Score","Net","Win Hole",null,"Hole #","Par","Score","Net","Win Hole",null,"Hole #","Par","Score","Net","Win Hole",null,"Hole #","Par","Score","Net","Win Hole",null,"Hole #","Par","Score","Net","Win Hole",null,"Hole #","Par","Score","Net","Win Hole",null,"Hole #","Par","Score","Net","Win Hole",null,"Hole #","Par","Score","Net","Win Hole",null,"Hole #","Par","Score","Net","Win Hole",null,"Hole #","Par","Score","Net","Win Hole",null,"Hole #","Par","Score","Net","Win Hole",null,"Hole #","Par","Score","Net","Win Hole",null,"Hole #","Par","Score","Net","Win Hole",null,"Hole #","Par","Score","Net","Win Hole"]
[null,{"$f":"VLOOKUP(C5,Week,6)","v":1},{"$f":"VLOOKUP(B7,Holes,2)","v":4},null,{"$f":"IF((D7-C7)>3,C7+3,D7)","v":0},null,null,{"$f":"VLOOKUP(I5,Week,6)","v":10},{"$f":"VLOOKUP(H7,Holes,2)","v":4},7,{"$f":"IF((J7-I7)>3,I7+3,J7)","v":7},0,null,{"$f":"VLOOKUP(O5,Week,6)","v":1},{"$f":"VLOOKUP(N7,Holes,2)","v":4},null,{"$f":"IF((P7-O7)>3,O7+3,P7)","v":0},null,null,{"$f":"VLOOKUP(U5,Week,6)","v":10},{"$f":"VLOOKUP(T7,Holes,2)","v":4},7,{"$f":"IF((V7-U7)>3,U7+3,V7)","v":7},0.5,null,{"$f":"VLOOKUP(AA5,Week,6)","v":1},{"$f":"VLOOKUP(Z7,Holes,2)","v":4},null,{"$f":"IF((AB7-AA7)>3,AA7+3,AB7)","v":0},null,null,{"$f":"VLOOKUP(AG5,Week,6)","v":10},{"$f":"VLOOKUP(AF7,Holes,2)","v":4},null,{"$f":"IF((AH7-AG7)>3,AG7+3,AH7)","v":0},null,null,{"$f":"VLOOKUP(AM5,Week,6)","v":1},{"$f":"VLOOKUP(AL7,Holes,2)","v":4},null,{"$f":"IF((AN7-AM7)>3,AM7+3,AN7)","v":0},null,null,{"$f":"VLOOKUP(AS5,Week,6)","v":10},{"$f":"VLOOKUP(AR7,Holes,2)","v":4},null,{"$f":"IF((AT7-AS7)>3,AS7+3,AT7)","v":0},null,null,{"$f":"VLOOKUP(AY5,Week,6)","v":1},{"$f":"VLOOKUP(AX7,Holes,2)","v":4},null,{"$f":"IF((AZ7-AY7)>3,AY7+3,AZ7)","v":0},null,null,{"$f":"VLOOKUP(BE5,Week,6)","v":10},{"$f":"VLOOKUP(BD7,Holes,2)","v":4},null,{"$f":"IF((BF7-BE7)>3,BE7+3,BF7)","v":0},null,null,{"$f":"VLOOKUP(BK5,Week,6)","v":1},{"$f":"VLOOKUP(BJ7,Holes,2)","v":4},4,{"$f":"IF((BL7-BK7)>3,BK7+3,BL7)","v":4},0.5,null,{"$f":"VLOOKUP(BQ5,Week,6)","v":10},{"$f":"VLOOKUP(BP7,Holes,2)","v":4},null,{"$f":"IF((BR7-BQ7)>3,BQ7+3,BR7)","v":0},null,null,{"$f":"VLOOKUP(BW5,Week,6)","v":1},{"$f":"VLOOKUP(BV7,Holes,2)","v":4},null,{"$f":"IF((BX7-BW7)>3,BW7+3,BX7)","v":0},null,null,{"$f":"VLOOKUP(CC5,Week,6)","v":1},{"$f":"VLOOKUP(CB7,Holes,2)","v":4},6,{"$f":"IF((CD7-CC7)>3,CC7+3,CD7)","v":6},0.5,null,{"$f":"VLOOKUP(CI5,Week,6)","v":10},{"$f":"VLOOKUP(CH7,Holes,2)","v":4},null,{"$f":"IF((CJ7-CI7)>3,CI7+3,CJ7)","v":0}]
[null,{"$f":"+B7+1","v":2},4,null,0,null,null,{"$f":"+H7+1","v":11},4,8,7,0,null,{"$f":"+N7+1","v":2},4,null,0,null,null,{"$f":"+T7+1","v":11},4,4,4,1,null,{"$f":"+Z7+1","v":2},4,null,0,null,null,{"$f":"+AF7+1","v":11},4,null,0,null,null,{"$f":"+AL7+1","v":2},4,null,0,null,null,{"$f":"+AR7+1","v":11},4,null,0,null,null,{"$f":"+AX7+1","v":2},4,null,0,null,null,{"$f":"+BD7+1","v":11},4,null,0,null,null,{"$f":"+BJ7+1","v":2},4,8,7,0,null,{"$f":"+BP7+1","v":11},4,null,0,null,null,{"$f":"+BV7+1","v":2},4,null,0,null,null,{"$f":"+CB7+1","v":2},4,6,6,0.5,null,{"$f":"+CH7+1","v":11},4,null,0]
[null,3,3,null,0,null,null,12,4,6,6,0,null,3,3,null,0,null,null,12,4,6,6,0.5,null,3,3,null,0,null,null,12,4,null,0,null,null,3,3,null,0,null,null,12,4,null,0,null,null,3,3,null,0,null,null,12,4,null,0,null,null,3,3,6,6,0,null,12,4,null,0,null,null,3,3,null,0,null,null,3,3,5,5,0.5,null,12,4,null,0]
[null,4,4,null,0,null,null,13,5,6,6,0.5,null,4,4,null,0,null,null,13,5,6,6,1,null,4,4,null,0,null,null,13,5,null,0,null,null,4,4,null,0,null,null,13,5,null,0,null,null,4,4,null,0,null,null,13,5,null,0,null,null,4,4,6,6,0,null,13,5,null,0,null,null,4,4,null,0,null,null,4,4,5,5,1,null,13,5,null,0]
[null,5,5,null,0,null,null,14,3,4,4,1,null,5,5,null,0,null,null,14,3,5,5,0,null,5,5,null,0,null,null,14,3,null,0,null,null,5,5,null,0,null,null,14,3,null,0,null,null,5,5,null,0,null,null,14,3,null,0,null,null,5,5,5,5,1,null,14,3,null,0,null,null,5,5,null,0,null,null,5,5,9,8,0,null,14,3,null,0]
[null,6,3,null,0,null,null,15,4,5,5,1,null,6,3,null,0,null,null,15,4,6,6,0,null,6,3,null,0,null,null,15,4,null,0,null,null,6,3,null,0,null,null,15,4,null,0,null,null,6,3,null,0,null,null,15,4,null,0,null,null,6,3,4,4,0,null,15,4,null,0,null,null,6,3,null,0,null,null,6,3,4,4,1,null,15,4,null,0]
[null,7,4,null,0,null,null,16,4,8,7,0,null,7,4,null,0,null,null,16,4,4,4,1,null,7,4,null,0,null,null,16,4,null,0,null,null,7,4,null,0,null,null,16,4,null,0,null,null,7,4,null,0,null,null,16,4,null,0,null,null,7,4,5,5,1,null,16,4,null,0,null,null,7,4,null,0,null,null,7,4,9,7,0,null,16,4,null,0]
[null,8,4,null,0,null,null,17,3,4,4,1,null,8,4,null,0,null,null,17,3,5,5,0,null,8,4,null,0,null,null,17,3,null,0,null,null,8,4,null,0,null,null,17,3,null,0,null,null,8,4,null,0,null,null,17,3,null,0,null,null,8,4,5,5,0.5,null,17,3,null,0,null,null,8,4,null,0,null,null,8,4,6,6,1,null,17,3,null,0]
[null,9,5,null,0,null,null,18,5,10,8,0,null,9,5,null,0,null,null,18,5,7,7,0,null,9,5,null,0,null,null,18,5,null,0,null,null,9,5,null,0,null,null,18,5,null,0,null,null,9,5,null,0,null,null,18,5,null,0,null,null,9,5,7,7,0.5,null,18,5,null,0,null,null,9,5,null,0,null,null,9,5,6,6,1,null,18,5,null,0]
[null,"Total",{"$f":"SUM(C7:C15)","v":36},{"$f":"SUM(D7:D15)","v":0},{"$f":"SUM(E7:E15)","v":0},null,null,"Total",{"$f":"SUM(I7:I15)","v":36},{"$f":"SUM(J7:J15)","v":58},{"$f":"SUM(K7:K15)","v":54},{"$f":"SUM(L7:L15)","v":3.5},null,"Total",{"$f":"SUM(O7:O15)","v":36},{"$f":"SUM(P7:P15)","v":0},{"$f":"SUM(Q7:Q15)","v":0},{"$f":"SUM(R7:R15)","v":0},null,"Total",{"$f":"SUM(U7:U15)","v":36},{"$f":"SUM(V7:V15)","v":50},{"$f":"SUM(W7:W15)","v":50},{"$f":"SUM(X7:X15)","v":4},null,"Total",{"$f":"SUM(AA7:AA15)","v":36},{"$f":"SUM(AB7:AB15)","v":0},{"$f":"SUM(AC7:AC15)","v":0},{"$f":"SUM(AD7:AD15)","v":0},null,"Total",{"$f":"SUM(AG7:AG15)","v":36},{"$f":"SUM(AH7:AH15)","v":0},{"$f":"SUM(AI7:AI15)","v":0},{"$f":"SUM(AJ7:AJ15)","v":0},null,"Total",{"$f":"SUM(AM7:AM15)","v":36},{"$f":"SUM(AN7:AN15)","v":0},{"$f":"SUM(AO7:AO15)","v":0},{"$f":"SUM(AP7:AP15)","v":0},null,"Total",{"$f":"SUM(AS7:AS15)","v":36},{"$f":"SUM(AT7:AT15)","v":0},{"$f":"SUM(AU7:AU15)","v":0},{"$f":"SUM(AV7:AV15)","v":0},null,"Total",{"$f":"SUM(AY7:AY15)","v":36},{"$f":"SUM(AZ7:AZ15)","v":0},{"$f":"SUM(BA7:BA15)","v":0},{"$f":"SUM(BB7:BB15)","v":0},null,"Total",{"$f":"SUM(BE7:BE15)","v":36},{"$f":"SUM(BF7:BF15)","v":0},{"$f":"SUM(BG7:BG15)","v":0},{"$f":"SUM(BH7:BH15)","v":0},null,"Total",{"$f":"SUM(BK7:BK15)","v":36},{"$f":"SUM(BL7:BL15)","v":50},{"$f":"SUM(BM7:BM15)","v":49},{"$f":"SUM(BN7:BN15)","v":3.5},null,"Total",{"$f":"SUM(BQ7:BQ15)","v":36},{"$f":"SUM(BR7:BR15)","v":0},{"$f":"SUM(BS7:BS15)","v":0},{"$f":"SUM(BT7:BT15)","v":0},null,"Total",{"$f":"SUM(BW7:BW15)","v":36},{"$f":"SUM(BX7:BX15)","v":0},{"$f":"SUM(BY7:BY15)","v":0},{"$f":"SUM(BZ7:BZ15)","v":0},null,"Total",{"$f":"SUM(CC7:CC15)","v":36},{"$f":"SUM(CD7:CD15)","v":56},{"$f":"SUM(CE7:CE15)","v":53},{"$f":"SUM(CF7:CF15)","v":5.5},null,"Total",{"$f":"SUM(CI7:CI15)","v":36},{"$f":"SUM(CJ7:CJ15)","v":0},{"$f":"SUM(CK7:CK15)","v":0},{"$f":"SUM(CL7:CL15)","v":0}]
[]
[null,null,null,null,"Low Net",null,null,null,null,null,"Low Net",0,null,null,null,null,"Low Net",0,null,null,null,null,"Low Net",1,null,null,null,null,"Low Net",null,null,null,null,null,"Low Net",null,null,null,null,null,"Low Net",null,null,null,null,null,"Low Net",null,null,null,null,null,"Low Net",null,null,null,null,null,"Low Net",null,null,null,null,null,"Low Net",0,null,null,null,null,"Low Net",null,null,null,null,null,"Low Net",null,null,null,null,null,"Low Net",0,null,null,null,null,"Low Net"]
[]
[null,null,null,null,"Total Points",{"$f":"SUM(F16:F19)","v":0},null,null,null,null,"Total Points",{"$f":"SUM(L16:L19)","v":3.5},null,null,null,null,"Total Points",{"$f":"SUM(R16:R19)","v":0},null,null,null,null,"Total Points",{"$f":"SUM(X16:X19)","v":5},null,null,null,null,"Total Points",{"$f":"SUM(AD16:AD19)","v":0},null,null,null,null,"Total Points",{"$f":"SUM(AJ16:AJ19)","v":0},null,null,null,null,"Total Points",{"$f":"SUM(AP16:AP19)","v":0},null,null,null,null,"Total Points",{"$f":"SUM(AV16:AV19)","v":0},null,null,null,null,"Total Points",{"$f":"SUM(BB16:BB19)","v":0},null,null,null,null,"Total Points",{"$f":"SUM(BH16:BH19)","v":0},null,null,null,null,"Total Points",{"$f":"SUM(BN16:BN19)","v":3.5},null,null,null,null,"Total Points",{"$f":"SUM(BT16:BT19)","v":0},null,null,null,null,"Total Points",{"$f":"SUM(BZ16:BZ19)","v":0},null,null,null,null,"Total Points",{"$f":"SUM(CF16:CF19)","v":5.5},null,null,null,null,"Total Points",{"$f":"SUM(CL16:CL19)","v":0}]
[]
[null,null,null,null,"Handicap",{"$f":"IF(D16=0,0,E16-C16)","v":0},null,null,null,null,"Handicap",{"$f":"IF(J16=0,0,K16-I16)","v":18},null,null,null,null,"Handicap",{"$f":"IF(P16=0,0,Q16-O16)","v":0},null,null,null,null,"Handicap",{"$f":"IF(V16=0,0,W16-U16)","v":14},null,null,null,null,"Handicap",{"$f":"IF(AB16=0,0,AC16-AA16)","v":0},null,null,null,null,"Handicap",{"$f":"IF(AH16=0,0,AI16-AG16)","v":0},null,null,null,null,"Handicap",{"$f":"IF(AN16=0,0,AO16-AM16)","v":0},null,null,null,null,"Handicap",{"$f":"IF(AT16=0,0,AU16-AS16)","v":0},null,null,null,null,"Handicap",{"$f":"IF(AZ16=0,0,BA16-AY16)","v":0},null,null,null,null,"Handicap",{"$f":"IF(BF16=0,0,BG16-BE16)","v":0},null,null,null,null,"Handicap",{"$f":"IF(BL16=0,0,BM16-BK16)","v":13},null,null,null,null,"Handicap",{"$f":"IF(BR16=0,0,BS16-BQ16)","v":0},null,null,null,null,"Handicap",{"$f":"IF(BX16=0,0,BY16-BW16)","v":0},null,null,null,null,"Handicap",{"$f":"IF(CD16=0,0,CE16-CC16)","v":17},null,null,null,null,"Handicap",{"$f":"IF(CJ16=0,0,CK16-CI16)","v":0}]
[]
[null,null,null,null,null,{"$f":"IF(D16<>0,IF(F16>4.5,\"W\",IF(F16=4.5,\"T\",IF(F16<4.5,\"L\"))),0)","v":0},null,null,null,null,null,{"$f":"IF(J16<>0,IF(L16>4.5,\"W\",IF(L16=4.5,\"T\",IF(L16<4.5,\"L\"))),0)","v":"L"},null,null,null,null,null,{"$f":"IF(P16<>0,IF(R16>4.5,\"W\",IF(R16=4.5,\"T\",IF(R16<4.5,\"L\"))),0)","v":0},null,null,null,null,null,{"$f":"IF(V16<>0,IF(X16>4.5,\"W\",IF(X16=4.5,\"T\",IF(X16<4.5,\"L\"))),0)","v":"L"},null,null,null,null,null,{"$f":"IF(AB16<>0,IF(AD16>4.5,\"W\",IF(AD16=4.5,\"T\",IF(AD16<4.5,\"L\"))),0)","v":0},null,null,null,null,null,{"$f":"IF(AH16<>0,IF(AJ16>4.5,\"W\",IF(AJ16=4.5,\"T\",IF(AJ16<4.5,\"L\"))),0)","v":0},null,null,null,null,null,{"$f":"IF(AN16<>0,IF(AP16>4.5,\"W\",IF(AP16=4.5,\"T\",IF(AP16<4.5,\"L\"))),0)","v":0},null,null,null,null,null,{"$f":"IF(AT16<>0,IF(AV16>4.5,\"W\",IF(AV16=4.5,\"T\",IF(AV16<4.5,\"L\"))),0)","v":0},null,null,null,null,null,{"$f":"IF(AZ16<>0,IF(BB16>4.5,\"W\",IF(BB16=4.5,\"T\",IF(BB16<4.5,\"L\"))),0)","v":0},null,null,null,null,null,{"$f":"IF(BF16<>0,IF(BH16>4.5,\"W\",IF(BH16=4.5,\"T\",IF(BH16<4.5,\"L\"))),0)","v":0},null,null,null,null,null,{"$f":"IF(BL16<>0,IF(BN16>4.5,\"W\",IF(BN16=4.5,\"T\",IF(BN16<4.5,\"L\"))),0)","v":"L"},null,null,null,null,null,{"$f":"IF(BR16<>0,IF(BT16>4.5,\"W\",IF(BT16=4.5,\"T\",IF(BT16<4.5,\"L\"))),0)","v":0},null,null,null,null,null,{"$f":"IF(BX16<>0,IF(BZ16>4.5,\"W\",IF(BZ16=4.5,\"T\",IF(BZ16<4.5,\"L\"))),0)","v":0},null,null,null,null,null,{"$f":"IF(CD16<>0,IF(CF16>4.5,\"W\",IF(CF16=4.5,\"T\",IF(CF16<4.5,\"L\"))),0)","v":"W"},null,null,null,null,null,{"$f":"IF(CJ16<>0,IF(CL16>4.5,\"W\",IF(CL16=4.5,\"T\",IF(CL16<4.5,\"L\"))),0)","v":0}]
[]
[null,"Summary"]
[null,null,null,"Adj",null,"Adj",null,null,null,"Avg Score"]
[null,null,"Points","Points","Matches","Matches",null,null,"Hole #","by Hole","Best","Worst"]
[null,"Week #1",{"$f":"F20","v":0},{"$f":"C29","v":0},{"$f":"IF(D16>0,1,0)","v":0},{"$f":"E29","v":0},null,null,1,{"$f":"IFERROR(AVERAGE(D7,P7,AB7,AN7,AZ7,BL7,BX7,CD7),0)","v":5},{"$f":"IFERROR(MIN(D7,P7,AB7,AN7,AZ7,BL7,BX7,CD7),0)","v":4},{"$f":"IFERROR(MAX(D7,P7,AB7,AN7,AZ7,BL7,BX7,CD7),0)","v":6}]
[null,"Week #2",{"$f":"L20","v":3.5},3.5,{"$f":"IF(J16>0,1,0)","v":1},1,null,null,2,{"$f":"IFERROR(AVERAGE(D8,P8,AB8,AN8,AZ8,BL8,BX8,CD8),0)","v":7},{"$f":"IFERROR(MIN(D8,P8,AB8,AN8,AZ8,BL8,BX8,CD8),0)","v":6},{"$f":"IFERROR(MAX(D8,P8,AB8,AN8,AZ8,BL8,BX8,CD8),0)","v":8}]
[null,"Week #3",{"$f":"R20","v":0},0,{"$f":"IF(P16>0,1,0)","v":0},0,null,null,3,5.5,5,6]
[null,"Week #4",{"$f":"X20","v":5},5,{"$f":"IF(V16>0,1,0)","v":1},1,null,null,4,5.5,5,6]
[null,"Week #5",{"$f":"AD20","v":0},0,{"$f":"IF(AB16>0,1,0)","v":0},0,null,null,5,7,5,9]
[null,"Week #6",{"$f":"AJ20","v":0},0,{"$f":"IF(AH16>0,1,0)","v":0},0,null,null,6,4,4,4]
[null,"Week #7",{"$f":"AP20","v":0},0,{"$f":"IF(AN16>0,1,0)","v":0},0,null,null,7,7,5,9]
[null,"Week #8",{"$f":"AV20","v":0},0,{"$f":"IF(AT16>0,1,0)","v":0},0,null,null,8,5.5,5,6]
[null,"Week #9",{"$f":"BB20","v":0},0,{"$f":"IF(AZ16>0,1,0)","v":0},0,null,null,9,6.5,6,7]
[null,"Week #10",{"$f":"BH20","v":0},0,{"$f":"IF(BF16>0,1,0)","v":0},0,null,null,"Front",{"$f":"SUM(J29:J37)","v":53},{"$f":"SUM(K29:K37)","v":45},61]
[null,"Week #11",{"$f":"BN20","v":3.5},3.5,{"$f":"IF(BL16>0,1,0)","v":1},1]
[null,"Week #12",{"$f":"BT20","v":0},0,{"$f":"IF(BR16>0,1,0)","v":0},0,null,null,10,{"$f":"IFERROR(AVERAGE(J7,V7,AH7,AT7,BF7,BR7,CJ7),0)","v":7},{"$f":"IFERROR(MIN(J7,V7,AH7,AT7,BF7,BR7,CJ7),0)","v":7},{"$f":"IFERROR(MAX(J7,V7,AH7,AT7,BF7,BR7,CJ7),0)","v":7}]
[null,"Week #13",{"$f":"BZ20","v":0},0,{"$f":"IF(BX16>0,1,0)","v":0},0,null,null,11,{"$f":"IFERROR(AVERAGE(J8,V8,AH8,AT8,BF8,BR8,CJ8),0)","v":6},{"$f":"IFERROR(MIN(J8,V8,AH8,AT8,BF8,BR8,CJ8),0)","v":4},{"$f":"IFERROR(MAX(J8,V8,AH8,AT8,BF8,BR8,CJ8),0)","v":8}]
[null,"Week #14",{"$f":"CF20","v":5.5},5.5,{"$f":"IF(CD16>0,1,0)","v":1},1,null,null,12,6,6,6]
[null,"Week #15",{"$f":"CL20","v":0},0,{"$f":"IF(CJ16>0,1,0)","v":0},0,null,null,13,6,6,6]
[null,"Total",{"$f":"SUM(C29:C43)","v":17.5},{"$f":"SUM(D29:D43)","v":17.5},{"$f":"SUM(E29:E43)","v":4},{"$f":"SUM(F29:F43)","v":4},null,null,14,4.5,4,5]
[null,null,null,null,null,null,null,null,15,5.5,5,6]
[null,"Summary",null,null,null,null,null,null,16,6,4,8]
[null,"Eagles",{"$f":"I57+I68+I79+I90+I101+I112+I123+I134+I145+I156+I167+I178+I189+I200+I211","v":0},null,null,null,null,null,17,4.5,4,5]
[null,"Birdies",0,null,null,null,null,null,18,8.5,7,10]
[null,"Pars",4,null,null,null,null,null,"Back",{"$f":"SUM(J40:J48)","v":54},{"$f":"SUM(K40:K48)","v":47},61]
[null,"bogeys",11]
[null,"Double bogeys",12]
[null,"Other",9]
[null,"Total",{"$f":"SUM(C47:C52)","v":36}]
[]
[null,{"$f":"D4","v":"2024-04-26"},"Par","Score"]
[null,{"$f":"B7","v":1},4,0,{"$f":"IF(D56<>0,IF((D56-C56)=-1,\"Birdie\",IF((D56-C56)=-2,\"Eagle\",IF((D56-C56)=0,\"Par\",IF((D56-C56)=1,\"bogey\",IF((D56-C56)=2,\"Double bogey\",\"Other\"))))),\"  \")","v":"  "},null,null,"Count"]
[null,2,4,0,"  ",null,null,"Eagle",{"$f":"COUNTIF(E56:E64,\"Eagle\")","v":0}]
[null,3,3,0,"  ",null,null,"Birdie",{"$f":"COUNTIF(E56:E64,\"Birdie\")","v":0}]
[null,4,4,0,"  ",null,null,"Par",{"$f":"COUNTIF(E56:E64,\"Par\")","v":0}]
[null,5,5,0,"  ",null,null,"bogey",{"$f":"COUNTIF(E56:E64,\"bogey\")","v":0}]
[null,6,3,0,"  ",null,null,"Double bogey",{"$f":"COUNTIF(E56:E64,\"Double bogey\")","v":0}]
[null,7,4,0,"  ",null,null,"Other",{"$f":"COUNTIF(E56:E64,\"Other\")","v":0}]
[null,8,4,0,"  "]
[null,9,5,0,"  "]
[]
[null,{"$f":"J4","v":"2024-05-03"}]
[null,{"$f":"H7","v":10},4,7,{"$f":"IF(D67<>0,IF((D67-C67)=-1,\"Birdie\",IF((D67-C67)=-2,\"Eagle\",IF((D67-C67)=0,\"Par\",IF((D67-C67)=1,\"bogey\",IF((D67-C67)=2,\"Double bogey\",\"Other\"))))),\"  \")","v":"Other"},null,null,"Count"]
[null,11,4,8,"Other",null,null,"Eagle",{"$f":"COUNTIF(E67:E75,\"Eagle\")","v":0}]
[null,12,4,6,"Double bogey",null,null,"Birdie",{"$f":"COUNTIF(E67:E75,\"Birdie\")","v":0}]
[null,13,5,6,"bogey",null,null,"Par",{"$f":"COUNTIF(E67:E75,\"Par\")","v":0}]
[null,14,3,4,"bogey",null,null,"bogey",{"$f":"COUNTIF(E67:E75,\"bogey\")","v":4}]
[null,15,4,5,"bogey",null,null,"Double bogey",{"$f":"COUNTIF(E67:E75,\"Double bogey\")","v":1}]
[null,16,4,8,"Other",null,null,"Other",{"$f":"COUNTIF(E67:E75,\"Other\")","v":4}]
[null,17,3,4,"bogey"]
[null,18,5,10,"Other"]
[]
[null,{"$f":"P4","v":"2024-05-10"}]
[null,{"$f":"N7","v":1},4,0,{"$f":"IF(D78<>0,IF((D78-C78)=-1,\"Birdie\",IF((D78-C78)=-2,\"Eagle\",IF((D78-C78)=0,\"Par\",IF((D78-C78)=1,\"bogey\",IF((D78-C78)=2,\"Double bogey\",\"Other\"))))),\"  \")","v":"  "},null,null,"Count"]
[null,2,4,0,"  ",null,null,"Eagle",{"$f":"COUNTIF(E78:E86,\"Eagle\")","v":0}]
[null,3,3,0,"  ",null,null,"Birdie",{"$f":"COUNTIF(E78:E86,\"Birdie\")","v":0}]
[null,4,4,0,"  ",null,null,"Par",{"$f":"COUNTIF(E78:E86,\"Par\")","v":0}]
[null,5,5,0,"  ",null,null,"bogey",{"$f":"COUNTIF(E78:E86,\"bogey\")","v":0}]
[null,6,3,0,"  ",null,null,"Double bogey",{"$f":"COUNTIF(E78:E86,\"Double bogey\")","v":0}]
[null,7,4,0,"  ",null,null,"Other",{"$f":"COUNTIF(E78:E86,\"Other\")","v":0}]
[null,8,4,0,"  "]
[null,9,5,0,"  "]
[]
[null,{"$f":"V4","v":"2024-05-17"}]
[null,{"$f":"T7","v":10},4,7,{"$f":"IF(D89<>0,IF((D89-C89)=-1,\"Birdie\",IF((D89-C89)=-2,\"Eagle\",IF((D89-C89)=0,\"Par\",IF((D89-C89)=1,\"bogey\",IF((D89-C89)=2,\"Double bogey\",\"Other\"))))),\"  \")","v":"Other"},null,null,"Count"]
[null,11,4,4,"Par",null,null,"Eagle",{"$f":"COUNTIF(E89:E97,\"Eagle\")","v":0}]
[null,12,4,6,"Double bogey",null,null,"Birdie",{"$f":"COUNTIF(E89:E97,\"Birdie\")","v":0}]
[null,13,5,6,"bogey",null,null,"Par",{"$f":"COUNTIF(E89:E97,\"Par\")","v":2}]
[null,14,3,5,"Double bogey",null,null,"bogey",{"$f":"COUNTIF(E89:E97,\"bogey\")","v":1}]
[null,15,4,6,"Double bogey",null,null,"Double bogey",{"$f":"COUNTIF(E89:E97,\"Double bogey\")","v":5}]
[null,16,4,4,"Par",null,null,"Other",{"$f":"COUNTIF(E89:E97,\"Other\")","v":1}]
[null,17,3,5,"Double bogey"]
[null,18,5,7,"Double bogey"]
[]
[null,{"$f":"AB4","v":"2024-05-24"}]
[null,{"$f":"Z7","v":1},4,0,{"$f":"IF(D100<>0,IF((D100-C100)=-1,\"Birdie\",IF((D100-C100)=-2,\"Eagle\",IF((D100-C100)=0,\"Par\",IF((D100-C100)=1,\"bogey\",IF((D100-C100)=2,\"Double bogey\",\"Other\"))))),\"  \")","v":"  "},null,null,"Count"]
[null,2,4,0,"  ",null,null,"Eagle",{"$f":"COUNTIF(E100:E108,\"Eagle\")","v":0}]
[null,3,3,0,"  ",null,null,"Birdie",{"$f":"COUNTIF(E100:E108,\"Birdie\")","v":0}]
[null,4,4,0,"  ",null,null,"Par",{"$f":"COUNTIF(E100:E108,\"Par\")","v":0}]
[null,5,5,0,"  ",null,null,"bogey",{"$f":"COUNTIF(E100:E108,\"bogey\")","v":0}]
[null,6,3,0,"  ",null,null,"Double bogey",{"$f":"COUNTIF(E100:E108,\"Double bogey\")","v":0}]
[null,7,4,0,"  ",null,null,"Other",{"$f":"COUNTIF(E100:E108,\"Other\")","v":0}]
[null,8,4,0,"  "]
[null,9,5,0,"  "]
[]
[null,{"$f":"AH4","v":"2024-05-31"}]
[null,{"$f":"AF7","v":10},4,0,{"$f":"IF(D111<>0,IF((D111-C111)=-1,\"Birdie\",IF((D111-C111)=-2,\"Eagle\",IF((D111-C111)=0,\"Par\",IF((D111-C111)=1,\"bogey\",IF((D111-C111)=2,\"Double bogey\",\"Other\"))))),\"  \")","v":"  "},null,null,"Count"]
[null,11,4,0,"  ",null,null,"Eagle",{"$f":"COUNTIF(E111:E119,\"Eagle\")","v":0}]
[null,12,4,0,"  ",null,null,"Birdie",{"$f":"COUNTIF(E111:E119,\"Birdie\")","v":0}]
[null,13,5,0,"  ",null,null,"Par",{"$f":"COUNTIF(E111:E119,\"Par\")","v":0}]
[null,14,3,0,"  ",null,null,"bogey",{"$f":"COUNTIF(E111:E119,\"bogey\")","v":0}]
[null,15,4,0,"  ",null,null,"Double bogey",{"$f":"COUNTIF(E111:E119,\"Double bogey\")","v":0}]
[null,16,4,0,"  ",null,null,"Other",{"$f":"COUNTIF(E111:E119,\"Other\")","v":0}]
[null,17,3,0,"  "]
[null,18,5,0,"  "]
[]
[null,{"$f":"AN4","v":"2024-06-07"}]
[null,{"$f":"AL7","v":1},4,0,{"$f":"IF(D122<>0,IF((D122-C122)=-1,\"Birdie\",IF((D122-C122)=-2,\"Eagle\",IF((D122-C122)=0,\"Par\",IF((D122-C122)=1,\"bogey\",IF((D122-C122)=2,\"Double bogey\",\"Other\"))))),\"  \")","v":"  "},null,null,"Count"]
[null,2,4,0,"  ",null,null,"Eagle",{"$f":"COUNTIF(E122:E130,\"Eagle\")","v":0}]
[null,3,3,0,"  ",null,null,"Birdie",{"$f":"COUNTIF(E122:E130,\"Birdie\")","v":0}]
[null,4,4,0,"  ",null,null,"Par",{"$f":"COUNTIF(E122:E130,\"Par\")","v":0}]
[null,5,5,0,"  ",null,null,"bogey",{"$f":"COUNTIF(E122:E130,\"bogey\")","v":0}]
[null,6,3,0,"  ",null,null,"Double bogey",{"$f":"COUNTIF(E122:E130,\"Double bogey\")","v":0}]
[null,7,4,0,"  ",null,null,"Other",{"$f":"COUNTIF(E122:E130,\"Other\")","v":0}]
[null,8,4,0,"  "]
[null,9,5,0,"  "]
[]
[null,{"$f":"AT4","v":"2024-06-14"}]
[null,{"$f":"AR7","v":10},4,0,{"$f":"IF(D133<>0,IF((D133-C133)=-1,\"Birdie\",IF((D133-C133)=-2,\"Eagle\",IF((D133-C133)=0,\"Par\",IF((D133-C133)=1,\"bogey\",IF((D133-C133)=2,\"Double bogey\",\"Other\"))))),\"  \")","v":"  "},null,null,"Count"]
[null,11,4,0,"  ",null,null,"Eagle",{"$f":"COUNTIF(E133:E141,\"Eagle\")","v":0}]
[null,12,4,0,"  ",null,null,"Birdie",{"$f":"COUNTIF(E133:E141,\"Birdie\")","v":0}]
[null,13,5,0,"  ",null,null,"Par",{"$f":"COUNTIF(E133:E141,\"Par\")","v":0}]
[null,14,3,0,"  ",null,null,"bogey",{"$f":"COUNTIF(E133:E141,\"bogey\")","v":0}]
[null,15,4,0,"  ",null,null,"Double bogey",{"$f":"COUNTIF(E133:E141,\"Double bogey\")","v":0}]
[null,16,4,0,"  ",null,null,"Other",{"$f":"COUNTIF(E133:E141,\"Other\")","v":0}]
[null,17,3,0,"  "]
[null,18,5,0,"  "]
[]
[null,{"$f":"AZ4","v":"2024-07-05"}]
[null,{"$f":"AX7","v":1},4,0,{"$f":"IF(D144<>0,IF((D144-C144)=-1,\"Birdie\",IF((D144-C144)=-2,\"Eagle\",IF((D144-C144)=0,\"Par\",IF((D144-C144)=1,\"bogey\",IF((D144-C144)=2,\"Double bogey\",\"Other\"))))),\"  \")","v":"  "},null,null,"Count"]
[null,2,4,0,"  ",null,null,"Eagle",{"$f":"COUNTIF(E144:E152,\"Eagle\")","v":0}]
[null,3,3,0,"  ",null,null,"Birdie",{"$f":"COUNTIF(E144:E152,\"Birdie\")","v":0}]
[null,4,4,0,"  ",null,null,"Par",{"$f":"COUNTIF(E144:E152,\"Par\")","v":0}]
[null,5,5,0,"  ",null,null,"bogey",{"$f":"COUNTIF(E144:E152,\"bogey\")","v":0}]
[null,6,3,0,"  ",null,null,"Double bogey",{"$f":"COUNTIF(E144:E152,\"Double bogey\")","v":0}]
[null,7,4,0,"  ",null,null,"Other",{"$f":"COUNTIF(E144:E152,\"Other\")","v":0}]
[null,8,4,0,"  "]
[null,9,5,0,"  "]
[]
[null,{"$f":"BF4","v":"2024-07-12"}]
[null,{"$f":"BD7","v":10},4,0,{"$f":"IF(D155<>0,IF((D155-C155)=-1,\"Birdie\",IF((D155-C155)=-2,\"Eagle\",IF((D155-C155)=0,\"Par\",IF((D155-C155)=1,\"bogey\",IF((D155-C155)=2,\"Double bogey\",\"Other\"))))),\"  \")","v":"  "},null,null,"Count"]
[null,11,4,0,"  ",null,null,"Eagle",{"$f":"COUNTIF(E155:E163,\"Eagle\")","v":0}]
[null,12,4,0,"  ",null,null,"Birdie",{"$f":"COUNTIF(E155:E163,\"Birdie\")","v":0}]
[null,13,5,0,"  ",null,null,"Par",{"$f":"COUNTIF(E155:E163,\"Par\")","v":0}]
[null,14,3,0,"  ",null,null,"bogey",{"$f":"COUNTIF(E155:E163,\"bogey\")","v":0}]
[null,15,4,0,"  ",null,null,"Double bogey",{"$f":"COUNTIF(E155:E163,\"Double bogey\")","v":0}]
[null,16,4,0,"  ",null,null,"Other",{"$f":"COUNTIF(E155:E163,\"Other\")","v":0}]
[null,17,3,0,"  "]
[null,18,5,0,"  "]
[]
[null,{"$f":"BL4","v":"2024-07-19"}]
[null,{"$f":"BJ7","v":1},4,4,{"$f":"IF(D166<>0,IF((D166-C166)=-1,\"Birdie\",IF((D166-C166)=-2,\"Eagle\",IF((D166-C166)=0,\"Par\",IF((D166-C166)=1,\"bogey\",IF((D166-C166)=2,\"Double bogey\",\"Other\"))))),\"  \")","v":"Par"},null,null,"Count"]
[null,2,4,8,"Other",null,null,"Eagle",{"$f":"COUNTIF(E166:E174,\"Eagle\")","v":0}]
[null,3,3,6,"Other",null,null,"Birdie",{"$f":"COUNTIF(E166:E174,\"Birdie\")","v":0}]
[null,4,4,6,"Double bogey",null,null,"Par",{"$f":"COUNTIF(E166:E174,\"Par\")","v":2}]
[null,5,5,5,"Par",null,null,"bogey",{"$f":"COUNTIF(E166:E174,\"bogey\")","v":3}]
[null,6,3,4,"bogey",null,null,"Double bogey",{"$f":"COUNTIF(E166:E174,\"Double bogey\")","v":2}]
[null,7,4,5,"bogey",null,null,"Other",{"$f":"COUNTIF(E166:E174,\"Other\")","v":2}]
[null,8,4,5,"bogey"]
[null,9,5,7,"Double bogey"]
[]
[null,{"$f":"BR4","v":"2024-07-26"}]
[null,{"$f":"BP7","v":10},4,0,{"$f":"IF(D177<>0,IF((D177-C177)=-1,\"Birdie\",IF((D177-C177)=-2,\"Eagle\",IF((D177-C177)=0,\"Par\",IF((D177-C177)=1,\"bogey\",IF((D177-C177)=2,\"Double bogey\",\"Other\"))))),\"  \")","v":"  "},null,null,"Count"]
[null,11,4,0,"  ",null,null,"Eagle",{"$f":"COUNTIF(E177:E185,\"Eagle\")","v":0}]
[null,12,4,0,"  ",null,null,"Birdie",{"$f":"COUNTIF(E177:E185,\"Birdie\")","v":0}]
[null,13,5,0,"  ",null,null,"Par",{"$f":"COUNTIF(E177:E185,\"Par\")","v":0}]
[null,14,3,0,"  ",null,null,"bogey",{"$f":"COUNTIF(E177:E185,\"bogey\")","v":0}]
[null,15,4,0,"  ",null,null,"Double bogey",{"$f":"COUNTIF(E177:E185,\"Double bogey\")","v":0}]
[null,16,4,0,"  ",null,null,"Other",{"$f":"COUNTIF(E177:E185,\"Other\")","v":0}]
[null,17,3,0,"  "]
[null,18,5,0,"  "]
[]
[null,{"$f":"BX4","v":"2024-08-02"}]
[null,{"$f":"BV7","v":1},4,0,{"$f":"IF(D188<>0,IF((D188-C188)=-1,\"Birdie\",IF((D188-C188)=-2,\"Eagle\",IF((D188-C188)=0,\"Par\",IF((D188-C188)=1,\"bogey\",IF((D188-C188)=2,\"Double bogey\",\"Other\"))))),\"  \")","v":"  "},null,null,"Count"]
[null,2,4,0,"  ",null,null,"Eagle",{"$f":"COUNTIF(E188:E196,\"Eagle\")","v":0}]
[null,3,3,0,"  ",null,null,"Birdie",{"$f":"COUNTIF(E188:E196,\"Birdie\")","v":0}]
[null,4,4,0,"  ",null,null,"Par",{"$f":"COUNTIF(E188:E196,\"Par\")","v":0}]
[null,5,5,0,"  ",null,null,"bogey",{"$f":"COUNTIF(E188:E196,\"bogey\")","v":0}]
[null,6,3,0,"  ",null,null,"Double bogey",{"$f":"COUNTIF(E188:E196,\"Double bogey\")","v":0}]
[null,7,4,0,"  ",null,null,"Other",{"$f":"COUNTIF(E188:E196,\"Other\")","v":0}]
[null,8,4,0,"  "]
[null,9,5,0,"  "]
[]
[null,{"$f":"CD4","v":"2024-08-16"}]
[null,{"$f":"CB7","v":1},4,6,{"$f":"IF(D199<>0,IF((D199-C199)=-1,\"Birdie\",IF((D199-C199)=-2,\"Eagle\",IF((D199-C199)=0,\"Par\",IF((D199-C199)=1,\"bogey\",IF((D199-C199)=2,\"Double bogey\",\"Other\"))))),\"  \")","v":"Double bogey"},null,null,"Count"]
[null,2,4,6,"Double bogey",null,null,"Eagle",{"$f":"COUNTIF(E199:E207,\"Eagle\")","v":0}]
[null,3,3,5,"Double bogey",null,null,"Birdie",{"$f":"COUNTIF(E199:E207,\"Birdie\")","v":0}]
[null,4,4,5,"bogey",null,null,"Par",{"$f":"COUNTIF(E199:E207,\"Par\")","v":0}]
[null,5,5,9,"Other",null,null,"bogey",{"$f":"COUNTIF(E199:E207,\"bogey\")","v":3}]
[null,6,3,4,"bogey",null,null,"Double bogey",{"$f":"COUNTIF(E199:E207,\"Double bogey\")","v":4}]
[null,7,4,9,"Other",null,null,"Other",{"$f":"COUNTIF(E199:E207,\"Other\")","v":2}]
[null,8,4,6,"Double bogey"]
[null,9,5,6,"bogey"]
[]
[null,{"$f":"CJ4","v":"2024-08-23"}]
[null,{"$f":"CH7","v":10},4,0,{"$f":"IF(D210<>0,IF((D210-C210)=-1,\"Birdie\",IF((D210-C210)=-2,\"Eagle\",IF((D210-C210)=0,\"Par\",IF((D210-C210)=1,\"bogey\",IF((D210-C210)=2,\"Double bogey\",\"Other\"))))),\"  \")","v":"  "},null,null,"Count"]
[null,11,4,0,"  ",null,null,"Eagle",{"$f":"COUNTIF(E210:E218,\"Eagle\")","v":0}]
[null,12,4,0,"  ",null,null,"Birdie",{"$f":"COUNTIF(E210:E218,\"Birdie\")","v":0}]
[null,13,5,0,"  ",null,null,"Par",{"$f":"COUNTIF(E210:E218,\"Par\")","v":0}]
[null,14,3,0,"  ",null,null,"bogey",{"$f":"COUNTIF(E210:E218,\"bogey\")","v":0}]
[null,15,4,0,"  ",null,null,"Double bogey",{"$f":"COUNTIF(E210:E218,\"Double bogey\")","v":0}]
[null,16,4,0,"  ",null,null,"Other",{"$f":"COUNTIF(E210:E218,\"Other\")","v":0}]
[null,17,3,0,"  "]
[null,18,5,0,"  "]

{"sheet":"Palmerino_L","index":27,"n_rows":218,"n_cols":90,"rows_kept":218,"cut":false,"hidden":false,"merged":[]}
["Lisa Palmerino"]
[]
[]
[null,null,"Date:",{"$f":"VLOOKUP(C5,Week,2)","v":"2024-04-26"},null,null,null,null,"Date:",{"$f":"VLOOKUP(I5,Week,2)","v":"2024-05-03"},null,null,null,null,"Date:",{"$f":"VLOOKUP(O5,Week,2)","v":"2024-05-10"},null,null,null,null,"Date:",{"$f":"VLOOKUP(U5,Week,2)","v":"2024-05-17"},null,null,null,null,"Date:",{"$f":"VLOOKUP(AA5,Week,2)","v":"2024-05-24"},null,null,null,null,"Date:",{"$f":"VLOOKUP(AG5,Week,2)","v":"2024-05-31"},null,null,null,null,"Date:",{"$f":"VLOOKUP(AM5,Week,2)","v":"2024-06-07"},null,null,null,null,"Date:",{"$f":"VLOOKUP(AS5,Week,2)","v":"2024-06-14"},null,null,null,null,"Date:",{"$f":"VLOOKUP(AY5,Week,2)","v":"2024-07-05"},null,null,null,null,"Date:",{"$f":"VLOOKUP(BE5,Week,2)","v":"2024-07-12"},null,null,null,null,"Date:",{"$f":"VLOOKUP(BK5,Week,2)","v":"2024-07-19"},null,null,null,null,"Date:",{"$f":"VLOOKUP(BQ5,Week,2)","v":"2024-07-26"},null,null,null,null,"Date:",{"$f":"VLOOKUP(BW5,Week,2)","v":"2024-08-02"},null,null,null,null,"Date:",{"$f":"VLOOKUP(CC5,Week,2)","v":"2024-08-16"},null,null,null,null,"Date:",{"$f":"VLOOKUP(CI5,Week,2)","v":"2024-08-23"}]
[null,"Week",1,null,null,null,null,"Week",2,null,null,null,null,"Week",3,null,null,null,null,"Week",4,null,null,null,null,"Week",5,null,null,null,null,"Week",6,null,null,null,null,"Week",7,null,null,null,null,"Week",8,null,null,null,null,"Week",9,null,null,null,null,"Week",10,null,null,null,null,"Week",11,null,null,null,null,"Week",12,null,null,null,null,"Week",13,null,null,null,null,"Week",14,null,null,null,null,"Week",15]
[null,"Hole #","Par","Score","Net","Win Hole",null,"Hole #","Par","Score","Net","Win Hole",null,"Hole #","Par","Score","Net","Win Hole",null,"Hole #","Par","Score","Net","Win Hole",null,"Hole #","Par","Score","Net","Win Hole",null,"Hole #","Par","Score","Net","Win Hole",null,"Hole #","Par","Score","Net","Win Hole",null,"Hole #","Par","Score","Net","Win Hole",null,"Hole #","Par","Score","Net","Win Hole",null,"Hole #","Par","Score","Net","Win Hole",null,"Hole #","Par","Score","Net","Win Hole",null,"Hole #","Par","Score","Net","Win Hole",null,"Hole #","Par","Score","Net","Win Hole",null,"Hole #","Par","Score","Net","Win Hole",null,"Hole #","Par","Score","Net","Win Hole"]
[null,{"$f":"VLOOKUP(C5,Week,6)","v":1},{"$f":"VLOOKUP(B7,Holes,2)","v":4},null,{"$f":"IF((D7-C7)>3,C7+3,D7)","v":0},null,null,{"$f":"VLOOKUP(I5,Week,6)","v":10},{"$f":"VLOOKUP(H7,Holes,2)","v":4},null,{"$f":"IF((J7-I7)>3,I7+3,J7)","v":0},null,null,{"$f":"VLOOKUP(O5,Week,6)","v":1},{"$f":"VLOOKUP(N7,Holes,2)","v":4},null,{"$f":"IF((P7-O7)>3,O7+3,P7)","v":0},null,null,{"$f":"VLOOKUP(U5,Week,6)","v":10},{"$f":"VLOOKUP(T7,Holes,2)","v":4},null,{"$f":"IF((V7-U7)>3,U7+3,V7)","v":0},null,null,{"$f":"VLOOKUP(AA5,Week,6)","v":1},{"$f":"VLOOKUP(Z7,Holes,2)","v":4},5,{"$f":"IF((AB7-AA7)>3,AA7+3,AB7)","v":5},0,null,{"$f":"VLOOKUP(AG5,Week,6)","v":10},{"$f":"VLOOKUP(AF7,Holes,2)","v":4},null,{"$f":"IF((AH7-AG7)>3,AG7+3,AH7)","v":0},null,null,{"$f":"VLOOKUP(AM5,Week,6)","v":1},{"$f":"VLOOKUP(AL7,Holes,2)","v":4},null,{"$f":"IF((AN7-AM7)>3,AM7+3,AN7)","v":0},null,null,{"$f":"VLOOKUP(AS5,Week,6)","v":10},{"$f":"VLOOKUP(AR7,Holes,2)","v":4},null,{"$f":"IF((AT7-AS7)>3,AS7+3,AT7)","v":0},null,null,{"$f":"VLOOKUP(AY5,Week,6)","v":1},{"$f":"VLOOKUP(AX7,Holes,2)","v":4},null,{"$f":"IF((AZ7-AY7)>3,AY7+3,AZ7)","v":0},null,null,{"$f":"VLOOKUP(BE5,Week,6)","v":10},{"$f":"VLOOKUP(BD7,Holes,2)","v":4},null,{"$f":"IF((BF7-BE7)>3,BE7+3,BF7)","v":0},null,null,{"$f":"VLOOKUP(BK5,Week,6)","v":1},{"$f":"VLOOKUP(BJ7,Holes,2)","v":4},null,{"$f":"IF((BL7-BK7)>3,BK7+3,BL7)","v":0},null,null,{"$f":"VLOOKUP(BQ5,Week,6)","v":10},{"$f":"VLOOKUP(BP7,Holes,2)","v":4},null,{"$f":"IF((BR7-BQ7)>3,BQ7+3,BR7)","v":0},null,null,{"$f":"VLOOKUP(BW5,Week,6)","v":1},{"$f":"VLOOKUP(BV7,Holes,2)","v":4},null,{"$f":"IF((BX7-BW7)>3,BW7+3,BX7)","v":0},null,null,{"$f":"VLOOKUP(CC5,Week,6)","v":1},{"$f":"VLOOKUP(CB7,Holes,2)","v":4},null,{"$f":"IF((CD7-CC7)>3,CC7+3,CD7)","v":0},null,null,{"$f":"VLOOKUP(CI5,Week,6)","v":10},{"$f":"VLOOKUP(CH7,Holes,2)","v":4},8,{"$f":"IF((CJ7-CI7)>3,CI7+3,CJ7)","v":7},0]
[null,{"$f":"+B7+1","v":2},4,null,0,null,null,{"$f":"+H7+1","v":11},4,null,0,null,null,{"$f":"+N7+1","v":2},4,null,0,null,null,{"$f":"+T7+1","v":11},4,null,0,null,null,{"$f":"+Z7+1","v":2},4,8,7,0,null,{"$f":"+AF7+1","v":11},4,null,0,null,null,{"$f":"+AL7+1","v":2},4,null,0,null,null,{"$f":"+AR7+1","v":11},4,null,0,null,null,{"$f":"+AX7+1","v":2},4,null,0,null,null,{"$f":"+BD7+1","v":11},4,null,0,null,null,{"$f":"+BJ7+1","v":2},4,null,0,null,null,{"$f":"+BP7+1","v":11},4,null,0,null,null,{"$f":"+BV7+1","v":2},4,null,0,null,null,{"$f":"+CB7+1","v":2},4,null,0,null,null,{"$f":"+CH7+1","v":11},4,5,5,1]
[null,3,3,null,0,null,null,12,4,null,0,null,null,3,3,null,0,null,null,12,4,null,0,null,null,3,3,7,6,0,null,12,4,null,0,null,null,3,3,null,0,null,null,12,4,null,0,null,null,3,3,null,0,null,null,12,4,null,0,null,null,3,3,null,0,null,null,12,4,null,0,null,null,3,3,null,0,null,null,3,3,null,0,null,null,12,4,6,6,0]
[null,4,4,null,0,null,null,13,5,null,0,null,null,4,4,null,0,null,null,13,5,null,0,null,null,4,4,8,7,0,null,13,5,null,0,null,null,4,4,null,0,null,null,13,5,null,0,null,null,4,4,null,0,null,null,13,5,null,0,null,null,4,4,null,0,null,null,13,5,null,0,null,null,4,4,null,0,null,null,4,4,null,0,null,null,13,5,6,6,0]
[null,5,5,null,0,null,null,14,3,null,0,null,null,5,5,null,0,null,null,14,3,null,0,null,null,5,5,6,6,1,null,14,3,null,0,null,null,5,5,null,0,null,null,14,3,null,0,null,null,5,5,null,0,null,null,14,3,null,0,null,null,5,5,null,0,null,null,14,3,null,0,null,null,5,5,null,0,null,null,5,5,null,0,null,null,14,3,6,6,1]
[null,6,3,null,0,null,null,15,4,null,0,null,null,6,3,null,0,null,null,15,4,null,0,null,null,6,3,5,5,1,null,15,4,null,0,null,null,6,3,null,0,null,null,15,4,null,0,null,null,6,3,null,0,null,null,15,4,null,0,null,null,6,3,null,0,null,null,15,4,null,0,null,null,6,3,null,0,null,null,6,3,null,0,null,null,15,4,6,6,1]
[null,7,4,null,0,null,null,16,4,null,0,null,null,7,4,null,0,null,null,16,4,null,0,null,null,7,4,6,6,0,null,16,4,null,0,null,null,7,4,null,0,null,null,16,4,null,0,null,null,7,4,null,0,null,null,16,4,null,0,null,null,7,4,null,0,null,null,16,4,null,0,null,null,7,4,null,0,null,null,7,4,null,0,null,null,16,4,9,7,0]
[null,8,4,null,0,null,null,17,3,null,0,null,null,8,4,null,0,null,null,17,3,null,0,null,null,8,4,6,6,1,null,17,3,null,0,null,null,8,4,null,0,null,null,17,3,null,0,null,null,8,4,null,0,null,null,17,3,null,0,null,null,8,4,null,0,null,null,17,3,null,0,null,null,8,4,null,0,null,null,8,4,null,0,null,null,17,3,3,3,1]
[null,9,5,null,0,null,null,18,5,null,0,null,null,9,5,null,0,null,null,18,5,null,0,null,null,9,5,6,6,1,null,18,5,null,0,null,null,9,5,null,0,null,null,18,5,null,0,null,null,9,5,null,0,null,null,18,5,null,0,null,null,9,5,null,0,null,null,18,5,null,0,null,null,9,5,null,0,null,null,9,5,null,0,null,null,18,5,6,6,1]
[null,"Total",{"$f":"SUM(C7:C15)","v":36},{"$f":"SUM(D7:D15)","v":0},{"$f":"SUM(E7:E15)","v":0},null,null,"Total",{"$f":"SUM(I7:I15)","v":36},{"$f":"SUM(J7:J15)","v":0},{"$f":"SUM(K7:K15)","v":0},{"$f":"SUM(L7:L15)","v":0},null,"Total",{"$f":"SUM(O7:O15)","v":36},{"$f":"SUM(P7:P15)","v":0},{"$f":"SUM(Q7:Q15)","v":0},{"$f":"SUM(R7:R15)","v":0},null,"Total",{"$f":"SUM(U7:U15)","v":36},{"$f":"SUM(V7:V15)","v":0},{"$f":"SUM(W7:W15)","v":0},{"$f":"SUM(X7:X15)","v":0},null,"Total",{"$f":"SUM(AA7:AA15)","v":36},{"$f":"SUM(AB7:AB15)","v":57},{"$f":"SUM(AC7:AC15)","v":54},{"$f":"SUM(AD7:AD15)","v":4},null,"Total",{"$f":"SUM(AG7:AG15)","v":36},{"$f":"SUM(AH7:AH15)","v":0},{"$f":"SUM(AI7:AI15)","v":0},{"$f":"SUM(AJ7:AJ15)","v":0},null,"Total",{"$f":"SUM(AM7:AM15)","v":36},{"$f":"SUM(AN7:AN15)","v":0},{"$f":"SUM(AO7:AO15)","v":0},{"$f":"SUM(AP7:AP15)","v":0},null,"Total",{"$f":"SUM(AS7:AS15)","v":36},{"$f":"SUM(AT7:AT15)","v":0},{"$f":"SUM(AU7:AU15)","v":0},{"$f":"SUM(AV7:AV15)","v":0},null,"Total",{"$f":"SUM(AY7:AY15)","v":36},{"$f":"SUM(AZ7:AZ15)","v":0},{"$f":"SUM(BA7:BA15)","v":0},{"$f":"SUM(BB7:BB15)","v":0},null,"Total",{"$f":"SUM(BE7:BE15)","v":36},{"$f":"SUM(BF7:BF15)","v":0},{"$f":"SUM(BG7:BG15)","v":0},{"$f":"SUM(BH7:BH15)","v":0},null,"Total",{"$f":"SUM(BK7:BK15)","v":36},{"$f":"SUM(BL7:BL15)","v":0},{"$f":"SUM(BM7:BM15)","v":0},{"$f":"SUM(BN7:BN15)","v":0},null,"Total",{"$f":"SUM(BQ7:BQ15)","v":36},{"$f":"SUM(BR7:BR15)","v":0},{"$f":"SUM(BS7:BS15)","v":0},{"$f":"SUM(BT7:BT15)","v":0},null,"Total",{"$f":"SUM(BW7:BW15)","v":36},{"$f":"SUM(BX7:BX15)","v":0},{"$f":"SUM(BY7:BY15)","v":0},{"$f":"SUM(BZ7:BZ15)","v":0},null,"Total",{"$f":"SUM(CC7:CC15)","v":36},{"$f":"SUM(CD7:CD15)","v":0},{"$f":"SUM(CE7:CE15)","v":0},{"$f":"SUM(CF7:CF15)","v":0},null,"Total",{"$f":"SUM(CI7:CI15)","v":36},{"$f":"SUM(CJ7:CJ15)","v":55},{"$f":"SUM(CK7:CK15)","v":52},{"$f":"SUM(CL7:CL15)","v":5}]
[]
[null,null,null,null,"Low Net",null,null,null,null,null,"Low Net",0,null,null,null,null,"Low Net",0,null,null,null,null,"Low Net",null,null,null,null,null,"Low Net",0,null,null,null,null,"Low Net",null,null,null,null,null,"Low Net",null,null,null,null,null,"Low Net",null,null,null,null,null,"Low Net",null,null,null,null,null,"Low Net",null,null,null,null,null,"Low Net",null,null,null,null,null,"Low Net",null,null,null,null,null,"Low Net",null,null,null,null,null,"Low Net",null,null,null,null,null,"Low Net",1]
[]
[null,null,null,null,"Total Points",{"$f":"SUM(F16:F19)","v":0},null,null,null,null,"Total Points",{"$f":"SUM(L16:L19)","v":0},null,null,null,null,"Total Points",{"$f":"SUM(R16:R19)","v":0},null,null,null,null,"Total Points",{"$f":"SUM(X16:X19)","v":0},null,null,null,null,"Total Points",{"$f":"SUM(AD16:AD19)","v":4},null,null,null,null,"Total Points",{"$f":"SUM(AJ16:AJ19)","v":0},null,null,null,null,"Total Points",{"$f":"SUM(AP16:AP19)","v":0},null,null,null,null,"Total Points",{"$f":"SUM(AV16:AV19)","v":0},null,null,null,null,"Total Points",{"$f":"SUM(BB16:BB19)","v":0},null,null,null,null,"Total Points",{"$f":"SUM(BH16:BH19)","v":0},null,null,null,null,"Total Points",{"$f":"SUM(BN16:BN19)","v":0},null,null,null,null,"Total Points",{"$f":"SUM(BT16:BT19)","v":0},null,null,null,null,"Total Points",{"$f":"SUM(BZ16:BZ19)","v":0},null,null,null,null,"Total Points",{"$f":"SUM(CF16:CF19)","v":0},null,null,null,null,"Total Points",{"$f":"SUM(CL16:CL19)","v":6}]
[]
[null,null,null,null,"Handicap",{"$f":"IF(D16=0,0,E16-C16)","v":0},null,null,null,null,"Handicap",{"$f":"IF(J16=0,0,K16-I16)","v":0},null,null,null,null,"Handicap",{"$f":"IF(P16=0,0,Q16-O16)","v":0},null,null,null,null,"Handicap",{"$f":"IF(V16=0,0,W16-U16)","v":0},null,null,null,null,"Handicap",{"$f":"IF(AB16=0,0,AC16-AA16)","v":18},null,null,null,null,"Handicap",{"$f":"IF(AH16=0,0,AI16-AG16)","v":0},null,null,null,null,"Handicap",{"$f":"IF(AN16=0,0,AO16-AM16)","v":0},null,null,null,null,"Handicap",{"$f":"IF(AT16=0,0,AU16-AS16)","v":0},null,null,null,null,"Handicap",{"$f":"IF(AZ16=0,0,BA16-AY16)","v":0},null,null,null,null,"Handicap",{"$f":"IF(BF16=0,0,BG16-BE16)","v":0},null,null,null,null,"Handicap",{"$f":"IF(BL16=0,0,BM16-BK16)","v":0},null,null,null,null,"Handicap",{"$f":"IF(BR16=0,0,BS16-BQ16)","v":0},null,null,null,null,"Handicap",{"$f":"IF(BX16=0,0,BY16-BW16)","v":0},null,null,null,null,"Handicap",{"$f":"IF(CD16=0,0,CE16-CC16)","v":0},null,null,null,null,"Handicap",{"$f":"IF(CJ16=0,0,CK16-CI16)","v":16}]
[]
[null,null,null,null,null,{"$f":"IF(D16<>0,IF(F16>4.5,\"W\",IF(F16=4.5,\"T\",IF(F16<4.5,\"L\"))),0)","v":0},null,null,null,null,null,{"$f":"IF(J16<>0,IF(L16>4.5,\"W\",IF(L16=4.5,\"T\",IF(L16<4.5,\"L\"))),0)","v":0},null,null,null,null,null,{"$f":"IF(P16<>0,IF(R16>4.5,\"W\",IF(R16=4.5,\"T\",IF(R16<4.5,\"L\"))),0)","v":0},null,null,null,null,null,{"$f":"IF(V16<>0,IF(X16>4.5,\"W\",IF(X16=4.5,\"T\",IF(X16<4.5,\"L\"))),0)","v":0},null,null,null,null,null,{"$f":"IF(AB16<>0,IF(AD16>4.5,\"W\",IF(AD16=4.5,\"T\",IF(AD16<4.5,\"L\"))),0)","v":"L"},null,null,null,null,null,{"$f":"IF(AH16<>0,IF(AJ16>4.5,\"W\",IF(AJ16=4.5,\"T\",IF(AJ16<4.5,\"L\"))),0)","v":0},null,null,null,null,null,{"$f":"IF(AN16<>0,IF(AP16>4.5,\"W\",IF(AP16=4.5,\"T\",IF(AP16<4.5,\"L\"))),0)","v":0},null,null,null,null,null,{"$f":"IF(AT16<>0,IF(AV16>4.5,\"W\",IF(AV16=4.5,\"T\",IF(AV16<4.5,\"L\"))),0)","v":0},null,null,null,null,null,{"$f":"IF(AZ16<>0,IF(BB16>4.5,\"W\",IF(BB16=4.5,\"T\",IF(BB16<4.5,\"L\"))),0)","v":0},null,null,null,null,null,{"$f":"IF(BF16<>0,IF(BH16>4.5,\"W\",IF(BH16=4.5,\"T\",IF(BH16<4.5,\"L\"))),0)","v":0},null,null,null,null,null,{"$f":"IF(BL16<>0,IF(BN16>4.5,\"W\",IF(BN16=4.5,\"T\",IF(BN16<4.5,\"L\"))),0)","v":0},null,null,null,null,null,{"$f":"IF(BR16<>0,IF(BT16>4.5,\"W\",IF(BT16=4.5,\"T\",IF(BT16<4.5,\"L\"))),0)","v":0},null,null,null,null,null,{"$f":"IF(BX16<>0,IF(BZ16>4.5,\"W\",IF(BZ16=4.5,\"T\",IF(BZ16<4.5,\"L\"))),0)","v":0},null,null,null,null,null,{"$f":"IF(CD16<>0,IF(CF16>4.5,\"W\",IF(CF16=4.5,\"T\",IF(CF16<4.5,\"L\"))),0)","v":0},null,null,null,null,null,{"$f":"IF(CJ16<>0,IF(CL16>4.5,\"W\",IF(CL16=4.5,\"T\",IF(CL16<4.5,\"L\"))),0)","v":"W"}]
[]
[null,"Summary"]
[null,null,null,"Adj",null,"Adj",null,null,null,"Avg Score"]
[null,null,"Points","Points","Matches","Matches",null,null,"Hole #","by Hole","Best","Worst"]
[null,"Week #1",{"$f":"F20","v":0},{"$f":"C29","v":0},{"$f":"IF(D16>0,1,0)","v":0},{"$f":"E29","v":0},null,null,1,{"$f":"IFERROR(AVERAGE(D7,P7,AB7,AN7,AZ7,BL7,BX7,CD7),0)","v":5},{"$f":"IFERROR(MIN(D7,P7,AB7,AN7,AZ7,BL7,BX7,CD7),0)","v":5},{"$f":"IFERROR(MAX(D7,P7,AB7,AN7,AZ7,BL7,BX7,CD7),0)","v":5}]
[null,"Week #2",{"$f":"L20","v":0},0,{"$f":"IF(J16>0,1,0)","v":0},0,null,null,2,{"$f":"IFERROR(AVERAGE(D8,P8,AB8,AN8,AZ8,BL8,BX8,CD8),0)","v":8},{"$f":"IFERROR(MIN(D8,P8,AB8,AN8,AZ8,BL8,BX8,CD8),0)","v":8},{"$f":"IFERROR(MAX(D8,P8,AB8,AN8,AZ8,BL8,BX8,CD8),0)","v":8}]
[null,"Week #3",{"$f":"R20","v":0},0,{"$f":"IF(P16>0,1,0)","v":0},0,null,null,3,7,7,7]
[null,"Week #4",{"$f":"X20","v":0},0,{"$f":"IF(V16>0,1,0)","v":0},0,null,null,4,8,8,8]
[null,"Week #5",{"$f":"AD20","v":4},4,{"$f":"IF(AB16>0,1,0)","v":1},1,null,null,5,6,6,6]
[null,"Week #6",{"$f":"AJ20","v":0},0,{"$f":"IF(AH16>0,1,0)","v":0},0,null,null,6,5,5,5]
[null,"Week #7",{"$f":"AP20","v":0},0,{"$f":"IF(AN16>0,1,0)","v":0},0,null,null,7,6,6,6]
[null,"Week #8",{"$f":"AV20","v":0},0,{"$f":"IF(AT16>0,1,0)","v":0},0,null,null,8,6,6,6]
[null,"Week #9",{"$f":"BB20","v":0},0,{"$f":"IF(AZ16>0,1,0)","v":0},0,null,null,9,6,6,6]
[null,"Week #10",{"$f":"BH20","v":0},0,{"$f":"IF(BF16>0,1,0)","v":0},0,null,null,"Front",{"$f":"SUM(J29:J37)","v":57},{"$f":"SUM(K29:K37)","v":57},57]
[null,"Week #11",{"$f":"BN20","v":0},0,{"$f":"IF(BL16>0,1,0)","v":0},0]
[null,"Week #12",{"$f":"BT20","v":0},0,{"$f":"IF(BR16>0,1,0)","v":0},0,null,null,10,{"$f":"IFERROR(AVERAGE(J7,V7,AH7,AT7,BF7,BR7,CJ7),0)","v":8},{"$f":"IFERROR(MIN(J7,V7,AH7,AT7,BF7,BR7,CJ7),0)","v":8},{"$f":"IFERROR(MAX(J7,V7,AH7,AT7,BF7,BR7,CJ7),0)","v":8}]
[null,"Week #13",{"$f":"BZ20","v":0},0,{"$f":"IF(BX16>0,1,0)","v":0},0,null,null,11,{"$f":"IFERROR(AVERAGE(J8,V8,AH8,AT8,BF8,BR8,CJ8),0)","v":5},{"$f":"IFERROR(MIN(J8,V8,AH8,AT8,BF8,BR8,CJ8),0)","v":5},{"$f":"IFERROR(MAX(J8,V8,AH8,AT8,BF8,BR8,CJ8),0)","v":5}]
[null,"Week #14",{"$f":"CF20","v":0},0,{"$f":"IF(CD16>0,1,0)","v":0},0,null,null,12,6,6,6]
[null,"Week #15",{"$f":"CL20","v":6},6,{"$f":"IF(CJ16>0,1,0)","v":1},1,null,null,13,6,6,6]
[null,"Total",{"$f":"SUM(C29:C43)","v":10},{"$f":"SUM(D29:D43)","v":10},{"$f":"SUM(E29:E43)","v":2},{"$f":"SUM(F29:F43)","v":2},null,null,14,6,6,6]
[null,null,null,null,null,null,null,null,15,6,6,6]
[null,"Summary",null,null,null,null,null,null,16,9,9,9]
[null,"Eagles",{"$f":"I57+I68+I79+I90+I101+I112+I123+I134+I145+I156+I167+I178+I189+I200+I211","v":0},null,null,null,null,null,17,3,3,3]
[null,"Birdies",0,null,null,null,null,null,18,6,6,6]
[null,"Pars",1,null,null,null,null,null,"Back",{"$f":"SUM(J40:J48)","v":55},{"$f":"SUM(K40:K48)","v":55},55]
[null,"bogeys",6]
[null,"Double bogeys",5]
[null,"Other",6]
[null,"Total",{"$f":"SUM(C47:C52)","v":18}]
[]
[null,{"$f":"D4","v":"2024-04-26"},"Par","Score"]
[null,{"$f":"B7","v":1},4,0,{"$f":"IF(D56<>0,IF((D56-C56)=-1,\"Birdie\",IF((D56-C56)=-2,\"Eagle\",IF((D56-C56)=0,\"Par\",IF((D56-C56)=1,\"bogey\",IF((D56-C56)=2,\"Double bogey\",\"Other\"))))),\"  \")","v":"  "},null,null,"Count"]
[null,2,4,0,"  ",null,null,"Eagle",{"$f":"COUNTIF(E56:E64,\"Eagle\")","v":0}]
[null,3,3,0,"  ",null,null,"Birdie",{"$f":"COUNTIF(E56:E64,\"Birdie\")","v":0}]
[null,4,4,0,"  ",null,null,"Par",{"$f":"COUNTIF(E56:E64,\"Par\")","v":0}]
[null,5,5,0,"  ",null,null,"bogey",{"$f":"COUNTIF(E56:E64,\"bogey\")","v":0}]
[null,6,3,0,"  ",null,null,"Double bogey",{"$f":"COUNTIF(E56:E64,\"Double bogey\")","v":0}]
[null,7,4,0,"  ",null,null,"Other",{"$f":"COUNTIF(E56:E64,\"Other\")","v":0}]
[null,8,4,0,"  "]
[null,9,5,0,"  "]
[]
[null,{"$f":"J4","v":"2024-05-03"}]
[null,{"$f":"H7","v":10},4,0,{"$f":"IF(D67<>0,IF((D67-C67)=-1,\"Birdie\",IF((D67-C67)=-2,\"Eagle\",IF((D67-C67)=0,\"Par\",IF((D67-C67)=1,\"bogey\",IF((D67-C67)=2,\"Double bogey\",\"Other\"))))),\"  \")","v":"  "},null,null,"Count"]
[null,11,4,0,"  ",null,null,"Eagle",{"$f":"COUNTIF(E67:E75,\"Eagle\")","v":0}]
[null,12,4,0,"  ",null,null,"Birdie",{"$f":"COUNTIF(E67:E75,\"Birdie\")","v":0}]
[null,13,5,0,"  ",null,null,"Par",{"$f":"COUNTIF(E67:E75,\"Par\")","v":0}]
[null,14,3,0,"  ",null,null,"bogey",{"$f":"COUNTIF(E67:E75,\"bogey\")","v":0}]
[null,15,4,0,"  ",null,null,"Double bogey",{"$f":"COUNTIF(E67:E75,\"Double bogey\")","v":0}]
[null,16,4,0,"  ",null,null,"Other",{"$f":"COUNTIF(E67:E75,\"Other\")","v":0}]
[null,17,3,0,"  "]
[null,18,5,0,"  "]
[]
[null,{"$f":"P4","v":"2024-05-10"}]
[null,{"$f":"N7","v":1},4,0,{"$f":"IF(D78<>0,IF((D78-C78)=-1,\"Birdie\",IF((D78-C78)=-2,\"Eagle\",IF((D78-C78)=0,\"Par\",IF((D78-C78)=1,\"bogey\",IF((D78-C78)=2,\"Double bogey\",\"Other\"))))),\"  \")","v":"  "},null,null,"Count"]
[null,2,4,0,"  ",null,null,"Eagle",{"$f":"COUNTIF(E78:E86,\"Eagle\")","v":0}]
[null,3,3,0,"  ",null,null,"Birdie",{"$f":"COUNTIF(E78:E86,\"Birdie\")","v":0}]
[null,4,4,0,"  ",null,null,"Par",{"$f":"COUNTIF(E78:E86,\"Par\")","v":0}]
[null,5,5,0,"  ",null,null,"bogey",{"$f":"COUNTIF(E78:E86,\"bogey\")","v":0}]
[null,6,3,0,"  ",null,null,"Double bogey",{"$f":"COUNTIF(E78:E86,\"Double bogey\")","v":0}]
[null,7,4,0,"  ",null,null,"Other",{"$f":"COUNTIF(E78:E86,\"Other\")","v":0}]
[null,8,4,0,"  "]
[null,9,5,0,"  "]
[]
[null,{"$f":"V4","v":"2024-05-17"}]
[null,{"$f":"T7","v":10},4,0,{"$f":"IF(D89<>0,IF((D89-C89)=-1,\"Birdie\",IF((D89-C89)=-2,\"Eagle\",IF((D89-C89)=0,\"Par\",IF((D89-C89)=1,\"bogey\",IF((D89-C89)=2,\"Double bogey\",\"Other\"))))),\"  \")","v":"  "},null,null,"Count"]
[null,11,4,0,"  ",null,null,"Eagle",{"$f":"COUNTIF(E89:E97,\"Eagle\")","v":0}]
[null,12,4,0,"  ",null,null,"Birdie",{"$f":"COUNTIF(E89:E97,\"Birdie\")","v":0}]
[null,13,5,0,"  ",null,null,"Par",{"$f":"COUNTIF(E89:E97,\"Par\")","v":0}]
[null,14,3,0,"  ",null,null,"bogey",{"$f":"COUNTIF(E89:E97,\"bogey\")","v":0}]
[null,15,4,0,"  ",null,null,"Double bogey",{"$f":"COUNTIF(E89:E97,\"Double bogey\")","v":0}]
[null,16,4,0,"  ",null,null,"Other",{"$f":"COUNTIF(E89:E97,\"Other\")","v":0}]
[null,17,3,0,"  "]
[null,18,5,0,"  "]
[]
[null,{"$f":"AB4","v":"2024-05-24"}]
[null,{"$f":"Z7","v":1},4,5,{"$f":"IF(D100<>0,IF((D100-C100)=-1,\"Birdie\",IF((D100-C100)=-2,\"Eagle\",IF((D100-C100)=0,\"Par\",IF((D100-C100)=1,\"bogey\",IF((D100-C100)=2,\"Double bogey\",\"Other\"))))),\"  \")","v":"bogey"},null,null,"Count"]
[null,2,4,8,"Other",null,null,"Eagle",{"$f":"COUNTIF(E100:E108,\"Eagle\")","v":0}]
[null,3,3,7,"Other",null,null,"Birdie",{"$f":"COUNTIF(E100:E108,\"Birdie\")","v":0}]
[null,4,4,8,"Other",null,null,"Par",{"$f":"COUNTIF(E100:E108,\"Par\")","v":0}]
[null,5,5,6,"bogey",null,null,"bogey",{"$f":"COUNTIF(E100:E108,\"bogey\")","v":3}]
[null,6,3,5,"Double bogey",null,null,"Double bogey",{"$f":"COUNTIF(E100:E108,\"Double bogey\")","v":3}]
[null,7,4,6,"Double bogey",null,null,"Other",{"$f":"COUNTIF(E100:E108,\"Other\")","v":3}]
[null,8,4,6,"Double bogey"]
[null,9,5,6,"bogey"]
[]
[null,{"$f":"AH4","v":"2024-05-31"}]
[null,{"$f":"AF7","v":10},4,0,{"$f":"IF(D111<>0,IF((D111-C111)=-1,\"Birdie\",IF((D111-C111)=-2,\"Eagle\",IF((D111-C111)=0,\"Par\",IF((D111-C111)=1,\"bogey\",IF((D111-C111)=2,\"Double bogey\",\"Other\"))))),\"  \")","v":"  "},null,null,"Count"]
[null,11,4,0,"  ",null,null,"Eagle",{"$f":"COUNTIF(E111:E119,\"Eagle\")","v":0}]
[null,12,4,0,"  ",null,null,"Birdie",{"$f":"COUNTIF(E111:E119,\"Birdie\")","v":0}]
[null,13,5,0,"  ",null,null,"Par",{"$f":"COUNTIF(E111:E119,\"Par\")","v":0}]
[null,14,3,0,"  ",null,null,"bogey",{"$f":"COUNTIF(E111:E119,\"bogey\")","v":0}]
[null,15,4,0,"  ",null,null,"Double bogey",{"$f":"COUNTIF(E111:E119,\"Double bogey\")","v":0}]
[null,16,4,0,"  ",null,null,"Other",{"$f":"COUNTIF(E111:E119,\"Other\")","v":0}]
[null,17,3,0,"  "]
[null,18,5,0,"  "]
[]
[null,{"$f":"AN4","v":"2024-06-07"}]
[null,{"$f":"AL7","v":1},4,0,{"$f":"IF(D122<>0,IF((D122-C122)=-1,\"Birdie\",IF((D122-C122)=-2,\"Eagle\",IF((D122-C122)=0,\"Par\",IF((D122-C122)=1,\"bogey\",IF((D122-C122)=2,\"Double bogey\",\"Other\"))))),\"  \")","v":"  "},null,null,"Count"]
[null,2,4,0,"  ",null,null,"Eagle",{"$f":"COUNTIF(E122:E130,\"Eagle\")","v":0}]
[null,3,3,0,"  ",null,null,"Birdie",{"$f":"COUNTIF(E122:E130,\"Birdie\")","v":0}]
[null,4,4,0,"  ",null,null,"Par",{"$f":"COUNTIF(E122:E130,\"Par\")","v":0}]
[null,5,5,0,"  ",null,null,"bogey",{"$f":"COUNTIF(E122:E130,\"bogey\")","v":0}]
[null,6,3,0,"  ",null,null,"Double bogey",{"$f":"COUNTIF(E122:E130,\"Double bogey\")","v":0}]
[null,7,4,0,"  ",null,null,"Other",{"$f":"COUNTIF(E122:E130,\"Other\")","v":0}]
[null,8,4,0,"  "]
[null,9,5,0,"  "]
[]
[null,{"$f":"AT4","v":"2024-06-14"}]
[null,{"$f":"AR7","v":10},4,0,{"$f":"IF(D133<>0,IF((D133-C133)=-1,\"Birdie\",IF((D133-C133)=-2,\"Eagle\",IF((D133-C133)=0,\"Par\",IF((D133-C133)=1,\"bogey\",IF((D133-C133)=2,\"Double bogey\",\"Other\"))))),\"  \")","v":"  "},null,null,"Count"]
[null,11,4,0,"  ",null,null,"Eagle",{"$f":"COUNTIF(E133:E141,\"Eagle\")","v":0}]
[null,12,4,0,"  ",null,null,"Birdie",{"$f":"COUNTIF(E133:E141,\"Birdie\")","v":0}]
[null,13,5,0,"  ",null,null,"Par",{"$f":"COUNTIF(E133:E141,\"Par\")","v":0}]
[null,14,3,0,"  ",null,null,"bogey",{"$f":"COUNTIF(E133:E141,\"bogey\")","v":0}]
[null,15,4,0,"  ",null,null,"Double bogey",{"$f":"COUNTIF(E133:E141,\"Double bogey\")","v":0}]
[null,16,4,0,"  ",null,null,"Other",{"$f":"COUNTIF(E133:E141,\"Other\")","v":0}]
[null,17,3,0,"  "]
[null,18,5,0,"  "]
[]
[null,{"$f":"AZ4","v":"2024-07-05"}]
[null,{"$f":"AX7","v":1},4,0,{"$f":"IF(D144<>0,IF((D144-C144)=-1,\"Birdie\",IF((D144-C144)=-2,\"Eagle\",IF((D144-C144)=0,\"Par\",IF((D144-C144)=1,\"bogey\",IF((D144-C144)=2,\"Double bogey\",\"Other\"))))),\"  \")","v":"  "},null,null,"Count"]
[null,2,4,0,"  ",null,null,"Eagle",{"$f":"COUNTIF(E144:E152,\"Eagle\")","v":0}]
[null,3,3,0,"  ",null,null,"Birdie",{"$f":"COUNTIF(E144:E152,\"Birdie\")","v":0}]
[null,4,4,0,"  ",null,null,"Par",{"$f":"COUNTIF(E144:E152,\"Par\")","v":0}]
[null,5,5,0,"  ",null,null,"bogey",{"$f":"COUNTIF(E144:E152,\"bogey\")","v":0}]
[null,6,3,0,"  ",null,null,"Double bogey",{"$f":"COUNTIF(E144:E152,\"Double bogey\")","v":0}]
[null,7,4,0,"  ",null,null,"Other",{"$f":"COUNTIF(E144:E152,\"Other\")","v":0}]
[null,8,4,0,"  "]
[null,9,5,0,"  "]
[]
[null,{"$f":"BF4","v":"2024-07-12"}]
[null,{"$f":"BD7","v":10},4,0,{"$f":"IF(D155<>0,IF((D155-C155)=-1,\"Birdie\",IF((D155-C155)=-2,\"Eagle\",IF((D155-C155)=0,\"Par\",IF((D155-C155)=1,\"bogey\",IF((D155-C155)=2,\"Double bogey\",\"Other\"))))),\"  \")","v":"  "},null,null,"Count"]
[null,11,4,0,"  ",null,null,"Eagle",{"$f":"COUNTIF(E155:E163,\"Eagle\")","v":0}]
[null,12,4,0,"  ",null,null,"Birdie",{"$f":"COUNTIF(E155:E163,\"Birdie\")","v":0}]
[null,13,5,0,"  ",null,null,"Par",{"$f":"COUNTIF(E155:E163,\"Par\")","v":0}]
[null,14,3,0,"  ",null,null,"bogey",{"$f":"COUNTIF(E155:E163,\"bogey\")","v":0}]
[null,15,4,0,"  ",null,null,"Double bogey",{"$f":"COUNTIF(E155:E163,\"Double bogey\")","v":0}]
[null,16,4,0,"  ",null,null,"Other",{"$f":"COUNTIF(E155:E163,\"Other\")","v":0}]
[null,17,3,0,"  "]
[null,18,5,0,"  "]
[]
[null,{"$f":"BL4","v":"2024-07-19"}]
[null,{"$f":"BJ7","v":1},4,0,{"$f":"IF(D166<>0,IF((D166-C166)=-1,\"Birdie\",IF((D166-C166)=-2,\"Eagle\",IF((D166-C166)=0,\"Par\",IF((D166-C166)=1,\"bogey\",IF((D166-C166)=2,\"Double bogey\",\"Other\"))))),\"  \")","v":"  "},null,null,"Count"]
[null,2,4,0,"  ",null,null,"Eagle",{"$f":"COUNTIF(E166:E174,\"Eagle\")","v":0}]
[null,3,3,0,"  ",null,null,"Birdie",{"$f":"COUNTIF(E166:E174,\"Birdie\")","v":0}]
[null,4,4,0,"  ",null,null,"Par",{"$f":"COUNTIF(E166:E174,\"Par\")","v":0}]
[null,5,5,0,"  ",null,null,"bogey",{"$f":"COUNTIF(E166:E174,\"bogey\")","v":0}]
[null,6,3,0,"  ",null,null,"Double bogey",{"$f":"COUNTIF(E166:E174,\"Double bogey\")","v":0}]
[null,7,4,0,"  ",null,null,"Other",{"$f":"COUNTIF(E166:E174,\"Other\")","v":0}]
[null,8,4,0,"  "]
[null,9,5,0,"  "]
[]
[null,{"$f":"BR4","v":"2024-07-26"}]
[null,{"$f":"BP7","v":10},4,0,{"$f":"IF(D177<>0,IF((D177-C177)=-1,\"Birdie\",IF((D177-C177)=-2,\"Eagle\",IF((D177-C177)=0,\"Par\",IF((D177-C177)=1,\"bogey\",IF((D177-C177)=2,\"Double bogey\",\"Other\"))))),\"  \")","v":"  "},null,null,"Count"]
[null,11,4,0,"  ",null,null,"Eagle",{"$f":"COUNTIF(E177:E185,\"Eagle\")","v":0}]
[null,12,4,0,"  ",null,null,"Birdie",{"$f":"COUNTIF(E177:E185,\"Birdie\")","v":0}]
[null,13,5,0,"  ",null,null,"Par",{"$f":"COUNTIF(E177:E185,\"Par\")","v":0}]
[null,14,3,0,"  ",null,null,"bogey",{"$f":"COUNTIF(E177:E185,\"bogey\")","v":0}]
[null,15,4,0,"  ",null,null,"Double bogey",{"$f":"COUNTIF(E177:E185,\"Double bogey\")","v":0}]
[null,16,4,0,"  ",null,null,"Other",{"$f":"COUNTIF(E177:E185,\"Other\")","v":0}]
[null,17,3,0,"  "]
[null,18,5,0,"  "]
[]
[null,{"$f":"BX4","v":"2024-08-02"}]
[null,{"$f":"BV7","v":1},4,0,{"$f":"IF(D188<>0,IF((D188-C188)=-1,\"Birdie\",IF((D188-C188)=-2,\"Eagle\",IF((D188-C188)=0,\"Par\",IF((D188-C188)=1,\"bogey\",IF((D188-C188)=2,\"Double bogey\",\"Other\"))))),\"  \")","v":"  "},null,null,"Count"]
[null,2,4,0,"  ",null,null,"Eagle",{"$f":"COUNTIF(E188:E196,\"Eagle\")","v":0}]
[null,3,3,0,"  ",null,null,"Birdie",{"$f":"COUNTIF(E188:E196,\"Birdie\")","v":0}]
[null,4,4,0,"  ",null,null,"Par",{"$f":"COUNTIF(E188:E196,\"Par\")","v":0}]
[null,5,5,0,"  ",null,null,"bogey",{"$f":"COUNTIF(E188:E196,\"bogey\")","v":0}]
[null,6,3,0,"  ",null,null,"Double bogey",{"$f":"COUNTIF(E188:E196,\"Double bogey\")","v":0}]
[null,7,4,0,"  ",null,null,"Other",{"$f":"COUNTIF(E188:E196,\"Other\")","v":0}]
[null,8,4,0,"  "]
[null,9,5,0,"  "]
[]
[null,{"$f":"CD4","v":"2024-08-16"}]
[null,{"$f":"CB7","v":1},4,0,{"$f":"IF(D199<>0,IF((D199-C199)=-1,\"Birdie\",IF((D199-C199)=-2,\"Eagle\",IF((D199-C199)=0,\"Par\",IF((D199-C199)=1,\"bogey\",IF((D199-C199)=2,\"Double bogey\",\"Other\"))))),\"  \")","v":"  "},null,null,"Count"]
[null,2,4,0,"  ",null,null,"Eagle",{"$f":"COUNTIF(E199:E207,\"Eagle\")","v":0}]
[null,3,3,0,"  ",null,null,"Birdie",{"$f":"COUNTIF(E199:E207,\"Birdie\")","v":0}]
[null,4,4,0,"  ",null,null,"Par",{"$f":"COUNTIF(E199:E207,\"Par\")","v":0}]
[null,5,5,0,"  ",null,null,"bogey",{"$f":"COUNTIF(E199:E207,\"bogey\")","v":0}]
[null,6,3,0,"  ",null,null,"Double bogey",{"$f":"COUNTIF(E199:E207,\"Double bogey\")","v":0}]
[null,7,4,0,"  ",null,null,"Other",{"$f":"COUNTIF(E199:E207,\"Other\")","v":0}]
[null,8,4,0,"  "]
[null,9,5,0,"  "]
[]
[null,{"$f":"CJ4","v":"2024-08-23"}]
[null,{"$f":"CH7","v":10},4,8,{"$f":"IF(D210<>0,IF((D210-C210)=-1,\"Birdie\",IF((D210-C210)=-2,\"Eagle\",IF((D210-C210)=0,\"Par\",IF((D210-C210)=1,\"bogey\",IF((D210-C210)=2,\"Double bogey\",\"Other\"))))),\"  \")","v":"Other"},null,null,"Count"]
[null,11,4,5,"bogey",null,null,"Eagle",{"$f":"COUNTIF(E210:E218,\"Eagle\")","v":0}]
[null,12,4,6,"Double bogey",null,null,"Birdie",{"$f":"COUNTIF(E210:E218,\"Birdie\")","v":0}]
[null,13,5,6,"bogey",null,null,"Par",{"$f":"COUNTIF(E210:E218,\"Par\")","v":1}]
[null,14,3,6,"Other",null,null,"bogey",{"$f":"COUNTIF(E210:E218,\"bogey\")","v":3}]
[null,15,4,6,"Double bogey",null,null,"Double bogey",{"$f":"COUNTIF(E210:E218,\"Double bogey\")","v":2}]
[null,16,4,9,"Other",null,null,"Other",{"$f":"COUNTIF(E210:E218,\"Other\")","v":3}]
[null,17,3,3,"Par"]
[null,18,5,6,"bogey"]

{"sheet":"Richardson","index":28,"n_rows":218,"n_cols":90,"rows_kept":218,"cut":false,"hidden":false,"merged":[]}
["Dan Richardson"]
[]
[]
[null,null,"Date:",{"$f":"VLOOKUP(C5,Week,2)","v":"2024-04-26"},null,null,null,null,"Date:",{"$f":"VLOOKUP(I5,Week,2)","v":"2024-05-03"},null,null,null,null,"Date:",{"$f":"VLOOKUP(O5,Week,2)","v":"2024-05-10"},null,null,null,null,"Date:",{"$f":"VLOOKUP(U5,Week,2)","v":"2024-05-17"},null,null,null,null,"Date:",{"$f":"VLOOKUP(AA5,Week,2)","v":"2024-05-24"},null,null,null,null,"Date:",{"$f":"VLOOKUP(AG5,Week,2)","v":"2024-05-31"},null,null,null,null,"Date:",{"$f":"VLOOKUP(AM5,Week,2)","v":"2024-06-07"},null,null,null,null,"Date:",{"$f":"VLOOKUP(AS5,Week,2)","v":"2024-06-14"},null,null,null,null,"Date:",{"$f":"VLOOKUP(AY5,Week,2)","v":"2024-07-05"},null,null,null,null,"Date:",{"$f":"VLOOKUP(BE5,Week,2)","v":"2024-07-12"},null,null,null,null,"Date:",{"$f":"VLOOKUP(BK5,Week,2)","v":"2024-07-19"},null,null,null,null,"Date:",{"$f":"VLOOKUP(BQ5,Week,2)","v":"2024-07-26"},null,null,null,null,"Date:",{"$f":"VLOOKUP(BW5,Week,2)","v":"2024-08-02"},null,null,null,null,"Date:",{"$f":"VLOOKUP(CC5,Week,2)","v":"2024-08-16"},null,null,null,null,"Date:",{"$f":"VLOOKUP(CI5,Week,2)","v":"2024-08-23"}]
[null,"Week",1,null,null,null,null,"Week",2,null,null,null,null,"Week",3,null,null,null,null,"Week",4,null,null,null,null,"Week",5,null,null,null,null,"Week",6,null,null,null,null,"Week",7,null,null,null,null,"Week",8,null,null,null,null,"Week",9,null,null,null,null,"Week",10,null,null,null,null,"Week",11,null,null,null,null,"Week",12,null,null,null,null,"Week",13,null,null,null,null,"Week",14,null,null,null,null,"Week",15]
[null,"Hole #","Par","Score","Net","Win Hole",null,"Hole #","Par","Score","Net","Win Hole",null,"Hole #","Par","Score","Net","Win Hole",null,"Hole #","Par","Score","Net","Win Hole",null,"Hole #","Par","Score","Net","Win Hole",null,"Hole #","Par","Score","Net","Win Hole",null,"Hole #","Par","Score","Net","Win Hole",null,"Hole #","Par","Score","Net","Win Hole",null,"Hole #","Par","Score","Net","Win Hole",null,"Hole #","Par","Score","Net","Win Hole",null,"Hole #","Par","Score","Net","Win Hole",null,"Hole #","Par","Score","Net","Win Hole",null,"Hole #","Par","Score","Net","Win Hole",null,"Hole #","Par","Score","Net","Win Hole",null,"Hole #","Par","Score","Net","Win Hole"]
[null,{"$f":"VLOOKUP(C5,Week,6)","v":1},{"$f":"VLOOKUP(B7,Holes,2)","v":4},null,{"$f":"IF((D7-C7)>3,C7+3,D7)","v":0},null,null,{"$f":"VLOOKUP(I5,Week,6)","v":10},{"$f":"VLOOKUP(H7,Holes,2)","v":4},null,{"$f":"IF((J7-I7)>3,I7+3,J7)","v":0},null,null,{"$f":"VLOOKUP(O5,Week,6)","v":1},{"$f":"VLOOKUP(N7,Holes,2)","v":4},4,{"$f":"IF((P7-O7)>3,O7+3,P7)","v":4},0.5,null,{"$f":"VLOOKUP(U5,Week,6)","v":10},{"$f":"VLOOKUP(T7,Holes,2)","v":4},7,{"$f":"IF((V7-U7)>3,U7+3,V7)","v":7},0.5,null,{"$f":"VLOOKUP(AA5,Week,6)","v":1},{"$f":"VLOOKUP(Z7,Holes,2)","v":4},4,{"$f":"IF((AB7-AA7)>3,AA7+3,AB7)","v":4},1,null,{"$f":"VLOOKUP(AG5,Week,6)","v":10},{"$f":"VLOOKUP(AF7,Holes,2)","v":4},4,{"$f":"IF((AH7-AG7)>3,AG7+3,AH7)","v":4},1,null,{"$f":"VLOOKUP(AM5,Week,6)","v":1},{"$f":"VLOOKUP(AL7,Holes,2)","v":4},null,{"$f":"IF((AN7-AM7)>3,AM7+3,AN7)","v":0},null,null,{"$f":"VLOOKUP(AS5,Week,6)","v":10},{"$f":"VLOOKUP(AR7,Holes,2)","v":4},6,{"$f":"IF((AT7-AS7)>3,AS7+3,AT7)","v":6},0,null,{"$f":"VLOOKUP(AY5,Week,6)","v":1},{"$f":"VLOOKUP(AX7,Holes,2)","v":4},5,{"$f":"IF((AZ7-AY7)>3,AY7+3,AZ7)","v":5},0.5,null,{"$f":"VLOOKUP(BE5,Week,6)","v":10},{"$f":"VLOOKUP(BD7,Holes,2)","v":4},5,{"$f":"IF((BF7-BE7)>3,BE7+3,BF7)","v":5},0.5,null,{"$f":"VLOOKUP(BK5,Week,6)","v":1},{"$f":"VLOOKUP(BJ7,Holes,2)","v":4},7,{"$f":"IF((BL7-BK7)>3,BK7+3,BL7)","v":7},0,null,{"$f":"VLOOKUP(BQ5,Week,6)","v":10},{"$f":"VLOOKUP(BP7,Holes,2)","v":4},5,{"$f":"IF((BR7-BQ7)>3,BQ7+3,BR7)","v":5},1,null,{"$f":"VLOOKUP(BW5,Week,6)","v":1},{"$f":"VLOOKUP(BV7,Holes,2)","v":4},6,{"$f":"IF((BX7-BW7)>3,BW7+3,BX7)","v":6},0.5,null,{"$f":"VLOOKUP(CC5,Week,6)","v":1},{"$f":"VLOOKUP(CB7,Holes,2)","v":4},4,{"$f":"IF((CD7-CC7)>3,CC7+3,CD7)","v":4},0.5,null,{"$f":"VLOOKUP(CI5,Week,6)","v":10},{"$f":"VLOOKUP(CH7,Holes,2)","v":4},5,{"$f":"IF((CJ7-CI7)>3,CI7+3,CJ7)","v":5},1]
[null,{"$f":"+B7+1","v":2},4,null,0,null,null,{"$f":"+H7+1","v":11},4,null,0,null,null,{"$f":"+N7+1","v":2},4,6,6,0.5,null,{"$f":"+T7+1","v":11},4,6,6,0,null,{"$f":"+Z7+1","v":2},4,7,7,0,null,{"$f":"+AF7+1","v":11},4,4,4,1,null,{"$f":"+AL7+1","v":2},4,null,0,null,null,{"$f":"+AR7+1","v":11},4,8,7,0,null,{"$f":"+AX7+1","v":2},4,5,5,1,null,{"$f":"+BD7+1","v":11},4,5,5,1,null,{"$f":"+BJ7+1","v":2},4,5,5,1,null,{"$f":"+BP7+1","v":11},4,5,5,1,null,{"$f":"+BV7+1","v":2},4,5,5,1,null,{"$f":"+CB7+1","v":2},4,5,5,1,null,{"$f":"+CH7+1","v":11},4,5,5,1]
[null,3,3,null,0,null,null,12,4,null,0,null,null,3,3,3,3,1,null,12,4,6,6,0.5,null,3,3,5,5,0,null,12,4,5,5,0.5,null,3,3,null,0,null,null,12,4,6,6,0,null,3,3,3,3,0.5,null,12,4,7,7,0.5,null,3,3,4,4,0.5,null,12,4,5,5,0,null,3,3,4,4,0,null,3,3,3,3,1,null,12,4,6,6,1]
[null,4,4,null,0,null,null,13,5,null,0,null,null,4,4,5,5,0.5,null,13,5,8,8,0,null,4,4,6,6,0.5,null,13,5,6,6,0.5,null,4,4,null,0,null,null,13,5,6,6,1,null,4,4,5,5,1,null,13,5,8,8,0,null,4,4,4,4,1,null,13,5,6,6,1,null,4,4,5,5,0.5,null,4,4,5,5,0.5,null,13,5,7,7,0.5]
[null,5,5,null,0,null,null,14,3,null,0,null,null,5,5,8,8,0,null,14,3,4,4,1,null,5,5,7,7,0.5,null,14,3,3,3,1,null,5,5,null,0,null,null,14,3,5,5,0.5,null,5,5,8,8,0,null,14,3,4,4,1,null,5,5,7,7,0.5,null,14,3,4,4,0.5,null,5,5,5,5,1,null,5,5,6,6,0.5,null,14,3,6,6,0]
[null,6,3,null,0,null,null,15,4,null,0,null,null,6,3,4,4,0.5,null,15,4,6,6,1,null,6,3,4,4,0,null,15,4,7,7,0.5,null,6,3,null,0,null,null,15,4,6,6,1,null,6,3,4,4,0.5,null,15,4,6,6,0,null,6,3,4,4,0.5,null,15,4,6,6,0,null,6,3,4,4,0,null,6,3,5,5,0,null,15,4,9,7,0]
[null,7,4,null,0,null,null,16,4,null,0,null,null,7,4,4,4,1,null,16,4,6,6,0,null,7,4,6,6,0,null,16,4,5,5,0.5,null,7,4,null,0,null,null,16,4,5,5,0,null,7,4,6,6,0,null,16,4,5,5,1,null,7,4,5,5,1,null,16,4,5,5,0.5,null,7,4,4,4,1,null,7,4,6,6,0.5,null,16,4,4,4,1]
[null,8,4,null,0,null,null,17,3,null,0,null,null,8,4,8,7,0,null,17,3,4,4,1,null,8,4,7,7,0,null,17,3,4,4,1,null,8,4,null,0,null,null,17,3,4,4,0,null,8,4,5,5,1,null,17,3,3,3,1,null,8,4,4,4,1,null,17,3,3,3,1,null,8,4,5,5,1,null,8,4,6,6,0,null,17,3,4,4,1]
[null,9,5,null,0,null,null,18,5,null,0,null,null,9,5,7,7,0,null,18,5,5,5,1,null,9,5,6,6,0.5,null,18,5,6,6,0,null,9,5,null,0,null,null,18,5,8,8,0,null,9,5,7,7,0,null,18,5,5,5,0.5,null,9,5,5,5,1,null,18,5,8,8,0,null,9,5,7,7,1,null,9,5,8,8,0,null,18,5,6,6,0.5]
[null,"Total",{"$f":"SUM(C7:C15)","v":36},{"$f":"SUM(D7:D15)","v":0},{"$f":"SUM(E7:E15)","v":0},null,null,"Total",{"$f":"SUM(I7:I15)","v":36},{"$f":"SUM(J7:J15)","v":0},{"$f":"SUM(K7:K15)","v":0},{"$f":"SUM(L7:L15)","v":0},null,"Total",{"$f":"SUM(O7:O15)","v":36},{"$f":"SUM(P7:P15)","v":49},{"$f":"SUM(Q7:Q15)","v":48},{"$f":"SUM(R7:R15)","v":4},null,"Total",{"$f":"SUM(U7:U15)","v":36},{"$f":"SUM(V7:V15)","v":52},{"$f":"SUM(W7:W15)","v":52},{"$f":"SUM(X7:X15)","v":5},null,"Total",{"$f":"SUM(AA7:AA15)","v":36},{"$f":"SUM(AB7:AB15)","v":52},{"$f":"SUM(AC7:AC15)","v":52},{"$f":"SUM(AD7:AD15)","v":2.5},null,"Total",{"$f":"SUM(AG7:AG15)","v":36},{"$f":"SUM(AH7:AH15)","v":44},{"$f":"SUM(AI7:AI15)","v":44},{"$f":"SUM(AJ7:AJ15)","v":6},null,"Total",{"$f":"SUM(AM7:AM15)","v":36},{"$f":"SUM(AN7:AN15)","v":0},{"$f":"SUM(AO7:AO15)","v":0},{"$f":"SUM(AP7:AP15)","v":0},null,"Total",{"$f":"SUM(AS7:AS15)","v":36},{"$f":"SUM(AT7:AT15)","v":54},{"$f":"SUM(AU7:AU15)","v":53},{"$f":"SUM(AV7:AV15)","v":2.5},null,"Total",{"$f":"SUM(AY7:AY15)","v":36},{"$f":"SUM(AZ7:AZ15)","v":48},{"$f":"SUM(BA7:BA15)","v":48},{"$f":"SUM(BB7:BB15)","v":4.5},null,"Total",{"$f":"SUM(BE7:BE15)","v":36},{"$f":"SUM(BF7:BF15)","v":48},{"$f":"SUM(BG7:BG15)","v":48},{"$f":"SUM(BH7:BH15)","v":5.5},null,"Total",{"$f":"SUM(BK7:BK15)","v":36},{"$f":"SUM(BL7:BL15)","v":45},{"$f":"SUM(BM7:BM15)","v":45},{"$f":"SUM(BN7:BN15)","v":6.5},null,"Total",{"$f":"SUM(BQ7:BQ15)","v":36},{"$f":"SUM(BR7:BR15)","v":47},{"$f":"SUM(BS7:BS15)","v":47},{"$f":"SUM(BT7:BT15)","v":5},null,"Total",{"$f":"SUM(BW7:BW15)","v":36},{"$f":"SUM(BX7:BX15)","v":45},{"$f":"SUM(BY7:BY15)","v":45},{"$f":"SUM(BZ7:BZ15)","v":6},null,"Total",{"$f":"SUM(CC7:CC15)","v":36},{"$f":"SUM(CD7:CD15)","v":48},{"$f":"SUM(CE7:CE15)","v":48},{"$f":"SUM(CF7:CF15)","v":4},null,"Total",{"$f":"SUM(CI7:CI15)","v":36},{"$f":"SUM(CJ7:CJ15)","v":52},{"$f":"SUM(CK7:CK15)","v":50},{"$f":"SUM(CL7:CL15)","v":6}]
[]
[null,null,null,null,"Low Net",null,null,null,null,null,"Low Net",0,null,null,null,null,"Low Net",0,null,null,null,null,"Low Net",0,null,null,null,null,"Low Net",0,null,null,null,null,"Low Net",1,null,null,null,null,"Low Net",null,null,null,null,null,"Low Net",0,null,null,null,null,"Low Net",0,null,null,null,null,"Low Net",1,null,null,null,null,"Low Net",1,null,null,null,null,"Low Net",0,null,null,null,null,"Low Net",1,null,null,null,null,"Low Net",0,null,null,null,null,"Low Net",1]
[]
[null,null,null,null,"Total Points",{"$f":"SUM(F16:F19)","v":0},null,null,null,null,"Total Points",{"$f":"SUM(L16:L19)","v":0},null,null,null,null,"Total Points",{"$f":"SUM(R16:R19)","v":4},null,null,null,null,"Total Points",{"$f":"SUM(X16:X19)","v":5},null,null,null,null,"Total Points",{"$f":"SUM(AD16:AD19)","v":2.5},null,null,null,null,"Total Points",{"$f":"SUM(AJ16:AJ19)","v":7},null,null,null,null,"Total Points",{"$f":"SUM(AP16:AP19)","v":0},null,null,null,null,"Total Points",{"$f":"SUM(AV16:AV19)","v":2.5},null,null,null,null,"Total Points",{"$f":"SUM(BB16:BB19)","v":4.5},null,null,null,null,"Total Points",{"$f":"SUM(BH16:BH19)","v":6.5},null,null,null,null,"Total Points",{"$f":"SUM(BN16:BN19)","v":7.5},null,null,null,null,"Total Points",{"$f":"SUM(BT16:BT19)","v":5},null,null,null,null,"Total Points",{"$f":"SUM(BZ16:BZ19)","v":7},null,null,null,null,"Total Points",{"$f":"SUM(CF16:CF19)","v":4},null,null,null,null,"Total Points",{"$f":"SUM(CL16:CL19)","v":7}]
[]
[null,null,null,null,"Handicap",{"$f":"IF(D16=0,0,E16-C16)","v":0},null,null,null,null,"Handicap",{"$f":"IF(J16=0,0,K16-I16)","v":0},null,null,null,null,"Handicap",{"$f":"IF(P16=0,0,Q16-O16)","v":12},null,null,null,null,"Handicap",{"$f":"IF(V16=0,0,W16-U16)","v":16},null,null,null,null,"Handicap",{"$f":"IF(AB16=0,0,AC16-AA16)","v":16},null,null,null,null,"Handicap",{"$f":"IF(AH16=0,0,AI16-AG16)","v":8},null,null,null,null,"Handicap",{"$f":"IF(AN16=0,0,AO16-AM16)","v":0},null,null,null,null,"Handicap",{"$f":"IF(AT16=0,0,AU16-AS16)","v":17},null,null,null,null,"Handicap",{"$f":"IF(AZ16=0,0,BA16-AY16)","v":12},null,null,null,null,"Handicap",{"$f":"IF(BF16=0,0,BG16-BE16)","v":12},null,null,null,null,"Handicap",{"$f":"IF(BL16=0,0,BM16-BK16)","v":9},null,null,null,null,"Handicap",{"$f":"IF(BR16=0,0,BS16-BQ16)","v":11},null,null,null,null,"Handicap",{"$f":"IF(BX16=0,0,BY16-BW16)","v":9},null,null,null,null,"Handicap",{"$f":"IF(CD16=0,0,CE16-CC16)","v":12},null,null,null,null,"Handicap",{"$f":"IF(CJ16=0,0,CK16-CI16)","v":14}]
[]
[null,null,null,null,null,{"$f":"IF(D16<>0,IF(F16>4.5,\"W\",IF(F16=4.5,\"T\",IF(F16<4.5,\"L\"))),0)","v":0},null,null,null,null,null,{"$f":"IF(J16<>0,IF(L16>4.5,\"W\",IF(L16=4.5,\"T\",IF(L16<4.5,\"L\"))),0)","v":0},null,null,null,null,null,{"$f":"IF(P16<>0,IF(R16>4.5,\"W\",IF(R16=4.5,\"T\",IF(R16<4.5,\"L\"))),0)","v":"L"},null,null,null,null,null,{"$f":"IF(V16<>0,IF(X16>4.5,\"W\",IF(X16=4.5,\"T\",IF(X16<4.5,\"L\"))),0)","v":"W"},null,null,null,null,null,{"$f":"IF(AB16<>0,IF(AD16>4.5,\"W\",IF(AD16=4.5,\"T\",IF(AD16<4.5,\"L\"))),0)","v":"L"},null,null,null,null,null,{"$f":"IF(AH16<>0,IF(AJ16>4.5,\"W\",IF(AJ16=4.5,\"T\",IF(AJ16<4.5,\"L\"))),0)","v":"W"},null,null,null,null,null,{"$f":"IF(AN16<>0,IF(AP16>4.5,\"W\",IF(AP16=4.5,\"T\",IF(AP16<4.5,\"L\"))),0)","v":0},null,null,null,null,null,{"$f":"IF(AT16<>0,IF(AV16>4.5,\"W\",IF(AV16=4.5,\"T\",IF(AV16<4.5,\"L\"))),0)","v":"L"},null,null,null,null,null,{"$f":"IF(AZ16<>0,IF(BB16>4.5,\"W\",IF(BB16=4.5,\"T\",IF(BB16<4.5,\"L\"))),0)","v":"T"},null,null,null,null,null,{"$f":"IF(BF16<>0,IF(BH16>4.5,\"W\",IF(BH16=4.5,\"T\",IF(BH16<4.5,\"L\"))),0)","v":"W"},null,null,null,null,null,{"$f":"IF(BL16<>0,IF(BN16>4.5,\"W\",IF(BN16=4.5,\"T\",IF(BN16<4.5,\"L\"))),0)","v":"W"},null,null,null,null,null,{"$f":"IF(BR16<>0,IF(BT16>4.5,\"W\",IF(BT16=4.5,\"T\",IF(BT16<4.5,\"L\"))),0)","v":"W"},null,null,null,null,null,{"$f":"IF(BX16<>0,IF(BZ16>4.5,\"W\",IF(BZ16=4.5,\"T\",IF(BZ16<4.5,\"L\"))),0)","v":"W"},null,null,null,null,null,{"$f":"IF(CD16<>0,IF(CF16>4.5,\"W\",IF(CF16=4.5,\"T\",IF(CF16<4.5,\"L\"))),0)","v":"L"},null,null,null,null,null,{"$f":"IF(CJ16<>0,IF(CL16>4.5,\"W\",IF(CL16=4.5,\"T\",IF(CL16<4.5,\"L\"))),0)","v":"W"}]
[]
[null,"Summary"]
[null,null,null,"Adj",null,"Adj",null,null,null,"Avg Score"]
[null,null,"Points","Points","Matches","Matches",null,null,"Hole #","by Hole","Best","Worst"]
[null,"Week #1",{"$f":"F20","v":0},{"$f":"C29","v":0},{"$f":"IF(D16>0,1,0)","v":0},{"$f":"E29","v":0},null,null,1,{"$f":"IFERROR(AVERAGE(D7,P7,AB7,AN7,AZ7,BL7,BX7,CD7),0)","v":5},{"$f":"IFERROR(MIN(D7,P7,AB7,AN7,AZ7,BL7,BX7,CD7),0)","v":4},{"$f":"IFERROR(MAX(D7,P7,AB7,AN7,AZ7,BL7,BX7,CD7),0)","v":7}]
[null,"Week #2",{"$f":"L20","v":0},0,{"$f":"IF(J16>0,1,0)","v":0},0,null,null,2,{"$f":"IFERROR(AVERAGE(D8,P8,AB8,AN8,AZ8,BL8,BX8,CD8),0)","v":5.5},{"$f":"IFERROR(MIN(D8,P8,AB8,AN8,AZ8,BL8,BX8,CD8),0)","v":5},{"$f":"IFERROR(MAX(D8,P8,AB8,AN8,AZ8,BL8,BX8,CD8),0)","v":7}]
[null,"Week #3",{"$f":"R20","v":4},4,{"$f":"IF(P16>0,1,0)","v":1},1,null,null,3,3.6666666666666665,3,5]
[null,"Week #4",{"$f":"X20","v":5},5,{"$f":"IF(V16>0,1,0)","v":1},1,null,null,4,5,4,6]
[null,"Week #5",{"$f":"AD20","v":2.5},null,{"$f":"IF(AB16>0,1,0)","v":1},1,null,null,5,6.833333333333333,5,8]
[null,"Week #6",{"$f":"AJ20","v":7},7,{"$f":"IF(AH16>0,1,0)","v":1},1,null,null,6,4.166666666666667,4,5]
[null,"Week #7",{"$f":"AP20","v":0},0,{"$f":"IF(AN16>0,1,0)","v":0},0,null,null,7,5.166666666666667,4,6]
[null,"Week #8",{"$f":"AV20","v":2.5},null,{"$f":"IF(AT16>0,1,0)","v":1},1,null,null,8,5.833333333333333,4,8]
[null,"Week #9",{"$f":"BB20","v":4.5},4.5,{"$f":"IF(AZ16>0,1,0)","v":1},1,null,null,9,6.666666666666667,5,8]
[null,"Week #10",{"$f":"BH20","v":6.5},6.5,{"$f":"IF(BF16>0,1,0)","v":1},1,null,null,"Front",{"$f":"SUM(J29:J37)","v":47.833333333333329},{"$f":"SUM(K29:K37)","v":38},60]
[null,"Week #11",{"$f":"BN20","v":7.5},7.5,{"$f":"IF(BL16>0,1,0)","v":1},1]
[null,"Week #12",{"$f":"BT20","v":5},5,{"$f":"IF(BR16>0,1,0)","v":1},1,null,null,10,{"$f":"IFERROR(AVERAGE(J7,V7,AH7,AT7,BF7,BR7,CJ7),0)","v":5.333333333333333},{"$f":"IFERROR(MIN(J7,V7,AH7,AT7,BF7,BR7,CJ7),0)","v":4},{"$f":"IFERROR(MAX(J7,V7,AH7,AT7,BF7,BR7,CJ7),0)","v":7}]
[null,"Week #13",{"$f":"BZ20","v":7},7,{"$f":"IF(BX16>0,1,0)","v":1},1,null,null,11,{"$f":"IFERROR(AVERAGE(J8,V8,AH8,AT8,BF8,BR8,CJ8),0)","v":5.5},{"$f":"IFERROR(MIN(J8,V8,AH8,AT8,BF8,BR8,CJ8),0)","v":4},{"$f":"IFERROR(MAX(J8,V8,AH8,AT8,BF8,BR8,CJ8),0)","v":8}]
[null,"Week #14",{"$f":"CF20","v":4},4,{"$f":"IF(CD16>0,1,0)","v":1},1,null,null,12,5.833333333333333,5,7]
[null,"Week #15",{"$f":"CL20","v":7},7,{"$f":"IF(CJ16>0,1,0)","v":1},1,null,null,13,6.833333333333333,6,8]
[null,"Total",{"$f":"SUM(C29:C43)","v":62.5},{"$f":"SUM(D29:D43)","v":57.5},{"$f":"SUM(E29:E43)","v":12},{"$f":"SUM(F29:F43)","v":12},null,null,14,4.333333333333333,3,6]
[null,null,null,null,null,null,null,null,15,6.666666666666667,6,9]
[null,"Summary",null,null,null,null,null,null,16,5,4,6]
[null,"Eagles",{"$f":"I57+I68+I79+I90+I101+I112+I123+I134+I145+I156+I167+I178+I189+I200+I211","v":0},null,null,null,null,null,17,3.6666666666666665,3,4]
[null,"Birdies",0,null,null,null,null,null,18,6.333333333333333,5,8]
[null,"Pars",20,null,null,null,null,null,"Back",{"$f":"SUM(J40:J48)","v":49.499999999999993},{"$f":"SUM(K40:K48)","v":40},63]
[null,"bogeys",45]
[null,"Double bogeys",26]
[null,"Other",17]
[null,"Total",{"$f":"SUM(C47:C52)","v":108}]
[]
[null,{"$f":"D4","v":"2024-04-26"},"Par","Score"]
[null,{"$f":"B7","v":1},4,0,{"$f":"IF(D56<>0,IF((D56-C56)=-1,\"Birdie\",IF((D56-C56)=-2,\"Eagle\",IF((D56-C56)=0,\"Par\",IF((D56-C56)=1,\"bogey\",IF((D56-C56)=2,\"Double bogey\",\"Other\"))))),\"  \")","v":"  "},null,null,"Count"]
[null,2,4,0,"  ",null,null,"Eagle",{"$f":"COUNTIF(E56:E64,\"Eagle\")","v":0}]
[null,3,3,0,"  ",null,null,"Birdie",{"$f":"COUNTIF(E56:E64,\"Birdie\")","v":0}]
[null,4,4,0,"  ",null,null,"Par",{"$f":"COUNTIF(E56:E64,\"Par\")","v":0}]
[null,5,5,0,"  ",null,null,"bogey",{"$f":"COUNTIF(E56:E64,\"bogey\")","v":0}]
[null,6,3,0,"  ",null,null,"Double bogey",{"$f":"COUNTIF(E56:E64,\"Double bogey\")","v":0}]
[null,7,4,0,"  ",null,null,"Other",{"$f":"COUNTIF(E56:E64,\"Other\")","v":0}]
[null,8,4,0,"  "]
[null,9,5,0,"  "]
[]
[null,{"$f":"J4","v":"2024-05-03"}]
[null,{"$f":"H7","v":10},4,0,{"$f":"IF(D67<>0,IF((D67-C67)=-1,\"Birdie\",IF((D67-C67)=-2,\"Eagle\",IF((D67-C67)=0,\"Par\",IF((D67-C67)=1,\"bogey\",IF((D67-C67)=2,\"Double bogey\",\"Other\"))))),\"  \")","v":"  "},null,null,"Count"]
[null,11,4,0,"  ",null,null,"Eagle",{"$f":"COUNTIF(E67:E75,\"Eagle\")","v":0}]
[null,12,4,0,"  ",null,null,"Birdie",{"$f":"COUNTIF(E67:E75,\"Birdie\")","v":0}]
[null,13,5,0,"  ",null,null,"Par",{"$f":"COUNTIF(E67:E75,\"Par\")","v":0}]
[null,14,3,0,"  ",null,null,"bogey",{"$f":"COUNTIF(E67:E75,\"bogey\")","v":0}]
[null,15,4,0,"  ",null,null,"Double bogey",{"$f":"COUNTIF(E67:E75,\"Double bogey\")","v":0}]
[null,16,4,0,"  ",null,null,"Other",{"$f":"COUNTIF(E67:E75,\"Other\")","v":0}]
[null,17,3,0,"  "]
[null,18,5,0,"  "]
[]
[null,{"$f":"P4","v":"2024-05-10"}]
[null,{"$f":"N7","v":1},4,4,{"$f":"IF(D78<>0,IF((D78-C78)=-1,\"Birdie\",IF((D78-C78)=-2,\"Eagle\",IF((D78-C78)=0,\"Par\",IF((D78-C78)=1,\"bogey\",IF((D78-C78)=2,\"Double bogey\",\"Other\"))))),\"  \")","v":"Par"},null,null,"Count"]
[null,2,4,6,"Double bogey",null,null,"Eagle",{"$f":"COUNTIF(E78:E86,\"Eagle\")","v":0}]
[null,3,3,3,"Par",null,null,"Birdie",{"$f":"COUNTIF(E78:E86,\"Birdie\")","v":0}]
[null,4,4,5,"bogey",null,null,"Par",{"$f":"COUNTIF(E78:E86,\"Par\")","v":3}]
[null,5,5,8,"Other",null,null,"bogey",{"$f":"COUNTIF(E78:E86,\"bogey\")","v":2}]
[null,6,3,4,"bogey",null,null,"Double bogey",{"$f":"COUNTIF(E78:E86,\"Double bogey\")","v":2}]
[null,7,4,4,"Par",null,null,"Other",{"$f":"COUNTIF(E78:E86,\"Other\")","v":2}]
[null,8,4,8,"Other"]
[null,9,5,7,"Double bogey"]
[]
[null,{"$f":"V4","v":"2024-05-17"}]
[null,{"$f":"T7","v":10},4,7,{"$f":"IF(D89<>0,IF((D89-C89)=-1,\"Birdie\",IF((D89-C89)=-2,\"Eagle\",IF((D89-C89)=0,\"Par\",IF((D89-C89)=1,\"bogey\",IF((D89-C89)=2,\"Double bogey\",\"Other\"))))),\"  \")","v":"Other"},null,null,"Count"]
[null,11,4,6,"Double bogey",null,null,"Eagle",{"$f":"COUNTIF(E89:E97,\"Eagle\")","v":0}]
[null,12,4,6,"Double bogey",null,null,"Birdie",{"$f":"COUNTIF(E89:E97,\"Birdie\")","v":0}]
[null,13,5,8,"Other",null,null,"Par",{"$f":"COUNTIF(E89:E97,\"Par\")","v":1}]
[null,14,3,4,"bogey",null,null,"bogey",{"$f":"COUNTIF(E89:E97,\"bogey\")","v":2}]
[null,15,4,6,"Double bogey",null,null,"Double bogey",{"$f":"COUNTIF(E89:E97,\"Double bogey\")","v":4}]
[null,16,4,6,"Double bogey",null,null,"Other",{"$f":"COUNTIF(E89:E97,\"Other\")","v":2}]
[null,17,3,4,"bogey"]
[null,18,5,5,"Par"]
[]
[null,{"$f":"AB4","v":"2024-05-24"}]
[null,{"$f":"Z7","v":1},4,4,{"$f":"IF(D100<>0,IF((D100-C100)=-1,\"Birdie\",IF((D100-C100)=-2,\"Eagle\",IF((D100-C100)=0,\"Par\",IF((D100-C100)=1,\"bogey\",IF((D100-C100)=2,\"Double bogey\",\"Other\"))))),\"  \")","v":"Par"},null,null,"Count"]
[null,2,4,7,"Other",null,null,"Eagle",{"$f":"COUNTIF(E100:E108,\"Eagle\")","v":0}]
[null,3,3,5,"Double bogey",null,null,"Birdie",{"$f":"COUNTIF(E100:E108,\"Birdie\")","v":0}]
[null,4,4,6,"Double bogey",null,null,"Par",{"$f":"COUNTIF(E100:E108,\"Par\")","v":1}]
[null,5,5,7,"Double bogey",null,null,"bogey",{"$f":"COUNTIF(E100:E108,\"bogey\")","v":2}]
[null,6,3,4,"bogey",null,null,"Double bogey",{"$f":"COUNTIF(E100:E108,\"Double bogey\")","v":4}]
[null,7,4,6,"Double bogey",null,null,"Other",{"$f":"COUNTIF(E100:E108,\"Other\")","v":2}]
[null,8,4,7,"Other"]
[null,9,5,6,"bogey"]
[]
[null,{"$f":"AH4","v":"2024-05-31"}]
[null,{"$f":"AF7","v":10},4,4,{"$f":"IF(D111<>0,IF((D111-C111)=-1,\"Birdie\",IF((D111-C111)=-2,\"Eagle\",IF((D111-C111)=0,\"Par\",IF((D111-C111)=1,\"bogey\",IF((D111-C111)=2,\"Double bogey\",\"Other\"))))),\"  \")","v":"Par"},null,null,"Count"]
[null,11,4,4,"Par",null,null,"Eagle",{"$f":"COUNTIF(E111:E119,\"Eagle\")","v":0}]
[null,12,4,5,"bogey",null,null,"Birdie",{"$f":"COUNTIF(E111:E119,\"Birdie\")","v":0}]
[null,13,5,6,"bogey",null,null,"Par",{"$f":"COUNTIF(E111:E119,\"Par\")","v":3}]
[null,14,3,3,"Par",null,null,"bogey",{"$f":"COUNTIF(E111:E119,\"bogey\")","v":5}]
[null,15,4,7,"Other",null,null,"Double bogey",{"$f":"COUNTIF(E111:E119,\"Double bogey\")","v":0}]
[null,16,4,5,"bogey",null,null,"Other",{"$f":"COUNTIF(E111:E119,\"Other\")","v":1}]
[null,17,3,4,"bogey"]
[null,18,5,6,"bogey"]
[]
[null,{"$f":"AN4","v":"2024-06-07"}]
[null,{"$f":"AL7","v":1},4,0,{"$f":"IF(D122<>0,IF((D122-C122)=-1,\"Birdie\",IF((D122-C122)=-2,\"Eagle\",IF((D122-C122)=0,\"Par\",IF((D122-C122)=1,\"bogey\",IF((D122-C122)=2,\"Double bogey\",\"Other\"))))),\"  \")","v":"  "},null,null,"Count"]
[null,2,4,0,"  ",null,null,"Eagle",{"$f":"COUNTIF(E122:E130,\"Eagle\")","v":0}]
[null,3,3,0,"  ",null,null,"Birdie",{"$f":"COUNTIF(E122:E130,\"Birdie\")","v":0}]
[null,4,4,0,"  ",null,null,"Par",{"$f":"COUNTIF(E122:E130,\"Par\")","v":0}]
[null,5,5,0,"  ",null,null,"bogey",{"$f":"COUNTIF(E122:E130,\"bogey\")","v":0}]
[null,6,3,0,"  ",null,null,"Double bogey",{"$f":"COUNTIF(E122:E130,\"Double bogey\")","v":0}]
[null,7,4,0,"  ",null,null,"Other",{"$f":"COUNTIF(E122:E130,\"Other\")","v":0}]
[null,8,4,0,"  "]
[null,9,5,0,"  "]
[]
[null,{"$f":"AT4","v":"2024-06-14"}]
[null,{"$f":"AR7","v":10},4,6,{"$f":"IF(D133<>0,IF((D133-C133)=-1,\"Birdie\",IF((D133-C133)=-2,\"Eagle\",IF((D133-C133)=0,\"Par\",IF((D133-C133)=1,\"bogey\",IF((D133-C133)=2,\"Double bogey\",\"Other\"))))),\"  \")","v":"Double bogey"},null,null,"Count"]
[null,11,4,8,"Other",null,null,"Eagle",{"$f":"COUNTIF(E133:E141,\"Eagle\")","v":0}]
[null,12,4,6,"Double bogey",null,null,"Birdie",{"$f":"COUNTIF(E133:E141,\"Birdie\")","v":0}]
[null,13,5,6,"bogey",null,null,"Par",{"$f":"COUNTIF(E133:E141,\"Par\")","v":0}]
[null,14,3,5,"Double bogey",null,null,"bogey",{"$f":"COUNTIF(E133:E141,\"bogey\")","v":3}]
[null,15,4,6,"Double bogey",null,null,"Double bogey",{"$f":"COUNTIF(E133:E141,\"Double bogey\")","v":4}]
[null,16,4,5,"bogey",null,null,"Other",{"$f":"COUNTIF(E133:E141,\"Other\")","v":2}]
[null,17,3,4,"bogey"]
[null,18,5,8,"Other"]
[]
[null,{"$f":"AZ4","v":"2024-07-05"}]
[null,{"$f":"AX7","v":1},4,5,{"$f":"IF(D144<>0,IF((D144-C144)=-1,\"Birdie\",IF((D144-C144)=-2,\"Eagle\",IF((D144-C144)=0,\"Par\",IF((D144-C144)=1,\"bogey\",IF((D144-C144)=2,\"Double bogey\",\"Other\"))))),\"  \")","v":"bogey"},null,null,"Count"]
[null,2,4,5,"bogey",null,null,"Eagle",{"$f":"COUNTIF(E144:E152,\"Eagle\")","v":0}]
[null,3,3,3,"Par",null,null,"Birdie",{"$f":"COUNTIF(E144:E152,\"Birdie\")","v":0}]
[null,4,4,5,"bogey",null,null,"Par",{"$f":"COUNTIF(E144:E152,\"Par\")","v":1}]
[null,5,5,8,"Other",null,null,"bogey",{"$f":"COUNTIF(E144:E152,\"bogey\")","v":5}]
[null,6,3,4,"bogey",null,null,"Double bogey",{"$f":"COUNTIF(E144:E152,\"Double bogey\")","v":2}]
[null,7,4,6,"Double bogey",null,null,"Other",{"$f":"COUNTIF(E144:E152,\"Other\")","v":1}]
[null,8,4,5,"bogey"]
[null,9,5,7,"Double bogey"]
[]
[null,{"$f":"BF4","v":"2024-07-12"}]
[null,{"$f":"BD7","v":10},4,5,{"$f":"IF(D155<>0,IF((D155-C155)=-1,\"Birdie\",IF((D155-C155)=-2,\"Eagle\",IF((D155-C155)=0,\"Par\",IF((D155-C155)=1,\"bogey\",IF((D155-C155)=2,\"Double bogey\",\"Other\"))))),\"  \")","v":"bogey"},null,null,"Count"]
[null,11,4,5,"bogey",null,null,"Eagle",{"$f":"COUNTIF(E155:E163,\"Eagle\")","v":0}]
[null,12,4,7,"Other",null,null,"Birdie",{"$f":"COUNTIF(E155:E163,\"Birdie\")","v":0}]
[null,13,5,8,"Other",null,null,"Par",{"$f":"COUNTIF(E155:E163,\"Par\")","v":2}]
[null,14,3,4,"bogey",null,null,"bogey",{"$f":"COUNTIF(E155:E163,\"bogey\")","v":4}]
[null,15,4,6,"Double bogey",null,null,"Double bogey",{"$f":"COUNTIF(E155:E163,\"Double bogey\")","v":1}]
[null,16,4,5,"bogey",null,null,"Other",{"$f":"COUNTIF(E155:E163,\"Other\")","v":2}]
[null,17,3,3,"Par"]
[null,18,5,5,"Par"]
[]
[null,{"$f":"BL4","v":"2024-07-19"}]
[null,{"$f":"BJ7","v":1},4,7,{"$f":"IF(D166<>0,IF((D166-C166)=-1,\"Birdie\",IF((D166-C166)=-2,\"Eagle\",IF((D166-C166)=0,\"Par\",IF((D166-C166)=1,\"bogey\",IF((D166-C166)=2,\"Double bogey\",\"Other\"))))),\"  \")","v":"Other"},null,null,"Count"]
[null,2,4,5,"bogey",null,null,"Eagle",{"$f":"COUNTIF(E166:E174,\"Eagle\")","v":0}]
[null,3,3,4,"bogey",null,null,"Birdie",{"$f":"COUNTIF(E166:E174,\"Birdie\")","v":0}]
[null,4,4,4,"Par",null,null,"Par",{"$f":"COUNTIF(E166:E174,\"Par\")","v":3}]
[null,5,5,7,"Double bogey",null,null,"bogey",{"$f":"COUNTIF(E166:E174,\"bogey\")","v":4}]
[null,6,3,4,"bogey",null,null,"Double bogey",{"$f":"COUNTIF(E166:E174,\"Double bogey\")","v":1}]
[null,7,4,5,"bogey",null,null,"Other",{"$f":"COUNTIF(E166:E174,\"Other\")","v":1}]
[null,8,4,4,"Par"]
[null,9,5,5,"Par"]
[]
[null,{"$f":"BR4","v":"2024-07-26"}]
[null,{"$f":"BP7","v":10},4,5,{"$f":"IF(D177<>0,IF((D177-C177)=-1,\"Birdie\",IF((D177-C177)=-2,\"Eagle\",IF((D177-C177)=0,\"Par\",IF((D177-C177)=1,\"bogey\",IF((D177-C177)=2,\"Double bogey\",\"Other\"))))),\"  \")","v":"bogey"},null,null,"Count"]
[null,11,4,5,"bogey",null,null,"Eagle",{"$f":"COUNTIF(E177:E185,\"Eagle\")","v":0}]
[null,12,4,5,"bogey",null,null,"Birdie",{"$f":"COUNTIF(E177:E185,\"Birdie\")","v":0}]
[null,13,5,6,"bogey",null,null,"Par",{"$f":"COUNTIF(E177:E185,\"Par\")","v":1}]
[null,14,3,4,"bogey",null,null,"bogey",{"$f":"COUNTIF(E177:E185,\"bogey\")","v":6}]
[null,15,4,6,"Double bogey",null,null,"Double bogey",{"$f":"COUNTIF(E177:E185,\"Double bogey\")","v":1}]
[null,16,4,5,"bogey",null,null,"Other",{"$f":"COUNTIF(E177:E185,\"Other\")","v":1}]
[null,17,3,3,"Par"]
[null,18,5,8,"Other"]
[]
[null,{"$f":"BX4","v":"2024-08-02"}]
[null,{"$f":"BV7","v":1},4,6,{"$f":"IF(D188<>0,IF((D188-C188)=-1,\"Birdie\",IF((D188-C188)=-2,\"Eagle\",IF((D188-C188)=0,\"Par\",IF((D188-C188)=1,\"bogey\",IF((D188-C188)=2,\"Double bogey\",\"Other\"))))),\"  \")","v":"Double bogey"},null,null,"Count"]
[null,2,4,5,"bogey",null,null,"Eagle",{"$f":"COUNTIF(E188:E196,\"Eagle\")","v":0}]
[null,3,3,4,"bogey",null,null,"Birdie",{"$f":"COUNTIF(E188:E196,\"Birdie\")","v":0}]
[null,4,4,5,"bogey",null,null,"Par",{"$f":"COUNTIF(E188:E196,\"Par\")","v":2}]
[null,5,5,5,"Par",null,null,"bogey",{"$f":"COUNTIF(E188:E196,\"bogey\")","v":5}]
[null,6,3,4,"bogey",null,null,"Double bogey",{"$f":"COUNTIF(E188:E196,\"Double bogey\")","v":2}]
[null,7,4,4,"Par",null,null,"Other",{"$f":"COUNTIF(E188:E196,\"Other\")","v":0}]
[null,8,4,5,"bogey"]
[null,9,5,7,"Double bogey"]
[]
[null,{"$f":"CD4","v":"2024-08-16"}]
[null,{"$f":"CB7","v":1},4,4,{"$f":"IF(D199<>0,IF((D199-C199)=-1,\"Birdie\",IF((D199-C199)=-2,\"Eagle\",IF((D199-C199)=0,\"Par\",IF((D199-C199)=1,\"bogey\",IF((D199-C199)=2,\"Double bogey\",\"Other\"))))),\"  \")","v":"Par"},null,null,"Count"]
[null,2,4,5,"bogey",null,null,"Eagle",{"$f":"COUNTIF(E199:E207,\"Eagle\")","v":0}]
[null,3,3,3,"Par",null,null,"Birdie",{"$f":"COUNTIF(E199:E207,\"Birdie\")","v":0}]
[null,4,4,5,"bogey",null,null,"Par",{"$f":"COUNTIF(E199:E207,\"Par\")","v":2}]
[null,5,5,6,"bogey",null,null,"bogey",{"$f":"COUNTIF(E199:E207,\"bogey\")","v":3}]
[null,6,3,5,"Double bogey",null,null,"Double bogey",{"$f":"COUNTIF(E199:E207,\"Double bogey\")","v":3}]
[null,7,4,6,"Double bogey",null,null,"Other",{"$f":"COUNTIF(E199:E207,\"Other\")","v":1}]
[null,8,4,6,"Double bogey"]
[null,9,5,8,"Other"]
[]
[null,{"$f":"CJ4","v":"2024-08-23"}]
[null,{"$f":"CH7","v":10},4,5,{"$f":"IF(D210<>0,IF((D210-C210)=-1,\"Birdie\",IF((D210-C210)=-2,\"Eagle\",IF((D210-C210)=0,\"Par\",IF((D210-C210)=1,\"bogey\",IF((D210-C210)=2,\"Double bogey\",\"Other\"))))),\"  \")","v":"bogey"},null,null,"Count"]
[null,11,4,5,"bogey",null,null,"Eagle",{"$f":"COUNTIF(E210:E218,\"Eagle\")","v":0}]
[null,12,4,6,"Double bogey",null,null,"Birdie",{"$f":"COUNTIF(E210:E218,\"Birdie\")","v":0}]
[null,13,5,7,"Double bogey",null,null,"Par",{"$f":"COUNTIF(E210:E218,\"Par\")","v":1}]
[null,14,3,6,"Other",null,null,"bogey",{"$f":"COUNTIF(E210:E218,\"bogey\")","v":4}]
[null,15,4,9,"Other",null,null,"Double bogey",{"$f":"COUNTIF(E210:E218,\"Double bogey\")","v":2}]
[null,16,4,4,"Par",null,null,"Other",{"$f":"COUNTIF(E210:E218,\"Other\")","v":2}]
[null,17,3,4,"bogey"]
[null,18,5,6,"bogey"]

{"sheet":"Riley","index":29,"n_rows":218,"n_cols":90,"rows_kept":218,"cut":false,"hidden":false,"merged":[]}
["Bob Riley"]
[]
[]
[null,null,"Date:",{"$f":"VLOOKUP(C5,Week,2)","v":"2024-04-26"},null,null,null,null,"Date:",{"$f":"VLOOKUP(I5,Week,2)","v":"2024-05-03"},null,null,null,null,"Date:",{"$f":"VLOOKUP(O5,Week,2)","v":"2024-05-10"},null,null,null,null,"Date:",{"$f":"VLOOKUP(U5,Week,2)","v":"2024-05-17"},null,null,null,null,"Date:",{"$f":"VLOOKUP(AA5,Week,2)","v":"2024-05-24"},null,null,null,null,"Date:",{"$f":"VLOOKUP(AG5,Week,2)","v":"2024-05-31"},null,null,null,null,"Date:",{"$f":"VLOOKUP(AM5,Week,2)","v":"2024-06-07"},null,null,null,null,"Date:",{"$f":"VLOOKUP(AS5,Week,2)","v":"2024-06-14"},null,null,null,null,"Date:",{"$f":"VLOOKUP(AY5,Week,2)","v":"2024-07-05"},null,null,null,null,"Date:",{"$f":"VLOOKUP(BE5,Week,2)","v":"2024-07-12"},null,null,null,null,"Date:",{"$f":"VLOOKUP(BK5,Week,2)","v":"2024-07-19"},null,null,null,null,"Date:",{"$f":"VLOOKUP(BQ5,Week,2)","v":"2024-07-26"},null,null,null,null,"Date:",{"$f":"VLOOKUP(BW5,Week,2)","v":"2024-08-02"},null,null,null,null,"Date:",{"$f":"VLOOKUP(CC5,Week,2)","v":"2024-08-16"},null,null,null,null,"Date:",{"$f":"VLOOKUP(CI5,Week,2)","v":"2024-08-23"}]
[null,"Week",1,null,null,null,null,"Week",2,null,null,null,null,"Week",3,null,null,null,null,"Week",4,null,null,null,null,"Week",5,null,null,null,null,"Week",6,null,null,null,null,"Week",7,null,null,null,null,"Week",8,null,null,null,null,"Week",9,null,null,null,null,"Week",10,null,null,null,null,"Week",11,null,null,null,null,"Week",12,null,null,null,null,"Week",13,null,null,null,null,"Week",14,null,null,null,null,"Week",15]
[null,"Hole #","Par","Score","Net","Win Hole",null,"Hole #","Par","Score","Net","Win Hole",null,"Hole #","Par","Score","Net","Win Hole",null,"Hole #","Par","Score","Net","Win Hole",null,"Hole #","Par","Score","Net","Win Hole",null,"Hole #","Par","Score","Net","Win Hole",null,"Hole #","Par","Score","Net","Win Hole",null,"Hole #","Par","Score","Net","Win Hole",null,"Hole #","Par","Score","Net","Win Hole",null,"Hole #","Par","Score","Net","Win Hole",null,"Hole #","Par","Score","Net","Win Hole",null,"Hole #","Par","Score","Net","Win Hole",null,"Hole #","Par","Score","Net","Win Hole",null,"Hole #","Par","Score","Net","Win Hole",null,"Hole #","Par","Score","Net","Win Hole"]
[null,{"$f":"VLOOKUP(C5,Week,6)","v":1},{"$f":"VLOOKUP(B7,Holes,2)","v":4},null,{"$f":"IF((D7-C7)>3,C7+3,D7)","v":0},null,null,{"$f":"VLOOKUP(I5,Week,6)","v":10},{"$f":"VLOOKUP(H7,Holes,2)","v":4},null,{"$f":"IF((J7-I7)>3,I7+3,J7)","v":0},null,null,{"$f":"VLOOKUP(O5,Week,6)","v":1},{"$f":"VLOOKUP(N7,Holes,2)","v":4},4,{"$f":"IF((P7-O7)>3,O7+3,P7)","v":4},1,null,{"$f":"VLOOKUP(U5,Week,6)","v":10},{"$f":"VLOOKUP(T7,Holes,2)","v":4},null,{"$f":"IF((V7-U7)>3,U7+3,V7)","v":0},null,null,{"$f":"VLOOKUP(AA5,Week,6)","v":1},{"$f":"VLOOKUP(Z7,Holes,2)","v":4},null,{"$f":"IF((AB7-AA7)>3,AA7+3,AB7)","v":0},null,null,{"$f":"VLOOKUP(AG5,Week,6)","v":10},{"$f":"VLOOKUP(AF7,Holes,2)","v":4},null,{"$f":"IF((AH7-AG7)>3,AG7+3,AH7)","v":0},null,null,{"$f":"VLOOKUP(AM5,Week,6)","v":1},{"$f":"VLOOKUP(AL7,Holes,2)","v":4},null,{"$f":"IF((AN7-AM7)>3,AM7+3,AN7)","v":0},null,null,{"$f":"VLOOKUP(AS5,Week,6)","v":10},{"$f":"VLOOKUP(AR7,Holes,2)","v":4},null,{"$f":"IF((AT7-AS7)>3,AS7+3,AT7)","v":0},null,null,{"$f":"VLOOKUP(AY5,Week,6)","v":1},{"$f":"VLOOKUP(AX7,Holes,2)","v":4},null,{"$f":"IF((AZ7-AY7)>3,AY7+3,AZ7)","v":0},null,null,{"$f":"VLOOKUP(BE5,Week,6)","v":10},{"$f":"VLOOKUP(BD7,Holes,2)","v":4},null,{"$f":"IF((BF7-BE7)>3,BE7+3,BF7)","v":0},null,null,{"$f":"VLOOKUP(BK5,Week,6)","v":1},{"$f":"VLOOKUP(BJ7,Holes,2)","v":4},null,{"$f":"IF((BL7-BK7)>3,BK7+3,BL7)","v":0},null,null,{"$f":"VLOOKUP(BQ5,Week,6)","v":10},{"$f":"VLOOKUP(BP7,Holes,2)","v":4},null,{"$f":"IF((BR7-BQ7)>3,BQ7+3,BR7)","v":0},null,null,{"$f":"VLOOKUP(BW5,Week,6)","v":1},{"$f":"VLOOKUP(BV7,Holes,2)","v":4},null,{"$f":"IF((BX7-BW7)>3,BW7+3,BX7)","v":0},null,null,{"$f":"VLOOKUP(CC5,Week,6)","v":1},{"$f":"VLOOKUP(CB7,Holes,2)","v":4},null,{"$f":"IF((CD7-CC7)>3,CC7+3,CD7)","v":0},null,null,{"$f":"VLOOKUP(CI5,Week,6)","v":10},{"$f":"VLOOKUP(CH7,Holes,2)","v":4},null,{"$f":"IF((CJ7-CI7)>3,CI7+3,CJ7)","v":0}]
[null,{"$f":"+B7+1","v":2},4,null,0,null,null,{"$f":"+H7+1","v":11},4,null,0,null,null,{"$f":"+N7+1","v":2},4,5,5,1,null,{"$f":"+T7+1","v":11},4,null,0,null,null,{"$f":"+Z7+1","v":2},4,null,0,null,null,{"$f":"+AF7+1","v":11},4,null,0,null,null,{"$f":"+AL7+1","v":2},4,null,0,null,null,{"$f":"+AR7+1","v":11},4,null,0,null,null,{"$f":"+AX7+1","v":2},4,null,0,null,null,{"$f":"+BD7+1","v":11},4,null,0,null,null,{"$f":"+BJ7+1","v":2},4,null,0,null,null,{"$f":"+BP7+1","v":11},4,null,0,null,null,{"$f":"+BV7+1","v":2},4,null,0,null,null,{"$f":"+CB7+1","v":2},4,null,0,null,null,{"$f":"+CH7+1","v":11},4,null,0]
[null,3,3,null,0,null,null,12,4,null,0,null,null,3,3,4,4,0,null,12,4,null,0,null,null,3,3,null,0,null,null,12,4,null,0,null,null,3,3,null,0,null,null,12,4,null,0,null,null,3,3,null,0,null,null,12,4,null,0,null,null,3,3,null,0,null,null,12,4,null,0,null,null,3,3,null,0,null,null,3,3,null,0,null,null,12,4,null,0]
[null,4,4,null,0,null,null,13,5,null,0,null,null,4,4,5,5,1,null,13,5,null,0,null,null,4,4,null,0,null,null,13,5,null,0,null,null,4,4,null,0,null,null,13,5,null,0,null,null,4,4,null,0,null,null,13,5,null,0,null,null,4,4,null,0,null,null,13,5,null,0,null,null,4,4,null,0,null,null,4,4,null,0,null,null,13,5,null,0]
[null,5,5,null,0,null,null,14,3,null,0,null,null,5,5,6,6,1,null,14,3,null,0,null,null,5,5,null,0,null,null,14,3,null,0,null,null,5,5,null,0,null,null,14,3,null,0,null,null,5,5,null,0,null,null,14,3,null,0,null,null,5,5,null,0,null,null,14,3,null,0,null,null,5,5,null,0,null,null,5,5,null,0,null,null,14,3,null,0]
[null,6,3,null,0,null,null,15,4,null,0,null,null,6,3,4,4,0,null,15,4,null,0,null,null,6,3,null,0,null,null,15,4,null,0,null,null,6,3,null,0,null,null,15,4,null,0,null,null,6,3,null,0,null,null,15,4,null,0,null,null,6,3,null,0,null,null,15,4,null,0,null,null,6,3,null,0,null,null,6,3,null,0,null,null,15,4,null,0]
[null,7,4,null,0,null,null,16,4,null,0,null,null,7,4,7,7,0,null,16,4,null,0,null,null,7,4,null,0,null,null,16,4,null,0,null,null,7,4,null,0,null,null,16,4,null,0,null,null,7,4,null,0,null,null,16,4,null,0,null,null,7,4,null,0,null,null,16,4,null,0,null,null,7,4,null,0,null,null,7,4,null,0,null,null,16,4,null,0]
[null,8,4,null,0,null,null,17,3,null,0,null,null,8,4,7,7,1,null,17,3,null,0,null,null,8,4,null,0,null,null,17,3,null,0,null,null,8,4,null,0,null,null,17,3,null,0,null,null,8,4,null,0,null,null,17,3,null,0,null,null,8,4,null,0,null,null,17,3,null,0,null,null,8,4,null,0,null,null,8,4,null,0,null,null,17,3,null,0]
[null,9,5,null,0,null,null,18,5,null,0,null,null,9,5,7,7,0,null,18,5,null,0,null,null,9,5,null,0,null,null,18,5,null,0,null,null,9,5,null,0,null,null,18,5,null,0,null,null,9,5,null,0,null,null,18,5,null,0,null,null,9,5,null,0,null,null,18,5,null,0,null,null,9,5,null,0,null,null,9,5,null,0,null,null,18,5,null,0]
[null,"Total",{"$f":"SUM(C7:C15)","v":36},{"$f":"SUM(D7:D15)","v":0},{"$f":"SUM(E7:E15)","v":0},null,null,"Total",{"$f":"SUM(I7:I15)","v":36},{"$f":"SUM(J7:J15)","v":0},{"$f":"SUM(K7:K15)","v":0},{"$f":"SUM(L7:L15)","v":0},null,"Total",{"$f":"SUM(O7:O15)","v":36},{"$f":"SUM(P7:P15)","v":49},{"$f":"SUM(Q7:Q15)","v":49},{"$f":"SUM(R7:R15)","v":5},null,"Total",{"$f":"SUM(U7:U15)","v":36},{"$f":"SUM(V7:V15)","v":0},{"$f":"SUM(W7:W15)","v":0},{"$f":"SUM(X7:X15)","v":0},null,"Total",{"$f":"SUM(AA7:AA15)","v":36},{"$f":"SUM(AB7:AB15)","v":0},{"$f":"SUM(AC7:AC15)","v":0},{"$f":"SUM(AD7:AD15)","v":0},null,"Total",{"$f":"SUM(AG7:AG15)","v":36},{"$f":"SUM(AH7:AH15)","v":0},{"$f":"SUM(AI7:AI15)","v":0},{"$f":"SUM(AJ7:AJ15)","v":0},null,"Total",{"$f":"SUM(AM7:AM15)","v":36},{"$f":"SUM(AN7:AN15)","v":0},{"$f":"SUM(AO7:AO15)","v":0},{"$f":"SUM(AP7:AP15)","v":0},null,"Total",{"$f":"SUM(AS7:AS15)","v":36},{"$f":"SUM(AT7:AT15)","v":0},{"$f":"SUM(AU7:AU15)","v":0},{"$f":"SUM(AV7:AV15)","v":0},null,"Total",{"$f":"SUM(AY7:AY15)","v":36},{"$f":"SUM(AZ7:AZ15)","v":0},{"$f":"SUM(BA7:BA15)","v":0},{"$f":"SUM(BB7:BB15)","v":0},null,"Total",{"$f":"SUM(BE7:BE15)","v":36},{"$f":"SUM(BF7:BF15)","v":0},{"$f":"SUM(BG7:BG15)","v":0},{"$f":"SUM(BH7:BH15)","v":0},null,"Total",{"$f":"SUM(BK7:BK15)","v":36},{"$f":"SUM(BL7:BL15)","v":0},{"$f":"SUM(BM7:BM15)","v":0},{"$f":"SUM(BN7:BN15)","v":0},null,"Total",{"$f":"SUM(BQ7:BQ15)","v":36},{"$f":"SUM(BR7:BR15)","v":0},{"$f":"SUM(BS7:BS15)","v":0},{"$f":"SUM(BT7:BT15)","v":0},null,"Total",{"$f":"SUM(BW7:BW15)","v":36},{"$f":"SUM(BX7:BX15)","v":0},{"$f":"SUM(BY7:BY15)","v":0},{"$f":"SUM(BZ7:BZ15)","v":0},null,"Total",{"$f":"SUM(CC7:CC15)","v":36},{"$f":"SUM(CD7:CD15)","v":0},{"$f":"SUM(CE7:CE15)","v":0},{"$f":"SUM(CF7:CF15)","v":0},null,"Total",{"$f":"SUM(CI7:CI15)","v":36},{"$f":"SUM(CJ7:CJ15)","v":0},{"$f":"SUM(CK7:CK15)","v":0},{"$f":"SUM(CL7:CL15)","v":0}]
[]
[null,null,null,null,"Low Net",null,null,null,null,null,"Low Net",0,null,null,null,null,"Low Net",0,null,null,null,null,"Low Net",null,null,null,null,null,"Low Net",null,null,null,null,null,"Low Net",null,null,null,null,null,"Low Net",null,null,null,null,null,"Low Net",null,null,null,null,null,"Low Net",null,null,null,null,null,"Low Net",null,null,null,null,null,"Low Net",null,null,null,null,null,"Low Net",null,null,null,null,null,"Low Net",null,null,null,null,null,"Low Net",null,null,null,null,null,"Low Net"]
[]
[null,null,null,null,"Total Points",{"$f":"SUM(F16:F19)","v":0},null,null,null,null,"Total Points",{"$f":"SUM(L16:L19)","v":0},null,null,null,null,"Total Points",{"$f":"SUM(R16:R19)","v":5},null,null,null,null,"Total Points",{"$f":"SUM(X16:X19)","v":0},null,null,null,null,"Total Points",{"$f":"SUM(AD16:AD19)","v":0},null,null,null,null,"Total Points",{"$f":"SUM(AJ16:AJ19)","v":0},null,null,null,null,"Total Points",{"$f":"SUM(AP16:AP19)","v":0},null,null,null,null,"Total Points",{"$f":"SUM(AV16:AV19)","v":0},null,null,null,null,"Total Points",{"$f":"SUM(BB16:BB19)","v":0},null,null,null,null,"Total Points",{"$f":"SUM(BH16:BH19)","v":0},null,null,null,null,"Total Points",{"$f":"SUM(BN16:BN19)","v":0},null,null,null,null,"Total Points",{"$f":"SUM(BT16:BT19)","v":0},null,null,null,null,"Total Points",{"$f":"SUM(BZ16:BZ19)","v":0},null,null,null,null,"Total Points",{"$f":"SUM(CF16:CF19)","v":0},null,null,null,null,"Total Points",{"$f":"SUM(CL16:CL19)","v":0}]
[]
[null,null,null,null,"Handicap",{"$f":"IF(D16=0,0,E16-C16)","v":0},null,null,null,null,"Handicap",{"$f":"IF(J16=0,0,K16-I16)","v":0},null,null,null,null,"Handicap",{"$f":"IF(P16=0,0,Q16-O16)","v":13},null,null,null,null,"Handicap",{"$f":"IF(V16=0,0,W16-U16)","v":0},null,null,null,null,"Handicap",{"$f":"IF(AB16=0,0,AC16-AA16)","v":0},null,null,null,null,"Handicap",{"$f":"IF(AH16=0,0,AI16-AG16)","v":0},null,null,null,null,"Handicap",{"$f":"IF(AN16=0,0,AO16-AM16)","v":0},null,null,null,null,"Handicap",{"$f":"IF(AT16=0,0,AU16-AS16)","v":0},null,null,null,null,"Handicap",{"$f":"IF(AZ16=0,0,BA16-AY16)","v":0},null,null,null,null,"Handicap",{"$f":"IF(BF16=0,0,BG16-BE16)","v":0},null,null,null,null,"Handicap",{"$f":"IF(BL16=0,0,BM16-BK16)","v":0},null,null,null,null,"Handicap",{"$f":"IF(BR16=0,0,BS16-BQ16)","v":0},null,null,null,null,"Handicap",{"$f":"IF(BX16=0,0,BY16-BW16)","v":0},null,null,null,null,"Handicap",{"$f":"IF(CD16=0,0,CE16-CC16)","v":0},null,null,null,null,"Handicap",{"$f":"IF(CJ16=0,0,CK16-CI16)","v":0}]
[]
[null,null,null,null,null,{"$f":"IF(D16<>0,IF(F16>4.5,\"W\",IF(F16=4.5,\"T\",IF(F16<4.5,\"L\"))),0)","v":0},null,null,null,null,null,{"$f":"IF(J16<>0,IF(L16>4.5,\"W\",IF(L16=4.5,\"T\",IF(L16<4.5,\"L\"))),0)","v":0},null,null,null,null,null,{"$f":"IF(P16<>0,IF(R16>4.5,\"W\",IF(R16=4.5,\"T\",IF(R16<4.5,\"L\"))),0)","v":"W"},null,null,null,null,null,{"$f":"IF(V16<>0,IF(X16>4.5,\"W\",IF(X16=4.5,\"T\",IF(X16<4.5,\"L\"))),0)","v":0},null,null,null,null,null,{"$f":"IF(AB16<>0,IF(AD16>4.5,\"W\",IF(AD16=4.5,\"T\",IF(AD16<4.5,\"L\"))),0)","v":0},null,null,null,null,null,{"$f":"IF(AH16<>0,IF(AJ16>4.5,\"W\",IF(AJ16=4.5,\"T\",IF(AJ16<4.5,\"L\"))),0)","v":0},null,null,null,null,null,{"$f":"IF(AN16<>0,IF(AP16>4.5,\"W\",IF(AP16=4.5,\"T\",IF(AP16<4.5,\"L\"))),0)","v":0},null,null,null,null,null,{"$f":"IF(AT16<>0,IF(AV16>4.5,\"W\",IF(AV16=4.5,\"T\",IF(AV16<4.5,\"L\"))),0)","v":0},null,null,null,null,null,{"$f":"IF(AZ16<>0,IF(BB16>4.5,\"W\",IF(BB16=4.5,\"T\",IF(BB16<4.5,\"L\"))),0)","v":0},null,null,null,null,null,{"$f":"IF(BF16<>0,IF(BH16>4.5,\"W\",IF(BH16=4.5,\"T\",IF(BH16<4.5,\"L\"))),0)","v":0},null,null,null,null,null,{"$f":"IF(BL16<>0,IF(BN16>4.5,\"W\",IF(BN16=4.5,\"T\",IF(BN16<4.5,\"L\"))),0)","v":0},null,null,null,null,null,{"$f":"IF(BR16<>0,IF(BT16>4.5,\"W\",IF(BT16=4.5,\"T\",IF(BT16<4.5,\"L\"))),0)","v":0},null,null,null,null,null,{"$f":"IF(BX16<>0,IF(BZ16>4.5,\"W\",IF(BZ16=4.5,\"T\",IF(BZ16<4.5,\"L\"))),0)","v":0},null,null,null,null,null,{"$f":"IF(CD16<>0,IF(CF16>4.5,\"W\",IF(CF16=4.5,\"T\",IF(CF16<4.5,\"L\"))),0)","v":0},null,null,null,null,null,{"$f":"IF(CJ16<>0,IF(CL16>4.5,\"W\",IF(CL16=4.5,\"T\",IF(CL16<4.5,\"L\"))),0)","v":0}]
[]
[null,"Summary"]
[null,null,null,"Adj",null,"Adj",null,null,null,"Avg Score"]
[null,null,"Points","Points","Matches","Matches",null,null,"Hole #","by Hole","Best","Worst"]
[null,"Week #1",{"$f":"F20","v":0},{"$f":"C29","v":0},{"$f":"IF(D16>0,1,0)","v":0},{"$f":"E29","v":0},null,null,1,{"$f":"IFERROR(AVERAGE(D7,P7,AB7,AN7,AZ7,BL7,BX7,CD7),0)","v":4},{"$f":"IFERROR(MIN(D7,P7,AB7,AN7,AZ7,BL7,BX7,CD7),0)","v":4},{"$f":"IFERROR(MAX(D7,P7,AB7,AN7,AZ7,BL7,BX7,CD7),0)","v":4}]
[null,"Week #2",{"$f":"L20","v":0},0,{"$f":"IF(J16>0,1,0)","v":0},0,null,null,2,{"$f":"IFERROR(AVERAGE(D8,P8,AB8,AN8,AZ8,BL8,BX8,CD8),0)","v":5},{"$f":"IFERROR(MIN(D8,P8,AB8,AN8,AZ8,BL8,BX8,CD8),0)","v":5},{"$f":"IFERROR(MAX(D8,P8,AB8,AN8,AZ8,BL8,BX8,CD8),0)","v":5}]
[null,"Week #3",{"$f":"R20","v":5},5,{"$f":"IF(P16>0,1,0)","v":1},1,null,null,3,4,4,4]
[null,"Week #4",{"$f":"X20","v":0},0,{"$f":"IF(V16>0,1,0)","v":0},0,null,null,4,5,5,5]
[null,"Week #5",{"$f":"AD20","v":0},0,{"$f":"IF(AB16>0,1,0)","v":0},0,null,null,5,6,6,6]
[null,"Week #6",{"$f":"AJ20","v":0},0,{"$f":"IF(AH16>0,1,0)","v":0},0,null,null,6,4,4,4]
[null,"Week #7",{"$f":"AP20","v":0},0,{"$f":"IF(AN16>0,1,0)","v":0},0,null,null,7,7,7,7]
[null,"Week #8",{"$f":"AV20","v":0},0,{"$f":"IF(AT16>0,1,0)","v":0},0,null,null,8,7,7,7]
[null,"Week #9",{"$f":"BB20","v":0},0,{"$f":"IF(AZ16>0,1,0)","v":0},0,null,null,9,7,7,7]
[null,"Week #10",{"$f":"BH20","v":0},0,{"$f":"IF(BF16>0,1,0)","v":0},0,null,null,"Front",{"$f":"SUM(J29:J37)","v":49},{"$f":"SUM(K29:K37)","v":49},49]
[null,"Week #11",{"$f":"BN20","v":0},0,{"$f":"IF(BL16>0,1,0)","v":0},0]
[null,"Week #12",{"$f":"BT20","v":0},0,{"$f":"IF(BR16>0,1,0)","v":0},0,null,null,10,{"$f":"IFERROR(AVERAGE(J7,V7,AH7,AT7,BF7,BR7,CJ7),0)","v":0},{"$f":"IFERROR(MIN(J7,V7,AH7,AT7,BF7,BR7,CJ7),0)","v":0},{"$f":"IFERROR(MAX(J7,V7,AH7,AT7,BF7,BR7,CJ7),0)","v":0}]
[null,"Week #13",{"$f":"BZ20","v":0},0,{"$f":"IF(BX16>0,1,0)","v":0},0,null,null,11,{"$f":"IFERROR(AVERAGE(J8,V8,AH8,AT8,BF8,BR8,CJ8),0)","v":0},{"$f":"IFERROR(MIN(J8,V8,AH8,AT8,BF8,BR8,CJ8),0)","v":0},{"$f":"IFERROR(MAX(J8,V8,AH8,AT8,BF8,BR8,CJ8),0)","v":0}]
[null,"Week #14",{"$f":"CF20","v":0},0,{"$f":"IF(CD16>0,1,0)","v":0},0,null,null,12,0,0,0]
[null,"Week #15",{"$f":"CL20","v":0},0,{"$f":"IF(CJ16>0,1,0)","v":0},0,null,null,13,0,0,0]
[null,"Total",{"$f":"SUM(C29:C43)","v":5},{"$f":"SUM(D29:D43)","v":5},{"$f":"SUM(E29:E43)","v":1},{"$f":"SUM(F29:F43)","v":1},null,null,14,0,0,0]
[null,null,null,null,null,null,null,null,15,0,0,0]
[null,"Summary",null,null,null,null,null,null,16,0,0,0]
[null,"Eagles",{"$f":"I57+I68+I79+I90+I101+I112+I123+I134+I145+I156+I167+I178+I189+I200+I211","v":0},null,null,null,null,null,17,0,0,0]
[null,"Birdies",0,null,null,null,null,null,18,0,0,0]
[null,"Pars",1,null,null,null,null,null,"Back",{"$f":"SUM(J40:J48)","v":0},{"$f":"SUM(K40:K48)","v":0},0]
[null,"bogeys",5]
[null,"Double bogeys",1]
[null,"Other",2]
[null,"Total",{"$f":"SUM(C47:C52)","v":9}]
[]
[null,{"$f":"D4","v":"2024-04-26"},"Par","Score"]
[null,{"$f":"B7","v":1},4,0,{"$f":"IF(D56<>0,IF((D56-C56)=-1,\"Birdie\",IF((D56-C56)=-2,\"Eagle\",IF((D56-C56)=0,\"Par\",IF((D56-C56)=1,\"bogey\",IF((D56-C56)=2,\"Double bogey\",\"Other\"))))),\"  \")","v":"  "},null,null,"Count"]
[null,2,4,0,"  ",null,null,"Eagle",{"$f":"COUNTIF(E56:E64,\"Eagle\")","v":0}]
[null,3,3,0,"  ",null,null,"Birdie",{"$f":"COUNTIF(E56:E64,\"Birdie\")","v":0}]
[null,4,4,0,"  ",null,null,"Par",{"$f":"COUNTIF(E56:E64,\"Par\")","v":0}]
[null,5,5,0,"  ",null,null,"bogey",{"$f":"COUNTIF(E56:E64,\"bogey\")","v":0}]
[null,6,3,0,"  ",null,null,"Double bogey",{"$f":"COUNTIF(E56:E64,\"Double bogey\")","v":0}]
[null,7,4,0,"  ",null,null,"Other",{"$f":"COUNTIF(E56:E64,\"Other\")","v":0}]
[null,8,4,0,"  "]
[null,9,5,0,"  "]
[]
[null,{"$f":"J4","v":"2024-05-03"}]
[null,{"$f":"H7","v":10},4,0,{"$f":"IF(D67<>0,IF((D67-C67)=-1,\"Birdie\",IF((D67-C67)=-2,\"Eagle\",IF((D67-C67)=0,\"Par\",IF((D67-C67)=1,\"bogey\",IF((D67-C67)=2,\"Double bogey\",\"Other\"))))),\"  \")","v":"  "},null,null,"Count"]
[null,11,4,0,"  ",null,null,"Eagle",{"$f":"COUNTIF(E67:E75,\"Eagle\")","v":0}]
[null,12,4,0,"  ",null,null,"Birdie",{"$f":"COUNTIF(E67:E75,\"Birdie\")","v":0}]
[null,13,5,0,"  ",null,null,"Par",{"$f":"COUNTIF(E67:E75,\"Par\")","v":0}]
[null,14,3,0,"  ",null,null,"bogey",{"$f":"COUNTIF(E67:E75,\"bogey\")","v":0}]
[null,15,4,0,"  ",null,null,"Double bogey",{"$f":"COUNTIF(E67:E75,\"Double bogey\")","v":0}]
[null,16,4,0,"  ",null,null,"Other",{"$f":"COUNTIF(E67:E75,\"Other\")","v":0}]
[null,17,3,0,"  "]
[null,18,5,0,"  "]
[]
[null,{"$f":"P4","v":"2024-05-10"}]
[null,{"$f":"N7","v":1},4,4,{"$f":"IF(D78<>0,IF((D78-C78)=-1,\"Birdie\",IF((D78-C78)=-2,\"Eagle\",IF((D78-C78)=0,\"Par\",IF((D78-C78)=1,\"bogey\",IF((D78-C78)=2,\"Double bogey\",\"Other\"))))),\"  \")","v":"Par"},null,null,"Count"]
[null,2,4,5,"bogey",null,null,"Eagle",{"$f":"COUNTIF(E78:E86,\"Eagle\")","v":0}]
[null,3,3,4,"bogey",null,null,"Birdie",{"$f":"COUNTIF(E78:E86,\"Birdie\")","v":0}]
[null,4,4,5,"bogey",null,null,"Par",{"$f":"COUNTIF(E78:E86,\"Par\")","v":1}]
[null,5,5,6,"bogey",null,null,"bogey",{"$f":"COUNTIF(E78:E86,\"bogey\")","v":5}]
[null,6,3,4,"bogey",null,null,"Double bogey",{"$f":"COUNTIF(E78:E86,\"Double bogey\")","v":1}]
[null,7,4,7,"Other",null,null,"Other",{"$f":"COUNTIF(E78:E86,\"Other\")","v":2}]
[null,8,4,7,"Other"]
[null,9,5,7,"Double bogey"]
[]
[null,{"$f":"V4","v":"2024-05-17"}]
[null,{"$f":"T7","v":10},4,0,{"$f":"IF(D89<>0,IF((D89-C89)=-1,\"Birdie\",IF((D89-C89)=-2,\"Eagle\",IF((D89-C89)=0,\"Par\",IF((D89-C89)=1,\"bogey\",IF((D89-C89)=2,\"Double bogey\",\"Other\"))))),\"  \")","v":"  "},null,null,"Count"]
[null,11,4,0,"  ",null,null,"Eagle",{"$f":"COUNTIF(E89:E97,\"Eagle\")","v":0}]
[null,12,4,0,"  ",null,null,"Birdie",{"$f":"COUNTIF(E89:E97,\"Birdie\")","v":0}]
[null,13,5,0,"  ",null,null,"Par",{"$f":"COUNTIF(E89:E97,\"Par\")","v":0}]
[null,14,3,0,"  ",null,null,"bogey",{"$f":"COUNTIF(E89:E97,\"bogey\")","v":0}]
[null,15,4,0,"  ",null,null,"Double bogey",{"$f":"COUNTIF(E89:E97,\"Double bogey\")","v":0}]
[null,16,4,0,"  ",null,null,"Other",{"$f":"COUNTIF(E89:E97,\"Other\")","v":0}]
[null,17,3,0,"  "]
[null,18,5,0,"  "]
[]
[null,{"$f":"AB4","v":"2024-05-24"}]
[null,{"$f":"Z7","v":1},4,0,{"$f":"IF(D100<>0,IF((D100-C100)=-1,\"Birdie\",IF((D100-C100)=-2,\"Eagle\",IF((D100-C100)=0,\"Par\",IF((D100-C100)=1,\"bogey\",IF((D100-C100)=2,\"Double bogey\",\"Other\"))))),\"  \")","v":"  "},null,null,"Count"]
[null,2,4,0,"  ",null,null,"Eagle",{"$f":"COUNTIF(E100:E108,\"Eagle\")","v":0}]
[null,3,3,0,"  ",null,null,"Birdie",{"$f":"COUNTIF(E100:E108,\"Birdie\")","v":0}]
[null,4,4,0,"  ",null,null,"Par",{"$f":"COUNTIF(E100:E108,\"Par\")","v":0}]
[null,5,5,0,"  ",null,null,"bogey",{"$f":"COUNTIF(E100:E108,\"bogey\")","v":0}]
[null,6,3,0,"  ",null,null,"Double bogey",{"$f":"COUNTIF(E100:E108,\"Double bogey\")","v":0}]
[null,7,4,0,"  ",null,null,"Other",{"$f":"COUNTIF(E100:E108,\"Other\")","v":0}]
[null,8,4,0,"  "]
[null,9,5,0,"  "]
[]
[null,{"$f":"AH4","v":"2024-05-31"}]
[null,{"$f":"AF7","v":10},4,0,{"$f":"IF(D111<>0,IF((D111-C111)=-1,\"Birdie\",IF((D111-C111)=-2,\"Eagle\",IF((D111-C111)=0,\"Par\",IF((D111-C111)=1,\"bogey\",IF((D111-C111)=2,\"Double bogey\",\"Other\"))))),\"  \")","v":"  "},null,null,"Count"]
[null,11,4,0,"  ",null,null,"Eagle",{"$f":"COUNTIF(E111:E119,\"Eagle\")","v":0}]
[null,12,4,0,"  ",null,null,"Birdie",{"$f":"COUNTIF(E111:E119,\"Birdie\")","v":0}]
[null,13,5,0,"  ",null,null,"Par",{"$f":"COUNTIF(E111:E119,\"Par\")","v":0}]
[null,14,3,0,"  ",null,null,"bogey",{"$f":"COUNTIF(E111:E119,\"bogey\")","v":0}]
[null,15,4,0,"  ",null,null,"Double bogey",{"$f":"COUNTIF(E111:E119,\"Double bogey\")","v":0}]
[null,16,4,0,"  ",null,null,"Other",{"$f":"COUNTIF(E111:E119,\"Other\")","v":0}]
[null,17,3,0,"  "]
[null,18,5,0,"  "]
[]
[null,{"$f":"AN4","v":"2024-06-07"}]
[null,{"$f":"AL7","v":1},4,0,{"$f":"IF(D122<>0,IF((D122-C122)=-1,\"Birdie\",IF((D122-C122)=-2,\"Eagle\",IF((D122-C122)=0,\"Par\",IF((D122-C122)=1,\"bogey\",IF((D122-C122)=2,\"Double bogey\",\"Other\"))))),\"  \")","v":"  "},null,null,"Count"]
[null,2,4,0,"  ",null,null,"Eagle",{"$f":"COUNTIF(E122:E130,\"Eagle\")","v":0}]
[null,3,3,0,"  ",null,null,"Birdie",{"$f":"COUNTIF(E122:E130,\"Birdie\")","v":0}]
[null,4,4,0,"  ",null,null,"Par",{"$f":"COUNTIF(E122:E130,\"Par\")","v":0}]
[null,5,5,0,"  ",null,null,"bogey",{"$f":"COUNTIF(E122:E130,\"bogey\")","v":0}]
[null,6,3,0,"  ",null,null,"Double bogey",{"$f":"COUNTIF(E122:E130,\"Double bogey\")","v":0}]
[null,7,4,0,"  ",null,null,"Other",{"$f":"COUNTIF(E122:E130,\"Other\")","v":0}]
[null,8,4,0,"  "]
[null,9,5,0,"  "]
[]
[null,{"$f":"AT4","v":"2024-06-14"}]
[null,{"$f":"AR7","v":10},4,0,{"$f":"IF(D133<>0,IF((D133-C133)=-1,\"Birdie\",IF((D133-C133)=-2,\"Eagle\",IF((D133-C133)=0,\"Par\",IF((D133-C133)=1,\"bogey\",IF((D133-C133)=2,\"Double bogey\",\"Other\"))))),\"  \")","v":"  "},null,null,"Count"]
[null,11,4,0,"  ",null,null,"Eagle",{"$f":"COUNTIF(E133:E141,\"Eagle\")","v":0}]
[null,12,4,0,"  ",null,null,"Birdie",{"$f":"COUNTIF(E133:E141,\"Birdie\")","v":0}]
[null,13,5,0,"  ",null,null,"Par",{"$f":"COUNTIF(E133:E141,\"Par\")","v":0}]
[null,14,3,0,"  ",null,null,"bogey",{"$f":"COUNTIF(E133:E141,\"bogey\")","v":0}]
[null,15,4,0,"  ",null,null,"Double bogey",{"$f":"COUNTIF(E133:E141,\"Double bogey\")","v":0}]
[null,16,4,0,"  ",null,null,"Other",{"$f":"COUNTIF(E133:E141,\"Other\")","v":0}]
[null,17,3,0,"  "]
[null,18,5,0,"  "]
[]
[null,{"$f":"AZ4","v":"2024-07-05"}]
[null,{"$f":"AX7","v":1},4,0,{"$f":"IF(D144<>0,IF((D144-C144)=-1,\"Birdie\",IF((D144-C144)=-2,\"Eagle\",IF((D144-C144)=0,\"Par\",IF((D144-C144)=1,\"bogey\",IF((D144-C144)=2,\"Double bogey\",\"Other\"))))),\"  \")","v":"  "},null,null,"Count"]
[null,2,4,0,"  ",null,null,"Eagle",{"$f":"COUNTIF(E144:E152,\"Eagle\")","v":0}]
[null,3,3,0,"  ",null,null,"Birdie",{"$f":"COUNTIF(E144:E152,\"Birdie\")","v":0}]
[null,4,4,0,"  ",null,null,"Par",{"$f":"COUNTIF(E144:E152,\"Par\")","v":0}]
[null,5,5,0,"  ",null,null,"bogey",{"$f":"COUNTIF(E144:E152,\"bogey\")","v":0}]
[null,6,3,0,"  ",null,null,"Double bogey",{"$f":"COUNTIF(E144:E152,\"Double bogey\")","v":0}]
[null,7,4,0,"  ",null,null,"Other",{"$f":"COUNTIF(E144:E152,\"Other\")","v":0}]
[null,8,4,0,"  "]
[null,9,5,0,"  "]
[]
[null,{"$f":"BF4","v":"2024-07-12"}]
[null,{"$f":"BD7","v":10},4,0,{"$f":"IF(D155<>0,IF((D155-C155)=-1,\"Birdie\",IF((D155-C155)=-2,\"Eagle\",IF((D155-C155)=0,\"Par\",IF((D155-C155)=1,\"bogey\",IF((D155-C155)=2,\"Double bogey\",\"Other\"))))),\"  \")","v":"  "},null,null,"Count"]
[null,11,4,0,"  ",null,null,"Eagle",{"$f":"COUNTIF(E155:E163,\"Eagle\")","v":0}]
[null,12,4,0,"  ",null,null,"Birdie",{"$f":"COUNTIF(E155:E163,\"Birdie\")","v":0}]
[null,13,5,0,"  ",null,null,"Par",{"$f":"COUNTIF(E155:E163,\"Par\")","v":0}]
[null,14,3,0,"  ",null,null,"bogey",{"$f":"COUNTIF(E155:E163,\"bogey\")","v":0}]
[null,15,4,0,"  ",null,null,"Double bogey",{"$f":"COUNTIF(E155:E163,\"Double bogey\")","v":0}]
[null,16,4,0,"  ",null,null,"Other",{"$f":"COUNTIF(E155:E163,\"Other\")","v":0}]
[null,17,3,0,"  "]
[null,18,5,0,"  "]
[]
[null,{"$f":"BL4","v":"2024-07-19"}]
[null,{"$f":"BJ7","v":1},4,0,{"$f":"IF(D166<>0,IF((D166-C166)=-1,\"Birdie\",IF((D166-C166)=-2,\"Eagle\",IF((D166-C166)=0,\"Par\",IF((D166-C166)=1,\"bogey\",IF((D166-C166)=2,\"Double bogey\",\"Other\"))))),\"  \")","v":"  "},null,null,"Count"]
[null,2,4,0,"  ",null,null,"Eagle",{"$f":"COUNTIF(E166:E174,\"Eagle\")","v":0}]
[null,3,3,0,"  ",null,null,"Birdie",{"$f":"COUNTIF(E166:E174,\"Birdie\")","v":0}]
[null,4,4,0,"  ",null,null,"Par",{"$f":"COUNTIF(E166:E174,\"Par\")","v":0}]
[null,5,5,0,"  ",null,null,"bogey",{"$f":"COUNTIF(E166:E174,\"bogey\")","v":0}]
[null,6,3,0,"  ",null,null,"Double bogey",{"$f":"COUNTIF(E166:E174,\"Double bogey\")","v":0}]
[null,7,4,0,"  ",null,null,"Other",{"$f":"COUNTIF(E166:E174,\"Other\")","v":0}]
[null,8,4,0,"  "]
[null,9,5,0,"  "]
[]
[null,{"$f":"BR4","v":"2024-07-26"}]
[null,{"$f":"BP7","v":10},4,0,{"$f":"IF(D177<>0,IF((D177-C177)=-1,\"Birdie\",IF((D177-C177)=-2,\"Eagle\",IF((D177-C177)=0,\"Par\",IF((D177-C177)=1,\"bogey\",IF((D177-C177)=2,\"Double bogey\",\"Other\"))))),\"  \")","v":"  "},null,null,"Count"]
[null,11,4,0,"  ",null,null,"Eagle",{"$f":"COUNTIF(E177:E185,\"Eagle\")","v":0}]
[null,12,4,0,"  ",null,null,"Birdie",{"$f":"COUNTIF(E177:E185,\"Birdie\")","v":0}]
[null,13,5,0,"  ",null,null,"Par",{"$f":"COUNTIF(E177:E185,\"Par\")","v":0}]
[null,14,3,0,"  ",null,null,"bogey",{"$f":"COUNTIF(E177:E185,\"bogey\")","v":0}]
[null,15,4,0,"  ",null,null,"Double bogey",{"$f":"COUNTIF(E177:E185,\"Double bogey\")","v":0}]
[null,16,4,0,"  ",null,null,"Other",{"$f":"COUNTIF(E177:E185,\"Other\")","v":0}]
[null,17,3,0,"  "]
[null,18,5,0,"  "]
[]
[null,{"$f":"BX4","v":"2024-08-02"}]
[null,{"$f":"BV7","v":1},4,0,{"$f":"IF(D188<>0,IF((D188-C188)=-1,\"Birdie\",IF((D188-C188)=-2,\"Eagle\",IF((D188-C188)=0,\"Par\",IF((D188-C188)=1,\"bogey\",IF((D188-C188)=2,\"Double bogey\",\"Other\"))))),\"  \")","v":"  "},null,null,"Count"]
[null,2,4,0,"  ",null,null,"Eagle",{"$f":"COUNTIF(E188:E196,\"Eagle\")","v":0}]
[null,3,3,0,"  ",null,null,"Birdie",{"$f":"COUNTIF(E188:E196,\"Birdie\")","v":0}]
[null,4,4,0,"  ",null,null,"Par",{"$f":"COUNTIF(E188:E196,\"Par\")","v":0}]
[null,5,5,0,"  ",null,null,"bogey",{"$f":"COUNTIF(E188:E196,\"bogey\")","v":0}]
[null,6,3,0,"  ",null,null,"Double bogey",{"$f":"COUNTIF(E188:E196,\"Double bogey\")","v":0}]
[null,7,4,0,"  ",null,null,"Other",{"$f":"COUNTIF(E188:E196,\"Other\")","v":0}]
[null,8,4,0,"  "]
[null,9,5,0,"  "]
[]
[null,{"$f":"CD4","v":"2024-08-16"}]
[null,{"$f":"CB7","v":1},4,0,{"$f":"IF(D199<>0,IF((D199-C199)=-1,\"Birdie\",IF((D199-C199)=-2,\"Eagle\",IF((D199-C199)=0,\"Par\",IF((D199-C199)=1,\"bogey\",IF((D199-C199)=2,\"Double bogey\",\"Other\"))))),\"  \")","v":"  "},null,null,"Count"]
[null,2,4,0,"  ",null,null,"Eagle",{"$f":"COUNTIF(E199:E207,\"Eagle\")","v":0}]
[null,3,3,0,"  ",null,null,"Birdie",{"$f":"COUNTIF(E199:E207,\"Birdie\")","v":0}]
[null,4,4,0,"  ",null,null,"Par",{"$f":"COUNTIF(E199:E207,\"Par\")","v":0}]
[null,5,5,0,"  ",null,null,"bogey",{"$f":"COUNTIF(E199:E207,\"bogey\")","v":0}]
[null,6,3,0,"  ",null,null,"Double bogey",{"$f":"COUNTIF(E199:E207,\"Double bogey\")","v":0}]
[null,7,4,0,"  ",null,null,"Other",{"$f":"COUNTIF(E199:E207,\"Other\")","v":0}]
[null,8,4,0,"  "]
[null,9,5,0,"  "]
[]
[null,{"$f":"CJ4","v":"2024-08-23"}]
[null,{"$f":"CH7","v":10},4,0,{"$f":"IF(D210<>0,IF((D210-C210)=-1,\"Birdie\",IF((D210-C210)=-2,\"Eagle\",IF((D210-C210)=0,\"Par\",IF((D210-C210)=1,\"bogey\",IF((D210-C210)=2,\"Double bogey\",\"Other\"))))),\"  \")","v":"  "},null,null,"Count"]
[null,11,4,0,"  ",null,null,"Eagle",{"$f":"COUNTIF(E210:E218,\"Eagle\")","v":0}]
[null,12,4,0,"  ",null,null,"Birdie",{"$f":"COUNTIF(E210:E218,\"Birdie\")","v":0}]
[null,13,5,0,"  ",null,null,"Par",{"$f":"COUNTIF(E210:E218,\"Par\")","v":0}]
[null,14,3,0,"  ",null,null,"bogey",{"$f":"COUNTIF(E210:E218,\"bogey\")","v":0}]
[null,15,4,0,"  ",null,null,"Double bogey",{"$f":"COUNTIF(E210:E218,\"Double bogey\")","v":0}]
[null,16,4,0,"  ",null,null,"Other",{"$f":"COUNTIF(E210:E218,\"Other\")","v":0}]
[null,17,3,0,"  "]
[null,18,5,0,"  "]

{"sheet":"Set Up Template","index":30,"n_rows":22,"n_cols":7,"rows_kept":22,"cut":false,"hidden":false,"merged":[]}
[null,"Week",null,"Holes",null,null,"Starting hole for the week"]
[null,1,"2024-04-26",1,4,null,1]
[null,2,{"$f":"+C2+7","v":"2024-05-03"},2,4,null,10]
[null,3,{"$f":"+C3+7","v":"2024-05-10"},3,3,null,1]
[null,4,"2024-05-17",4,4,null,10]
[null,5,"2024-05-24",5,5,null,1]
[3000,6,"2024-05-31",6,3,null,10]
[2500,7,"2024-06-07",7,4,null,1]
[2000,8,"2024-06-14",8,4,null,10]
[1500,9,{"$f":"+C9+21","v":"2024-07-05"},9,5,{"$f":"SUM(E2:E10)","v":36},1]
[1000,10,"2024-07-12",10,4,null,10]
[900,11,"2024-07-19",11,4,null,1]
[800,12,"2024-07-26",12,4,null,10]
[700,13,"2024-08-02",13,5,null,1]
[600,14,{"$f":"+C14+14","v":"2024-08-16"},14,3,null,1]
[500,15,"2024-08-23",15,4,null,10]
[450,null,null,16,4]
[400,null,null,17,3]
[350,null,null,18,5,{"$f":"SUM(E11:E19)","v":36}]
[300]
[250]
[200]

{"sheet":"Player_Template","index":31,"n_rows":218,"n_cols":90,"rows_kept":218,"cut":false,"hidden":false,"merged":[]}
["Player Name goes here"]
[]
[]
[null,null,"Date:",{"$f":"VLOOKUP(C5,Week,2)","v":"2024-04-26"},null,null,null,null,"Date:",{"$f":"VLOOKUP(I5,Week,2)","v":"2024-05-03"},null,null,null,null,"Date:",{"$f":"VLOOKUP(O5,Week,2)","v":"2024-05-10"},null,null,null,null,"Date:",{"$f":"VLOOKUP(U5,Week,2)","v":"2024-05-17"},null,null,null,null,"Date:",{"$f":"VLOOKUP(AA5,Week,2)","v":"2024-05-24"},null,null,null,null,"Date:",{"$f":"VLOOKUP(AG5,Week,2)","v":"2024-05-31"},null,null,null,null,"Date:",{"$f":"VLOOKUP(AM5,Week,2)","v":"2024-06-07"},null,null,null,null,"Date:",{"$f":"VLOOKUP(AS5,Week,2)","v":"2024-06-14"},null,null,null,null,"Date:",{"$f":"VLOOKUP(AY5,Week,2)","v":"2024-07-05"},null,null,null,null,"Date:",{"$f":"VLOOKUP(BE5,Week,2)","v":"2024-07-12"},null,null,null,null,"Date:",{"$f":"VLOOKUP(BK5,Week,2)","v":"2024-07-19"},null,null,null,null,"Date:",{"$f":"VLOOKUP(BQ5,Week,2)","v":"2024-07-26"},null,null,null,null,"Date:",{"$f":"VLOOKUP(BW5,Week,2)","v":"2024-08-02"},null,null,null,null,"Date:",{"$f":"VLOOKUP(CC5,Week,2)","v":"2024-08-16"},null,null,null,null,"Date:",{"$f":"VLOOKUP(CI5,Week,2)","v":"2024-08-23"}]
[null,"Week",1,null,null,null,null,"Week",2,null,null,null,null,"Week",3,null,null,null,null,"Week",4,null,null,null,null,"Week",5,null,null,null,null,"Week",6,null,null,null,null,"Week",7,null,null,null,null,"Week",8,null,null,null,null,"Week",9,null,null,null,null,"Week",10,null,null,null,null,"Week",11,null,null,null,null,"Week",12,null,null,null,null,"Week",13,null,null,null,null,"Week",14,null,null,null,null,"Week",15]
[null,"Hole #","Par","Score","Net","Win Hole",null,"Hole #","Par","Score","Net","Win Hole",null,"Hole #","Par","Score","Net","Win Hole",null,"Hole #","Par","Score","Net","Win Hole",null,"Hole #","Par","Score","Net","Win Hole",null,"Hole #","Par","Score","Net","Win Hole",null,"Hole #","Par","Score","Net","Win Hole",null,"Hole #","Par","Score","Net","Win Hole",null,"Hole #","Par","Score","Net","Win Hole",null,"Hole #","Par","Score","Net","Win Hole",null,"Hole #","Par","Score","Net","Win Hole",null,"Hole #","Par","Score","Net","Win Hole",null,"Hole #","Par","Score","Net","Win Hole",null,"Hole #","Par","Score","Net","Win Hole",null,"Hole #","Par","Score","Net","Win Hole"]
[null,{"$f":"VLOOKUP(C5,Week,6)","v":1},{"$f":"VLOOKUP(B7,Holes,2)","v":4},null,{"$f":"IF((D7-C7)>3,C7+3,D7)","v":0},null,null,{"$f":"VLOOKUP(I5,Week,6)","v":10},{"$f":"VLOOKUP(H7,Holes,2)","v":4},null,{"$f":"IF((J7-I7)>3,I7+3,J7)","v":0},null,null,{"$f":"VLOOKUP(O5,Week,6)","v":1},{"$f":"VLOOKUP(N7,Holes,2)","v":4},null,{"$f":"IF((P7-O7)>3,O7+3,P7)","v":0},null,null,{"$f":"VLOOKUP(U5,Week,6)","v":10},{"$f":"VLOOKUP(T7,Holes,2)","v":4},null,{"$f":"IF((V7-U7)>3,U7+3,V7)","v":0},null,null,{"$f":"VLOOKUP(AA5,Week,6)","v":1},{"$f":"VLOOKUP(Z7,Holes,2)","v":4},null,{"$f":"IF((AB7-AA7)>3,AA7+3,AB7)","v":0},null,null,{"$f":"VLOOKUP(AG5,Week,6)","v":10},{"$f":"VLOOKUP(AF7,Holes,2)","v":4},null,{"$f":"IF((AH7-AG7)>3,AG7+3,AH7)","v":0},null,null,{"$f":"VLOOKUP(AM5,Week,6)","v":1},{"$f":"VLOOKUP(AL7,Holes,2)","v":4},null,{"$f":"IF((AN7-AM7)>3,AM7+3,AN7)","v":0},null,null,{"$f":"VLOOKUP(AS5,Week,6)","v":10},{"$f":"VLOOKUP(AR7,Holes,2)","v":4},null,{"$f":"IF((AT7-AS7)>3,AS7+3,AT7)","v":0},null,null,{"$f":"VLOOKUP(AY5,Week,6)","v":1},{"$f":"VLOOKUP(AX7,Holes,2)","v":4},null,{"$f":"IF((AZ7-AY7)>3,AY7+3,AZ7)","v":0},null,null,{"$f":"VLOOKUP(BE5,Week,6)","v":10},{"$f":"VLOOKUP(BD7,Holes,2)","v":4},null,{"$f":"IF((BF7-BE7)>3,BE7+3,BF7)","v":0},null,null,{"$f":"VLOOKUP(BK5,Week,6)","v":1},{"$f":"VLOOKUP(BJ7,Holes,2)","v":4},null,{"$f":"IF((BL7-BK7)>3,BK7+3,BL7)","v":0},null,null,{"$f":"VLOOKUP(BQ5,Week,6)","v":10},{"$f":"VLOOKUP(BP7,Holes,2)","v":4},null,{"$f":"IF((BR7-BQ7)>3,BQ7+3,BR7)","v":0},null,null,{"$f":"VLOOKUP(BW5,Week,6)","v":1},{"$f":"VLOOKUP(BV7,Holes,2)","v":4},null,{"$f":"IF((BX7-BW7)>3,BW7+3,BX7)","v":0},null,null,{"$f":"VLOOKUP(CC5,Week,6)","v":1},{"$f":"VLOOKUP(CB7,Holes,2)","v":4},null,{"$f":"IF((CD7-CC7)>3,CC7+3,CD7)","v":0},null,null,{"$f":"VLOOKUP(CI5,Week,6)","v":10},{"$f":"VLOOKUP(CH7,Holes,2)","v":4},null,{"$f":"IF((CJ7-CI7)>3,CI7+3,CJ7)","v":0}]
[null,{"$f":"+B7+1","v":2},4,null,0,null,null,{"$f":"+H7+1","v":11},4,null,0,null,null,{"$f":"+N7+1","v":2},4,null,0,null,null,{"$f":"+T7+1","v":11},4,null,0,null,null,{"$f":"+Z7+1","v":2},4,null,0,null,null,{"$f":"+AF7+1","v":11},4,null,0,null,null,{"$f":"+AL7+1","v":2},4,null,0,null,null,{"$f":"+AR7+1","v":11},4,null,0,null,null,{"$f":"+AX7+1","v":2},4,null,0,null,null,{"$f":"+BD7+1","v":11},4,null,0,null,null,{"$f":"+BJ7+1","v":2},4,null,0,null,null,{"$f":"+BP7+1","v":11},4,null,0,null,null,{"$f":"+BV7+1","v":2},4,null,0,null,null,{"$f":"+CB7+1","v":2},4,null,0,null,null,{"$f":"+CH7+1","v":11},4,null,0]
[null,{"$f":"+B8+1","v":3},3,null,0,null,null,12,4,null,0,null,null,3,3,null,0,null,null,12,4,null,0,null,null,3,3,null,0,null,null,12,4,null,0,null,null,3,3,null,0,null,null,12,4,null,0,null,null,3,3,null,0,null,null,12,4,null,0,null,null,3,3,null,0,null,null,12,4,null,0,null,null,3,3,null,0,null,null,3,3,null,0,null,null,12,4,null,0]
[null,4,4,null,0,null,null,13,5,null,0,null,null,4,4,null,0,null,null,13,5,null,0,null,null,4,4,null,0,null,null,13,5,null,0,null,null,4,4,null,0,null,null,13,5,null,0,null,null,4,4,null,0,null,null,13,5,null,0,null,null,4,4,null,0,null,null,13,5,null,0,null,null,4,4,null,0,null,null,4,4,null,0,null,null,13,5,null,0]
[null,5,5,null,0,null,null,14,3,null,0,null,null,5,5,null,0,null,null,14,3,null,0,null,null,5,5,null,0,null,null,14,3,null,0,null,null,5,5,null,0,null,null,14,3,null,0,null,null,5,5,null,0,null,null,14,3,null,0,null,null,5,5,null,0,null,null,14,3,null,0,null,null,5,5,null,0,null,null,5,5,null,0,null,null,14,3,null,0]
[null,6,3,null,0,null,null,15,4,null,0,null,null,6,3,null,0,null,null,15,4,null,0,null,null,6,3,null,0,null,null,15,4,null,0,null,null,6,3,null,0,null,null,15,4,null,0,null,null,6,3,null,0,null,null,15,4,null,0,null,null,6,3,null,0,null,null,15,4,null,0,null,null,6,3,null,0,null,null,6,3,null,0,null,null,15,4,null,0]
[null,7,4,null,0,null,null,16,4,null,0,null,null,7,4,null,0,null,null,16,4,null,0,null,null,7,4,null,0,null,null,16,4,null,0,null,null,7,4,null,0,null,null,16,4,null,0,null,null,7,4,null,0,null,null,16,4,null,0,null,null,7,4,null,0,null,null,16,4,null,0,null,null,7,4,null,0,null,null,7,4,null,0,null,null,16,4,null,0]
[null,8,4,null,0,null,null,17,3,null,0,null,null,8,4,null,0,null,null,17,3,null,0,null,null,8,4,null,0,null,null,17,3,null,0,null,null,8,4,null,0,null,null,17,3,null,0,null,null,8,4,null,0,null,null,17,3,null,0,null,null,8,4,null,0,null,null,17,3,null,0,null,null,8,4,null,0,null,null,8,4,null,0,null,null,17,3,null,0]
[null,9,5,null,0,null,null,18,5,null,0,null,null,9,5,null,0,null,null,18,5,null,0,null,null,9,5,null,0,null,null,18,5,null,0,null,null,9,5,null,0,null,null,18,5,null,0,null,null,9,5,null,0,null,null,18,5,null,0,null,null,9,5,null,0,null,null,18,5,null,0,null,null,9,5,null,0,null,null,9,5,null,0,null,null,18,5,null,0]
[null,"Total",{"$f":"SUM(C7:C15)","v":36},{"$f":"SUM(D7:D15)","v":0},{"$f":"SUM(E7:E15)","v":0},{"$f":"SUM(F7:F15)","v":0},null,"Total",{"$f":"SUM(I7:I15)","v":36},{"$f":"SUM(J7:J15)","v":0},{"$f":"SUM(K7:K15)","v":0},{"$f":"SUM(L7:L15)","v":0},null,"Total",{"$f":"SUM(O7:O15)","v":36},{"$f":"SUM(P7:P15)","v":0},{"$f":"SUM(Q7:Q15)","v":0},{"$f":"SUM(R7:R15)","v":0},null,"Total",{"$f":"SUM(U7:U15)","v":36},{"$f":"SUM(V7:V15)","v":0},{"$f":"SUM(W7:W15)","v":0},{"$f":"SUM(X7:X15)","v":0},null,"Total",{"$f":"SUM(AA7:AA15)","v":36},{"$f":"SUM(AB7:AB15)","v":0},{"$f":"SUM(AC7:AC15)","v":0},{"$f":"SUM(AD7:AD15)","v":0},null,"Total",{"$f":"SUM(AG7:AG15)","v":36},{"$f":"SUM(AH7:AH15)","v":0},{"$f":"SUM(AI7:AI15)","v":0},{"$f":"SUM(AJ7:AJ15)","v":0},null,"Total",{"$f":"SUM(AM7:AM15)","v":36},{"$f":"SUM(AN7:AN15)","v":0},{"$f":"SUM(AO7:AO15)","v":0},{"$f":"SUM(AP7:AP15)","v":0},null,"Total",{"$f":"SUM(AS7:AS15)","v":36},{"$f":"SUM(AT7:AT15)","v":0},{"$f":"SUM(AU7:AU15)","v":0},{"$f":"SUM(AV7:AV15)","v":0},null,"Total",{"$f":"SUM(AY7:AY15)","v":36},{"$f":"SUM(AZ7:AZ15)","v":0},{"$f":"SUM(BA7:BA15)","v":0},{"$f":"SUM(BB7:BB15)","v":0},null,"Total",{"$f":"SUM(BE7:BE15)","v":36},{"$f":"SUM(BF7:BF15)","v":0},{"$f":"SUM(BG7:BG15)","v":0},{"$f":"SUM(BH7:BH15)","v":0},null,"Total",{"$f":"SUM(BK7:BK15)","v":36},{"$f":"SUM(BL7:BL15)","v":0},{"$f":"SUM(BM7:BM15)","v":0},{"$f":"SUM(BN7:BN15)","v":0},null,"Total",{"$f":"SUM(BQ7:BQ15)","v":36},{"$f":"SUM(BR7:BR15)","v":0},{"$f":"SUM(BS7:BS15)","v":0},{"$f":"SUM(BT7:BT15)","v":0},null,"Total",{"$f":"SUM(BW7:BW15)","v":36},{"$f":"SUM(BX7:BX15)","v":0},{"$f":"SUM(BY7:BY15)","v":0},{"$f":"SUM(BZ7:BZ15)","v":0},null,"Total",{"$f":"SUM(CC7:CC15)","v":36},{"$f":"SUM(CD7:CD15)","v":0},{"$f":"SUM(CE7:CE15)","v":0},{"$f":"SUM(CF7:CF15)","v":0},null,"Total",{"$f":"SUM(CI7:CI15)","v":36},{"$f":"SUM(CJ7:CJ15)","v":0},{"$f":"SUM(CK7:CK15)","v":0},{"$f":"SUM(CL7:CL15)","v":0}]
[]
[null,null,null,null,"Low Net",null,null,null,null,null,"Low Net",0,null,null,null,null,"Low Net",0,null,null,null,null,"Low Net",null,null,null,null,null,"Low Net",null,null,null,null,null,"Low Net",null,null,null,null,null,"Low Net",null,null,null,null,null,"Low Net",null,null,null,null,null,"Low Net",null,null,null,null,null,"Low Net",null,null,null,null,null,"Low Net",null,null,null,null,null,"Low Net",null,null,null,null,null,"Low Net",null,null,null,null,null,"Low Net",null,null,null,null,null,"Low Net"]
[]
[null,null,null,null,"Total Points",{"$f":"SUM(F16:F19)","v":0},null,null,null,null,"Total Points",{"$f":"SUM(L16:L19)","v":0},null,null,null,null,"Total Points",{"$f":"SUM(R16:R19)","v":0},null,null,null,null,"Total Points",{"$f":"SUM(X16:X19)","v":0},null,null,null,null,"Total Points",{"$f":"SUM(AD16:AD19)","v":0},null,null,null,null,"Total Points",{"$f":"SUM(AJ16:AJ19)","v":0},null,null,null,null,"Total Points",{"$f":"SUM(AP16:AP19)","v":0},null,null,null,null,"Total Points",{"$f":"SUM(AV16:AV19)","v":0},null,null,null,null,"Total Points",{"$f":"SUM(BB16:BB19)","v":0},null,null,null,null,"Total Points",{"$f":"SUM(BH16:BH19)","v":0},null,null,null,null,"Total Points",{"$f":"SUM(BN16:BN19)","v":0},null,null,null,null,"Total Points",{"$f":"SUM(BT16:BT19)","v":0},null,null,null,null,"Total Points",{"$f":"SUM(BZ16:BZ19)","v":0},null,null,null,null,"Total Points",{"$f":"SUM(CF16:CF19)","v":0},null,null,null,null,"Total Points",{"$f":"SUM(CL16:CL19)","v":0}]
[]
[null,null,null,null,"Handicap",{"$f":"IF(D16=0,0,E16-C16)","v":0},null,null,null,null,"Handicap",{"$f":"IF(J16=0,0,K16-I16)","v":0},null,null,null,null,"Handicap",{"$f":"IF(P16=0,0,Q16-O16)","v":0},null,null,null,null,"Handicap",{"$f":"IF(V16=0,0,W16-U16)","v":0},null,null,null,null,"Handicap",{"$f":"IF(AB16=0,0,AC16-AA16)","v":0},null,null,null,null,"Handicap",{"$f":"IF(AH16=0,0,AI16-AG16)","v":0},null,null,null,null,"Handicap",{"$f":"IF(AN16=0,0,AO16-AM16)","v":0},null,null,null,null,"Handicap",{"$f":"IF(AT16=0,0,AU16-AS16)","v":0},null,null,null,null,"Handicap",{"$f":"IF(AZ16=0,0,BA16-AY16)","v":0},null,null,null,null,"Handicap",{"$f":"IF(BF16=0,0,BG16-BE16)","v":0},null,null,null,null,"Handicap",{"$f":"IF(BL16=0,0,BM16-BK16)","v":0},null,null,null,null,"Handicap",{"$f":"IF(BR16=0,0,BS16-BQ16)","v":0},null,null,null,null,"Handicap",{"$f":"IF(BX16=0,0,BY16-BW16)","v":0},null,null,null,null,"Handicap",{"$f":"IF(CD16=0,0,CE16-CC16)","v":0},null,null,null,null,"Handicap",{"$f":"IF(CJ16=0,0,CK16-CI16)","v":0}]
[]
[null,null,null,null,null,{"$f":"IF(D16<>0,IF(F16>4.5,\"W\",IF(F16=4.5,\"T\",IF(F16<4.5,\"L\"))),0)","v":0},null,null,null,null,null,{"$f":"IF(J16<>0,IF(L16>4.5,\"W\",IF(L16=4.5,\"T\",IF(L16<4.5,\"L\"))),0)","v":0},null,null,null,null,null,{"$f":"IF(P16<>0,IF(R16>4.5,\"W\",IF(R16=4.5,\"T\",IF(R16<4.5,\"L\"))),0)","v":0},null,null,null,null,null,{"$f":"IF(V16<>0,IF(X16>4.5,\"W\",IF(X16=4.5,\"T\",IF(X16<4.5,\"L\"))),0)","v":0},null,null,null,null,null,{"$f":"IF(AB16<>0,IF(AD16>4.5,\"W\",IF(AD16=4.5,\"T\",IF(AD16<4.5,\"L\"))),0)","v":0},null,null,null,null,null,{"$f":"IF(AH16<>0,IF(AJ16>4.5,\"W\",IF(AJ16=4.5,\"T\",IF(AJ16<4.5,\"L\"))),0)","v":0},null,null,null,null,null,{"$f":"IF(AN16<>0,IF(AP16>4.5,\"W\",IF(AP16=4.5,\"T\",IF(AP16<4.5,\"L\"))),0)","v":0},null,null,null,null,null,{"$f":"IF(AT16<>0,IF(AV16>4.5,\"W\",IF(AV16=4.5,\"T\",IF(AV16<4.5,\"L\"))),0)","v":0},null,null,null,null,null,{"$f":"IF(AZ16<>0,IF(BB16>4.5,\"W\",IF(BB16=4.5,\"T\",IF(BB16<4.5,\"L\"))),0)","v":0},null,null,null,null,null,{"$f":"IF(BF16<>0,IF(BH16>4.5,\"W\",IF(BH16=4.5,\"T\",IF(BH16<4.5,\"L\"))),0)","v":0},null,null,null,null,null,{"$f":"IF(BL16<>0,IF(BN16>4.5,\"W\",IF(BN16=4.5,\"T\",IF(BN16<4.5,\"L\"))),0)","v":0},null,null,null,null,null,{"$f":"IF(BR16<>0,IF(BT16>4.5,\"W\",IF(BT16=4.5,\"T\",IF(BT16<4.5,\"L\"))),0)","v":0},null,null,null,null,null,{"$f":"IF(BX16<>0,IF(BZ16>4.5,\"W\",IF(BZ16=4.5,\"T\",IF(BZ16<4.5,\"L\"))),0)","v":0},null,null,null,null,null,{"$f":"IF(CD16<>0,IF(CF16>4.5,\"W\",IF(CF16=4.5,\"T\",IF(CF16<4.5,\"L\"))),0)","v":0},null,null,null,null,null,{"$f":"IF(CJ16<>0,IF(CL16>4.5,\"W\",IF(CL16=4.5,\"T\",IF(CL16<4.5,\"L\"))),0)","v":0}]
[]
[null,"Summary",null,{"$f":"COUNT(D29:D43)","v":15}]
[null,null,null,"Adj",null,"Adj",null,null,null,"Avg Score"]
[null,null,"Points","Points","Matches","Matches",null,null,"Hole #","by Hole","Best","Worst"]
[null,"Week #1",{"$f":"F20","v":0},{"$f":"C29","v":0},{"$f":"IF(D16>0,1,0)","v":0},{"$f":"E29","v":0},null,null,1,{"$f":"IFERROR(AVERAGE(D7,P7,AB7,AN7,AZ7,BL7,BX7,CD7),0)","v":0},{"$f":"IFERROR(MIN(D7,P7,AB7,AN7,AZ7,BL7,BX7,CD7),0)","v":0},{"$f":"IFERROR(MAX(D7,P7,AB7,AN7,AZ7,BL7,BX7,CD7),0)","v":0}]
[null,"Week #2",{"$f":"L20","v":0},0,{"$f":"IF(J16>0,1,0)","v":0},0,null,null,2,{"$f":"IFERROR(AVERAGE(D8,P8,AB8,AN8,AZ8,BL8,BX8,CD8),0)","v":0},{"$f":"IFERROR(MIN(D8,P8,AB8,AN8,AZ8,BL8,BX8,CD8),0)","v":0},{"$f":"IFERROR(MAX(D8,P8,AB8,AN8,AZ8,BL8,BX8,CD8),0)","v":0}]
[null,"Week #3",{"$f":"R20","v":0},0,{"$f":"IF(P16>0,1,0)","v":0},0,null,null,3,0,0,0]
[null,"Week #4",{"$f":"X20","v":0},0,{"$f":"IF(V16>0,1,0)","v":0},0,null,null,4,0,0,0]
[null,"Week #5",{"$f":"AD20","v":0},0,{"$f":"IF(AB16>0,1,0)","v":0},0,null,null,5,0,0,0]
[null,"Week #6",{"$f":"AJ20","v":0},0,{"$f":"IF(AH16>0,1,0)","v":0},0,null,null,6,0,0,0]
[null,"Week #7",{"$f":"AP20","v":0},0,{"$f":"IF(AN16>0,1,0)","v":0},0,null,null,7,0,0,0]
[null,"Week #8",{"$f":"AV20","v":0},0,{"$f":"IF(AT16>0,1,0)","v":0},0,null,null,8,0,0,0]
[null,"Week #9",{"$f":"BB20","v":0},0,{"$f":"IF(AZ16>0,1,0)","v":0},0,null,null,9,0,0,0]
[null,"Week #10",{"$f":"BH20","v":0},0,{"$f":"IF(BF16>0,1,0)","v":0},0,null,null,"Front",{"$f":"SUM(J29:J37)","v":0},{"$f":"SUM(K29:K37)","v":0},0]
[null,"Week #11",{"$f":"BN20","v":0},0,{"$f":"IF(BL16>0,1,0)","v":0},0]
[null,"Week #12",{"$f":"BT20","v":0},0,{"$f":"IF(BR16>0,1,0)","v":0},0,null,null,10,{"$f":"IFERROR(AVERAGE(J7,V7,AH7,AT7,BF7,BR7,CJ7),0)","v":0},{"$f":"IFERROR(MIN(J7,V7,AH7,AT7,BF7,BR7,CJ7),0)","v":0},{"$f":"IFERROR(MAX(J7,V7,AH7,AT7,BF7,BR7,CJ7),0)","v":0}]
[null,"Week #13",{"$f":"BZ20","v":0},0,{"$f":"IF(BX16>0,1,0)","v":0},0,null,null,11,{"$f":"IFERROR(AVERAGE(J8,V8,AH8,AT8,BF8,BR8,CJ8),0)","v":0},{"$f":"IFERROR(MIN(J8,V8,AH8,AT8,BF8,BR8,CJ8),0)","v":0},{"$f":"IFERROR(MAX(J8,V8,AH8,AT8,BF8,BR8,CJ8),0)","v":0}]
[null,"Week #14",{"$f":"CF20","v":0},0,{"$f":"IF(CD16>0,1,0)","v":0},0,null,null,12,0,0,0]
[null,"Week #15",{"$f":"CL20","v":0},0,{"$f":"IF(CJ16>0,1,0)","v":0},0,null,null,13,0,0,0]
[null,"Total",{"$f":"SUM(C29:C43)","v":0},{"$f":"SUM(D29:D43)","v":0},{"$f":"SUM(E29:E43)","v":0},{"$f":"SUM(F29:F43)","v":0},null,null,14,0,0,0]
[null,null,null,null,null,null,null,null,15,0,0,0]
[null,"Summary",null,null,null,null,null,null,16,0,0,0]
[null,"Eagles",{"$f":"I57+I68+I79+I90+I101+I112+I123+I134+I145+I156+I167+I178+I189+I200+I211","v":0},null,null,null,null,null,17,0,0,0]
[null,"Birdies",0,null,null,null,null,null,18,0,0,0]
[null,"Pars",{"$f":"I59+I70+I81+I92+I103+I114+I125+I136+I147+I158+I169+I180+I191+I202+I213","v":0},null,null,null,null,null,"Back",{"$f":"SUM(J40:J48)","v":0},{"$f":"SUM(K40:K48)","v":0},0]
[null,"bogeys",0]
[null,"Double bogeys",0]
[null,"Other",0]
[null,"Total",{"$f":"SUM(C47:C52)","v":0}]
[]
[null,{"$f":"D4","v":"2024-04-26"},"Par","Score"]
[null,{"$f":"B7","v":1},4,0,{"$f":"IF(D56<>0,IF((D56-C56)=-1,\"Birdie\",IF((D56-C56)=-2,\"Eagle\",IF((D56-C56)=0,\"Par\",IF((D56-C56)=1,\"bogey\",IF((D56-C56)=2,\"Double bogey\",\"Other\"))))),\"  \")","v":"  "},null,null,"Count"]
[null,2,4,0,"  ",null,null,"Eagle",{"$f":"COUNTIF(E56:E64,\"Eagle\")","v":0}]
[null,3,3,0,"  ",null,null,"Birdie",{"$f":"COUNTIF(E56:E64,\"Birdie\")","v":0}]
[null,4,4,0,"  ",null,null,"Par",{"$f":"COUNTIF(E56:E64,\"Par\")","v":0}]
[null,5,5,0,"  ",null,null,"bogey",{"$f":"COUNTIF(E56:E64,\"bogey\")","v":0}]
[null,6,3,0,"  ",null,null,"Double bogey",{"$f":"COUNTIF(E56:E64,\"Double bogey\")","v":0}]
[null,7,4,0,"  ",null,null,"Other",{"$f":"COUNTIF(E56:E64,\"Other\")","v":0}]
[null,8,4,0,"  "]
[null,9,5,0,"  "]
[]
[null,{"$f":"J4","v":"2024-05-03"}]
[null,{"$f":"H7","v":10},{"$f":"I7","v":4},{"$f":"J7","v":0},{"$f":"IF(D67<>0,IF((D67-C67)=-1,\"Birdie\",IF((D67-C67)=-2,\"Eagle\",IF((D67-C67)=0,\"Par\",IF((D67-C67)=1,\"bogey\",IF((D67-C67)=2,\"Double bogey\",\"Other\"))))),\"  \")","v":"  "},null,null,"Count"]
[null,11,4,0,"  ",null,null,"Eagle",{"$f":"COUNTIF(E67:E75,\"Eagle\")","v":0}]
[null,12,4,0,"  ",null,null,"Birdie",{"$f":"COUNTIF(E67:E75,\"Birdie\")","v":0}]
[null,13,5,0,"  ",null,null,"Par",{"$f":"COUNTIF(E67:E75,\"Par\")","v":0}]
[null,14,3,0,"  ",null,null,"bogey",{"$f":"COUNTIF(E67:E75,\"bogey\")","v":0}]
[null,15,4,0,"  ",null,null,"Double bogey",{"$f":"COUNTIF(E67:E75,\"Double bogey\")","v":0}]
[null,16,4,0,"  ",null,null,"Other",{"$f":"COUNTIF(E67:E75,\"Other\")","v":0}]
[null,17,3,0,"  "]
[null,18,5,0,"  "]
[]
[null,{"$f":"P4","v":"2024-05-10"}]
[null,{"$f":"N7","v":1},{"$f":"O7","v":4},{"$f":"P7","v":0},{"$f":"IF(D78<>0,IF((D78-C78)=-1,\"Birdie\",IF((D78-C78)=-2,\"Eagle\",IF((D78-C78)=0,\"Par\",IF((D78-C78)=1,\"bogey\",IF((D78-C78)=2,\"Double bogey\",\"Other\"))))),\"  \")","v":"  "},null,null,"Count"]
[null,2,4,0,"  ",null,null,"Eagle",{"$f":"COUNTIF(E78:E86,\"Eagle\")","v":0}]
[null,3,3,0,"  ",null,null,"Birdie",{"$f":"COUNTIF(E78:E86,\"Birdie\")","v":0}]
[null,4,4,0,"  ",null,null,"Par",{"$f":"COUNTIF(E78:E86,\"Par\")","v":0}]
[null,5,5,0,"  ",null,null,"bogey",{"$f":"COUNTIF(E78:E86,\"bogey\")","v":0}]
[null,6,3,0,"  ",null,null,"Double bogey",{"$f":"COUNTIF(E78:E86,\"Double bogey\")","v":0}]
[null,7,4,0,"  ",null,null,"Other",{"$f":"COUNTIF(E78:E86,\"Other\")","v":0}]
[null,8,4,0,"  "]
[null,9,5,0,"  "]
[]
[null,{"$f":"V4","v":"2024-05-17"}]
[null,{"$f":"T7","v":10},{"$f":"U7","v":4},{"$f":"V7","v":0},{"$f":"IF(D89<>0,IF((D89-C89)=-1,\"Birdie\",IF((D89-C89)=-2,\"Eagle\",IF((D89-C89)=0,\"Par\",IF((D89-C89)=1,\"bogey\",IF((D89-C89)=2,\"Double bogey\",\"Other\"))))),\"  \")","v":"  "},null,null,"Count"]
[null,11,4,0,"  ",null,null,"Eagle",{"$f":"COUNTIF(E89:E97,\"Eagle\")","v":0}]
[null,12,4,0,"  ",null,null,"Birdie",{"$f":"COUNTIF(E89:E97,\"Birdie\")","v":0}]
[null,13,5,0,"  ",null,null,"Par",{"$f":"COUNTIF(E89:E97,\"Par\")","v":0}]
[null,14,3,0,"  ",null,null,"bogey",{"$f":"COUNTIF(E89:E97,\"bogey\")","v":0}]
[null,15,4,0,"  ",null,null,"Double bogey",{"$f":"COUNTIF(E89:E97,\"Double bogey\")","v":0}]
[null,16,4,0,"  ",null,null,"Other",{"$f":"COUNTIF(E89:E97,\"Other\")","v":0}]
[null,17,3,0,"  "]
[null,18,5,0,"  "]
[]
[null,{"$f":"AB4","v":"2024-05-24"}]
[null,{"$f":"Z7","v":1},{"$f":"AA7","v":4},{"$f":"AB7","v":0},{"$f":"IF(D100<>0,IF((D100-C100)=-1,\"Birdie\",IF((D100-C100)=-2,\"Eagle\",IF((D100-C100)=0,\"Par\",IF((D100-C100)=1,\"bogey\",IF((D100-C100)=2,\"Double bogey\",\"Other\"))))),\"  \")","v":"  "},null,null,"Count"]
[null,2,4,0,"  ",null,null,"Eagle",{"$f":"COUNTIF(E100:E108,\"Eagle\")","v":0}]
[null,3,3,0,"  ",null,null,"Birdie",{"$f":"COUNTIF(E100:E108,\"Birdie\")","v":0}]
[null,4,4,0,"  ",null,null,"Par",{"$f":"COUNTIF(E100:E108,\"Par\")","v":0}]
[null,5,5,0,"  ",null,null,"bogey",{"$f":"COUNTIF(E100:E108,\"bogey\")","v":0}]
[null,6,3,0,"  ",null,null,"Double bogey",{"$f":"COUNTIF(E100:E108,\"Double bogey\")","v":0}]
[null,7,4,0,"  ",null,null,"Other",{"$f":"COUNTIF(E100:E108,\"Other\")","v":0}]
[null,8,4,0,"  "]
[null,9,5,0,"  "]
[]
[null,{"$f":"AH4","v":"2024-05-31"}]
[null,{"$f":"AF7","v":10},{"$f":"AG7","v":4},{"$f":"AH7","v":0},{"$f":"IF(D111<>0,IF((D111-C111)=-1,\"Birdie\",IF((D111-C111)=-2,\"Eagle\",IF((D111-C111)=0,\"Par\",IF((D111-C111)=1,\"bogey\",IF((D111-C111)=2,\"Double bogey\",\"Other\"))))),\"  \")","v":"  "},null,null,"Count"]
[null,11,4,0,"  ",null,null,"Eagle",{"$f":"COUNTIF(E111:E119,\"Eagle\")","v":0}]
[null,12,4,0,"  ",null,null,"Birdie",{"$f":"COUNTIF(E111:E119,\"Birdie\")","v":0}]
[null,13,5,0,"  ",null,null,"Par",{"$f":"COUNTIF(E111:E119,\"Par\")","v":0}]
[null,14,3,0,"  ",null,null,"bogey",{"$f":"COUNTIF(E111:E119,\"bogey\")","v":0}]
[null,15,4,0,"  ",null,null,"Double bogey",{"$f":"COUNTIF(E111:E119,\"Double bogey\")","v":0}]
[null,16,4,0,"  ",null,null,"Other",{"$f":"COUNTIF(E111:E119,\"Other\")","v":0}]
[null,17,3,0,"  "]
[null,18,5,0,"  "]
[]
[null,{"$f":"AN4","v":"2024-06-07"}]
[null,{"$f":"AL7","v":1},{"$f":"AM7","v":4},{"$f":"AN7","v":0},{"$f":"IF(D122<>0,IF((D122-C122)=-1,\"Birdie\",IF((D122-C122)=-2,\"Eagle\",IF((D122-C122)=0,\"Par\",IF((D122-C122)=1,\"bogey\",IF((D122-C122)=2,\"Double bogey\",\"Other\"))))),\"  \")","v":"  "},null,null,"Count"]
[null,2,4,0,"  ",null,null,"Eagle",{"$f":"COUNTIF(E122:E130,\"Eagle\")","v":0}]
[null,3,3,0,"  ",null,null,"Birdie",{"$f":"COUNTIF(E122:E130,\"Birdie\")","v":0}]
[null,4,4,0,"  ",null,null,"Par",{"$f":"COUNTIF(E122:E130,\"Par\")","v":0}]
[null,5,5,0,"  ",null,null,"bogey",{"$f":"COUNTIF(E122:E130,\"bogey\")","v":0}]
[null,6,3,0,"  ",null,null,"Double bogey",{"$f":"COUNTIF(E122:E130,\"Double bogey\")","v":0}]
[null,7,4,0,"  ",null,null,"Other",{"$f":"COUNTIF(E122:E130,\"Other\")","v":0}]
[null,8,4,0,"  "]
[null,9,5,0,"  "]
[]
[null,{"$f":"AT4","v":"2024-06-14"}]
[null,{"$f":"AR7","v":10},{"$f":"AS7","v":4},{"$f":"AT7","v":0},{"$f":"IF(D133<>0,IF((D133-C133)=-1,\"Birdie\",IF((D133-C133)=-2,\"Eagle\",IF((D133-C133)=0,\"Par\",IF((D133-C133)=1,\"bogey\",IF((D133-C133)=2,\"Double bogey\",\"Other\"))))),\"  \")","v":"  "},null,null,"Count"]
[null,11,4,0,"  ",null,null,"Eagle",{"$f":"COUNTIF(E133:E141,\"Eagle\")","v":0}]
[null,12,4,0,"  ",null,null,"Birdie",{"$f":"COUNTIF(E133:E141,\"Birdie\")","v":0}]
[null,13,5,0,"  ",null,null,"Par",{"$f":"COUNTIF(E133:E141,\"Par\")","v":0}]
[null,14,3,0,"  ",null,null,"bogey",{"$f":"COUNTIF(E133:E141,\"bogey\")","v":0}]
[null,15,4,0,"  ",null,null,"Double bogey",{"$f":"COUNTIF(E133:E141,\"Double bogey\")","v":0}]
[null,16,4,0,"  ",null,null,"Other",{"$f":"COUNTIF(E133:E141,\"Other\")","v":0}]
[null,17,3,0,"  "]
[null,18,5,0,"  "]
[]
[null,{"$f":"AZ4","v":"2024-07-05"}]
[null,{"$f":"AX7","v":1},{"$f":"AY7","v":4},{"$f":"AZ7","v":0},{"$f":"IF(D144<>0,IF((D144-C144)=-1,\"Birdie\",IF((D144-C144)=-2,\"Eagle\",IF((D144-C144)=0,\"Par\",IF((D144-C144)=1,\"bogey\",IF((D144-C144)=2,\"Double bogey\",\"Other\"))))),\"  \")","v":"  "},null,null,"Count"]
[null,2,4,0,"  ",null,null,"Eagle",{"$f":"COUNTIF(E144:E152,\"Eagle\")","v":0}]
[null,3,3,0,"  ",null,null,"Birdie",{"$f":"COUNTIF(E144:E152,\"Birdie\")","v":0}]
[null,4,4,0,"  ",null,null,"Par",{"$f":"COUNTIF(E144:E152,\"Par\")","v":0}]
[null,5,5,0,"  ",null,null,"bogey",{"$f":"COUNTIF(E144:E152,\"bogey\")","v":0}]
[null,6,3,0,"  ",null,null,"Double bogey",{"$f":"COUNTIF(E144:E152,\"Double bogey\")","v":0}]
[null,7,4,0,"  ",null,null,"Other",{"$f":"COUNTIF(E144:E152,\"Other\")","v":0}]
[null,8,4,0,"  "]
[null,9,5,0,"  "]
[]
[null,{"$f":"BF4","v":"2024-07-12"}]
[null,{"$f":"BD7","v":10},{"$f":"BE7","v":4},{"$f":"BF7","v":0},{"$f":"IF(D155<>0,IF((D155-C155)=-1,\"Birdie\",IF((D155-C155)=-2,\"Eagle\",IF((D155-C155)=0,\"Par\",IF((D155-C155)=1,\"bogey\",IF((D155-C155)=2,\"Double bogey\",\"Other\"))))),\"  \")","v":"  "},null,null,"Count"]
[null,11,4,0,"  ",null,null,"Eagle",{"$f":"COUNTIF(E155:E163,\"Eagle\")","v":0}]
[null,12,4,0,"  ",null,null,"Birdie",{"$f":"COUNTIF(E155:E163,\"Birdie\")","v":0}]
[null,13,5,0,"  ",null,null,"Par",{"$f":"COUNTIF(E155:E163,\"Par\")","v":0}]
[null,14,3,0,"  ",null,null,"bogey",{"$f":"COUNTIF(E155:E163,\"bogey\")","v":0}]
[null,15,4,0,"  ",null,null,"Double bogey",{"$f":"COUNTIF(E155:E163,\"Double bogey\")","v":0}]
[null,16,4,0,"  ",null,null,"Other",{"$f":"COUNTIF(E155:E163,\"Other\")","v":0}]
[null,17,3,0,"  "]
[null,18,5,0,"  "]
[]
[null,{"$f":"BL4","v":"2024-07-19"}]
[null,{"$f":"BJ7","v":1},{"$f":"BK7","v":4},{"$f":"BL7","v":0},{"$f":"IF(D166<>0,IF((D166-C166)=-1,\"Birdie\",IF((D166-C166)=-2,\"Eagle\",IF((D166-C166)=0,\"Par\",IF((D166-C166)=1,\"bogey\",IF((D166-C166)=2,\"Double bogey\",\"Other\"))))),\"  \")","v":"  "},null,null,"Count"]
[null,2,4,0,"  ",null,null,"Eagle",{"$f":"COUNTIF(E166:E174,\"Eagle\")","v":0}]
[null,3,3,0,"  ",null,null,"Birdie",{"$f":"COUNTIF(E166:E174,\"Birdie\")","v":0}]
[null,4,4,0,"  ",null,null,"Par",{"$f":"COUNTIF(E166:E174,\"Par\")","v":0}]
[null,5,5,0,"  ",null,null,"bogey",{"$f":"COUNTIF(E166:E174,\"bogey\")","v":0}]
[null,6,3,0,"  ",null,null,"Double bogey",{"$f":"COUNTIF(E166:E174,\"Double bogey\")","v":0}]
[null,7,4,0,"  ",null,null,"Other",{"$f":"COUNTIF(E166:E174,\"Other\")","v":0}]
[null,8,4,0,"  "]
[null,9,5,0,"  "]
[]
[null,{"$f":"BR4","v":"2024-07-26"}]
[null,{"$f":"BP7","v":10},{"$f":"BQ7","v":4},{"$f":"BR7","v":0},{"$f":"IF(D177<>0,IF((D177-C177)=-1,\"Birdie\",IF((D177-C177)=-2,\"Eagle\",IF((D177-C177)=0,\"Par\",IF((D177-C177)=1,\"bogey\",IF((D177-C177)=2,\"Double bogey\",\"Other\"))))),\"  \")","v":"  "},null,null,"Count"]
[null,11,4,0,"  ",null,null,"Eagle",{"$f":"COUNTIF(E177:E185,\"Eagle\")","v":0}]
[null,12,4,0,"  ",null,null,"Birdie",{"$f":"COUNTIF(E177:E185,\"Birdie\")","v":0}]
[null,13,5,0,"  ",null,null,"Par",{"$f":"COUNTIF(E177:E185,\"Par\")","v":0}]
[null,14,3,0,"  ",null,null,"bogey",{"$f":"COUNTIF(E177:E185,\"bogey\")","v":0}]
[null,15,4,0,"  ",null,null,"Double bogey",{"$f":"COUNTIF(E177:E185,\"Double bogey\")","v":0}]
[null,16,4,0,"  ",null,null,"Other",{"$f":"COUNTIF(E177:E185,\"Other\")","v":0}]
[null,17,3,0,"  "]
[null,18,5,0,"  "]
[]
[null,{"$f":"BX4","v":"2024-08-02"}]
[null,{"$f":"BV7","v":1},{"$f":"BW7","v":4},{"$f":"BX7","v":0},{"$f":"IF(D188<>0,IF((D188-C188)=-1,\"Birdie\",IF((D188-C188)=-2,\"Eagle\",IF((D188-C188)=0,\"Par\",IF((D188-C188)=1,\"bogey\",IF((D188-C188)=2,\"Double bogey\",\"Other\"))))),\"  \")","v":"  "},null,null,"Count"]
[null,2,4,0,"  ",null,null,"Eagle",{"$f":"COUNTIF(E188:E196,\"Eagle\")","v":0}]
[null,3,3,0,"  ",null,null,"Birdie",{"$f":"COUNTIF(E188:E196,\"Birdie\")","v":0}]
[null,4,4,0,"  ",null,null,"Par",{"$f":"COUNTIF(E188:E196,\"Par\")","v":0}]
[null,5,5,0,"  ",null,null,"bogey",{"$f":"COUNTIF(E188:E196,\"bogey\")","v":0}]
[null,6,3,0,"  ",null,null,"Double bogey",{"$f":"COUNTIF(E188:E196,\"Double bogey\")","v":0}]
[null,7,4,0,"  ",null,null,"Other",{"$f":"COUNTIF(E188:E196,\"Other\")","v":0}]
[null,8,4,0,"  "]
[null,9,5,0,"  "]
[]
[null,{"$f":"CD4","v":"2024-08-16"}]
[null,{"$f":"CB7","v":1},{"$f":"CC7","v":4},{"$f":"CD7","v":0},{"$f":"IF(D199<>0,IF((D199-C199)=-1,\"Birdie\",IF((D199-C199)=-2,\"Eagle\",IF((D199-C199)=0,\"Par\",IF((D199-C199)=1,\"bogey\",IF((D199-C199)=2,\"Double bogey\",\"Other\"))))),\"  \")","v":"  "},null,null,"Count"]
[null,2,4,0,"  ",null,null,"Eagle",{"$f":"COUNTIF(E199:E207,\"Eagle\")","v":0}]
[null,3,3,0,"  ",null,null,"Birdie",{"$f":"COUNTIF(E199:E207,\"Birdie\")","v":0}]
[null,4,4,0,"  ",null,null,"Par",{"$f":"COUNTIF(E199:E207,\"Par\")","v":0}]
[null,5,5,0,"  ",null,null,"bogey",{"$f":"COUNTIF(E199:E207,\"bogey\")","v":0}]
[null,6,3,0,"  ",null,null,"Double bogey",{"$f":"COUNTIF(E199:E207,\"Double bogey\")","v":0}]
[null,7,4,0,"  ",null,null,"Other",{"$f":"COUNTIF(E199:E207,\"Other\")","v":0}]
[null,8,4,0,"  "]
[null,9,5,0,"  "]
[]
[null,{"$f":"CJ4","v":"2024-08-23"}]
[null,{"$f":"CH7","v":10},{"$f":"CI7","v":4},{"$f":"CJ7","v":0},{"$f":"IF(D210<>0,IF((D210-C210)=-1,\"Birdie\",IF((D210-C210)=-2,\"Eagle\",IF((D210-C210)=0,\"Par\",IF((D210-C210)=1,\"bogey\",IF((D210-C210)=2,\"Double bogey\",\"Other\"))))),\"  \")","v":"  "},null,null,"Count"]
[null,11,4,0,"  ",null,null,"Eagle",{"$f":"COUNTIF(E210:E218,\"Eagle\")","v":0}]
[null,12,4,0,"  ",null,null,"Birdie",{"$f":"COUNTIF(E210:E218,\"Birdie\")","v":0}]
[null,13,5,0,"  ",null,null,"Par",{"$f":"COUNTIF(E210:E218,\"Par\")","v":0}]
[null,14,3,0,"  ",null,null,"bogey",{"$f":"COUNTIF(E210:E218,\"bogey\")","v":0}]
[null,15,4,0,"  ",null,null,"Double bogey",{"$f":"COUNTIF(E210:E218,\"Double bogey\")","v":0}]
[null,16,4,0,"  ",null,null,"Other",{"$f":"COUNTIF(E210:E218,\"Other\")","v":0}]
[null,17,3,0,"  "]
[null,18,5,0,"  "]